{"text_format":"1","workbook":"xlsx","n_sheets":24,"sheets":["Instructions","Reporting","Material Setup","Optimum AC Test Results","Comp. Grad. and FAA Input","Moisture Susceptibility Design","JMF Input","JMF","JMF CHECK","Validation Input","Validation","Plant Report-Val","Plant Acceptance","Plant Report-Acc","Plant QC","Plant Verification","Roadway","Combined Remarks","setup","Signature","Admin","Authentication","PS","MAT"],"not_rendered":{"charts":4,"images":1,"macros":1,"external_links":0,"defined_names":23,"comments":8,"pivot_tables":0},"unopened":[],"bounds":{"document_bytes":16777216,"sheet_cells":100000,"rows_first":2000,"rows_last":500,"rows_between":2000,"halvings":0,"cell_chars":16384,"cell_head_chars":4096},"cells_cut":0,"cells_raw":0,"read":"whole","date_system":"1900"}

{"sheet":"Instructions","index":0,"n_rows":0,"n_cols":0,"rows_kept":0,"cut":false,"hidden":false,"merged":[]}

{"sheet":"Reporting","index":1,"n_rows":33,"n_cols":15,"rows_kept":33,"cut":false,"hidden":false,"merged":[[29,7,29,12],[30,7,30,12],[32,7,32,12],[9,14,9,15],[10,14,10,15],[23,7,23,12],[17,7,17,12],[18,7,18,12],[19,7,19,12],[21,7,21,12],[22,7,22,12],[9,7,9,12],[15,7,15,12],[13,7,13,12],[12,7,12,12],[11,7,11,12],[5,1,5,2],[24,7,24,12],[25,7,25,12],[27,7,27,12],[28,7,28,12],[10,7,10,12],[14,7,14,12]]}
[]
[]
[]
[]
[]
["Project",{"$f":"'JMF Input'!B3","v":0}]
["Lot",{"$f":"'Plant Acceptance'!F5","v":0}]
[]
[]
[null,null,null,null,null,null,"Y","Optimum AC and Verification Samples data",null,null,null,null,null,null,"SMM codes updated"]
[null,null,null,null,null,null,"Y","Optimum AC charts",null,null,null,null,null,null,"2023-03-31"]
[null,null,null,null,null,null,"Y","Combined Gradation"]
[null,null,null,null,null,null,"N","0.45 Curve"]
[null,null,null,null,null,null,"N","Ignition Oven Correction Factors and Verification Gradations"]
[null,null,null,null,null,null,"N","LWT Design"]
[null,null,null,null,null,null,"N","Lottman Design"]
[]
[null,null,null,null,null,null,"N","JMF Input"]
[null,null,null,null,null,null,"Y","JMF"]
[null,null,null,null,null,null,"N","JMF Check"]
[]
[null,null,null,null,null,null,"N","Validation Input"]
[null,null,null,null,null,null,"Y","Validation Report"]
[null,null,null,null,null,null,"Y","Validation Plant Report"]
[null,null,null,null,null,null,"Y","LWT Validation"]
[null,null,null,null,null,null,"N","Lottman Validation"]
[]
[null,null,null,null,null,null,"Y","Plant Report"]
[null,null,null,null,null,null,"N","Plant Acceptance"]
[null,null,null,null,null,null,"N","Plant QC"]
[null,null,null,null,null,null,"N","Plant Verification"]
[]
[null,null,null,null,null,null,"Y","Roadway Core Data and Pay"]

{"sheet":"Material Setup","index":2,"n_rows":73,"n_cols":31,"rows_kept":73,"cut":false,"hidden":false,"merged":[[0,0,1,3]]}
["This page is used to select commonly used materials by the asphalt producer, the dropdown fields throughout LaPave will be populated with the options selected here and the default parameters entered for each option"]
[]
[null,null,"*"," = expired material"]
[]
["Asphalt Prodr"]
[]
["Anti-Strips","Producer/Supplier",{"$f":"COUNTA(D8:D11)","v":0},"Material","Custom Name/Identifier","Anti-Strip %"]
[1,null,{"$f":"IF(AC8<NOW(),\"*\",\"\")","v":""},null,null,null,null,null,null,null,null,null,null,null,null,null,null,null,null,null,null,null,null,null,"ADAP",{"$f":"\"MAT!\"&ADDRESS(VLOOKUP(B8,INDIRECT(\"PS!\"&ADDRESS(VLOOKUP(Y8,PS!$I$2:$M$32,2,FALSE),3)&\":\"&ADDRESS(VLOOKUP(Y8,PS!$I$2:$M$32,2,FALSE)+VLOOKUP(Y8,PS!$I$2:$M$32,3,FALSE)-1,7)),4,FALSE),4)&\":\"&ADDRESS(VLOOKUP(B8,INDIRECT(\"PS!\"&ADDRESS(VLOOKUP(Y8,PS!$I$2:$M$32,2,FALSE),3)&\":\"&ADDRESS(VLOOKUP(Y8,PS!$I$2:$M$32,2,FALSE)+VLOOKUP(Y8,PS!$I$2:$M$32,3,FALSE)-1,7)),4,FALSE)+VLOOKUP(B8,INDIRECT(\"PS!\"&ADDRESS(VLOOKUP(Y8,PS!$I$2:$M$32,2,FALSE),3)&\":\"&ADDRESS(VLOOKUP(Y8,PS!$I$2:$M$32,2,FALSE)+VLOOKUP(Y8,PS!$I$2:$M$32,3,FALSE)-1,7)),5,FALSE)-1,4)","v":{"$error":"#N/A"}},{"$f":"IFERROR(VLOOKUP(D8,MAT!$D$2:$K$711,7,FALSE),\"\")","v":""},{"$f":"IFERROR(VLOOKUP(D8,MAT!$D$2:$K$711,8,FALSE),\"\")","v":""},{"$f":"IFERROR(DATE(LEFT(AB8,4),MID(AB8,5,2),RIGHT(AB8,2)),\"\")","v":""},{"$f":"IFERROR(VLOOKUP(B8,PS!$C$2:$D$10000,2,FALSE),\"\")","v":""},{"$f":"IF(LEN(D8)>10,LEFT(D8,10)&\"-\"&E8,\"\")","v":""}]
[2,null,{"$f":"IF(AC9<NOW(),\"*\",\"\")","v":""},null,null,null,null,null,null,null,null,null,null,null,null,null,null,null,null,null,null,null,null,null,"ADAP",{"$f":"\"MAT!\"&ADDRESS(VLOOKUP(B9,INDIRECT(\"PS!\"&ADDRESS(VLOOKUP(Y9,PS!$I$2:$M$32,2,FALSE),3)&\":\"&ADDRESS(VLOOKUP(Y9,PS!$I$2:$M$32,2,FALSE)+VLOOKUP(Y9,PS!$I$2:$M$32,3,FALSE)-1,7)),4,FALSE),4)&\":\"&ADDRESS(VLOOKUP(B9,INDIRECT(\"PS!\"&ADDRESS(VLOOKUP(Y9,PS!$I$2:$M$32,2,FALSE),3)&\":\"&ADDRESS(VLOOKUP(Y9,PS!$I$2:$M$32,2,FALSE)+VLOOKUP(Y9,PS!$I$2:$M$32,3,FALSE)-1,7)),4,FALSE)+VLOOKUP(B9,INDIRECT(\"PS!\"&ADDRESS(VLOOKUP(Y9,PS!$I$2:$M$32,2,FALSE),3)&\":\"&ADDRESS(VLOOKUP(Y9,PS!$I$2:$M$32,2,FALSE)+VLOOKUP(Y9,PS!$I$2:$M$32,3,FALSE)-1,7)),5,FALSE)-1,4)","v":{"$error":"#N/A"}},{"$f":"IFERROR(VLOOKUP(D9,MAT!$D$2:$K$711,7,FALSE),\"\")","v":""},{"$f":"IFERROR(VLOOKUP(D9,MAT!$D$2:$K$711,8,FALSE),\"\")","v":""},{"$f":"IFERROR(DATE(LEFT(AB9,4),MID(AB9,5,2),RIGHT(AB9,2)),\"\")","v":""},{"$f":"IFERROR(VLOOKUP(B9,PS!$C$2:$D$10000,2,FALSE),\"\")","v":""},{"$f":"IF(LEN(D9)>10,LEFT(D9,10)&\"-\"&E9,\"\")","v":""}]
[3,null,"",null,null,null,null,null,null,null,null,null,null,null,null,null,null,null,null,null,null,null,null,null,"ADAP",{"$f":"\"MAT!\"&ADDRESS(VLOOKUP(B10,INDIRECT(\"PS!\"&ADDRESS(VLOOKUP(Y10,PS!$I$2:$M$32,2,FALSE),3)&\":\"&ADDRESS(VLOOKUP(Y10,PS!$I$2:$M$32,2,FALSE)+VLOOKUP(Y10,PS!$I$2:$M$32,3,FALSE)-1,7)),4,FALSE),4)&\":\"&ADDRESS(VLOOKUP(B10,INDIRECT(\"PS!\"&ADDRESS(VLOOKUP(Y10,PS!$I$2:$M$32,2,FALSE),3)&\":\"&ADDRESS(VLOOKUP(Y10,PS!$I$2:$M$32,2,FALSE)+VLOOKUP(Y10,PS!$I$2:$M$32,3,FALSE)-1,7)),4,FALSE)+VLOOKUP(B10,INDIRECT(\"PS!\"&ADDRESS(VLOOKUP(Y10,PS!$I$2:$M$32,2,FALSE),3)&\":\"&ADDRESS(VLOOKUP(Y10,PS!$I$2:$M$32,2,FALSE)+VLOOKUP(Y10,PS!$I$2:$M$32,3,FALSE)-1,7)),5,FALSE)-1,4)","v":{"$error":"#N/A"}},{"$f":"IFERROR(VLOOKUP(D10,MAT!$D$2:$K$711,7,FALSE),\"\")","v":""},{"$f":"IFERROR(VLOOKUP(D10,MAT!$D$2:$K$711,8,FALSE),\"\")","v":""},"",{"$f":"IFERROR(VLOOKUP(B10,PS!$C$2:$D$10000,2,FALSE),\"\")","v":""},""]
[4,null,"",null,null,null,null,null,null,null,null,null,null,null,null,null,null,null,null,null,null,null,null,null,"ADAP",{"$f":"\"MAT!\"&ADDRESS(VLOOKUP(B11,INDIRECT(\"PS!\"&ADDRESS(VLOOKUP(Y11,PS!$I$2:$M$32,2,FALSE),3)&\":\"&ADDRESS(VLOOKUP(Y11,PS!$I$2:$M$32,2,FALSE)+VLOOKUP(Y11,PS!$I$2:$M$32,3,FALSE)-1,7)),4,FALSE),4)&\":\"&ADDRESS(VLOOKUP(B11,INDIRECT(\"PS!\"&ADDRESS(VLOOKUP(Y11,PS!$I$2:$M$32,2,FALSE),3)&\":\"&ADDRESS(VLOOKUP(Y11,PS!$I$2:$M$32,2,FALSE)+VLOOKUP(Y11,PS!$I$2:$M$32,3,FALSE)-1,7)),4,FALSE)+VLOOKUP(B11,INDIRECT(\"PS!\"&ADDRESS(VLOOKUP(Y11,PS!$I$2:$M$32,2,FALSE),3)&\":\"&ADDRESS(VLOOKUP(Y11,PS!$I$2:$M$32,2,FALSE)+VLOOKUP(Y11,PS!$I$2:$M$32,3,FALSE)-1,7)),5,FALSE)-1,4)","v":{"$error":"#N/A"}},{"$f":"IFERROR(VLOOKUP(D11,MAT!$D$2:$K$711,7,FALSE),\"\")","v":""},{"$f":"IFERROR(VLOOKUP(D11,MAT!$D$2:$K$711,8,FALSE),\"\")","v":""},"",{"$f":"IFERROR(VLOOKUP(B11,PS!$C$2:$D$10000,2,FALSE),\"\")","v":""},""]
[]
["Warm Mix Ad","Producer/Supplier",{"$f":"COUNTA(D14:D17)","v":0},"Material","Custom Name/Identifier","Method","Rate"]
[1,null,{"$f":"IF(AC14<NOW(),\"*\",\"\")","v":""},null,null,null,null,null,null,null,null,null,null,null,null,null,null,null,null,null,null,null,null,null,"ADAP",{"$f":"\"MAT!\"&ADDRESS(VLOOKUP(B14,INDIRECT(\"PS!\"&ADDRESS(VLOOKUP(Y14,PS!$I$2:$M$32,2,FALSE),3)&\":\"&ADDRESS(VLOOKUP(Y14,PS!$I$2:$M$32,2,FALSE)+VLOOKUP(Y14,PS!$I$2:$M$32,3,FALSE)-1,7)),4,FALSE),4)&\":\"&ADDRESS(VLOOKUP(B14,INDIRECT(\"PS!\"&ADDRESS(VLOOKUP(Y14,PS!$I$2:$M$32,2,FALSE),3)&\":\"&ADDRESS(VLOOKUP(Y14,PS!$I$2:$M$32,2,FALSE)+VLOOKUP(Y14,PS!$I$2:$M$32,3,FALSE)-1,7)),4,FALSE)+VLOOKUP(B14,INDIRECT(\"PS!\"&ADDRESS(VLOOKUP(Y14,PS!$I$2:$M$32,2,FALSE),3)&\":\"&ADDRESS(VLOOKUP(Y14,PS!$I$2:$M$32,2,FALSE)+VLOOKUP(Y14,PS!$I$2:$M$32,3,FALSE)-1,7)),5,FALSE)-1,4)","v":{"$error":"#N/A"}},{"$f":"IFERROR(VLOOKUP(D14,MAT!$D$2:$K$711,7,FALSE),\"\")","v":""},{"$f":"IFERROR(VLOOKUP(D14,MAT!$D$2:$K$711,8,FALSE),\"\")","v":""},{"$f":"IFERROR(DATE(LEFT(AB14,4),MID(AB14,5,2),RIGHT(AB14,2)),\"\")","v":""},{"$f":"IFERROR(VLOOKUP(B14,PS!$C$2:$D$10000,2,FALSE),\"\")","v":""},{"$f":"IF(LEN(D14)>10,LEFT(D14,10)&\"-\"&E14,\"\")","v":""}]
[2,null,"",null,null,null,null,null,null,null,null,null,null,null,null,null,null,null,null,null,null,null,null,null,"ADAP",{"$f":"\"MAT!\"&ADDRESS(VLOOKUP(B15,INDIRECT(\"PS!\"&ADDRESS(VLOOKUP(Y15,PS!$I$2:$M$32,2,FALSE),3)&\":\"&ADDRESS(VLOOKUP(Y15,PS!$I$2:$M$32,2,FALSE)+VLOOKUP(Y15,PS!$I$2:$M$32,3,FALSE)-1,7)),4,FALSE),4)&\":\"&ADDRESS(VLOOKUP(B15,INDIRECT(\"PS!\"&ADDRESS(VLOOKUP(Y15,PS!$I$2:$M$32,2,FALSE),3)&\":\"&ADDRESS(VLOOKUP(Y15,PS!$I$2:$M$32,2,FALSE)+VLOOKUP(Y15,PS!$I$2:$M$32,3,FALSE)-1,7)),4,FALSE)+VLOOKUP(B15,INDIRECT(\"PS!\"&ADDRESS(VLOOKUP(Y15,PS!$I$2:$M$32,2,FALSE),3)&\":\"&ADDRESS(VLOOKUP(Y15,PS!$I$2:$M$32,2,FALSE)+VLOOKUP(Y15,PS!$I$2:$M$32,3,FALSE)-1,7)),5,FALSE)-1,4)","v":{"$error":"#N/A"}},{"$f":"IFERROR(VLOOKUP(D15,MAT!$D$2:$K$711,7,FALSE),\"\")","v":""},{"$f":"IFERROR(VLOOKUP(D15,MAT!$D$2:$K$711,8,FALSE),\"\")","v":""},"",{"$f":"IFERROR(VLOOKUP(B15,PS!$C$2:$D$10000,2,FALSE),\"\")","v":""},""]
[3,null,"",null,null,null,null,null,null,null,null,null,null,null,null,null,null,null,null,null,null,null,null,null,"ADAP",{"$f":"\"MAT!\"&ADDRESS(VLOOKUP(B16,INDIRECT(\"PS!\"&ADDRESS(VLOOKUP(Y16,PS!$I$2:$M$32,2,FALSE),3)&\":\"&ADDRESS(VLOOKUP(Y16,PS!$I$2:$M$32,2,FALSE)+VLOOKUP(Y16,PS!$I$2:$M$32,3,FALSE)-1,7)),4,FALSE),4)&\":\"&ADDRESS(VLOOKUP(B16,INDIRECT(\"PS!\"&ADDRESS(VLOOKUP(Y16,PS!$I$2:$M$32,2,FALSE),3)&\":\"&ADDRESS(VLOOKUP(Y16,PS!$I$2:$M$32,2,FALSE)+VLOOKUP(Y16,PS!$I$2:$M$32,3,FALSE)-1,7)),4,FALSE)+VLOOKUP(B16,INDIRECT(\"PS!\"&ADDRESS(VLOOKUP(Y16,PS!$I$2:$M$32,2,FALSE),3)&\":\"&ADDRESS(VLOOKUP(Y16,PS!$I$2:$M$32,2,FALSE)+VLOOKUP(Y16,PS!$I$2:$M$32,3,FALSE)-1,7)),5,FALSE)-1,4)","v":{"$error":"#N/A"}},{"$f":"IFERROR(VLOOKUP(D16,MAT!$D$2:$K$711,7,FALSE),\"\")","v":""},{"$f":"IFERROR(VLOOKUP(D16,MAT!$D$2:$K$711,8,FALSE),\"\")","v":""},"",{"$f":"IFERROR(VLOOKUP(B16,PS!$C$2:$D$10000,2,FALSE),\"\")","v":""},""]
[4,null,"",null,null,null,null,null,null,null,null,null,null,null,null,null,null,null,null,null,null,null,null,null,"ADAP",{"$f":"\"MAT!\"&ADDRESS(VLOOKUP(B17,INDIRECT(\"PS!\"&ADDRESS(VLOOKUP(Y17,PS!$I$2:$M$32,2,FALSE),3)&\":\"&ADDRESS(VLOOKUP(Y17,PS!$I$2:$M$32,2,FALSE)+VLOOKUP(Y17,PS!$I$2:$M$32,3,FALSE)-1,7)),4,FALSE),4)&\":\"&ADDRESS(VLOOKUP(B17,INDIRECT(\"PS!\"&ADDRESS(VLOOKUP(Y17,PS!$I$2:$M$32,2,FALSE),3)&\":\"&ADDRESS(VLOOKUP(Y17,PS!$I$2:$M$32,2,FALSE)+VLOOKUP(Y17,PS!$I$2:$M$32,3,FALSE)-1,7)),4,FALSE)+VLOOKUP(B17,INDIRECT(\"PS!\"&ADDRESS(VLOOKUP(Y17,PS!$I$2:$M$32,2,FALSE),3)&\":\"&ADDRESS(VLOOKUP(Y17,PS!$I$2:$M$32,2,FALSE)+VLOOKUP(Y17,PS!$I$2:$M$32,3,FALSE)-1,7)),5,FALSE)-1,4)","v":{"$error":"#N/A"}},{"$f":"IFERROR(VLOOKUP(D17,MAT!$D$2:$K$711,7,FALSE),\"\")","v":""},{"$f":"IFERROR(VLOOKUP(D17,MAT!$D$2:$K$711,8,FALSE),\"\")","v":""},"",{"$f":"IFERROR(VLOOKUP(B17,PS!$C$2:$D$10000,2,FALSE),\"\")","v":""},""]
[]
["Fibers/Rubber","Producer/Supplier",{"$f":"COUNTA(D20:D23)","v":0},"Material","Custom Name/Identifier","Fiber Type","Rate %"]
[1,null,{"$f":"IF(AC20<NOW(),\"*\",\"\")","v":""},null,null,null,null,null,null,null,null,null,null,null,null,null,null,null,null,null,null,null,null,null,"ADAP",{"$f":"\"MAT!\"&ADDRESS(VLOOKUP(B20,INDIRECT(\"PS!\"&ADDRESS(VLOOKUP(Y20,PS!$I$2:$M$32,2,FALSE),3)&\":\"&ADDRESS(VLOOKUP(Y20,PS!$I$2:$M$32,2,FALSE)+VLOOKUP(Y20,PS!$I$2:$M$32,3,FALSE)-1,7)),4,FALSE),4)&\":\"&ADDRESS(VLOOKUP(B20,INDIRECT(\"PS!\"&ADDRESS(VLOOKUP(Y20,PS!$I$2:$M$32,2,FALSE),3)&\":\"&ADDRESS(VLOOKUP(Y20,PS!$I$2:$M$32,2,FALSE)+VLOOKUP(Y20,PS!$I$2:$M$32,3,FALSE)-1,7)),4,FALSE)+VLOOKUP(B20,INDIRECT(\"PS!\"&ADDRESS(VLOOKUP(Y20,PS!$I$2:$M$32,2,FALSE),3)&\":\"&ADDRESS(VLOOKUP(Y20,PS!$I$2:$M$32,2,FALSE)+VLOOKUP(Y20,PS!$I$2:$M$32,3,FALSE)-1,7)),5,FALSE)-1,4)","v":{"$error":"#N/A"}},{"$f":"IFERROR(VLOOKUP(D20,MAT!$D$2:$K$711,7,FALSE),\"\")","v":""},{"$f":"IFERROR(VLOOKUP(D20,MAT!$D$2:$K$711,8,FALSE),\"\")","v":""},{"$f":"IFERROR(DATE(LEFT(AB20,4),MID(AB20,5,2),RIGHT(AB20,2)),\"\")","v":""},{"$f":"IFERROR(VLOOKUP(B20,PS!$C$2:$D$10000,2,FALSE),\"\")","v":""},{"$f":"IF(LEN(D20)>10,LEFT(D20,10)&\"-\"&E20,\"\")","v":""}]
[2,null,"",null,null,null,null,null,null,null,null,null,null,null,null,null,null,null,null,null,null,null,null,null,"ADAP",{"$f":"\"MAT!\"&ADDRESS(VLOOKUP(B21,INDIRECT(\"PS!\"&ADDRESS(VLOOKUP(Y21,PS!$I$2:$M$32,2,FALSE),3)&\":\"&ADDRESS(VLOOKUP(Y21,PS!$I$2:$M$32,2,FALSE)+VLOOKUP(Y21,PS!$I$2:$M$32,3,FALSE)-1,7)),4,FALSE),4)&\":\"&ADDRESS(VLOOKUP(B21,INDIRECT(\"PS!\"&ADDRESS(VLOOKUP(Y21,PS!$I$2:$M$32,2,FALSE),3)&\":\"&ADDRESS(VLOOKUP(Y21,PS!$I$2:$M$32,2,FALSE)+VLOOKUP(Y21,PS!$I$2:$M$32,3,FALSE)-1,7)),4,FALSE)+VLOOKUP(B21,INDIRECT(\"PS!\"&ADDRESS(VLOOKUP(Y21,PS!$I$2:$M$32,2,FALSE),3)&\":\"&ADDRESS(VLOOKUP(Y21,PS!$I$2:$M$32,2,FALSE)+VLOOKUP(Y21,PS!$I$2:$M$32,3,FALSE)-1,7)),5,FALSE)-1,4)","v":{"$error":"#N/A"}},{"$f":"IFERROR(VLOOKUP(D21,MAT!$D$2:$K$711,7,FALSE),\"\")","v":""},{"$f":"IFERROR(VLOOKUP(D21,MAT!$D$2:$K$711,8,FALSE),\"\")","v":""},"",{"$f":"IFERROR(VLOOKUP(B21,PS!$C$2:$D$10000,2,FALSE),\"\")","v":""},""]
[3,null,"",null,null,null,null,null,null,null,null,null,null,null,null,null,null,null,null,null,null,null,null,null,"ADAP",{"$f":"\"MAT!\"&ADDRESS(VLOOKUP(B22,INDIRECT(\"PS!\"&ADDRESS(VLOOKUP(Y22,PS!$I$2:$M$32,2,FALSE),3)&\":\"&ADDRESS(VLOOKUP(Y22,PS!$I$2:$M$32,2,FALSE)+VLOOKUP(Y22,PS!$I$2:$M$32,3,FALSE)-1,7)),4,FALSE),4)&\":\"&ADDRESS(VLOOKUP(B22,INDIRECT(\"PS!\"&ADDRESS(VLOOKUP(Y22,PS!$I$2:$M$32,2,FALSE),3)&\":\"&ADDRESS(VLOOKUP(Y22,PS!$I$2:$M$32,2,FALSE)+VLOOKUP(Y22,PS!$I$2:$M$32,3,FALSE)-1,7)),4,FALSE)+VLOOKUP(B22,INDIRECT(\"PS!\"&ADDRESS(VLOOKUP(Y22,PS!$I$2:$M$32,2,FALSE),3)&\":\"&ADDRESS(VLOOKUP(Y22,PS!$I$2:$M$32,2,FALSE)+VLOOKUP(Y22,PS!$I$2:$M$32,3,FALSE)-1,7)),5,FALSE)-1,4)","v":{"$error":"#N/A"}},{"$f":"IFERROR(VLOOKUP(D22,MAT!$D$2:$K$711,7,FALSE),\"\")","v":""},{"$f":"IFERROR(VLOOKUP(D22,MAT!$D$2:$K$711,8,FALSE),\"\")","v":""},"",{"$f":"IFERROR(VLOOKUP(B22,PS!$C$2:$D$10000,2,FALSE),\"\")","v":""},""]
[4,null,"",null,null,null,null,null,null,null,null,null,null,null,null,null,null,null,null,null,null,null,null,null,"ADAP",{"$f":"\"MAT!\"&ADDRESS(VLOOKUP(B23,INDIRECT(\"PS!\"&ADDRESS(VLOOKUP(Y23,PS!$I$2:$M$32,2,FALSE),3)&\":\"&ADDRESS(VLOOKUP(Y23,PS!$I$2:$M$32,2,FALSE)+VLOOKUP(Y23,PS!$I$2:$M$32,3,FALSE)-1,7)),4,FALSE),4)&\":\"&ADDRESS(VLOOKUP(B23,INDIRECT(\"PS!\"&ADDRESS(VLOOKUP(Y23,PS!$I$2:$M$32,2,FALSE),3)&\":\"&ADDRESS(VLOOKUP(Y23,PS!$I$2:$M$32,2,FALSE)+VLOOKUP(Y23,PS!$I$2:$M$32,3,FALSE)-1,7)),4,FALSE)+VLOOKUP(B23,INDIRECT(\"PS!\"&ADDRESS(VLOOKUP(Y23,PS!$I$2:$M$32,2,FALSE),3)&\":\"&ADDRESS(VLOOKUP(Y23,PS!$I$2:$M$32,2,FALSE)+VLOOKUP(Y23,PS!$I$2:$M$32,3,FALSE)-1,7)),5,FALSE)-1,4)","v":{"$error":"#N/A"}},{"$f":"IFERROR(VLOOKUP(D23,MAT!$D$2:$K$711,7,FALSE),\"\")","v":""},{"$f":"IFERROR(VLOOKUP(D23,MAT!$D$2:$K$711,8,FALSE),\"\")","v":""},"",{"$f":"IFERROR(VLOOKUP(B23,PS!$C$2:$D$10000,2,FALSE),\"\")","v":""},""]
[]
["Asphalt Bind","Producer/Supplier",{"$f":"COUNTA(D26:D33)","v":0},"Material","Custom Name/Identifier","Grade"]
[1,null,{"$f":"IF(AC26<NOW(),\"*\",\"\")","v":""},null,null,{"$f":"IF(IFERROR(FIND(\"64-22\",D26),0),\"64-22\",IF(IFERROR(FIND(\"58-28\",D26),0),\"58-28\",IF(IFERROR(FIND(\"70-22m\",D26),0),\"70-22m\",IF(IFERROR(FIND(\"70-22\",D26),0),\"70-22\",IF(IFERROR(FIND(\"67-22\",D26),0),\"67-22\",IF(IFERROR(FIND(\"76-22m\",D26),0),\"76-22m\",IF(IFERROR(FIND(\"76-22\",D26),0),\"76-22\",IF(IFERROR(FIND(\"82-22RM\",D26),0),\"82-22RM\",IF(IFERROR(FIND(\"82-22rm\",D26),0),\"82-22rm\",IF(IFERROR(FIND(\"82-22\",D26),0),\"82-22\",\"\"))))))))))","v":""},null,null,null,null,null,null,null,null,null,null,null,null,null,null,null,null,null,null,"BIND",{"$f":"\"MAT!\"&ADDRESS(VLOOKUP(B26,INDIRECT(\"PS!\"&ADDRESS(VLOOKUP(Y26,PS!$I$2:$M$32,2,FALSE),3)&\":\"&ADDRESS(VLOOKUP(Y26,PS!$I$2:$M$32,2,FALSE)+VLOOKUP(Y26,PS!$I$2:$M$32,3,FALSE)-1,7)),4,FALSE),4)&\":\"&ADDRESS(VLOOKUP(B26,INDIRECT(\"PS!\"&ADDRESS(VLOOKUP(Y26,PS!$I$2:$M$32,2,FALSE),3)&\":\"&ADDRESS(VLOOKUP(Y26,PS!$I$2:$M$32,2,FALSE)+VLOOKUP(Y26,PS!$I$2:$M$32,3,FALSE)-1,7)),4,FALSE)+VLOOKUP(B26,INDIRECT(\"PS!\"&ADDRESS(VLOOKUP(Y26,PS!$I$2:$M$32,2,FALSE),3)&\":\"&ADDRESS(VLOOKUP(Y26,PS!$I$2:$M$32,2,FALSE)+VLOOKUP(Y26,PS!$I$2:$M$32,3,FALSE)-1,7)),5,FALSE)-1,4)","v":{"$error":"#N/A"}},{"$f":"IFERROR(VLOOKUP(D26,MAT!$D$2:$K$711,7,FALSE),\"\")","v":""},{"$f":"IFERROR(VLOOKUP(D26,MAT!$D$2:$K$711,8,FALSE),\"\")","v":""},{"$f":"IFERROR(DATE(LEFT(AB26,4),MID(AB26,5,2),RIGHT(AB26,2)),\"\")","v":""},{"$f":"IFERROR(VLOOKUP(B26,PS!$C$2:$D$10000,2,FALSE),\"\")","v":""},{"$f":"IF(LEN(D26)>10,LEFT(D26,10)&\"-\"&E26,\"\")","v":""}]
[2,null,null,null,null,{"$f":"IF(IFERROR(FIND(\"64-22\",D27),0),\"64-22\",IF(IFERROR(FIND(\"58-28\",D27),0),\"58-28\",IF(IFERROR(FIND(\"70-22m\",D27),0),\"70-22m\",IF(IFERROR(FIND(\"70-22\",D27),0),\"70-22\",IF(IFERROR(FIND(\"67-22\",D27),0),\"67-22\",IF(IFERROR(FIND(\"76-22m\",D27),0),\"76-22m\",IF(IFERROR(FIND(\"76-22\",D27),0),\"76-22\",IF(IFERROR(FIND(\"82-22RM\",D27),0),\"82-22RM\",IF(IFERROR(FIND(\"82-22rm\",D27),0),\"82-22rm\",IF(IFERROR(FIND(\"82-22\",D27),0),\"82-22\",\"\"))))))))))","v":""},null,null,null,null,null,null,null,null,null,null,null,null,null,null,null,null,null,null,"BIND",{"$f":"\"MAT!\"&ADDRESS(VLOOKUP(B27,INDIRECT(\"PS!\"&ADDRESS(VLOOKUP(Y27,PS!$I$2:$M$32,2,FALSE),3)&\":\"&ADDRESS(VLOOKUP(Y27,PS!$I$2:$M$32,2,FALSE)+VLOOKUP(Y27,PS!$I$2:$M$32,3,FALSE)-1,7)),4,FALSE),4)&\":\"&ADDRESS(VLOOKUP(B27,INDIRECT(\"PS!\"&ADDRESS(VLOOKUP(Y27,PS!$I$2:$M$32,2,FALSE),3)&\":\"&ADDRESS(VLOOKUP(Y27,PS!$I$2:$M$32,2,FALSE)+VLOOKUP(Y27,PS!$I$2:$M$32,3,FALSE)-1,7)),4,FALSE)+VLOOKUP(B27,INDIRECT(\"PS!\"&ADDRESS(VLOOKUP(Y27,PS!$I$2:$M$32,2,FALSE),3)&\":\"&ADDRESS(VLOOKUP(Y27,PS!$I$2:$M$32,2,FALSE)+VLOOKUP(Y27,PS!$I$2:$M$32,3,FALSE)-1,7)),5,FALSE)-1,4)","v":{"$error":"#N/A"}},{"$f":"IFERROR(VLOOKUP(D27,MAT!$D$2:$K$711,7,FALSE),\"\")","v":""},{"$f":"IFERROR(VLOOKUP(D27,MAT!$D$2:$K$711,8,FALSE),\"\")","v":""},"",{"$f":"IFERROR(VLOOKUP(B27,PS!$C$2:$D$10000,2,FALSE),\"\")","v":""},""]
[3,null,null,null,null,"",null,null,null,null,null,null,null,null,null,null,null,null,null,null,null,null,null,null,"BIND",{"$f":"\"MAT!\"&ADDRESS(VLOOKUP(B28,INDIRECT(\"PS!\"&ADDRESS(VLOOKUP(Y28,PS!$I$2:$M$32,2,FALSE),3)&\":\"&ADDRESS(VLOOKUP(Y28,PS!$I$2:$M$32,2,FALSE)+VLOOKUP(Y28,PS!$I$2:$M$32,3,FALSE)-1,7)),4,FALSE),4)&\":\"&ADDRESS(VLOOKUP(B28,INDIRECT(\"PS!\"&ADDRESS(VLOOKUP(Y28,PS!$I$2:$M$32,2,FALSE),3)&\":\"&ADDRESS(VLOOKUP(Y28,PS!$I$2:$M$32,2,FALSE)+VLOOKUP(Y28,PS!$I$2:$M$32,3,FALSE)-1,7)),4,FALSE)+VLOOKUP(B28,INDIRECT(\"PS!\"&ADDRESS(VLOOKUP(Y28,PS!$I$2:$M$32,2,FALSE),3)&\":\"&ADDRESS(VLOOKUP(Y28,PS!$I$2:$M$32,2,FALSE)+VLOOKUP(Y28,PS!$I$2:$M$32,3,FALSE)-1,7)),5,FALSE)-1,4)","v":{"$error":"#N/A"}},{"$f":"IFERROR(VLOOKUP(D28,MAT!$D$2:$K$711,7,FALSE),\"\")","v":""},{"$f":"IFERROR(VLOOKUP(D28,MAT!$D$2:$K$711,8,FALSE),\"\")","v":""},"",{"$f":"IFERROR(VLOOKUP(B28,PS!$C$2:$D$10000,2,FALSE),\"\")","v":""},""]
[4,null,null,null,null,"",null,null,null,null,null,null,null,null,null,null,null,null,null,null,null,null,null,null,"BIND",{"$f":"\"MAT!\"&ADDRESS(VLOOKUP(B29,INDIRECT(\"PS!\"&ADDRESS(VLOOKUP(Y29,PS!$I$2:$M$32,2,FALSE),3)&\":\"&ADDRESS(VLOOKUP(Y29,PS!$I$2:$M$32,2,FALSE)+VLOOKUP(Y29,PS!$I$2:$M$32,3,FALSE)-1,7)),4,FALSE),4)&\":\"&ADDRESS(VLOOKUP(B29,INDIRECT(\"PS!\"&ADDRESS(VLOOKUP(Y29,PS!$I$2:$M$32,2,FALSE),3)&\":\"&ADDRESS(VLOOKUP(Y29,PS!$I$2:$M$32,2,FALSE)+VLOOKUP(Y29,PS!$I$2:$M$32,3,FALSE)-1,7)),4,FALSE)+VLOOKUP(B29,INDIRECT(\"PS!\"&ADDRESS(VLOOKUP(Y29,PS!$I$2:$M$32,2,FALSE),3)&\":\"&ADDRESS(VLOOKUP(Y29,PS!$I$2:$M$32,2,FALSE)+VLOOKUP(Y29,PS!$I$2:$M$32,3,FALSE)-1,7)),5,FALSE)-1,4)","v":{"$error":"#N/A"}},{"$f":"IFERROR(VLOOKUP(D29,MAT!$D$2:$K$711,7,FALSE),\"\")","v":""},{"$f":"IFERROR(VLOOKUP(D29,MAT!$D$2:$K$711,8,FALSE),\"\")","v":""},"",{"$f":"IFERROR(VLOOKUP(B29,PS!$C$2:$D$10000,2,FALSE),\"\")","v":""},""]
[5,null,null,null,null,"",null,null,null,null,null,null,null,null,null,null,null,null,null,null,null,null,null,null,"BIND",{"$f":"\"MAT!\"&ADDRESS(VLOOKUP(B30,INDIRECT(\"PS!\"&ADDRESS(VLOOKUP(Y30,PS!$I$2:$M$32,2,FALSE),3)&\":\"&ADDRESS(VLOOKUP(Y30,PS!$I$2:$M$32,2,FALSE)+VLOOKUP(Y30,PS!$I$2:$M$32,3,FALSE)-1,7)),4,FALSE),4)&\":\"&ADDRESS(VLOOKUP(B30,INDIRECT(\"PS!\"&ADDRESS(VLOOKUP(Y30,PS!$I$2:$M$32,2,FALSE),3)&\":\"&ADDRESS(VLOOKUP(Y30,PS!$I$2:$M$32,2,FALSE)+VLOOKUP(Y30,PS!$I$2:$M$32,3,FALSE)-1,7)),4,FALSE)+VLOOKUP(B30,INDIRECT(\"PS!\"&ADDRESS(VLOOKUP(Y30,PS!$I$2:$M$32,2,FALSE),3)&\":\"&ADDRESS(VLOOKUP(Y30,PS!$I$2:$M$32,2,FALSE)+VLOOKUP(Y30,PS!$I$2:$M$32,3,FALSE)-1,7)),5,FALSE)-1,4)","v":{"$error":"#N/A"}},{"$f":"IFERROR(VLOOKUP(D30,MAT!$D$2:$K$711,7,FALSE),\"\")","v":""},{"$f":"IFERROR(VLOOKUP(D30,MAT!$D$2:$K$711,8,FALSE),\"\")","v":""},"",{"$f":"IFERROR(VLOOKUP(B30,PS!$C$2:$D$10000,2,FALSE),\"\")","v":""},""]
[6,null,"",null,null,"",null,null,null,null,null,null,null,null,null,null,null,null,null,null,null,null,null,null,"BIND",{"$f":"\"MAT!\"&ADDRESS(VLOOKUP(B31,INDIRECT(\"PS!\"&ADDRESS(VLOOKUP(Y31,PS!$I$2:$M$32,2,FALSE),3)&\":\"&ADDRESS(VLOOKUP(Y31,PS!$I$2:$M$32,2,FALSE)+VLOOKUP(Y31,PS!$I$2:$M$32,3,FALSE)-1,7)),4,FALSE),4)&\":\"&ADDRESS(VLOOKUP(B31,INDIRECT(\"PS!\"&ADDRESS(VLOOKUP(Y31,PS!$I$2:$M$32,2,FALSE),3)&\":\"&ADDRESS(VLOOKUP(Y31,PS!$I$2:$M$32,2,FALSE)+VLOOKUP(Y31,PS!$I$2:$M$32,3,FALSE)-1,7)),4,FALSE)+VLOOKUP(B31,INDIRECT(\"PS!\"&ADDRESS(VLOOKUP(Y31,PS!$I$2:$M$32,2,FALSE),3)&\":\"&ADDRESS(VLOOKUP(Y31,PS!$I$2:$M$32,2,FALSE)+VLOOKUP(Y31,PS!$I$2:$M$32,3,FALSE)-1,7)),5,FALSE)-1,4)","v":{"$error":"#N/A"}},{"$f":"IFERROR(VLOOKUP(D31,MAT!$D$2:$K$711,7,FALSE),\"\")","v":""},{"$f":"IFERROR(VLOOKUP(D31,MAT!$D$2:$K$711,8,FALSE),\"\")","v":""},"",{"$f":"IFERROR(VLOOKUP(B31,PS!$C$2:$D$10000,2,FALSE),\"\")","v":""},""]
[7,null,"",null,null,"",null,null,null,null,null,null,null,null,null,null,null,null,null,null,null,null,null,null,"BIND",{"$f":"\"MAT!\"&ADDRESS(VLOOKUP(B32,INDIRECT(\"PS!\"&ADDRESS(VLOOKUP(Y32,PS!$I$2:$M$32,2,FALSE),3)&\":\"&ADDRESS(VLOOKUP(Y32,PS!$I$2:$M$32,2,FALSE)+VLOOKUP(Y32,PS!$I$2:$M$32,3,FALSE)-1,7)),4,FALSE),4)&\":\"&ADDRESS(VLOOKUP(B32,INDIRECT(\"PS!\"&ADDRESS(VLOOKUP(Y32,PS!$I$2:$M$32,2,FALSE),3)&\":\"&ADDRESS(VLOOKUP(Y32,PS!$I$2:$M$32,2,FALSE)+VLOOKUP(Y32,PS!$I$2:$M$32,3,FALSE)-1,7)),4,FALSE)+VLOOKUP(B32,INDIRECT(\"PS!\"&ADDRESS(VLOOKUP(Y32,PS!$I$2:$M$32,2,FALSE),3)&\":\"&ADDRESS(VLOOKUP(Y32,PS!$I$2:$M$32,2,FALSE)+VLOOKUP(Y32,PS!$I$2:$M$32,3,FALSE)-1,7)),5,FALSE)-1,4)","v":{"$error":"#N/A"}},{"$f":"IFERROR(VLOOKUP(D32,MAT!$D$2:$K$711,7,FALSE),\"\")","v":""},{"$f":"IFERROR(VLOOKUP(D32,MAT!$D$2:$K$711,8,FALSE),\"\")","v":""},"",{"$f":"IFERROR(VLOOKUP(B32,PS!$C$2:$D$10000,2,FALSE),\"\")","v":""},""]
[8,null,"",null,null,"",null,null,null,null,null,null,null,null,null,null,null,null,null,null,null,null,null,null,"BIND",{"$f":"\"MAT!\"&ADDRESS(VLOOKUP(B33,INDIRECT(\"PS!\"&ADDRESS(VLOOKUP(Y33,PS!$I$2:$M$32,2,FALSE),3)&\":\"&ADDRESS(VLOOKUP(Y33,PS!$I$2:$M$32,2,FALSE)+VLOOKUP(Y33,PS!$I$2:$M$32,3,FALSE)-1,7)),4,FALSE),4)&\":\"&ADDRESS(VLOOKUP(B33,INDIRECT(\"PS!\"&ADDRESS(VLOOKUP(Y33,PS!$I$2:$M$32,2,FALSE),3)&\":\"&ADDRESS(VLOOKUP(Y33,PS!$I$2:$M$32,2,FALSE)+VLOOKUP(Y33,PS!$I$2:$M$32,3,FALSE)-1,7)),4,FALSE)+VLOOKUP(B33,INDIRECT(\"PS!\"&ADDRESS(VLOOKUP(Y33,PS!$I$2:$M$32,2,FALSE),3)&\":\"&ADDRESS(VLOOKUP(Y33,PS!$I$2:$M$32,2,FALSE)+VLOOKUP(Y33,PS!$I$2:$M$32,3,FALSE)-1,7)),5,FALSE)-1,4)","v":{"$error":"#N/A"}},{"$f":"IFERROR(VLOOKUP(D33,MAT!$D$2:$K$711,7,FALSE),\"\")","v":""},{"$f":"IFERROR(VLOOKUP(D33,MAT!$D$2:$K$711,8,FALSE),\"\")","v":""},"",{"$f":"IFERROR(VLOOKUP(B33,PS!$C$2:$D$10000,2,FALSE),\"\")","v":""},""]
[null,null,null,null,null,"Bulk"," ","FAA","Sand Eq.","Flat & Elong","CAA","Micro Deval","Friction","% Passing","% Passing","% Passing","% Passing","% Passing","% Passing","% Passing","% Passing","% Passing","% Passing","% Passing"]
["Coarse Agg","Producer/Supplier",{"$f":"COUNTA(D36:D50)","v":0},"Material","Custom Name/Identifier","Gravity","Absorption","Method A","- 4.75 mm","5:1",null,"% loss","Rating","   1\"","    3/4\"","    1/2\"","    3/8\"","  No 4","  No 8","  No 16","  No 30","  No 50","  No 100","  No 200"]
[1,null,{"$f":"IF(AC36<NOW(),\"*\",\"\")","v":""},null,null,null,null,null,null,null,null,null,null,null,null,null,null,null,null,null,null,null,null,null,"AGGR",{"$f":"\"MAT!\"&ADDRESS(VLOOKUP(B36,INDIRECT(\"PS!\"&ADDRESS(VLOOKUP(Y36,PS!$I$2:$M$32,2,FALSE),3)&\":\"&ADDRESS(VLOOKUP(Y36,PS!$I$2:$M$32,2,FALSE)+VLOOKUP(Y36,PS!$I$2:$M$32,3,FALSE)-1,7)),4,FALSE),4)&\":\"&ADDRESS(VLOOKUP(B36,INDIRECT(\"PS!\"&ADDRESS(VLOOKUP(Y36,PS!$I$2:$M$32,2,FALSE),3)&\":\"&ADDRESS(VLOOKUP(Y36,PS!$I$2:$M$32,2,FALSE)+VLOOKUP(Y36,PS!$I$2:$M$32,3,FALSE)-1,7)),4,FALSE)+VLOOKUP(B36,INDIRECT(\"PS!\"&ADDRESS(VLOOKUP(Y36,PS!$I$2:$M$32,2,FALSE),3)&\":\"&ADDRESS(VLOOKUP(Y36,PS!$I$2:$M$32,2,FALSE)+VLOOKUP(Y36,PS!$I$2:$M$32,3,FALSE)-1,7)),5,FALSE)-1,4)","v":{"$error":"#N/A"}},{"$f":"IFERROR(VLOOKUP(D36,MAT!$D$2:$K$711,7,FALSE),\"\")","v":""},{"$f":"IFERROR(VLOOKUP(D36,MAT!$D$2:$K$711,8,FALSE),\"\")","v":""},{"$f":"IFERROR(DATE(LEFT(AB36,4),MID(AB36,5,2),RIGHT(AB36,2)),\"\")","v":""},{"$f":"IFERROR(VLOOKUP(B36,PS!$C$2:$D$10000,2,FALSE),\"\")","v":""},{"$f":"IF(LEN(D36)>10,LEFT(D36,10)&\"-\"&E36,\"\")","v":""}]
[2,null,"",null,null,null,null,null,null,null,null,null,null,null,null,null,null,null,null,null,null,null,null,null,"AGGR",{"$f":"\"MAT!\"&ADDRESS(VLOOKUP(B37,INDIRECT(\"PS!\"&ADDRESS(VLOOKUP(Y37,PS!$I$2:$M$32,2,FALSE),3)&\":\"&ADDRESS(VLOOKUP(Y37,PS!$I$2:$M$32,2,FALSE)+VLOOKUP(Y37,PS!$I$2:$M$32,3,FALSE)-1,7)),4,FALSE),4)&\":\"&ADDRESS(VLOOKUP(B37,INDIRECT(\"PS!\"&ADDRESS(VLOOKUP(Y37,PS!$I$2:$M$32,2,FALSE),3)&\":\"&ADDRESS(VLOOKUP(Y37,PS!$I$2:$M$32,2,FALSE)+VLOOKUP(Y37,PS!$I$2:$M$32,3,FALSE)-1,7)),4,FALSE)+VLOOKUP(B37,INDIRECT(\"PS!\"&ADDRESS(VLOOKUP(Y37,PS!$I$2:$M$32,2,FALSE),3)&\":\"&ADDRESS(VLOOKUP(Y37,PS!$I$2:$M$32,2,FALSE)+VLOOKUP(Y37,PS!$I$2:$M$32,3,FALSE)-1,7)),5,FALSE)-1,4)","v":{"$error":"#N/A"}},{"$f":"IFERROR(VLOOKUP(D37,MAT!$D$2:$K$711,7,FALSE),\"\")","v":""},{"$f":"IFERROR(VLOOKUP(D37,MAT!$D$2:$K$711,8,FALSE),\"\")","v":""},"",{"$f":"IFERROR(VLOOKUP(B37,PS!$C$2:$D$10000,2,FALSE),\"\")","v":""},""]
[3,null,"",null,null,null,null,null,null,null,null,null,null,null,null,null,null,null,null,null,null,null,null,null,"AGGR",{"$f":"\"MAT!\"&ADDRESS(VLOOKUP(B38,INDIRECT(\"PS!\"&ADDRESS(VLOOKUP(Y38,PS!$I$2:$M$32,2,FALSE),3)&\":\"&ADDRESS(VLOOKUP(Y38,PS!$I$2:$M$32,2,FALSE)+VLOOKUP(Y38,PS!$I$2:$M$32,3,FALSE)-1,7)),4,FALSE),4)&\":\"&ADDRESS(VLOOKUP(B38,INDIRECT(\"PS!\"&ADDRESS(VLOOKUP(Y38,PS!$I$2:$M$32,2,FALSE),3)&\":\"&ADDRESS(VLOOKUP(Y38,PS!$I$2:$M$32,2,FALSE)+VLOOKUP(Y38,PS!$I$2:$M$32,3,FALSE)-1,7)),4,FALSE)+VLOOKUP(B38,INDIRECT(\"PS!\"&ADDRESS(VLOOKUP(Y38,PS!$I$2:$M$32,2,FALSE),3)&\":\"&ADDRESS(VLOOKUP(Y38,PS!$I$2:$M$32,2,FALSE)+VLOOKUP(Y38,PS!$I$2:$M$32,3,FALSE)-1,7)),5,FALSE)-1,4)","v":{"$error":"#N/A"}},{"$f":"IFERROR(VLOOKUP(D38,MAT!$D$2:$K$711,7,FALSE),\"\")","v":""},{"$f":"IFERROR(VLOOKUP(D38,MAT!$D$2:$K$711,8,FALSE),\"\")","v":""},"",{"$f":"IFERROR(VLOOKUP(B38,PS!$C$2:$D$10000,2,FALSE),\"\")","v":""},""]
[4,null,"",null,null,null,null,null,null,null,null,null,null,null,null,null,null,null,null,null,null,null,null,null,"AGGR",{"$f":"\"MAT!\"&ADDRESS(VLOOKUP(B39,INDIRECT(\"PS!\"&ADDRESS(VLOOKUP(Y39,PS!$I$2:$M$32,2,FALSE),3)&\":\"&ADDRESS(VLOOKUP(Y39,PS!$I$2:$M$32,2,FALSE)+VLOOKUP(Y39,PS!$I$2:$M$32,3,FALSE)-1,7)),4,FALSE),4)&\":\"&ADDRESS(VLOOKUP(B39,INDIRECT(\"PS!\"&ADDRESS(VLOOKUP(Y39,PS!$I$2:$M$32,2,FALSE),3)&\":\"&ADDRESS(VLOOKUP(Y39,PS!$I$2:$M$32,2,FALSE)+VLOOKUP(Y39,PS!$I$2:$M$32,3,FALSE)-1,7)),4,FALSE)+VLOOKUP(B39,INDIRECT(\"PS!\"&ADDRESS(VLOOKUP(Y39,PS!$I$2:$M$32,2,FALSE),3)&\":\"&ADDRESS(VLOOKUP(Y39,PS!$I$2:$M$32,2,FALSE)+VLOOKUP(Y39,PS!$I$2:$M$32,3,FALSE)-1,7)),5,FALSE)-1,4)","v":{"$error":"#N/A"}},{"$f":"IFERROR(VLOOKUP(D39,MAT!$D$2:$K$711,7,FALSE),\"\")","v":""},{"$f":"IFERROR(VLOOKUP(D39,MAT!$D$2:$K$711,8,FALSE),\"\")","v":""},"",{"$f":"IFERROR(VLOOKUP(B39,PS!$C$2:$D$10000,2,FALSE),\"\")","v":""},""]
[5,null,"",null,null,null,null,null,null,null,null,null,null,null,null,null,null,null,null,null,null,null,null,null,"AGGR",{"$f":"\"MAT!\"&ADDRESS(VLOOKUP(B40,INDIRECT(\"PS!\"&ADDRESS(VLOOKUP(Y40,PS!$I$2:$M$32,2,FALSE),3)&\":\"&ADDRESS(VLOOKUP(Y40,PS!$I$2:$M$32,2,FALSE)+VLOOKUP(Y40,PS!$I$2:$M$32,3,FALSE)-1,7)),4,FALSE),4)&\":\"&ADDRESS(VLOOKUP(B40,INDIRECT(\"PS!\"&ADDRESS(VLOOKUP(Y40,PS!$I$2:$M$32,2,FALSE),3)&\":\"&ADDRESS(VLOOKUP(Y40,PS!$I$2:$M$32,2,FALSE)+VLOOKUP(Y40,PS!$I$2:$M$32,3,FALSE)-1,7)),4,FALSE)+VLOOKUP(B40,INDIRECT(\"PS!\"&ADDRESS(VLOOKUP(Y40,PS!$I$2:$M$32,2,FALSE),3)&\":\"&ADDRESS(VLOOKUP(Y40,PS!$I$2:$M$32,2,FALSE)+VLOOKUP(Y40,PS!$I$2:$M$32,3,FALSE)-1,7)),5,FALSE)-1,4)","v":{"$error":"#N/A"}},{"$f":"IFERROR(VLOOKUP(D40,MAT!$D$2:$K$711,7,FALSE),\"\")","v":""},{"$f":"IFERROR(VLOOKUP(D40,MAT!$D$2:$K$711,8,FALSE),\"\")","v":""},"",{"$f":"IFERROR(VLOOKUP(B40,PS!$C$2:$D$10000,2,FALSE),\"\")","v":""},""]
[6,null,"",null,null,null,null,null,null,null,null,null,null,null,null,null,null,null,null,null,null,null,null,null,"AGGR",{"$f":"\"MAT!\"&ADDRESS(VLOOKUP(B41,INDIRECT(\"PS!\"&ADDRESS(VLOOKUP(Y41,PS!$I$2:$M$32,2,FALSE),3)&\":\"&ADDRESS(VLOOKUP(Y41,PS!$I$2:$M$32,2,FALSE)+VLOOKUP(Y41,PS!$I$2:$M$32,3,FALSE)-1,7)),4,FALSE),4)&\":\"&ADDRESS(VLOOKUP(B41,INDIRECT(\"PS!\"&ADDRESS(VLOOKUP(Y41,PS!$I$2:$M$32,2,FALSE),3)&\":\"&ADDRESS(VLOOKUP(Y41,PS!$I$2:$M$32,2,FALSE)+VLOOKUP(Y41,PS!$I$2:$M$32,3,FALSE)-1,7)),4,FALSE)+VLOOKUP(B41,INDIRECT(\"PS!\"&ADDRESS(VLOOKUP(Y41,PS!$I$2:$M$32,2,FALSE),3)&\":\"&ADDRESS(VLOOKUP(Y41,PS!$I$2:$M$32,2,FALSE)+VLOOKUP(Y41,PS!$I$2:$M$32,3,FALSE)-1,7)),5,FALSE)-1,4)","v":{"$error":"#N/A"}},{"$f":"IFERROR(VLOOKUP(D41,MAT!$D$2:$K$711,7,FALSE),\"\")","v":""},{"$f":"IFERROR(VLOOKUP(D41,MAT!$D$2:$K$711,8,FALSE),\"\")","v":""},"",{"$f":"IFERROR(VLOOKUP(B41,PS!$C$2:$D$10000,2,FALSE),\"\")","v":""},""]
[7,null,"",null,null,null,null,null,null,null,null,null,null,null,null,null,null,null,null,null,null,null,null,null,"AGGR",{"$f":"\"MAT!\"&ADDRESS(VLOOKUP(B42,INDIRECT(\"PS!\"&ADDRESS(VLOOKUP(Y42,PS!$I$2:$M$32,2,FALSE),3)&\":\"&ADDRESS(VLOOKUP(Y42,PS!$I$2:$M$32,2,FALSE)+VLOOKUP(Y42,PS!$I$2:$M$32,3,FALSE)-1,7)),4,FALSE),4)&\":\"&ADDRESS(VLOOKUP(B42,INDIRECT(\"PS!\"&ADDRESS(VLOOKUP(Y42,PS!$I$2:$M$32,2,FALSE),3)&\":\"&ADDRESS(VLOOKUP(Y42,PS!$I$2:$M$32,2,FALSE)+VLOOKUP(Y42,PS!$I$2:$M$32,3,FALSE)-1,7)),4,FALSE)+VLOOKUP(B42,INDIRECT(\"PS!\"&ADDRESS(VLOOKUP(Y42,PS!$I$2:$M$32,2,FALSE),3)&\":\"&ADDRESS(VLOOKUP(Y42,PS!$I$2:$M$32,2,FALSE)+VLOOKUP(Y42,PS!$I$2:$M$32,3,FALSE)-1,7)),5,FALSE)-1,4)","v":{"$error":"#N/A"}},{"$f":"IFERROR(VLOOKUP(D42,MAT!$D$2:$K$711,7,FALSE),\"\")","v":""},{"$f":"IFERROR(VLOOKUP(D42,MAT!$D$2:$K$711,8,FALSE),\"\")","v":""},"",{"$f":"IFERROR(VLOOKUP(B42,PS!$C$2:$D$10000,2,FALSE),\"\")","v":""},""]
[8,null,"",null,null,null,null,null,null,null,null,null,null,null,null,null,null,null,null,null,null,null,null,null,"AGGR",{"$f":"\"MAT!\"&ADDRESS(VLOOKUP(B43,INDIRECT(\"PS!\"&ADDRESS(VLOOKUP(Y43,PS!$I$2:$M$32,2,FALSE),3)&\":\"&ADDRESS(VLOOKUP(Y43,PS!$I$2:$M$32,2,FALSE)+VLOOKUP(Y43,PS!$I$2:$M$32,3,FALSE)-1,7)),4,FALSE),4)&\":\"&ADDRESS(VLOOKUP(B43,INDIRECT(\"PS!\"&ADDRESS(VLOOKUP(Y43,PS!$I$2:$M$32,2,FALSE),3)&\":\"&ADDRESS(VLOOKUP(Y43,PS!$I$2:$M$32,2,FALSE)+VLOOKUP(Y43,PS!$I$2:$M$32,3,FALSE)-1,7)),4,FALSE)+VLOOKUP(B43,INDIRECT(\"PS!\"&ADDRESS(VLOOKUP(Y43,PS!$I$2:$M$32,2,FALSE),3)&\":\"&ADDRESS(VLOOKUP(Y43,PS!$I$2:$M$32,2,FALSE)+VLOOKUP(Y43,PS!$I$2:$M$32,3,FALSE)-1,7)),5,FALSE)-1,4)","v":{"$error":"#N/A"}},{"$f":"IFERROR(VLOOKUP(D43,MAT!$D$2:$K$711,7,FALSE),\"\")","v":""},{"$f":"IFERROR(VLOOKUP(D43,MAT!$D$2:$K$711,8,FALSE),\"\")","v":""},"",{"$f":"IFERROR(VLOOKUP(B43,PS!$C$2:$D$10000,2,FALSE),\"\")","v":""},""]
[9,null,"",null,null,null,null,null,null,null,null,null,null,null,null,null,null,null,null,null,null,null,null,null,"AGGR",{"$f":"\"MAT!\"&ADDRESS(VLOOKUP(B44,INDIRECT(\"PS!\"&ADDRESS(VLOOKUP(Y44,PS!$I$2:$M$32,2,FALSE),3)&\":\"&ADDRESS(VLOOKUP(Y44,PS!$I$2:$M$32,2,FALSE)+VLOOKUP(Y44,PS!$I$2:$M$32,3,FALSE)-1,7)),4,FALSE),4)&\":\"&ADDRESS(VLOOKUP(B44,INDIRECT(\"PS!\"&ADDRESS(VLOOKUP(Y44,PS!$I$2:$M$32,2,FALSE),3)&\":\"&ADDRESS(VLOOKUP(Y44,PS!$I$2:$M$32,2,FALSE)+VLOOKUP(Y44,PS!$I$2:$M$32,3,FALSE)-1,7)),4,FALSE)+VLOOKUP(B44,INDIRECT(\"PS!\"&ADDRESS(VLOOKUP(Y44,PS!$I$2:$M$32,2,FALSE),3)&\":\"&ADDRESS(VLOOKUP(Y44,PS!$I$2:$M$32,2,FALSE)+VLOOKUP(Y44,PS!$I$2:$M$32,3,FALSE)-1,7)),5,FALSE)-1,4)","v":{"$error":"#N/A"}},{"$f":"IFERROR(VLOOKUP(D44,MAT!$D$2:$K$711,7,FALSE),\"\")","v":""},{"$f":"IFERROR(VLOOKUP(D44,MAT!$D$2:$K$711,8,FALSE),\"\")","v":""},"",{"$f":"IFERROR(VLOOKUP(B44,PS!$C$2:$D$10000,2,FALSE),\"\")","v":""},""]
[10,null,"",null,null,null,null,null,null,null,null,null,null,null,null,null,null,null,null,null,null,null,null,null,"AGGR",{"$f":"\"MAT!\"&ADDRESS(VLOOKUP(B45,INDIRECT(\"PS!\"&ADDRESS(VLOOKUP(Y45,PS!$I$2:$M$32,2,FALSE),3)&\":\"&ADDRESS(VLOOKUP(Y45,PS!$I$2:$M$32,2,FALSE)+VLOOKUP(Y45,PS!$I$2:$M$32,3,FALSE)-1,7)),4,FALSE),4)&\":\"&ADDRESS(VLOOKUP(B45,INDIRECT(\"PS!\"&ADDRESS(VLOOKUP(Y45,PS!$I$2:$M$32,2,FALSE),3)&\":\"&ADDRESS(VLOOKUP(Y45,PS!$I$2:$M$32,2,FALSE)+VLOOKUP(Y45,PS!$I$2:$M$32,3,FALSE)-1,7)),4,FALSE)+VLOOKUP(B45,INDIRECT(\"PS!\"&ADDRESS(VLOOKUP(Y45,PS!$I$2:$M$32,2,FALSE),3)&\":\"&ADDRESS(VLOOKUP(Y45,PS!$I$2:$M$32,2,FALSE)+VLOOKUP(Y45,PS!$I$2:$M$32,3,FALSE)-1,7)),5,FALSE)-1,4)","v":{"$error":"#N/A"}},{"$f":"IFERROR(VLOOKUP(D45,MAT!$D$2:$K$711,7,FALSE),\"\")","v":""},{"$f":"IFERROR(VLOOKUP(D45,MAT!$D$2:$K$711,8,FALSE),\"\")","v":""},"",{"$f":"IFERROR(VLOOKUP(B45,PS!$C$2:$D$10000,2,FALSE),\"\")","v":""},""]
[11,null,"",null,null,null,null,null,null,null,null,null,null,null,null,null,null,null,null,null,null,null,null,null,"AGGR",{"$f":"\"MAT!\"&ADDRESS(VLOOKUP(B46,INDIRECT(\"PS!\"&ADDRESS(VLOOKUP(Y46,PS!$I$2:$M$32,2,FALSE),3)&\":\"&ADDRESS(VLOOKUP(Y46,PS!$I$2:$M$32,2,FALSE)+VLOOKUP(Y46,PS!$I$2:$M$32,3,FALSE)-1,7)),4,FALSE),4)&\":\"&ADDRESS(VLOOKUP(B46,INDIRECT(\"PS!\"&ADDRESS(VLOOKUP(Y46,PS!$I$2:$M$32,2,FALSE),3)&\":\"&ADDRESS(VLOOKUP(Y46,PS!$I$2:$M$32,2,FALSE)+VLOOKUP(Y46,PS!$I$2:$M$32,3,FALSE)-1,7)),4,FALSE)+VLOOKUP(B46,INDIRECT(\"PS!\"&ADDRESS(VLOOKUP(Y46,PS!$I$2:$M$32,2,FALSE),3)&\":\"&ADDRESS(VLOOKUP(Y46,PS!$I$2:$M$32,2,FALSE)+VLOOKUP(Y46,PS!$I$2:$M$32,3,FALSE)-1,7)),5,FALSE)-1,4)","v":{"$error":"#N/A"}},{"$f":"IFERROR(VLOOKUP(D46,MAT!$D$2:$K$711,7,FALSE),\"\")","v":""},{"$f":"IFERROR(VLOOKUP(D46,MAT!$D$2:$K$711,8,FALSE),\"\")","v":""},"",{"$f":"IFERROR(VLOOKUP(B46,PS!$C$2:$D$10000,2,FALSE),\"\")","v":""},""]
[12,null,"",null,null,null,null,null,null,null,null,null,null,null,null,null,null,null,null,null,null,null,null,null,"AGGR",{"$f":"\"MAT!\"&ADDRESS(VLOOKUP(B47,INDIRECT(\"PS!\"&ADDRESS(VLOOKUP(Y47,PS!$I$2:$M$32,2,FALSE),3)&\":\"&ADDRESS(VLOOKUP(Y47,PS!$I$2:$M$32,2,FALSE)+VLOOKUP(Y47,PS!$I$2:$M$32,3,FALSE)-1,7)),4,FALSE),4)&\":\"&ADDRESS(VLOOKUP(B47,INDIRECT(\"PS!\"&ADDRESS(VLOOKUP(Y47,PS!$I$2:$M$32,2,FALSE),3)&\":\"&ADDRESS(VLOOKUP(Y47,PS!$I$2:$M$32,2,FALSE)+VLOOKUP(Y47,PS!$I$2:$M$32,3,FALSE)-1,7)),4,FALSE)+VLOOKUP(B47,INDIRECT(\"PS!\"&ADDRESS(VLOOKUP(Y47,PS!$I$2:$M$32,2,FALSE),3)&\":\"&ADDRESS(VLOOKUP(Y47,PS!$I$2:$M$32,2,FALSE)+VLOOKUP(Y47,PS!$I$2:$M$32,3,FALSE)-1,7)),5,FALSE)-1,4)","v":{"$error":"#N/A"}},{"$f":"IFERROR(VLOOKUP(D47,MAT!$D$2:$K$711,7,FALSE),\"\")","v":""},{"$f":"IFERROR(VLOOKUP(D47,MAT!$D$2:$K$711,8,FALSE),\"\")","v":""},"",{"$f":"IFERROR(VLOOKUP(B47,PS!$C$2:$D$10000,2,FALSE),\"\")","v":""},""]
[13,null,"",null,null,null,null,null,null,null,null,null,null,null,null,null,null,null,null,null,null,null,null,null,"AGGR",{"$f":"\"MAT!\"&ADDRESS(VLOOKUP(B48,INDIRECT(\"PS!\"&ADDRESS(VLOOKUP(Y48,PS!$I$2:$M$32,2,FALSE),3)&\":\"&ADDRESS(VLOOKUP(Y48,PS!$I$2:$M$32,2,FALSE)+VLOOKUP(Y48,PS!$I$2:$M$32,3,FALSE)-1,7)),4,FALSE),4)&\":\"&ADDRESS(VLOOKUP(B48,INDIRECT(\"PS!\"&ADDRESS(VLOOKUP(Y48,PS!$I$2:$M$32,2,FALSE),3)&\":\"&ADDRESS(VLOOKUP(Y48,PS!$I$2:$M$32,2,FALSE)+VLOOKUP(Y48,PS!$I$2:$M$32,3,FALSE)-1,7)),4,FALSE)+VLOOKUP(B48,INDIRECT(\"PS!\"&ADDRESS(VLOOKUP(Y48,PS!$I$2:$M$32,2,FALSE),3)&\":\"&ADDRESS(VLOOKUP(Y48,PS!$I$2:$M$32,2,FALSE)+VLOOKUP(Y48,PS!$I$2:$M$32,3,FALSE)-1,7)),5,FALSE)-1,4)","v":{"$error":"#N/A"}},{"$f":"IFERROR(VLOOKUP(D48,MAT!$D$2:$K$711,7,FALSE),\"\")","v":""},{"$f":"IFERROR(VLOOKUP(D48,MAT!$D$2:$K$711,8,FALSE),\"\")","v":""},"",{"$f":"IFERROR(VLOOKUP(B48,PS!$C$2:$D$10000,2,FALSE),\"\")","v":""},""]
[14,null,"",null,null,null,null,null,null,null,null,null,null,null,null,null,null,null,null,null,null,null,null,null,"AGGR",{"$f":"\"MAT!\"&ADDRESS(VLOOKUP(B49,INDIRECT(\"PS!\"&ADDRESS(VLOOKUP(Y49,PS!$I$2:$M$32,2,FALSE),3)&\":\"&ADDRESS(VLOOKUP(Y49,PS!$I$2:$M$32,2,FALSE)+VLOOKUP(Y49,PS!$I$2:$M$32,3,FALSE)-1,7)),4,FALSE),4)&\":\"&ADDRESS(VLOOKUP(B49,INDIRECT(\"PS!\"&ADDRESS(VLOOKUP(Y49,PS!$I$2:$M$32,2,FALSE),3)&\":\"&ADDRESS(VLOOKUP(Y49,PS!$I$2:$M$32,2,FALSE)+VLOOKUP(Y49,PS!$I$2:$M$32,3,FALSE)-1,7)),4,FALSE)+VLOOKUP(B49,INDIRECT(\"PS!\"&ADDRESS(VLOOKUP(Y49,PS!$I$2:$M$32,2,FALSE),3)&\":\"&ADDRESS(VLOOKUP(Y49,PS!$I$2:$M$32,2,FALSE)+VLOOKUP(Y49,PS!$I$2:$M$32,3,FALSE)-1,7)),5,FALSE)-1,4)","v":{"$error":"#N/A"}},{"$f":"IFERROR(VLOOKUP(D49,MAT!$D$2:$K$711,7,FALSE),\"\")","v":""},{"$f":"IFERROR(VLOOKUP(D49,MAT!$D$2:$K$711,8,FALSE),\"\")","v":""},"",{"$f":"IFERROR(VLOOKUP(B49,PS!$C$2:$D$10000,2,FALSE),\"\")","v":""},""]
[15,null,"",null,null,null,null,null,null,null,null,null,null,null,null,null,null,null,null,null,null,null,null,null,"AGGR",{"$f":"\"MAT!\"&ADDRESS(VLOOKUP(B50,INDIRECT(\"PS!\"&ADDRESS(VLOOKUP(Y50,PS!$I$2:$M$32,2,FALSE),3)&\":\"&ADDRESS(VLOOKUP(Y50,PS!$I$2:$M$32,2,FALSE)+VLOOKUP(Y50,PS!$I$2:$M$32,3,FALSE)-1,7)),4,FALSE),4)&\":\"&ADDRESS(VLOOKUP(B50,INDIRECT(\"PS!\"&ADDRESS(VLOOKUP(Y50,PS!$I$2:$M$32,2,FALSE),3)&\":\"&ADDRESS(VLOOKUP(Y50,PS!$I$2:$M$32,2,FALSE)+VLOOKUP(Y50,PS!$I$2:$M$32,3,FALSE)-1,7)),4,FALSE)+VLOOKUP(B50,INDIRECT(\"PS!\"&ADDRESS(VLOOKUP(Y50,PS!$I$2:$M$32,2,FALSE),3)&\":\"&ADDRESS(VLOOKUP(Y50,PS!$I$2:$M$32,2,FALSE)+VLOOKUP(Y50,PS!$I$2:$M$32,3,FALSE)-1,7)),5,FALSE)-1,4)","v":{"$error":"#N/A"}},{"$f":"IFERROR(VLOOKUP(D50,MAT!$D$2:$K$711,7,FALSE),\"\")","v":""},{"$f":"IFERROR(VLOOKUP(D50,MAT!$D$2:$K$711,8,FALSE),\"\")","v":""},"",{"$f":"IFERROR(VLOOKUP(B50,PS!$C$2:$D$10000,2,FALSE),\"\")","v":""},""]
[null,null,null,null,null,"Bulk"," ","FAA","Sand Eq.","Flat & Elong","CAA","Micro Deval","Friction","% Passing","% Passing","% Passing","% Passing","% Passing","% Passing","% Passing","% Passing","% Passing","% Passing","% Passing"]
["Fine Agg","Producer/Supplier",{"$f":"COUNTA(D53:D67)","v":0},"Material","Custom Name/Identifier","Gravity","Absorption","Method A","- 4.75 mm","5:1",null,"% loss","Rating","   1\"","    3/4\"","    1/2\"","    3/8\"","  No 4","  No 8","  No 16","  No 30","  No 50","  No 100","  No 200"]
[1,null,{"$f":"IF(AC53<NOW(),\"*\",\"\")","v":""},null,null,null,null,null,null,null,null,null,null,null,null,null,null,null,null,null,null,null,null,null,"AGGR",{"$f":"\"MAT!\"&ADDRESS(VLOOKUP(B53,INDIRECT(\"PS!\"&ADDRESS(VLOOKUP(Y53,PS!$I$2:$M$32,2,FALSE),3)&\":\"&ADDRESS(VLOOKUP(Y53,PS!$I$2:$M$32,2,FALSE)+VLOOKUP(Y53,PS!$I$2:$M$32,3,FALSE)-1,7)),4,FALSE),4)&\":\"&ADDRESS(VLOOKUP(B53,INDIRECT(\"PS!\"&ADDRESS(VLOOKUP(Y53,PS!$I$2:$M$32,2,FALSE),3)&\":\"&ADDRESS(VLOOKUP(Y53,PS!$I$2:$M$32,2,FALSE)+VLOOKUP(Y53,PS!$I$2:$M$32,3,FALSE)-1,7)),4,FALSE)+VLOOKUP(B53,INDIRECT(\"PS!\"&ADDRESS(VLOOKUP(Y53,PS!$I$2:$M$32,2,FALSE),3)&\":\"&ADDRESS(VLOOKUP(Y53,PS!$I$2:$M$32,2,FALSE)+VLOOKUP(Y53,PS!$I$2:$M$32,3,FALSE)-1,7)),5,FALSE)-1,4)","v":{"$error":"#N/A"}},{"$f":"IFERROR(VLOOKUP(D53,MAT!$D$2:$K$711,7,FALSE),\"\")","v":""},{"$f":"IFERROR(VLOOKUP(D53,MAT!$D$2:$K$711,8,FALSE),\"\")","v":""},{"$f":"IFERROR(DATE(LEFT(AB53,4),MID(AB53,5,2),RIGHT(AB53,2)),\"\")","v":""},{"$f":"IFERROR(VLOOKUP(B53,PS!$C$2:$D$10000,2,FALSE),\"\")","v":""},{"$f":"IF(LEN(D53)>10,LEFT(D53,10)&\"-\"&E53,\"\")","v":""}]
[2,null,"",null,null,null,null,null,null,null,null,null,null,null,null,null,null,null,null,null,null,null,null,null,"AGGR",{"$f":"\"MAT!\"&ADDRESS(VLOOKUP(B54,INDIRECT(\"PS!\"&ADDRESS(VLOOKUP(Y54,PS!$I$2:$M$32,2,FALSE),3)&\":\"&ADDRESS(VLOOKUP(Y54,PS!$I$2:$M$32,2,FALSE)+VLOOKUP(Y54,PS!$I$2:$M$32,3,FALSE)-1,7)),4,FALSE),4)&\":\"&ADDRESS(VLOOKUP(B54,INDIRECT(\"PS!\"&ADDRESS(VLOOKUP(Y54,PS!$I$2:$M$32,2,FALSE),3)&\":\"&ADDRESS(VLOOKUP(Y54,PS!$I$2:$M$32,2,FALSE)+VLOOKUP(Y54,PS!$I$2:$M$32,3,FALSE)-1,7)),4,FALSE)+VLOOKUP(B54,INDIRECT(\"PS!\"&ADDRESS(VLOOKUP(Y54,PS!$I$2:$M$32,2,FALSE),3)&\":\"&ADDRESS(VLOOKUP(Y54,PS!$I$2:$M$32,2,FALSE)+VLOOKUP(Y54,PS!$I$2:$M$32,3,FALSE)-1,7)),5,FALSE)-1,4)","v":{"$error":"#N/A"}},{"$f":"IFERROR(VLOOKUP(D54,MAT!$D$2:$K$711,7,FALSE),\"\")","v":""},{"$f":"IFERROR(VLOOKUP(D54,MAT!$D$2:$K$711,8,FALSE),\"\")","v":""},"",{"$f":"IFERROR(VLOOKUP(B54,PS!$C$2:$D$10000,2,FALSE),\"\")","v":""},""]
[3,null,"",null,null,null,null,null,null,null,null,null,null,null,null,null,null,null,null,null,null,null,null,null,"AGGR",{"$f":"\"MAT!\"&ADDRESS(VLOOKUP(B55,INDIRECT(\"PS!\"&ADDRESS(VLOOKUP(Y55,PS!$I$2:$M$32,2,FALSE),3)&\":\"&ADDRESS(VLOOKUP(Y55,PS!$I$2:$M$32,2,FALSE)+VLOOKUP(Y55,PS!$I$2:$M$32,3,FALSE)-1,7)),4,FALSE),4)&\":\"&ADDRESS(VLOOKUP(B55,INDIRECT(\"PS!\"&ADDRESS(VLOOKUP(Y55,PS!$I$2:$M$32,2,FALSE),3)&\":\"&ADDRESS(VLOOKUP(Y55,PS!$I$2:$M$32,2,FALSE)+VLOOKUP(Y55,PS!$I$2:$M$32,3,FALSE)-1,7)),4,FALSE)+VLOOKUP(B55,INDIRECT(\"PS!\"&ADDRESS(VLOOKUP(Y55,PS!$I$2:$M$32,2,FALSE),3)&\":\"&ADDRESS(VLOOKUP(Y55,PS!$I$2:$M$32,2,FALSE)+VLOOKUP(Y55,PS!$I$2:$M$32,3,FALSE)-1,7)),5,FALSE)-1,4)","v":{"$error":"#N/A"}},{"$f":"IFERROR(VLOOKUP(D55,MAT!$D$2:$K$711,7,FALSE),\"\")","v":""},{"$f":"IFERROR(VLOOKUP(D55,MAT!$D$2:$K$711,8,FALSE),\"\")","v":""},"",{"$f":"IFERROR(VLOOKUP(B55,PS!$C$2:$D$10000,2,FALSE),\"\")","v":""},""]
[4,null,"",null,null,null,null,null,null,null,null,null,null,null,null,null,null,null,null,null,null,null,null,null,"AGGR",{"$f":"\"MAT!\"&ADDRESS(VLOOKUP(B56,INDIRECT(\"PS!\"&ADDRESS(VLOOKUP(Y56,PS!$I$2:$M$32,2,FALSE),3)&\":\"&ADDRESS(VLOOKUP(Y56,PS!$I$2:$M$32,2,FALSE)+VLOOKUP(Y56,PS!$I$2:$M$32,3,FALSE)-1,7)),4,FALSE),4)&\":\"&ADDRESS(VLOOKUP(B56,INDIRECT(\"PS!\"&ADDRESS(VLOOKUP(Y56,PS!$I$2:$M$32,2,FALSE),3)&\":\"&ADDRESS(VLOOKUP(Y56,PS!$I$2:$M$32,2,FALSE)+VLOOKUP(Y56,PS!$I$2:$M$32,3,FALSE)-1,7)),4,FALSE)+VLOOKUP(B56,INDIRECT(\"PS!\"&ADDRESS(VLOOKUP(Y56,PS!$I$2:$M$32,2,FALSE),3)&\":\"&ADDRESS(VLOOKUP(Y56,PS!$I$2:$M$32,2,FALSE)+VLOOKUP(Y56,PS!$I$2:$M$32,3,FALSE)-1,7)),5,FALSE)-1,4)","v":{"$error":"#N/A"}},{"$f":"IFERROR(VLOOKUP(D56,MAT!$D$2:$K$711,7,FALSE),\"\")","v":""},{"$f":"IFERROR(VLOOKUP(D56,MAT!$D$2:$K$711,8,FALSE),\"\")","v":""},"",{"$f":"IFERROR(VLOOKUP(B56,PS!$C$2:$D$10000,2,FALSE),\"\")","v":""},""]
[5,null,"",null,null,null,null,null,null,null,null,null,null,null,null,null,null,null,null,null,null,null,null,null,"AGGR",{"$f":"\"MAT!\"&ADDRESS(VLOOKUP(B57,INDIRECT(\"PS!\"&ADDRESS(VLOOKUP(Y57,PS!$I$2:$M$32,2,FALSE),3)&\":\"&ADDRESS(VLOOKUP(Y57,PS!$I$2:$M$32,2,FALSE)+VLOOKUP(Y57,PS!$I$2:$M$32,3,FALSE)-1,7)),4,FALSE),4)&\":\"&ADDRESS(VLOOKUP(B57,INDIRECT(\"PS!\"&ADDRESS(VLOOKUP(Y57,PS!$I$2:$M$32,2,FALSE),3)&\":\"&ADDRESS(VLOOKUP(Y57,PS!$I$2:$M$32,2,FALSE)+VLOOKUP(Y57,PS!$I$2:$M$32,3,FALSE)-1,7)),4,FALSE)+VLOOKUP(B57,INDIRECT(\"PS!\"&ADDRESS(VLOOKUP(Y57,PS!$I$2:$M$32,2,FALSE),3)&\":\"&ADDRESS(VLOOKUP(Y57,PS!$I$2:$M$32,2,FALSE)+VLOOKUP(Y57,PS!$I$2:$M$32,3,FALSE)-1,7)),5,FALSE)-1,4)","v":{"$error":"#N/A"}},{"$f":"IFERROR(VLOOKUP(D57,MAT!$D$2:$K$711,7,FALSE),\"\")","v":""},{"$f":"IFERROR(VLOOKUP(D57,MAT!$D$2:$K$711,8,FALSE),\"\")","v":""},"",{"$f":"IFERROR(VLOOKUP(B57,PS!$C$2:$D$10000,2,FALSE),\"\")","v":""},""]
[6,null,"",null,null,null,null,null,null,null,null,null,null,null,null,null,null,null,null,null,null,null,null,null,"AGGR",{"$f":"\"MAT!\"&ADDRESS(VLOOKUP(B58,INDIRECT(\"PS!\"&ADDRESS(VLOOKUP(Y58,PS!$I$2:$M$32,2,FALSE),3)&\":\"&ADDRESS(VLOOKUP(Y58,PS!$I$2:$M$32,2,FALSE)+VLOOKUP(Y58,PS!$I$2:$M$32,3,FALSE)-1,7)),4,FALSE),4)&\":\"&ADDRESS(VLOOKUP(B58,INDIRECT(\"PS!\"&ADDRESS(VLOOKUP(Y58,PS!$I$2:$M$32,2,FALSE),3)&\":\"&ADDRESS(VLOOKUP(Y58,PS!$I$2:$M$32,2,FALSE)+VLOOKUP(Y58,PS!$I$2:$M$32,3,FALSE)-1,7)),4,FALSE)+VLOOKUP(B58,INDIRECT(\"PS!\"&ADDRESS(VLOOKUP(Y58,PS!$I$2:$M$32,2,FALSE),3)&\":\"&ADDRESS(VLOOKUP(Y58,PS!$I$2:$M$32,2,FALSE)+VLOOKUP(Y58,PS!$I$2:$M$32,3,FALSE)-1,7)),5,FALSE)-1,4)","v":{"$error":"#N/A"}},{"$f":"IFERROR(VLOOKUP(D58,MAT!$D$2:$K$711,7,FALSE),\"\")","v":""},{"$f":"IFERROR(VLOOKUP(D58,MAT!$D$2:$K$711,8,FALSE),\"\")","v":""},"",{"$f":"IFERROR(VLOOKUP(B58,PS!$C$2:$D$10000,2,FALSE),\"\")","v":""},""]
[7,null,"",null,null,null,null,null,null,null,null,null,null,null,null,null,null,null,null,null,null,null,null,null,"AGGR",{"$f":"\"MAT!\"&ADDRESS(VLOOKUP(B59,INDIRECT(\"PS!\"&ADDRESS(VLOOKUP(Y59,PS!$I$2:$M$32,2,FALSE),3)&\":\"&ADDRESS(VLOOKUP(Y59,PS!$I$2:$M$32,2,FALSE)+VLOOKUP(Y59,PS!$I$2:$M$32,3,FALSE)-1,7)),4,FALSE),4)&\":\"&ADDRESS(VLOOKUP(B59,INDIRECT(\"PS!\"&ADDRESS(VLOOKUP(Y59,PS!$I$2:$M$32,2,FALSE),3)&\":\"&ADDRESS(VLOOKUP(Y59,PS!$I$2:$M$32,2,FALSE)+VLOOKUP(Y59,PS!$I$2:$M$32,3,FALSE)-1,7)),4,FALSE)+VLOOKUP(B59,INDIRECT(\"PS!\"&ADDRESS(VLOOKUP(Y59,PS!$I$2:$M$32,2,FALSE),3)&\":\"&ADDRESS(VLOOKUP(Y59,PS!$I$2:$M$32,2,FALSE)+VLOOKUP(Y59,PS!$I$2:$M$32,3,FALSE)-1,7)),5,FALSE)-1,4)","v":{"$error":"#N/A"}},{"$f":"IFERROR(VLOOKUP(D59,MAT!$D$2:$K$711,7,FALSE),\"\")","v":""},{"$f":"IFERROR(VLOOKUP(D59,MAT!$D$2:$K$711,8,FALSE),\"\")","v":""},"",{"$f":"IFERROR(VLOOKUP(B59,PS!$C$2:$D$10000,2,FALSE),\"\")","v":""},""]
[8,null,"",null,null,null,null,null,null,null,null,null,null,null,null,null,null,null,null,null,null,null,null,null,"AGGR",{"$f":"\"MAT!\"&ADDRESS(VLOOKUP(B60,INDIRECT(\"PS!\"&ADDRESS(VLOOKUP(Y60,PS!$I$2:$M$32,2,FALSE),3)&\":\"&ADDRESS(VLOOKUP(Y60,PS!$I$2:$M$32,2,FALSE)+VLOOKUP(Y60,PS!$I$2:$M$32,3,FALSE)-1,7)),4,FALSE),4)&\":\"&ADDRESS(VLOOKUP(B60,INDIRECT(\"PS!\"&ADDRESS(VLOOKUP(Y60,PS!$I$2:$M$32,2,FALSE),3)&\":\"&ADDRESS(VLOOKUP(Y60,PS!$I$2:$M$32,2,FALSE)+VLOOKUP(Y60,PS!$I$2:$M$32,3,FALSE)-1,7)),4,FALSE)+VLOOKUP(B60,INDIRECT(\"PS!\"&ADDRESS(VLOOKUP(Y60,PS!$I$2:$M$32,2,FALSE),3)&\":\"&ADDRESS(VLOOKUP(Y60,PS!$I$2:$M$32,2,FALSE)+VLOOKUP(Y60,PS!$I$2:$M$32,3,FALSE)-1,7)),5,FALSE)-1,4)","v":{"$error":"#N/A"}},{"$f":"IFERROR(VLOOKUP(D60,MAT!$D$2:$K$711,7,FALSE),\"\")","v":""},{"$f":"IFERROR(VLOOKUP(D60,MAT!$D$2:$K$711,8,FALSE),\"\")","v":""},"",{"$f":"IFERROR(VLOOKUP(B60,PS!$C$2:$D$10000,2,FALSE),\"\")","v":""},""]
[9,null,"",null,null,null,null,null,null,null,null,null,null,null,null,null,null,null,null,null,null,null,null,null,"AGGR",{"$f":"\"MAT!\"&ADDRESS(VLOOKUP(B61,INDIRECT(\"PS!\"&ADDRESS(VLOOKUP(Y61,PS!$I$2:$M$32,2,FALSE),3)&\":\"&ADDRESS(VLOOKUP(Y61,PS!$I$2:$M$32,2,FALSE)+VLOOKUP(Y61,PS!$I$2:$M$32,3,FALSE)-1,7)),4,FALSE),4)&\":\"&ADDRESS(VLOOKUP(B61,INDIRECT(\"PS!\"&ADDRESS(VLOOKUP(Y61,PS!$I$2:$M$32,2,FALSE),3)&\":\"&ADDRESS(VLOOKUP(Y61,PS!$I$2:$M$32,2,FALSE)+VLOOKUP(Y61,PS!$I$2:$M$32,3,FALSE)-1,7)),4,FALSE)+VLOOKUP(B61,INDIRECT(\"PS!\"&ADDRESS(VLOOKUP(Y61,PS!$I$2:$M$32,2,FALSE),3)&\":\"&ADDRESS(VLOOKUP(Y61,PS!$I$2:$M$32,2,FALSE)+VLOOKUP(Y61,PS!$I$2:$M$32,3,FALSE)-1,7)),5,FALSE)-1,4)","v":{"$error":"#N/A"}},{"$f":"IFERROR(VLOOKUP(D61,MAT!$D$2:$K$711,7,FALSE),\"\")","v":""},{"$f":"IFERROR(VLOOKUP(D61,MAT!$D$2:$K$711,8,FALSE),\"\")","v":""},"",{"$f":"IFERROR(VLOOKUP(B61,PS!$C$2:$D$10000,2,FALSE),\"\")","v":""},""]
[10,null,"",null,null,null,null,null,null,null,null,null,null,null,null,null,null,null,null,null,null,null,null,null,"AGGR",{"$f":"\"MAT!\"&ADDRESS(VLOOKUP(B62,INDIRECT(\"PS!\"&ADDRESS(VLOOKUP(Y62,PS!$I$2:$M$32,2,FALSE),3)&\":\"&ADDRESS(VLOOKUP(Y62,PS!$I$2:$M$32,2,FALSE)+VLOOKUP(Y62,PS!$I$2:$M$32,3,FALSE)-1,7)),4,FALSE),4)&\":\"&ADDRESS(VLOOKUP(B62,INDIRECT(\"PS!\"&ADDRESS(VLOOKUP(Y62,PS!$I$2:$M$32,2,FALSE),3)&\":\"&ADDRESS(VLOOKUP(Y62,PS!$I$2:$M$32,2,FALSE)+VLOOKUP(Y62,PS!$I$2:$M$32,3,FALSE)-1,7)),4,FALSE)+VLOOKUP(B62,INDIRECT(\"PS!\"&ADDRESS(VLOOKUP(Y62,PS!$I$2:$M$32,2,FALSE),3)&\":\"&ADDRESS(VLOOKUP(Y62,PS!$I$2:$M$32,2,FALSE)+VLOOKUP(Y62,PS!$I$2:$M$32,3,FALSE)-1,7)),5,FALSE)-1,4)","v":{"$error":"#N/A"}},{"$f":"IFERROR(VLOOKUP(D62,MAT!$D$2:$K$711,7,FALSE),\"\")","v":""},{"$f":"IFERROR(VLOOKUP(D62,MAT!$D$2:$K$711,8,FALSE),\"\")","v":""},"",{"$f":"IFERROR(VLOOKUP(B62,PS!$C$2:$D$10000,2,FALSE),\"\")","v":""},""]
[11,null,"",null,null,null,null,null,null,null,null,null,null,null,null,null,null,null,null,null,null,null,null,null,"AGGR",{"$f":"\"MAT!\"&ADDRESS(VLOOKUP(B63,INDIRECT(\"PS!\"&ADDRESS(VLOOKUP(Y63,PS!$I$2:$M$32,2,FALSE),3)&\":\"&ADDRESS(VLOOKUP(Y63,PS!$I$2:$M$32,2,FALSE)+VLOOKUP(Y63,PS!$I$2:$M$32,3,FALSE)-1,7)),4,FALSE),4)&\":\"&ADDRESS(VLOOKUP(B63,INDIRECT(\"PS!\"&ADDRESS(VLOOKUP(Y63,PS!$I$2:$M$32,2,FALSE),3)&\":\"&ADDRESS(VLOOKUP(Y63,PS!$I$2:$M$32,2,FALSE)+VLOOKUP(Y63,PS!$I$2:$M$32,3,FALSE)-1,7)),4,FALSE)+VLOOKUP(B63,INDIRECT(\"PS!\"&ADDRESS(VLOOKUP(Y63,PS!$I$2:$M$32,2,FALSE),3)&\":\"&ADDRESS(VLOOKUP(Y63,PS!$I$2:$M$32,2,FALSE)+VLOOKUP(Y63,PS!$I$2:$M$32,3,FALSE)-1,7)),5,FALSE)-1,4)","v":{"$error":"#N/A"}},{"$f":"IFERROR(VLOOKUP(D63,MAT!$D$2:$K$711,7,FALSE),\"\")","v":""},{"$f":"IFERROR(VLOOKUP(D63,MAT!$D$2:$K$711,8,FALSE),\"\")","v":""},"",{"$f":"IFERROR(VLOOKUP(B63,PS!$C$2:$D$10000,2,FALSE),\"\")","v":""},""]
[12,null,"",null,null,null,null,null,null,null,null,null,null,null,null,null,null,null,null,null,null,null,null,null,"AGGR",{"$f":"\"MAT!\"&ADDRESS(VLOOKUP(B64,INDIRECT(\"PS!\"&ADDRESS(VLOOKUP(Y64,PS!$I$2:$M$32,2,FALSE),3)&\":\"&ADDRESS(VLOOKUP(Y64,PS!$I$2:$M$32,2,FALSE)+VLOOKUP(Y64,PS!$I$2:$M$32,3,FALSE)-1,7)),4,FALSE),4)&\":\"&ADDRESS(VLOOKUP(B64,INDIRECT(\"PS!\"&ADDRESS(VLOOKUP(Y64,PS!$I$2:$M$32,2,FALSE),3)&\":\"&ADDRESS(VLOOKUP(Y64,PS!$I$2:$M$32,2,FALSE)+VLOOKUP(Y64,PS!$I$2:$M$32,3,FALSE)-1,7)),4,FALSE)+VLOOKUP(B64,INDIRECT(\"PS!\"&ADDRESS(VLOOKUP(Y64,PS!$I$2:$M$32,2,FALSE),3)&\":\"&ADDRESS(VLOOKUP(Y64,PS!$I$2:$M$32,2,FALSE)+VLOOKUP(Y64,PS!$I$2:$M$32,3,FALSE)-1,7)),5,FALSE)-1,4)","v":{"$error":"#N/A"}},{"$f":"IFERROR(VLOOKUP(D64,MAT!$D$2:$K$711,7,FALSE),\"\")","v":""},{"$f":"IFERROR(VLOOKUP(D64,MAT!$D$2:$K$711,8,FALSE),\"\")","v":""},"",{"$f":"IFERROR(VLOOKUP(B64,PS!$C$2:$D$10000,2,FALSE),\"\")","v":""},""]
[13,null,"",null,null,null,null,null,null,null,null,null,null,null,null,null,null,null,null,null,null,null,null,null,"AGGR",{"$f":"\"MAT!\"&ADDRESS(VLOOKUP(B65,INDIRECT(\"PS!\"&ADDRESS(VLOOKUP(Y65,PS!$I$2:$M$32,2,FALSE),3)&\":\"&ADDRESS(VLOOKUP(Y65,PS!$I$2:$M$32,2,FALSE)+VLOOKUP(Y65,PS!$I$2:$M$32,3,FALSE)-1,7)),4,FALSE),4)&\":\"&ADDRESS(VLOOKUP(B65,INDIRECT(\"PS!\"&ADDRESS(VLOOKUP(Y65,PS!$I$2:$M$32,2,FALSE),3)&\":\"&ADDRESS(VLOOKUP(Y65,PS!$I$2:$M$32,2,FALSE)+VLOOKUP(Y65,PS!$I$2:$M$32,3,FALSE)-1,7)),4,FALSE)+VLOOKUP(B65,INDIRECT(\"PS!\"&ADDRESS(VLOOKUP(Y65,PS!$I$2:$M$32,2,FALSE),3)&\":\"&ADDRESS(VLOOKUP(Y65,PS!$I$2:$M$32,2,FALSE)+VLOOKUP(Y65,PS!$I$2:$M$32,3,FALSE)-1,7)),5,FALSE)-1,4)","v":{"$error":"#N/A"}},{"$f":"IFERROR(VLOOKUP(D65,MAT!$D$2:$K$711,7,FALSE),\"\")","v":""},{"$f":"IFERROR(VLOOKUP(D65,MAT!$D$2:$K$711,8,FALSE),\"\")","v":""},"",{"$f":"IFERROR(VLOOKUP(B65,PS!$C$2:$D$10000,2,FALSE),\"\")","v":""},""]
[14,null,"",null,null,null,null,null,null,null,null,null,null,null,null,null,null,null,null,null,null,null,null,null,"AGGR",{"$f":"\"MAT!\"&ADDRESS(VLOOKUP(B66,INDIRECT(\"PS!\"&ADDRESS(VLOOKUP(Y66,PS!$I$2:$M$32,2,FALSE),3)&\":\"&ADDRESS(VLOOKUP(Y66,PS!$I$2:$M$32,2,FALSE)+VLOOKUP(Y66,PS!$I$2:$M$32,3,FALSE)-1,7)),4,FALSE),4)&\":\"&ADDRESS(VLOOKUP(B66,INDIRECT(\"PS!\"&ADDRESS(VLOOKUP(Y66,PS!$I$2:$M$32,2,FALSE),3)&\":\"&ADDRESS(VLOOKUP(Y66,PS!$I$2:$M$32,2,FALSE)+VLOOKUP(Y66,PS!$I$2:$M$32,3,FALSE)-1,7)),4,FALSE)+VLOOKUP(B66,INDIRECT(\"PS!\"&ADDRESS(VLOOKUP(Y66,PS!$I$2:$M$32,2,FALSE),3)&\":\"&ADDRESS(VLOOKUP(Y66,PS!$I$2:$M$32,2,FALSE)+VLOOKUP(Y66,PS!$I$2:$M$32,3,FALSE)-1,7)),5,FALSE)-1,4)","v":{"$error":"#N/A"}},{"$f":"IFERROR(VLOOKUP(D66,MAT!$D$2:$K$711,7,FALSE),\"\")","v":""},{"$f":"IFERROR(VLOOKUP(D66,MAT!$D$2:$K$711,8,FALSE),\"\")","v":""},"",{"$f":"IFERROR(VLOOKUP(B66,PS!$C$2:$D$10000,2,FALSE),\"\")","v":""},""]
[15,null,"",null,null,null,null,null,null,null,null,null,null,null,null,null,null,null,null,null,null,null,null,null,"AGGR",{"$f":"\"MAT!\"&ADDRESS(VLOOKUP(B67,INDIRECT(\"PS!\"&ADDRESS(VLOOKUP(Y67,PS!$I$2:$M$32,2,FALSE),3)&\":\"&ADDRESS(VLOOKUP(Y67,PS!$I$2:$M$32,2,FALSE)+VLOOKUP(Y67,PS!$I$2:$M$32,3,FALSE)-1,7)),4,FALSE),4)&\":\"&ADDRESS(VLOOKUP(B67,INDIRECT(\"PS!\"&ADDRESS(VLOOKUP(Y67,PS!$I$2:$M$32,2,FALSE),3)&\":\"&ADDRESS(VLOOKUP(Y67,PS!$I$2:$M$32,2,FALSE)+VLOOKUP(Y67,PS!$I$2:$M$32,3,FALSE)-1,7)),4,FALSE)+VLOOKUP(B67,INDIRECT(\"PS!\"&ADDRESS(VLOOKUP(Y67,PS!$I$2:$M$32,2,FALSE),3)&\":\"&ADDRESS(VLOOKUP(Y67,PS!$I$2:$M$32,2,FALSE)+VLOOKUP(Y67,PS!$I$2:$M$32,3,FALSE)-1,7)),5,FALSE)-1,4)","v":{"$error":"#N/A"}},{"$f":"IFERROR(VLOOKUP(D67,MAT!$D$2:$K$711,7,FALSE),\"\")","v":""},{"$f":"IFERROR(VLOOKUP(D67,MAT!$D$2:$K$711,8,FALSE),\"\")","v":""},"",{"$f":"IFERROR(VLOOKUP(B67,PS!$C$2:$D$10000,2,FALSE),\"\")","v":""},""]
[null,null,null,null,null,"Bulk"," ","FAA","Sand Eq.","Flat & Elong","CAA","Micro Deval","Friction","% Passing","% Passing","% Passing","% Passing","% Passing","% Passing","% Passing","% Passing","% Passing","% Passing","% Passing"]
["RAP","Producer/Supplier",{"$f":"COUNTA(D70:D73)","v":0},"Material","Custom Name/Identifier","Gravity","Absorption","Method A","- 4.75 mm","5:1",null,"% loss","Rating","   1\"","    3/4\"","    1/2\"","    3/8\"","  No 4","  No 8","  No 16","  No 30","  No 50","  No 100","  No 200"]
[1,null,{"$f":"IF(AC70<NOW(),\"*\",\"\")","v":""},null,null,null,null,null,null,null,null,null,null,null,null,null,null,null,null,null,null,null,null,null,"AGGR",{"$f":"\"MAT!\"&ADDRESS(VLOOKUP(B70,INDIRECT(\"PS!\"&ADDRESS(VLOOKUP(Y70,PS!$I$2:$M$32,2,FALSE),3)&\":\"&ADDRESS(VLOOKUP(Y70,PS!$I$2:$M$32,2,FALSE)+VLOOKUP(Y70,PS!$I$2:$M$32,3,FALSE)-1,7)),4,FALSE),4)&\":\"&ADDRESS(VLOOKUP(B70,INDIRECT(\"PS!\"&ADDRESS(VLOOKUP(Y70,PS!$I$2:$M$32,2,FALSE),3)&\":\"&ADDRESS(VLOOKUP(Y70,PS!$I$2:$M$32,2,FALSE)+VLOOKUP(Y70,PS!$I$2:$M$32,3,FALSE)-1,7)),4,FALSE)+VLOOKUP(B70,INDIRECT(\"PS!\"&ADDRESS(VLOOKUP(Y70,PS!$I$2:$M$32,2,FALSE),3)&\":\"&ADDRESS(VLOOKUP(Y70,PS!$I$2:$M$32,2,FALSE)+VLOOKUP(Y70,PS!$I$2:$M$32,3,FALSE)-1,7)),5,FALSE)-1,4)","v":{"$error":"#N/A"}},{"$f":"IFERROR(VLOOKUP(D70,MAT!$D$2:$K$711,7,FALSE),\"\")","v":""},{"$f":"IFERROR(VLOOKUP(D70,MAT!$D$2:$K$711,8,FALSE),\"\")","v":""},{"$f":"IFERROR(DATE(LEFT(AB70,4),MID(AB70,5,2),RIGHT(AB70,2)),\"\")","v":""},{"$f":"IFERROR(VLOOKUP(B70,PS!$C$2:$D$10000,2,FALSE),\"\")","v":""},{"$f":"IF(LEN(D70)>10,LEFT(D70,10)&\"-\"&E70,\"\")","v":""}]
[2,null,"",null,null,null,null,null,null,null,null,null,null,null,null,null,null,null,null,null,null,null,null,null,"AGGR",{"$f":"\"MAT!\"&ADDRESS(VLOOKUP(B71,INDIRECT(\"PS!\"&ADDRESS(VLOOKUP(Y71,PS!$I$2:$M$32,2,FALSE),3)&\":\"&ADDRESS(VLOOKUP(Y71,PS!$I$2:$M$32,2,FALSE)+VLOOKUP(Y71,PS!$I$2:$M$32,3,FALSE)-1,7)),4,FALSE),4)&\":\"&ADDRESS(VLOOKUP(B71,INDIRECT(\"PS!\"&ADDRESS(VLOOKUP(Y71,PS!$I$2:$M$32,2,FALSE),3)&\":\"&ADDRESS(VLOOKUP(Y71,PS!$I$2:$M$32,2,FALSE)+VLOOKUP(Y71,PS!$I$2:$M$32,3,FALSE)-1,7)),4,FALSE)+VLOOKUP(B71,INDIRECT(\"PS!\"&ADDRESS(VLOOKUP(Y71,PS!$I$2:$M$32,2,FALSE),3)&\":\"&ADDRESS(VLOOKUP(Y71,PS!$I$2:$M$32,2,FALSE)+VLOOKUP(Y71,PS!$I$2:$M$32,3,FALSE)-1,7)),5,FALSE)-1,4)","v":{"$error":"#N/A"}},{"$f":"IFERROR(VLOOKUP(D71,MAT!$D$2:$K$711,7,FALSE),\"\")","v":""},{"$f":"IFERROR(VLOOKUP(D71,MAT!$D$2:$K$711,8,FALSE),\"\")","v":""},"",{"$f":"IFERROR(VLOOKUP(B71,PS!$C$2:$D$10000,2,FALSE),\"\")","v":""},""]
[3,null,"",null,null,null,null,null,null,null,null,null,null,null,null,null,null,null,null,null,null,null,null,null,"AGGR",{"$f":"\"MAT!\"&ADDRESS(VLOOKUP(B72,INDIRECT(\"PS!\"&ADDRESS(VLOOKUP(Y72,PS!$I$2:$M$32,2,FALSE),3)&\":\"&ADDRESS(VLOOKUP(Y72,PS!$I$2:$M$32,2,FALSE)+VLOOKUP(Y72,PS!$I$2:$M$32,3,FALSE)-1,7)),4,FALSE),4)&\":\"&ADDRESS(VLOOKUP(B72,INDIRECT(\"PS!\"&ADDRESS(VLOOKUP(Y72,PS!$I$2:$M$32,2,FALSE),3)&\":\"&ADDRESS(VLOOKUP(Y72,PS!$I$2:$M$32,2,FALSE)+VLOOKUP(Y72,PS!$I$2:$M$32,3,FALSE)-1,7)),4,FALSE)+VLOOKUP(B72,INDIRECT(\"PS!\"&ADDRESS(VLOOKUP(Y72,PS!$I$2:$M$32,2,FALSE),3)&\":\"&ADDRESS(VLOOKUP(Y72,PS!$I$2:$M$32,2,FALSE)+VLOOKUP(Y72,PS!$I$2:$M$32,3,FALSE)-1,7)),5,FALSE)-1,4)","v":{"$error":"#N/A"}},{"$f":"IFERROR(VLOOKUP(D72,MAT!$D$2:$K$711,7,FALSE),\"\")","v":""},{"$f":"IFERROR(VLOOKUP(D72,MAT!$D$2:$K$711,8,FALSE),\"\")","v":""},"",{"$f":"IFERROR(VLOOKUP(B72,PS!$C$2:$D$10000,2,FALSE),\"\")","v":""},""]
[4,null,"",null,null,null,null,null,null,null,null,null,null,null,null,null,null,null,null,null,null,null,null,null,"AGGR",{"$f":"\"MAT!\"&ADDRESS(VLOOKUP(B73,INDIRECT(\"PS!\"&ADDRESS(VLOOKUP(Y73,PS!$I$2:$M$32,2,FALSE),3)&\":\"&ADDRESS(VLOOKUP(Y73,PS!$I$2:$M$32,2,FALSE)+VLOOKUP(Y73,PS!$I$2:$M$32,3,FALSE)-1,7)),4,FALSE),4)&\":\"&ADDRESS(VLOOKUP(B73,INDIRECT(\"PS!\"&ADDRESS(VLOOKUP(Y73,PS!$I$2:$M$32,2,FALSE),3)&\":\"&ADDRESS(VLOOKUP(Y73,PS!$I$2:$M$32,2,FALSE)+VLOOKUP(Y73,PS!$I$2:$M$32,3,FALSE)-1,7)),4,FALSE)+VLOOKUP(B73,INDIRECT(\"PS!\"&ADDRESS(VLOOKUP(Y73,PS!$I$2:$M$32,2,FALSE),3)&\":\"&ADDRESS(VLOOKUP(Y73,PS!$I$2:$M$32,2,FALSE)+VLOOKUP(Y73,PS!$I$2:$M$32,3,FALSE)-1,7)),5,FALSE)-1,4)","v":{"$error":"#N/A"}},{"$f":"IFERROR(VLOOKUP(D73,MAT!$D$2:$K$711,7,FALSE),\"\")","v":""},{"$f":"IFERROR(VLOOKUP(D73,MAT!$D$2:$K$711,8,FALSE),\"\")","v":""},"",{"$f":"IFERROR(VLOOKUP(B73,PS!$C$2:$D$10000,2,FALSE),\"\")","v":""},""]

{"sheet":"Optimum AC Test Results","index":3,"n_rows":87,"n_cols":31,"rows_kept":87,"cut":false,"hidden":false,"merged":[[52,10,52,13],[53,10,53,12],[58,10,58,11],[35,4,35,5],[54,10,54,11],[55,10,55,11],[56,10,56,11],[57,10,57,11],[44,10,44,16],[2,3,2,5],[9,13,9,14],[31,0,32,16],[35,10,35,16],[40,1,40,3],[40,5,40,7],[33,4,33,6],[34,4,34,6],[38,5,39,8],[64,15,64,16],[73,30,73,31],[0,0,1,16],[4,0,5,16],[14,1,14,3],[14,5,14,7],[14,9,14,11],[14,13,14,15],[8,8,8,9],[9,8,9,9],[10,8,10,9],[11,8,11,9],[12,8,12,9],[6,8,6,11],[7,8,7,10],[3,3,3,4],[86,6,86,7],[78,0,78,3],[82,0,82,2],[81,0,81,2],[79,0,79,2],[80,0,80,2],[83,0,83,2]]}
["LADOTD Superpave Mix Design"]
[]
["Mix Type:"]
["Contractor Mix # :"]
["Optimum AC Points and Curves"]
[]
[null,null,null,null,null,null,null,null,"Design Rice "]
["Design Point #",null,1,2,3,4,null,null,"Asphalt Content for Rice"]
["% AC (Total)",null,null,null,null,null,null,null,"Rice Gravities",null,"A","B"]
["Gsb (Total Aggregate)",null,{"$f":"'JMF CHECK'!$H$21","v":0},null,null,null,null,null," Mix",null,null,null,null,"Design Voids",null,3.5]
["Gse (Total Aggregate)",null,{"$f":"IF(M13>0,(100-L8)/(100/M13-L8/C12),0)","v":0},null,null,null,null,null,"Pyc&Water"]
["Specific Gravity AC",null,1.03,null,null,null,null,null,"Pyc,Water&Mix",null,null,null,"Avg Gmm"]
["Calculated Rice Gravity",null,{"$f":"IF(AND(C9>0,C11>0),ROUND(100/(((100-C9)/$C$11)+(C9/$C$12)),setup!M8),\" \")","v":" "},{"$f":"IF(AND(C11>0,D9>0),ROUND(100/(((100-D9)/$C$11)+(D9/$C$12)),setup!M8),\" \")","v":" "},{"$f":"IF(AND(C11>0,E9>0),ROUND(100/(((100-E9)/$C$11)+(E9/$C$12)),setup!M8),\" \")","v":" "},{"$f":"IF(AND(C11>0,F9>0),ROUND(100/(((100-F9)/$C$11)+(F9/$C$12)),setup!M8),\" \")","v":" "},null,null,"Gmm",null,{"$f":"IF(K12>0,ROUND(K10/(K10+K11-K12),setup!M39),0)","v":0},{"$f":"IF(L12>0,ROUND(L10/(L10+L11-L12),setup!M39),0)","v":0},{"$f":"AVERAGE(K13:L13)","v":0}]
[]
[null,"Design Point # 1 - % AC =",null,null,{"$f":"IF(C9>0,C9,\"\")","v":""},"Design Point # 2 - % AC =",null,null,{"$f":"IF(D9>0,D9,\"\")","v":""},"Design Point # 3 - % AC =",null,null,{"$f":"IF(E9>0,E9,\"\")","v":""},"Design Point # 4 - % AC =",null,null,{"$f":"IF(F9>0,F9,\"\")","v":""}]
["Sample #",1,2,3,"AVG",1,2,3,"AVG",1,2,3,"AVG",1,2,3,"AVG"]
["Height @ N-int (mm)"]
["Height @ N-des (mm)"]
["Wt. in Air",null,null,null,null,null,null,null,null,null,null,null,null,null,null,null,null,"Design AV","x (ac)","y (av)"]
["Wt. Water",null,null,null,null,null,null,null,null,null,null,null,null,null,null,null,null,{"$f":"P10","v":3.5},{"$f":"C9","v":0},{"$f":"IF(AND(C9>0,E30<>\"\"),E30,0)","v":0}]
["Wt. SSD",null,null,null,null,null,null,null,null,null,null,null,null,null,null,null,null,null,{"$f":"D9","v":0},{"$f":"IF(AND(D9>0,I30<>\"\"),I30,0)","v":0}]
["Sp. Gravity",{"$f":"IF(C9>0,IF(B20>0,ROUND(B19/(B21-B20),setup!$M$8),\"\"),\"\")","v":""},{"$f":"IF(C9>0,IF(C20>0,ROUND(C19/(C21-C20),setup!$M$8),\"\"),\"\")","v":""},{"$f":"IF(C9>0,IF(D20>0,ROUND(D19/(D21-D20),setup!$M$8),\"\"),\"\")","v":""},{"$f":"IF(C9>0,IF(B20>0,ROUND(AVERAGE(B22:D22),setup!$M$8),\"\"),\"\")","v":""},{"$f":"IF(D9>0,IF(F20>0,ROUND(F19/(F21-F20),setup!$M$8),\"\"),\"\")","v":""},{"$f":"IF(D9>0,IF(G20>0,ROUND(G19/(G21-G20),setup!$M$8),\"\"),\"\")","v":""},{"$f":"IF(D9>0,IF(H20>0,ROUND(H19/(H21-H20),setup!$M$8),\"\"),\"\")","v":""},{"$f":"IF(D9>0,IF(F20>0,ROUND(AVERAGE(F22:H22),setup!$M$8),\"\"),\"\")","v":""},{"$f":"IF(E9>0,IF(J20>0,ROUND(J19/(J21-J20),setup!$M$8),\"\"),\"\")","v":""},{"$f":"IF(E9>0,IF(K20>0,ROUND(K19/(K21-K20),setup!$M$8),\"\"),\"\")","v":""},{"$f":"IF(E9>0,IF(L20>0,ROUND(L19/(L21-L20),setup!$M$8),\"\"),\"\")","v":""},{"$f":"IF(E9>0,IF(J20>0,ROUND(AVERAGE(J22:L22),setup!$M$8),\"\"),\"\")","v":""},{"$f":"IF(F9,IF(N20>0,ROUND(N19/(N21-N20),setup!$M$8),\"\"),\"\")","v":""},{"$f":"IF(F9,IF(O20>0,ROUND(O19/(O21-O20),setup!$M$8),\"\"),\"\")","v":""},{"$f":"IF(F9,IF(P20>0,ROUND(P19/(P21-P20),setup!$M$8),\"\"),\"\")","v":""},{"$f":"IF(F9>0,IF(N20>0,ROUND(AVERAGE(N22:P22),setup!$M$8),\"\"),\"\")","v":""},null,{"$f":"E9","v":0},{"$f":"IF(AND(E9>0,M30<>\"\"),M30,0)","v":0}]
["Gmb (Est. @ N-int)",{"$f":"IF(C9>0,IF(B19>0,ROUND(B19/(3.14159*(15*(15/4)*(B17/10))),setup!$M$9),\"\"),\"\")","v":""},{"$f":"IF(C9>0,IF(C19>0,ROUND(C19/(3.14159*(15*(15/4)*(C17/10))),setup!$M$9),\"\"),\"\")","v":""},{"$f":"IF(C9>0,IF(D19>0,ROUND(D19/(3.14159*(15*(15/4)*(D17/10))),setup!$M$9),\"\"),\"\")","v":""},null,{"$f":"IF(D9>0,IF(F19>0,ROUND(F19/(3.14159*(15*(15/4)*(F17/10))),setup!$M$9),\"\"),\"\")","v":""},{"$f":"IF(D9>0,IF(G19>0,ROUND(G19/(3.14159*(15*(15/4)*(G17/10))),setup!$M$9),\"\"),\"\")","v":""},{"$f":"IF(D9>0,IF(H19>0,ROUND(H19/(3.14159*(15*(15/4)*(H17/10))),setup!$M$9),\"\"),\"\")","v":""},null,{"$f":"IF(E9>0,IF(J19>0,ROUND(J19/(3.14159*(15*(15/4)*(J17/10))),setup!$M$9),\"\"),\"\")","v":""},{"$f":"IF(E9>0,IF(K19>0,ROUND(K19/(3.14159*(15*(15/4)*(K17/10))),setup!$M$9),\"\"),\"\")","v":""},{"$f":"IF(E9>0,IF(L19>0,ROUND(L19/(3.14159*(15*(15/4)*(L17/10))),setup!$M$9),\"\"),\"\")","v":""},null,{"$f":"IF(F9>0,IF(N19>0,ROUND(N19/(3.14159*(15*(15/4)*(N17/10))),setup!$M$9),\"\"),\"\")","v":""},{"$f":"IF(F9>0,IF(O19>0,ROUND(O19/(3.14159*(15*(15/4)*(O17/10))),setup!$M$9),\"\"),\"\")","v":""},{"$f":"IF(F9>0,IF(P19>0,ROUND(P19/(3.14159*(15*(15/4)*(P17/10))),setup!$M$9),\"\"),\"\")","v":""},null,null,{"$f":"F9","v":0},{"$f":"IF(AND(F9>0,Q30<>\"\"),Q30,0)","v":0}]
["Gmb (Corr. @ N-Int)",{"$f":"IF(C9>0,IF(AND(B19>0,B18>0),ROUND(B23*(B22/(B19/(3.14159*(15*(15/4)*(B18/10))))),setup!$M$9),\"\"),\"\")","v":""},{"$f":"IF(C9>0,IF(AND(C18>0,C19>0),ROUND(C23*(C22/(C19/(3.14159*(15*(15/4)*(C18/10))))),setup!$M$9),\"\"),\"\")","v":""},{"$f":"IF(C9>0,IF(AND(D18>0,D19>0),ROUND(D23*(D22/(D19/(3.14159*(15*(15/4)*(D18/10))))),setup!$M$9),\"\"),\"\")","v":""},null,{"$f":"IF(D9>0,IF(AND(F18>0,F19>0),ROUND(F23*(F22/(F19/(3.14159*(15*(15/4)*(F18/10))))),setup!$M$9),\"\"),\"\")","v":""},{"$f":"IF(D9>0,IF(AND(G18>0,G19>0),ROUND(G23*(G22/(G19/(3.14159*(15*(15/4)*(G18/10))))),setup!$M$9),\"\"),\"\")","v":""},{"$f":"IF(D9>0,IF(AND(H18>0,H19>0),ROUND(H23*(H22/(H19/(3.14159*(15*(15/4)*(H18/10))))),setup!$M$9),\"\"),\"\")","v":""},null,{"$f":"IF(E9>0,IF(AND(J18>0,J19>0),ROUND(J23*(J22/(J19/(3.14159*(15*(15/4)*(J18/10))))),setup!$M$9),\"\"),\"\")","v":""},{"$f":"IF(E9>0,IF(AND(K18>0,K19>0),ROUND(K23*(K22/(K19/(3.14159*(15*(15/4)*(K18/10))))),setup!$M$9),\"\"),\"\")","v":""},{"$f":"IF(E9>0,IF(AND(L18>0,L19>0),ROUND(L23*(L22/(L19/(3.14159*(15*(15/4)*(L18/10))))),setup!$M$9),\"\"),\"\")","v":""},null,{"$f":"IF(F9>0,IF(AND(N18>0,N19>0),ROUND(N23*(N22/(N19/(3.14159*(15*(15/4)*(N18/10))))),setup!$M$9),\"\"),\"\")","v":""},{"$f":"IF(F9>0,IF(AND(O18>0,O19>0),ROUND(O23*(O22/(O19/(3.14159*(15*(15/4)*(O18/10))))),setup!$M$9),\"\"),\"\")","v":""},{"$f":"IF(F9>0,IF(AND(P18>0,P19>0),ROUND(P23*(P22/(P19/(3.14159*(15*(15/4)*(P18/10))))),setup!$M$9),\"\"),\"\")","v":""},null,0,{"$f":"R20+1","v":4.5}]
["%Gmm @ N-int",{"$f":"IF(AND(C9>0,C11>0),IF(AND(B24<>\"\",B19>0),ROUND(B24/$C$13*100,setup!$M$10),\"\"),\"\")","v":""},{"$f":"IF(AND(C9>0,C11>0),IF(C19>0,ROUND(C24/$C$13*100,setup!$M$10),\"\"),\"\")","v":""},{"$f":"IF(AND(C9>0,C11>0),IF(D19>0,ROUND(D24/$C$13*100,setup!$M$10),\"\"),\"\")","v":""},{"$f":"IF(AND(C9>0,C11>0),IF(AND(B25<>\"\",B17>0),ROUND(AVERAGE(B25:D25),setup!$M$10),\"\"),\"\")","v":""},{"$f":"IF(AND(D9>0,C11>0),IF(F19>0,ROUND(F24/$D$13*100,setup!$M$10),\"\"),\"\")","v":""},{"$f":"IF(AND(D9>0,C11>0),IF(G19>0,ROUND(G24/$D$13*100,setup!$M$10),\"\"),\"\")","v":""},{"$f":"IF(AND(D9>0,C11>0),IF(H19>0,ROUND(H24/$D$13*100,setup!$M$10),\"\"),\"\")","v":""},{"$f":"IF(AND(D9>0,C11>0),IF(AND(F25<>\"\",F17>0),ROUND(AVERAGE(F25:H25),setup!$M$10),\"\"),\"\")","v":""},{"$f":"IF(AND(E9>0, C11>0),IF(J19>0,ROUND(J24/$E$13*100,setup!$M$10),\"\"),\"\")","v":""},{"$f":"IF(AND(E9>0, C11>0),IF(K19>0,ROUND(K24/$E$13*100,setup!$M$10),\"\"),\"\")","v":""},{"$f":"IF(AND(E9>0, C11>0),IF(L19>0,ROUND(L24/$E$13*100,setup!$M$10),\"\"),\"\")","v":""},{"$f":"IF(AND(E9>0, C11>0),IF(AND(J25<>\"\",J17>0),ROUND(AVERAGE(J25:L25),setup!$M$10),\"\"),\"\")","v":""},{"$f":"IF(AND(F9>0,C11>0),IF(N19>0,ROUND(N24/$F$13*100,setup!$M$10),\"\"),\"\")","v":""},{"$f":"IF(AND(F9>0,C11>0),IF(O19>0,ROUND(O24/$F$13*100,setup!$M$10),\"\"),\"\")","v":""},{"$f":"IF(AND(F9>0,C11>0),IF(P19>0,ROUND(P24/$F$13*100,setup!$M$10),\"\"),\"\")","v":""},{"$f":"IF(AND(F9>0,C11>0),IF(AND(N25<>\"\",N17>0),ROUND(AVERAGE(N25:P25),setup!$M$10),\"\"),\"\")","v":""},"x^2","x","b"]
["Gmb (Est. @ N-des)",{"$f":"IF(C9>0,IF(B19>0,ROUND(B19/(3.14159*(15*(15/4)*(B18/10))),setup!$M$9),\"\"),\"\")","v":""},{"$f":"IF(C9>0,IF(C19>0,ROUND(C19/(3.14159*(15*(15/4)*(C18/10))),setup!$M$9),\"\"),\"\")","v":""},{"$f":"IF(C9>0,IF(D19>0,ROUND(D19/(3.14159*(15*(15/4)*(D18/10))),setup!$M$9),\"\"),\"\")","v":""},null,{"$f":"IF(D9>0,IF(F19>0,ROUND(F19/(3.14159*(15*(15/4)*(F18/10))),setup!$M$9),\"\"),\"\")","v":""},{"$f":"IF(D9>0,IF(G19>0,ROUND(G19/(3.14159*(15*(15/4)*(G18/10))),setup!$M$9),\"\"),\"\")","v":""},{"$f":"IF(D9>0,IF(H19>0,ROUND(H19/(3.14159*(15*(15/4)*(H18/10))),setup!$M$9),\"\"),\"\")","v":""},null,{"$f":"IF(E9>0,IF(J19>0,ROUND(J19/(3.14159*(15*(15/4)*(J18/10))),setup!$M$9),\"\"),\"\")","v":""},{"$f":"IF(E9>0,IF(K19>0,ROUND(K19/(3.14159*(15*(15/4)*(K18/10))),setup!$M$9),\"\"),\"\")","v":""},{"$f":"IF(E9>0,IF(L19>0,ROUND(L19/(3.14159*(15*(15/4)*(L18/10))),setup!$M$9),\"\"),\"\")","v":""},null,{"$f":"IF(F9>0,IF(N19>0,ROUND(N19/(3.14159*(15*(15/4)*(N18/10))),setup!$M$9),\"\"),\"\")","v":""},{"$f":"IF(F9>0,IF(O19>0,ROUND(O19/(3.14159*(15*(15/4)*(O18/10))),setup!$M$9),\"\"),\"\")","v":""},{"$f":"IF(F9>0,IF(P19>0,ROUND(P19/(3.14159*(15*(15/4)*(P18/10))),setup!$M$9),\"\"),\"\")","v":""},null,{"$f":"IF(AND(S20>0,T20>0),IF(AND(S21>0,T21>0), IF(AND(S22>0,T22>0), IF(AND(S23>0,T23>0), LINEST(T20:T23,S20:S23^{1,2},TRUE,FALSE),LINEST(T20:T22,S20:S22^{1,2},TRUE,FALSE)),0),0),0)","v":0},0,0]
["Gmb (Corr. @ N-des)",{"$f":"IF(C9>0,IF(B19>0,ROUND(B26*(B22/(B19/(3.14159*(15*(15/4)*(B18/10))))),setup!$M$9),\"\"),\"\")","v":""},{"$f":"IF(C9>0,IF(C19>0,ROUND(C26*(C22/(C19/(3.14159*(15*(15/4)*(C18/10))))),setup!$M$9),\"\"),\"\")","v":""},{"$f":"IF(C9>0,IF(D19>0,ROUND(D26*(D22/(D19/(3.14159*(15*(15/4)*(D18/10))))),setup!$M$9),\"\"),\"\")","v":""},null,{"$f":"IF(D9>0,IF(F19>0,ROUND(F26*(F22/(F19/(3.14159*(15*(15/4)*(F18/10))))),setup!$M$9),\"\"),\"\")","v":""},{"$f":"IF(D9>0,IF(G19>0,ROUND(G26*(G22/(G19/(3.14159*(15*(15/4)*(G18/10))))),setup!$M$9),\"\"),\"\")","v":""},{"$f":"IF(D9>0,IF(H19>0,ROUND(H26*(H22/(H19/(3.14159*(15*(15/4)*(H18/10))))),setup!$M$9),\"\"),\"\")","v":""},null,{"$f":"IF(E9>0,IF(J19>0,ROUND(J26*(J22/(J19/(3.14159*(15*(15/4)*(J18/10))))),setup!$M$9),\"\"),\"\")","v":""},{"$f":"IF(E9>0,IF(K19>0,ROUND(K26*(K22/(K19/(3.14159*(15*(15/4)*(K18/10))))),setup!$M$9),\"\"),\"\")","v":""},{"$f":"IF(E9>0,IF(L19>0,ROUND(L26*(L22/(L19/(3.14159*(15*(15/4)*(L18/10))))),setup!$M$9),\"\"),\"\")","v":""},null,{"$f":"IF(F9>0,IF(N19>0,ROUND(N26*(N22/(N19/(3.14159*(15*(15/4)*(N18/10))))),setup!$M$9),\"\"),\"\")","v":""},{"$f":"IF(F9>0,IF(O19>0,ROUND(O26*(O22/(O19/(3.14159*(15*(15/4)*(O18/10))))),setup!$M$9),\"\"),\"\")","v":""},{"$f":"IF(F9>0,IF(P19>0,ROUND(P26*(P22/(P19/(3.14159*(15*(15/4)*(P18/10))))),setup!$M$9),\"\"),\"\")","v":""},null,"op ac =",{"$f":"IF(R26<>0,ROUND(IF(AND(((-S26-SQRT(S26*S26-4*R26*(T26-R20)))/(2*R26))>0, ((-S26-SQRT(S26*S26-4*R26*(T26-R20)))/(2*R26))<10), ((-S26-SQRT(S26*S26-4*R26*(T26-R20)))/(2*R26)),(-S26+SQRT(S26*S26-4*R26*(T26-R20)))/(2*R26)),3),0)","v":0}]
["% Gmm @ N-des",{"$f":"IF(AND(C9>0,C11>0),IF(B19>0,ROUND(B27/$C$13*100,setup!$M$10),\"\"),\"\")","v":""},{"$f":"IF(AND(C9>0,C11>0),IF(C19>0,ROUND(C27/$C$13*100,setup!$M$10),\"\"),\"\")","v":""},{"$f":"IF(AND(C9>0,C11>0),IF(D19>0,ROUND(D27/$C$13*100,setup!$M$10),\"\"),\"\")","v":""},{"$f":"IF(AND(C9>0,C11>0),IF(AND(B28<>\"\",B17>0),ROUND(AVERAGE(B28:D28),setup!$M$10),\"\"),\"\")","v":""},{"$f":"IF(AND(D9>0,C11>0),IF(F19>0,ROUND(F27/$D$13*100,setup!$M$10),\"\"),\"\")","v":""},{"$f":"IF(AND(D9>0,C11>0),IF(G19>0,ROUND(G27/$D$13*100,setup!$M$10),\"\"),\"\")","v":""},{"$f":"IF(AND(D9>0,C11>0),IF(H19>0,ROUND(H27/$D$13*100,setup!$M$10),\"\"),\"\")","v":""},{"$f":"IF(AND(D9>0,C11>0),IF(AND(F28<>\"\",F17>0),ROUND(AVERAGE(F28:H28),setup!$M$10),\"\"),\"\")","v":""},{"$f":"IF(AND(E9>0, C11>0),IF(J19>0,ROUND(J27/$E$13*100,setup!$M$10),\"\"),\"\")","v":""},{"$f":"IF(AND(E9>0, C11>0),IF(K19>0,ROUND(K27/$E$13*100,setup!$M$10),\"\"),\"\")","v":""},{"$f":"IF(AND(E9>0, C11>0),IF(L19>0,ROUND(L27/$E$13*100,setup!$M$10),\"\"),\"\")","v":""},{"$f":"IF(AND(E9>0, C11>0),IF(AND(J28<>\"\",J17>0),ROUND(AVERAGE(J28:L28),setup!$M$10),\"\"),\"\")","v":""},{"$f":"IF(AND(F9>0,C11>0),IF(N19>0,ROUND(N27/$F$13*100,setup!$M$10),\"\"),\"\")","v":""},{"$f":"IF(AND(F9>0,C11>0),IF(O19>0,ROUND(O27/$F$13*100,setup!$M$10),\"\"),\"\")","v":""},{"$f":"IF(AND(F9>0,C11>0),IF(P19>0,ROUND(P27/$F$13*100,setup!$M$10),\"\"),\"\")","v":""},{"$f":"IF(AND(F9>0,C11>0),IF(AND(N28<>\"\",N17>0),ROUND(AVERAGE(N28:P28),setup!$M$10),\"\"),\"\")","v":""}]
["% VMA @ N-des",{"$f":"IF(AND(C9>0,C11>0),IF(B19>0,ROUND(100-(B28*$C$13*((100-$C$9)/100)/$C$10),setup!$M$11),\"\"),\"\")","v":""},{"$f":"IF(AND(C9>0,C11>0),IF(C19>0,ROUND(100-(C28*$C$13*((100-$C$9)/100)/$C$10),setup!$M$11),\"\"),\"\")","v":""},{"$f":"IF(AND(C9>0,C11>0),IF(D19>0,ROUND(100-(D28*$C$13*((100-$C$9)/100)/$C$10),setup!$M$11),\"\"),\"\")","v":""},{"$f":"IF(AND(C9>0,C11>0),IF(AND(B29<>\"\",B17>0),ROUND(AVERAGE(B29:D29),setup!$M$11),\"\"),\"\")","v":""},{"$f":"IF(AND(D9>0,C11>0),IF(F19>0,ROUND(100-(F28*$D$13*((100-$D$9)/100)/$C$10),setup!$M$11),\"\"),\"\")","v":""},{"$f":"IF(AND(D9>0,C11>0),IF(G19>0,ROUND(100-(G28*$D$13*((100-$D$9)/100)/$C$10),setup!$M$11),\"\"),\"\")","v":""},{"$f":"IF(AND(D9>0,C11>0),IF(H19>0,ROUND(100-(H28*$D$13*((100-$D$9)/100)/$C$10),setup!$M$11),\"\"),\"\")","v":""},{"$f":"IF(AND(D9>0,C11>0),IF(AND(F29<>\"\",F17>0),ROUND(AVERAGE(F29:H29),setup!$M$11),\"\"),\"\")","v":""},{"$f":"IF(AND(E9>0, C11>0),IF(J19>0,ROUND(100-(J28*$E$13*((100-$E$9)/100)/$C$10),setup!$M$11),\"\"),\"\")","v":""},{"$f":"IF(AND(E9>0, C11>0),IF(K19>0,ROUND(100-(K28*$E$13*((100-$E$9)/100)/$C$10),setup!$M$11),\"\"),\"\")","v":""},{"$f":"IF(AND(E9>0, C11>0),IF(L19>0,ROUND(100-(L28*$E$13*((100-$E$9)/100)/$C$10),setup!$M$11),\"\"),\"\")","v":""},{"$f":"IF(AND(E9>0, C11>0),IF(AND(J29<>\"\",J17>0),ROUND(AVERAGE(J29:L29),setup!$M$11),\"\"),\"\")","v":""},{"$f":"IF(AND(F9>0,C11>0),IF(N19>0,ROUND(100-(N28*$F$13*((100-$F$9)/100)/$C$10),setup!$M$11),\"\"),\"\")","v":""},{"$f":"IF(AND(F9>0,C11>0),IF(O19>0,ROUND(100-(O28*$F$13*((100-$F$9)/100)/$C$10),setup!$M$11),\"\"),\"\")","v":""},{"$f":"IF(AND(F9>0,C11>0),IF(P19>0,ROUND(100-(P28*$F$13*((100-$F$9)/100)/$C$10),setup!$M$11),\"\"),\"\")","v":""},{"$f":"IF(AND(F9>0,C11>0),IF(AND(N29<>\"\",N17>0),ROUND(AVERAGE(N29:P29),setup!$M$11),\"\"),\"\")","v":""}]
["% Voids @ N-des",{"$f":"IF(AND(C9>0,C11>0),IF(B19>0,ROUND((100-B28),setup!$M$12),\"\"),\"\")","v":""},{"$f":"IF(AND(C9>0,C11>0),IF(C19>0,ROUND((100-C28),setup!$M$12),\"\"),\"\")","v":""},{"$f":"IF(AND(C9>0,C11>0),IF(D19>0,ROUND((100-D28),setup!$M$12),\"\"),\"\")","v":""},{"$f":"IF(AND(C9>0,C11>0),IF(AND(B30<>\"\",B17>0),ROUND(AVERAGE(B30:D30),setup!$M$12),\"\"),\"\")","v":""},{"$f":"IF(AND(D9>0,C11>0),IF(F19>0,ROUND((100-F28),setup!$M$12),\"\"),\"\")","v":""},{"$f":"IF(AND(D9>0,C11>0),IF(G19>0,ROUND((100-G28),setup!$M$12),\"\"),\"\")","v":""},{"$f":"IF(AND(D9>0,C11>0),IF(H19>0,ROUND((100-H28),setup!$M$12),\"\"),\"\")","v":""},{"$f":"IF(AND(D9>0,C11>0),IF(AND(F30<>\"\",F17>0),ROUND(AVERAGE(F30:H30),setup!$M$12),\"\"),\"\")","v":""},{"$f":"IF(AND(E9>0, C11>0),IF(J19>0,ROUND((100-J28),setup!$M$12),\"\"),\"\")","v":""},{"$f":"IF(AND(E9>0, C11>0),IF(K19>0,ROUND((100-K28),setup!$M$12),\"\"),\"\")","v":""},{"$f":"IF(AND(E9>0, C11>0),IF(L19>0,ROUND((100-L28),setup!$M$12),\"\"),\"\")","v":""},{"$f":"IF(AND(E9>0, C11>0),IF(AND(J30<>\"\",J17>0),ROUND(AVERAGE(J30:L30),setup!$M$12),\"\"),\"\")","v":""},{"$f":"IF(AND(F9>0,C11>0),IF(N19>0,ROUND((100-N28),setup!$M$12),\"\"),\"\")","v":""},{"$f":"IF(AND(F9>0,C11>0),IF(O19>0,ROUND((100-O28),setup!$M$12),\"\"),\"\")","v":""},{"$f":"IF(AND(F9>0,C11>0),IF(P19>0,ROUND((100-P28),setup!$M$12),\"\"),\"\")","v":""},{"$f":"IF(AND(F9>0,C11>0),IF(AND(N30<>\"\",N17>0),ROUND(AVERAGE(N30:P30),setup!$M$12),\"\"),\"\")","v":""}]
["% VFA @ N-des",{"$f":"IF(AND(C9>0,C11>0),IF(B19>0,ROUND(100*((B29-(100-B28))/B29),setup!$M$13),\"\"),\"\")","v":""},{"$f":"IF(AND(C9>0,C11>0),IF(C19>0,ROUND(100*((C29-(100-C28))/C29),setup!$M$13),\"\"),\"\")","v":""},{"$f":"IF(AND(C9>0,C11>0),IF(D19>0,ROUND(100*((D29-(100-D28))/D29),setup!$M$13),\"\"),\"\")","v":""},{"$f":"IF(AND(C9>0,C11>0),IF(AND(B31<>\"\",B17>0),ROUND(AVERAGE(B31:D31),setup!$M$13),\"\"),\"\")","v":""},{"$f":"IF(AND(D9>0,C11>0),IF(F19>0,ROUND(100*((F29-(100-F28))/F29),setup!$M$13),\"\"),\"\")","v":""},{"$f":"IF(AND(D9>0,C11>0),IF(G19>0,ROUND(100*((G29-(100-G28))/G29),setup!$M$13),\"\"),\"\")","v":""},{"$f":"IF(AND(D9>0,C11>0),IF(H19>0,ROUND(100*((H29-(100-H28))/H29),setup!$M$13),\"\"),\"\")","v":""},{"$f":"IF(AND(D9>0,C11>0),IF(AND(F31<>\"\",F17>0),ROUND(AVERAGE(F31:H31),setup!$M$13),\"\"),\"\")","v":""},{"$f":"IF(AND(E9>0, C11>0),IF(J19>0,ROUND(100*((J29-(100-J28))/J29),setup!$M$13),\"\"),\"\")","v":""},{"$f":"IF(AND(E9>0, C11>0),IF(K19>0,ROUND(100*((K29-(100-K28))/K29),setup!$M$13),\"\"),\"\")","v":""},{"$f":"IF(AND(E9>0, C11>0),IF(L19>0,ROUND(100*((L29-(100-L28))/L29),setup!$M$13),\"\"),\"\")","v":""},{"$f":"IF(AND(E9>0, C11>0),IF(AND(J31<>\"\",J17>0),ROUND(AVERAGE(J31:L31),setup!$M$13),\"\"),\"\")","v":""},{"$f":"IF(AND(F9>0,C11>0),IF(N19>0,ROUND(100*((N29-(100-N28))/N29),setup!$M$13),\"\"),\"\")","v":""},{"$f":"IF(AND(F9>0,C11>0),IF(O19>0,ROUND(100*((O29-(100-O28))/O29),setup!$M$13),\"\"),\"\")","v":""},{"$f":"IF(AND(F9>0,C11>0),IF(P19>0,ROUND(100*((P29-(100-P28))/P29),setup!$M$13),\"\"),\"\")","v":""},{"$f":"IF(AND(F9>0,C11>0),IF(AND(N31<>\"\",N17>0),ROUND(AVERAGE(N31:P31),setup!$M$13),\"\"),\"\")","v":""}]
["Mix Verification Samples"]
[]
["Design Point #",null,"Verification",null,"Rec Opt AC from Chart"]
["% AC (Optimum)",null,null,null,{"$f":"IF(S27>0,ROUND(S27,setup!M26),\"\")","v":""}]
["Gsb (Total Aggregate)",null,{"$f":"ROUND(C10,setup!$M$9)","v":0},null,"Calc Rice at Opt AC",null,{"$f":"IF(AND(C35>0,C11>0),ROUND(100/(((100-C35)/$C$11)+(C35/$C$12)),setup!M39),\"\")","v":""},null,null,null,"Design Data"]
["Gse (Total Aggregate)",null,{"$f":"IF(O59>0,(100-C35)/(100/O59-C35/C12),0)","v":0}]
["Specific Grvity - AC",null,{"$f":"ROUND(C12,setup!$M$9)","v":1.03},null,null,null,null,null,null,null,"Design Point #",null,null,1,2,3,4]
["*Verification Rice",null,{"$f":"O59","v":0},null,null,"Specimens Compacted to N-Max",null,null,null,null,"% AC (Total)",null,null,{"$f":"IF(C9>0,'Optimum AC Test Results'!C9,\" \")","v":" "},{"$f":"IF(D9>0,'Optimum AC Test Results'!D9,\" \")","v":" "},{"$f":"IF(E9>0,'Optimum AC Test Results'!E9,\" \")","v":" "},{"$f":"IF(F9>0,'Optimum AC Test Results'!F9,\" \")","v":" "}]
[null,null,null,null,null,null,null,null,null,null,"Gsb (Total Aggregate)",null,null,{"$f":"C36","v":0}]
[null,"Verification Point  - % AC =",null,null,{"$f":"C35","v":0},"Verification Point  - % AC =",null,null,{"$f":"'Optimum AC Test Results'!$C$35","v":0},null,"Gse (Total Aggregate)",null,null,{"$f":"C37","v":0}]
["Sample #",1,2,3,"AVG",1,2,3,"AVG",null,"Specific Grvity - AC",null,null,{"$f":"C38","v":1.03}]
["Height @ N-int (mm)",null,null,null,null,null,null,null,null,null,"Calculated Rice Gravity",null,null,{"$f":"IF(C13>0,'Optimum AC Test Results'!C13,\" \")","v":" "},{"$f":"IF(D13>0,'Optimum AC Test Results'!D13,\" \")","v":" "},{"$f":"IF(E13>0,'Optimum AC Test Results'!E13,\" \")","v":" "},{"$f":"IF(F13>0,'Optimum AC Test Results'!F13,\" \")","v":" "}]
["Height @ N-des (mm)"]
["Height @ N-max (mm)",null,null,null,null,null,null,null,null,null,"Average Test Values"]
["Wt. in Air",null,null,null,null,null,null,null,null,null,"Sp. Gravity",null,null,{"$f":"IF(E22>0,'Optimum AC Test Results'!$E$22,\" \")","v":""},{"$f":"IF(I22>0,'Optimum AC Test Results'!$I$22,\" \")","v":""},{"$f":"IF(M22>0,'Optimum AC Test Results'!$M$22,\" \")","v":""},{"$f":"IF(N22>0,'Optimum AC Test Results'!$Q$22,\" \")","v":""}]
["Wt. Water",null,null,null,null,null,null,null,null,null,"%Gmm @ N-int",null,null,{"$f":"IF(E25>0,$E$25,\" \")","v":""},{"$f":"IF(I25>0,$I$25,\" \")","v":""},{"$f":"IF(M25>0,$M$25,\" \")","v":""},{"$f":"IF(Q25>0,$Q$25,\" \")","v":""}]
["Wt. SSD",null,null,null,null,null,null,null,null,null,"% Gmm @ N-des",null,null,{"$f":"IF(E28>0,E28,\" \")","v":""},{"$f":"IF(I28>0,I28,\" \")","v":""},{"$f":"IF(M28>0,M28,\" \")","v":""},{"$f":"IF(Q28>0,Q28,\" \")","v":""}]
["Sp. Gravity (Gmb,ND)",{"$f":"IF(AND(C35>0,C39>0),IF(B46>0,ROUND(B46/(B48-B47),setup!$M$8),\"\"),\"\")","v":""},{"$f":"IF(AND(C35>0,C39>0),IF(C46>0,ROUND(C46/(C48-C47),setup!$M$8),\"\"),\"\")","v":""},{"$f":"IF(AND(C35>0,C39>0),IF(D46>0,ROUND(D46/(D48-D47),setup!$M$8),\"\"),\"\")","v":""},{"$f":"IF(AND(C35>0,C39>0,B49<>\"\"),ROUND(AVERAGE(B49:D49),setup!$M$8),\"\")","v":""},{"$f":"IF(AND(C35>0,C39>0),IF(F46>0,ROUND(F46/(F48-F47),setup!$M$8),\"\"),\"\")","v":""},{"$f":"IF(AND(C35>0,C39>0),IF(G46>0,ROUND(G46/(G48-G47),setup!$M$8),\"\"),\"\")","v":""},{"$f":"IF(AND(C35>0,C39>0),IF(H46>0,ROUND(H46/(H48-H47),setup!$M$8),\"\"),\"\")","v":""},{"$f":"IF(AND(C35>0,C39>0,F49<>\"\"),ROUND(AVERAGE(F49:H49),setup!$M$8),\"\")","v":""},null,"% VMA @ N-des",null,null,{"$f":"IF(E29>0,E29,\" \")","v":""},{"$f":"IF(I29>0,I29,\" \")","v":""},{"$f":"IF(M29>0,M29,\" \")","v":""},{"$f":"IF(Q29>0,Q29,\" \")","v":""}]
["Gmb (Est. @ N-int)",{"$f":"IF(AND(C35>0,C39>0),IF(B46>0,ROUND(B46/(3.14159*(15*(15/4)*(B43/10))),setup!$M$9),\"\"),\"\")","v":""},{"$f":"IF(AND(C35>0,C39>0),IF(C46>0,ROUND(C46/(3.14159*(15*(15/4)*(C43/10))),setup!$M$9),\"\"),\"\")","v":""},{"$f":"IF(AND(C35>0,C39>0),IF(D46>0,ROUND(D46/(3.14159*(15*(15/4)*(D43/10))),setup!$M$9),\"\"),\"\")","v":""},null,{"$f":"IF(AND(C35>0,C39>0),IF(F46>0,ROUND(F46/(3.14159*(15*(15/4)*(F43/10))),setup!$M$9),\"\"),\"\")","v":""},{"$f":"IF(AND(C35>0,C39>0),IF(G46>0,ROUND(G46/(3.14159*(15*(15/4)*(G43/10))),setup!$M$9),\"\"),\"\")","v":""},{"$f":"IF(AND(C35>0,C39>0),IF(H46>0,ROUND(H46/(3.14159*(15*(15/4)*(H43/10))),setup!$M$9),\"\"),\"\")","v":""},null,null,"% Voids @ N-des",null,null,{"$f":"IF(E30>0,E30,\" \")","v":""},{"$f":"IF(I30>0,I30,\" \")","v":""},{"$f":"IF(M30>0,M30,\" \")","v":""},{"$f":"IF(Q30>0,Q30,\" \")","v":""}]
["Gmb (Corr. @ N-Int)",{"$f":"IF(AND(C35>0,C39>0),IF(B46>0,ROUND(B50*(B49/(B46/(3.14159*(15*(15/4)*(B44/10))))),setup!$M$9),\"\"),\"\")","v":""},{"$f":"IF(AND(C35>0,C39>0),IF(C46>0,ROUND(C50*(C49/(C46/(3.14159*(15*(15/4)*(C44/10))))),setup!$M$9),\"\"),\"\")","v":""},{"$f":"IF(AND(C35>0,C39>0),IF(D46>0,ROUND(D50*(D49/(D46/(3.14159*(15*(15/4)*(D44/10))))),setup!$M$9),\"\"),\"\")","v":""},null,{"$f":"IF(AND(C35>0,C39>0),IF(F46>0,ROUND(F50*(F49/(F46/(3.14159*(15*(15/4)*(F45/10))))),setup!$M$9),\"\"),\"\")","v":""},{"$f":"IF(AND(C35>0,C39>0),IF(G46>0,ROUND(G50*(G49/(G46/(3.14159*(15*(15/4)*(G45/10))))),setup!$M$9),\"\"),\"\")","v":""},{"$f":"IF(AND(C35>0,C39>0),IF(H46>0,ROUND(H50*(H49/(H46/(3.14159*(15*(15/4)*(H45/10))))),setup!$M$9),\"\"),\"\")","v":""},null,null,"% VFA @ N-des",null,null,{"$f":"IF(E31>0,E31,\" \")","v":""},{"$f":"IF(I31>0,I31,\" \")","v":""},{"$f":"IF(M31>0,M31,\" \")","v":""},{"$f":"IF(Q31>0,Q31,\" \")","v":""}]
["%Gmm @ N-int",{"$f":"IF(AND(C35>0,C39>0),IF(B46>0,ROUND(B51/$C$39*100,setup!$M$10),\"\"),\"\")","v":""},{"$f":"IF(AND(C35>0,C39>0),IF(C46>0,ROUND(C51/$C$39*100,setup!$M$10),\"\"),\"\")","v":""},{"$f":"IF(AND(C35>0,C39>0),IF(D46>0,ROUND(D51/$C$39*100,setup!$M$10),\"\"),\"\")","v":""},{"$f":"IF(AND(C35>0,C39>0,B52<>\"\"),ROUND(AVERAGE(B52:D52),setup!$M$10),\"\")","v":""},{"$f":"IF(AND(C35>0,C39>0),IF(F46>0,ROUND(F51/$C$39*100,setup!$M$10),\"\"),\"\")","v":""},{"$f":"IF(AND(C35>0,C39>0),IF(G46>0,ROUND(G51/$C$39*100,setup!$M$10),\"\"),\"\")","v":""},{"$f":"IF(AND(C35>0,C39>0),IF(H46>0,ROUND(H51/$C$39*100,setup!$M$10),\"\"),\"\")","v":""},{"$f":"IF(AND(C35>0,C39>0,F52<>\"\"),ROUND(AVERAGE(F52:H52),setup!$M$10),\"\")","v":""}]
["Gmb (Est. @ N-Des)",{"$f":"IF(AND(C35>0,C39>0),IF(B46>0,ROUND(B46/(3.14159*(15*(15/4)*(B44/10))),setup!$M$9),\"\"),\"\")","v":""},{"$f":"IF(AND(C35>0,C39>0),IF(C46>0,ROUND(C46/(3.14159*(15*(15/4)*(C44/10))),setup!$M$9),\"\"),\"\")","v":""},{"$f":"IF(AND(C35>0,C39>0),IF(D46>0,ROUND(D46/(3.14159*(15*(15/4)*(D44/10))),setup!$M$9),\"\"),\"\")","v":""},null,null,null,null,null,null,"*Verification Rice "]
["Gmb (Corr. @ N-Des)",{"$f":"IF(AND(C35>0,C39>0),IF(B46>0,ROUND(B53*(B49/(B46/(3.14159*(15*(15/4)*(B44/10))))),setup!$M$9),\"\"),\"\")","v":""},{"$f":"IF(AND(C35>0,C39>0),IF(C46>0,ROUND(C53*(C49/(C46/(3.14159*(15*(15/4)*(C44/10))))),setup!$M$9),\"\"),\"\")","v":""},{"$f":"IF(AND(C35>0,C39>0),IF(D46>0,ROUND(D53*(D49/(D46/(3.14159*(15*(15/4)*(D44/10))))),setup!$M$9),\"\"),\"\")","v":""},null,null,null,null,null,null,"Asphalt Content for Rice",null,null,{"$f":"C35","v":0}]
["% Gmm @ N-des",{"$f":"IF(AND(C35>0,C39>0),IF(B46>0,ROUND(B54/$C$39*100,setup!$M$10),\"\"),\"\")","v":""},{"$f":"IF(AND(C35>0,C39>0),IF(C46>0,ROUND(C54/$C$39*100,setup!$M$10),\"\"),\"\")","v":""},{"$f":"IF(AND(C35>0,C39>0),IF(D46>0,ROUND(D54/$C$39*100,setup!$M$10),\"\"),\"\")","v":""},{"$f":"IF(AND(C35>0,C39>0,B55<>\"\"),ROUND(AVERAGE(B55:D55),setup!$M$10),\"\")","v":""},null,null,null,null,null,"Rice Gravities",null,"A","B"]
["Gmb (Est. @ N-Max)",null,null,null,null,{"$f":"IF(AND(C35>0,C39>0),IF(F46>0,ROUND(F46/(3.14159*(15*(15/4)*(F45/10))),setup!$M$9),\"\"),\"\")","v":""},{"$f":"IF(AND(C35>0,C39>0),IF(G46>0,ROUND(G46/(3.14159*(15*(15/4)*(G45/10))),setup!$M$9),\"\"),\"\")","v":""},{"$f":"IF(AND(C35>0,C39>0),IF(H46>0,ROUND(H46/(3.14159*(15*(15/4)*(H45/10))),setup!$M$9),\"\"),\"\")","v":""},null,null," Mix"]
["Gmb (Corr. @ N-max)",null,null,null,null,{"$f":"IF(AND(C35>0,C39>0),IF(F46>0,ROUND(F56*(F49/(F46/(3.14159*(15*(15/4)*(F45/10))))),setup!$M$9),\"\"),\"\")","v":""},{"$f":"IF(AND(C35>0,C39>0),IF(G46>0,ROUND(G56*(G49/(G46/(3.14159*(15*(15/4)*(G45/10))))),setup!$M$9),\"\"),\"\")","v":""},{"$f":"IF(AND(C35>0,C39>0),IF(H46>0,ROUND(H56*(H49/(H46/(3.14159*(15*(15/4)*(H45/10))))),setup!$M$9),\"\"),\"\")","v":""},null,null,"Pyc&Water"]
["% Gmm @ N-Max",null,null,null,null,{"$f":"IF(AND(C35>0,C39>0),IF(F46>0,ROUND(F57/$C$39*100,setup!$M$10),\"\"),\"\")","v":""},{"$f":"IF(AND(C35>0,C39>0),IF(G46>0,ROUND(G57/$C$39*100,setup!$M$10),\"\"),\"\")","v":""},{"$f":"IF(AND(C35>0,C39>0),IF(H46>0,ROUND(H57/$C$39*100,setup!$M$10),\"\"),\"\")","v":""},{"$f":"IF(AND(C35>0,C39>0,F58<>\"\"),ROUND(AVERAGE(F58:H58),setup!$M$10),\"\")","v":""},null,"Pyc,Water&Mix",null,null,null,"Avg Gmm"]
["% VMA @ N-des",{"$f":"IF(AND(C35>0,C39>0),IF(B46>0,ROUND(100-(B55*$C$39*((100-$C$35)/100)/$C$10),setup!$M$11),\"\"),\"\")","v":""},{"$f":"IF(AND(C35>0,C39>0),IF(C46>0,ROUND(100-(C55*$C$39*((100-$C$35)/100)/$C$10),setup!$M$11),\"\"),\"\")","v":""},{"$f":"IF(AND(C35>0,C39>0),IF(D46>0,ROUND(100-(D55*$C$39*((100-$C$35)/100)/$C$10),setup!$M$11),\"\"),\"\")","v":""},{"$f":"IF(AND(C35>0,C39>0,B59<>\"\"),ROUND(AVERAGE(B59:D59),setup!$M$11),\"\")","v":""},{"$f":"IF(AND(C35>0,C39>0),IF(F46>0,ROUND(100-(F58*$C$39*((100-$C$35)/100)/$C$10),setup!$M$11),\"\"),\"\")","v":""},{"$f":"IF(AND(C35>0,C39>0),IF(G46>0,ROUND(100-(G58*$C$39*((100-$C$35)/100)/$C$10),setup!$M$11),\"\"),\"\")","v":""},{"$f":"IF(AND(C35>0,C39>0),IF(H46>0,ROUND(100-(H58*$C$39*((100-$C$35)/100)/$C$10),setup!$M$11),\"\"),\"\")","v":""},null,null,"Gmm",null,{"$f":"IF(M58>0,ROUND(M56/(M56+M57-M58),setup!M39),0)","v":0},{"$f":"IF(N58>0,ROUND(N56/(N56+N57-N58),setup!M39),0)","v":0},{"$f":"AVERAGE(M59:N59)","v":0}]
["% Voids @ N-des",{"$f":"IF(AND(C35>0,C39>0),IF(B46>0,ROUND((100-B55),setup!$M$12),\"\"),\"\")","v":""},{"$f":"IF(AND(C35>0,C39>0),IF(C46>0,ROUND((100-C55),setup!$M$12),\"\"),\"\")","v":""},{"$f":"IF(AND(C35>0,C39>0),IF(D46>0,ROUND((100-D55),setup!$M$12),\"\"),\"\")","v":""},{"$f":"IF(AND(C35>0,C39>0,B60<>\"\"),ROUND(AVERAGE(B60:D60),setup!$M$12),\"\")","v":""},{"$f":"IF(AND(C35>0,C39>0),IF(F46>0,ROUND((100-F58),setup!$M$12),\"\"),\"\")","v":""},{"$f":"IF(AND(C35>0,C39>0),IF(G46>0,ROUND((100-G58),setup!$M$12),\"\"),\"\")","v":""},{"$f":"IF(AND(C35>0,C39>0),IF(H46>0,ROUND((100-H58),setup!$M$12),\"\"),\"\")","v":""}]
["% VFA @ N-des",{"$f":"IF(AND(C35>0,C39>0),IF(B46>0,ROUND(100*((B59-(100-B55))/B59),setup!$M$13),\"\"),\"\")","v":""},{"$f":"IF(AND(C35>0,C39>0),IF(C46>0,ROUND(100*((C59-(100-C55))/C59),setup!$M$13),\"\"),\"\")","v":""},{"$f":"IF(AND(C35>0,C39>0),IF(D46>0,ROUND(100*((D59-(100-D55))/D59),setup!$M$13),\"\"),\"\")","v":""},{"$f":"IF(AND(C35>0,C39>0,B61<>\"\"),ROUND(AVERAGE(B61:D61),setup!$M$13),\"\")","v":""},{"$f":"IF(AND(C35>0,C39>0),IF(F46>0,ROUND(100*((F59-(100-F58))/F59),setup!$M$13),\"\"),\"\")","v":""},{"$f":"IF(AND(C35>0,C39>0),IF(G46>0,ROUND(100*((G59-(100-G58))/G59),setup!$M$13),\"\"),\"\")","v":""},{"$f":"IF(AND(C35>0,C39>0),IF(H46>0,ROUND(100*((H59-(100-H58))/H59),setup!$M$13),\"\"),\"\")","v":""}]
[]
["*This Rice must be performed on the Lab Verification Sample and separate from the \"Design\" Rice."]
[]
[{"$f":"setup!S2","v":"LaPave 502 v18.05.02"},null,null,null,null,null,null,null,null,null,null,null,null,null,null,{"$f":"TODAY()","v":"2023-03-31"}]
[]
[]
[]
[]
[]
["Drain Down (AASHTO T 305)"]
["Wt. of Mix Before"]
["Wt. of Mix After"]
["Wt. of Plate",null,null,null,null,null,null,null,null,null,null,null,null,null,null,null,null,null,null,null,null,{"$f":"setup!S2","v":"LaPave 502 v18.05.02"},null,null,null,null,null,null,null,null,{"$f":"TODAY()","v":"2023-03-31"}]
["Wt. of Plate+Mix After"]
["Wt. of Drained Mix",{"$f":"IF(B75>0, B75-B74, IF(B73>0, B72-B73, \"\"))","v":""},{"$f":"IF(C75>0, C75-C74, IF(C73>0, C72-C73, \"\"))","v":""},"Avg % Draindown"]
["% Draindown",{"$f":"IF(B76<>\"\", ROUND(B76/B72*100,1), \"\")","v":""},{"$f":"IF(C76<>\"\", ROUND(C76/C72*100,1), \"\")","v":""},{"$f":"IF(B77<>\"\", AVERAGE(B77:C77), \"\")","v":""}]
[]
["Correction Factor For Volumetric Specimens"]
["Average Wt of Mix, ND of Verification Points",null,null,{"$f":"IF(SUM(B46:D46)>0, ROUND(AVERAGE(B46:D46),1), \"\")","v":""}]
["Average Height @ ND of Verification Points",null,null,{"$f":"IF(SUM(B44:D44)>0, ROUND(AVERAGE(B44:D44),1), \"\")","v":""}]
["Gmb, ND Est of Verification Point",null,null,{"$f":"IF(D81<>\"\", ROUND(D80/(((3.1416*150*150*D81)/4)*0.001),setup!M9), \"\")","v":""}]
["Average Gmb, ND of Verification Point",null,null,{"$f":"E49","v":""}]
["Correction Factor From Verification Point",null,null,{"$f":"IF(D82<>\"\", ROUND(D83/D82,4), \"\")","v":""}]
[]
[]
[{"$f":"setup!S2","v":"LaPave 502 v18.05.02"},null,null,null,null,null,{"$f":"TODAY()","v":"2023-03-31"}]

{"sheet":"Comp. Grad. and FAA Input","index":4,"n_rows":145,"n_cols":32,"rows_kept":145,"cut":false,"hidden":false,"merged":[[66,2,67,4],[107,0,107,7],[108,0,108,1],[108,3,108,7],[124,5,124,6],[126,0,126,1],[126,3,126,7],[71,3,71,7],[87,5,87,6],[89,0,89,1],[89,3,89,7],[105,5,105,6],[29,10,29,11],[32,31,32,32],[95,17,95,18],[144,6,144,7],[1,20,1,21],[2,20,2,21],[23,11,24,11],[6,13,6,14],[1,15,1,16],[2,15,2,16],[3,15,3,16],[142,5,142,6],[69,0,69,7],[69,11,71,17],[70,0,70,7],[71,0,71,1]]}
[]
["Contractor",{"$f":"'JMF Input'!$B$6","v":0},null,null,"Plant Code",{"$f":"'Material Setup'!B5","v":0},null,null,null,null,null,null,null,null,null,"Contractor",null,{"$f":"'JMF Input'!$B$6","v":0},null,null,"Plant Code",null,{"$f":"'JMF Input'!$I$3","v":0}]
["Mix Type",{"$f":"'JMF Input'!$E$5","v":"Base Course"},null,null,"Contr. Mix #",{"$f":"'JMF Input'!$B$7","v":0},null,null,null,null,null,null,null,null,null,"Mix Type",null,{"$f":"'JMF Input'!$E$5","v":"Base Course"},null,null,"Contr. Mix #",null,{"$f":"'JMF Input'!$B$7","v":0}]
["JMF No",{"$f":"'JMF Input'!$F$3","v":0},null,null,null,null,null,null,null,null,null,null,null,null,null,"JMF No",null,{"$f":"'JMF Input'!$F$3","v":0}]
[]
[]
["Aggregates",{"$f":"IF('JMF Input'!B20>0, 'JMF Input'!B20, \"\")","v":""},{"$f":"IF('JMF Input'!B19>0, 'JMF Input'!B19, \"\")","v":""},{"$f":"IF('JMF Input'!B18>0, 'JMF Input'!B18, \"\")","v":""},{"$f":"IF('JMF Input'!B17>0, 'JMF Input'!B17, \"\")","v":""},{"$f":"IF('JMF Input'!B16>0, 'JMF Input'!B16, \"\")","v":""},{"$f":"IF('JMF Input'!B15>0, 'JMF Input'!B15, \"\")","v":""},{"$f":"IF('JMF Input'!B14>0, 'JMF Input'!B14, \"\")","v":""},{"$f":"IF('JMF Input'!B13>0, 'JMF Input'!B13, \"\")","v":""},{"$f":"IF('JMF Input'!B12>0, 'JMF Input'!B12, \"\")","v":""},{"$f":"IF('JMF Input'!B11>0, 'JMF Input'!B11, \"\")","v":""},"Composite ",null,"NMS"]
["Aggregate %",{"$f":"'JMF Input'!E20","v":0},{"$f":"'JMF Input'!E19","v":0},{"$f":"'JMF Input'!E18","v":0},{"$f":"'JMF Input'!E17","v":0},{"$f":"'JMF Input'!E16","v":0},{"$f":"'JMF Input'!E15","v":0},{"$f":"'JMF Input'!E14","v":0},{"$f":"'JMF Input'!E13","v":0},{"$f":"'JMF Input'!E12","v":0},{"$f":"'JMF Input'!E11","v":0},{"$f":"ROUND(SUM(B8:K8),1)","v":0},null,{"$f":"'JMF Input'!I5","v":"1 in."},{"$f":"IF('JMF Input'!F4=\"SMA\", \"SMA\", \"\")","v":""},null,0]
["   Sieve",null,null,null,null,null,null,null,null,null,null,null,null,"Min","Max",null,{"$f":"IF(N8=\"1 in.\",278.459125958404,IF(N8=\"0.75 in.\",231.767138770695,IF(N8=\"0.5 in.\",204.667250410769,278.459125958404)))","v":278.459125958404}]
["     1\"",100,100,100,null,null,null,null,null,100,85,{"$f":"ROUND(((0.01*B$8)*B10)+((0.01*C$8)*C10)+((0.01*D$8)*D10)+((0.01*E$8)*E10)+((0.01*F$8)*F10)+((0.01*G$8)*G10)+((0.01*H$8)*H10)+((0.01*I$8)*I10)+((0.01*J$8)*J10)+((0.01*K$8)*K10),setup!$M$14)","v":0},{"$f":"IF(AND(N10>0, ROUND(L10,0)<N10), \"Min\", IF(AND(O10>0, ROUND(L10,0)>O10),\"Max\",\"\"))","v":"Min"},{"$f":"IF(N8=\"1 in.\",90,IF(N8=\"0.75 in.\",100,-1))","v":90},{"$f":"IF(N8=\"1 in.\",100,IF(N8=\"1.5 in.\",89,-1))","v":100}]
["    3/4\"",null,null,null,null,null,null,null,null,null,null,{"$f":"ROUND(((0.01*B$8)*B11)+((0.01*C$8)*C11)+((0.01*D$8)*D11)+((0.01*E$8)*E11)+((0.01*F$8)*F11)+((0.01*G$8)*G11)+((0.01*H$8)*H11)+((0.01*I$8)*I11)+((0.01*J$8)*J11)+((0.01*K$8)*K11),setup!$M$14)","v":0},{"$f":"IF(AND(N11>0, ROUND(L11,0)<N11), \"Min\", IF(AND(O11>0, ROUND(L11,0)>O11),\"Max\",\"\"))","v":""},{"$f":"IF(O8=\"SMA\", 100, IF(N8=\"0.75 in.\",90,IF(N8=\"0.5 in.\",100,-1)))","v":-1},{"$f":"IF(N8=\"1 in.\",89,IF(N8=\"0.75 in.\",100,-1))","v":89}]
["    1/2\"",null,null,null,null,null,null,null,null,null,null,{"$f":"ROUND(((0.01*B$8)*B12)+((0.01*C$8)*C12)+((0.01*D$8)*D12)+((0.01*E$8)*E12)+((0.01*F$8)*F12)+((0.01*G$8)*G12)+((0.01*H$8)*H12)+((0.01*I$8)*I12)+((0.01*J$8)*J12)+((0.01*K$8)*K12),setup!$M$14)","v":0},"",{"$f":"IF(O8=\"SMA\", 90, IF(N8=\"0.5 in.\",90,-1))","v":-1},{"$f":"IF(O8=\"SMA\", 100,IF(N8=\"0.75 in.\",89,IF(N8=\"0.5 in.\",100,-1)))","v":-1}]
["    3/8\"",null,null,null,null,null,null,null,null,null,null,{"$f":"ROUND(((0.01*B$8)*B13)+((0.01*C$8)*C13)+((0.01*D$8)*D13)+((0.01*E$8)*E13)+((0.01*F$8)*F13)+((0.01*G$8)*G13)+((0.01*H$8)*H13)+((0.01*I$8)*I13)+((0.01*J$8)*J13)+((0.01*K$8)*K13),setup!$M$14)","v":0},"",null,{"$f":"IF(O8=\"SMA\", 75,IF(N8=\"0.5 in.\",89,-1))","v":-1}]
["  No 4",null,null,null,null,null,null,null,null,null,null,{"$f":"ROUND(((0.01*B$8)*B14)+((0.01*C$8)*C14)+((0.01*D$8)*D14)+((0.01*E$8)*E14)+((0.01*F$8)*F14)+((0.01*G$8)*G14)+((0.01*H$8)*H14)+((0.01*I$8)*I14)+((0.01*J$8)*J14)+((0.01*K$8)*K14),setup!$M$14)","v":0},"",{"$f":"IF(O8=\"SMA\", 24,-1)","v":-1},{"$f":"IF(O8=\"SMA\", 34,-1)","v":-1}]
["  No 8",null,null,null,null,null,null,null,null,null,null,{"$f":"ROUND(((0.01*B$8)*B15)+((0.01*C$8)*C15)+((0.01*D$8)*D15)+((0.01*E$8)*E15)+((0.01*F$8)*F15)+((0.01*G$8)*G15)+((0.01*H$8)*H15)+((0.01*I$8)*I15)+((0.01*J$8)*J15)+((0.01*K$8)*K15),setup!$M$14)","v":0},"Min",{"$f":"IF(O8=\"SMA\", 16,IF(N8=\"1 in.\",23,IF(N8=\"0.75 in.\",26,IF(N8=\"0.5 in.\",29,IF(N8=\"1.5 in.\", 19,-1)))))","v":23},{"$f":"IF(O8=\"SMA\", 28,IF(N8=\"1 in.\",45,IF(N8=\"0.75 in.\",49,IF(N8=\"0.5 in.\",58,IF(N8=\"1.5 in.\", 41,-1)))))","v":45}]
["  No 16",null,null,null,null,null,null,null,null,null,null,{"$f":"ROUND(((0.01*B$8)*B16)+((0.01*C$8)*C16)+((0.01*D$8)*D16)+((0.01*E$8)*E16)+((0.01*F$8)*F16)+((0.01*G$8)*G16)+((0.01*H$8)*H16)+((0.01*I$8)*I16)+((0.01*J$8)*J16)+((0.01*K$8)*K16),setup!$M$14)","v":0},""]
["  No 30",null,null,null,null,null,null,null,null,null,null,{"$f":"ROUND(((0.01*B$8)*B17)+((0.01*C$8)*C17)+((0.01*D$8)*D17)+((0.01*E$8)*E17)+((0.01*F$8)*F17)+((0.01*G$8)*G17)+((0.01*H$8)*H17)+((0.01*I$8)*I17)+((0.01*J$8)*J17)+((0.01*K$8)*K17),setup!$M$14)","v":0},"",{"$f":"IF(O8=\"SMA\", 12,-1)","v":-1},{"$f":"IF(O8=\"SMA\", 25,-1)","v":-1}]
["  No 50",null,null,null,null,null,null,null,null,null,null,{"$f":"ROUND(((0.01*B$8)*B18)+((0.01*C$8)*C18)+((0.01*D$8)*D18)+((0.01*E$8)*E18)+((0.01*F$8)*F18)+((0.01*G$8)*G18)+((0.01*H$8)*H18)+((0.01*I$8)*I18)+((0.01*J$8)*J18)+((0.01*K$8)*K18),setup!$M$14)","v":0},"",{"$f":"IF(O8=\"SMA\", 11,-1)","v":-1},{"$f":"IF(O8=\"SMA\", 22,-1)","v":-1}]
["  No 100",null,null,null,null,null,null,null,null,null,null,{"$f":"ROUND(((0.01*B$8)*B19)+((0.01*C$8)*C19)+((0.01*D$8)*D19)+((0.01*E$8)*E19)+((0.01*F$8)*F19)+((0.01*G$8)*G19)+((0.01*H$8)*H19)+((0.01*I$8)*I19)+((0.01*J$8)*J19)+((0.01*K$8)*K19),setup!$M$14)","v":0},""]
["  No 200",null,null,null,null,null,null,null,null,null,null,{"$f":"ROUND(((0.01*B$8)*B20)+((0.01*C$8)*C20)+((0.01*D$8)*D20)+((0.01*E$8)*E20)+((0.01*F$8)*F20)+((0.01*G$8)*G20)+((0.01*H$8)*H20)+((0.01*I$8)*I20)+((0.01*J$8)*J20)+((0.01*K$8)*K20),setup!$M$15)","v":0},{"$f":"IF(AND(N20>0, L20<N20), \"Min\", IF(AND(O20>0, L20>O20),\"Max\",\"\"))","v":"Min"},{"$f":"IF(O8=\"SMA\", 7, IF(N8=\"1 in.\",2,IF(N8=\"0.75 in.\",3,IF(N8=\"0.5 in.\",4,IF(N8=\"1.5 in.\", 1,-1)))))","v":2},{"$f":"IF(O8=\"SMA\", 13,IF(N8=\"1 in.\",7,IF(N8=\"0.75 in.\",8,IF(N8=\"0.5 in.\",10,IF(N8=\"1.5 in.\", 6,-1)))))","v":7}]
[null,null,null,null,null,null,null,null,null,null,null,{"$f":"IF(M10<>\"\",A10&\" \"&M10,\"\")&IF(M11<>\"\",A11&\" \"&M11,\"\")&IF(M12<>\"\",A12&\" \"&M12,\"\")&IF(M13<>\"\",A13&\" \"&M13,\"\")&IF(M14<>\"\",A14&\" \"&M14,\"\")&IF(M15<>\"\",A15&\" \"&M15,\"\")&IF(M16<>\"\",A16&\" \"&M16,\"\")&IF(M17<>\"\",A17&\" \"&M17,\"\")&IF(M18<>\"\",A18&\" \"&M18,\"\")&IF(M19<>\"\",A19&\" \"&M19,\"\")&IF(M20<>\"\",A20&\" \"&M20,\"\")","v":"     1\" Min  No 8 Min  No 200 Min"}]
[]
[null,null,null,null,null,"Aggregate with FAA - Bin %"]
[" Percent",{"$f":"IF(B26>0,B8,\"\")","v":""},{"$f":"IF(C26>0,C8,\"\")","v":""},"","","","","","",{"$f":"IF(J26>0,J8,\"\")","v":""},{"$f":"IF(K26>0,K8,\"\")","v":""},"Composite FAA",null,{"$f":"ROUND(SUM(B24:I24),setup!M15)","v":0}]
[]
["FAA",{"$f":"'JMF Input'!H20","v":0},{"$f":"'JMF Input'!H19","v":0},{"$f":"'JMF Input'!H18","v":0},{"$f":"'JMF Input'!H17","v":0},{"$f":"'JMF Input'!H16","v":0},{"$f":"'JMF Input'!H15","v":0},{"$f":"'JMF Input'!H14","v":0},{"$f":"'JMF Input'!H13","v":0},{"$f":"'JMF Input'!H12","v":0},{"$f":"'JMF Input'!H11","v":0},{"$f":"IF(SUM(B26:K26)>0,ROUND(AC52,setup!M15),\"\")","v":""}]
[]
[]
[]
[{"$f":"setup!S2","v":"LaPave 502 v18.05.02"},null,null,null,null,null,null,null,null,null,{"$f":"TODAY()","v":"2023-03-31"}]
[]
[]
[null,null,null,null,null,null,null,null,null,null,null,null,null,null,null,{"$f":"setup!S2","v":"LaPave 502 v18.05.02"},null,null,null,null,null,null,null,null,null,null,null,null,null,null,null,{"$f":"TODAY()","v":"2023-03-31"}]
[]
[]
[]
[null,null,null,null,null,null,null,null,null,null,null,null,null,null,null,null,null,"P1",{"$f":"IF(B24<>\"\",B24,0)","v":0},{"$f":"IF(C24<>\"\",C24,0)","v":0},0,0,0,0,0,0,{"$f":"IF(J24<>\"\",J24,0)","v":0},{"$f":"IF(K24<>\"\",K24,0)","v":0}]
[null,null,null,null,null,null,null,null,null,null,null,null,null,null,null,null,null,"%P",{"$f":"B15-B19","v":0},0,0,0,0,0,0,0,0,0]
[null,null,null,null,null,null,null,null,null,null,null,null,null,null,null,null,null,"AP1",{"$f":"B26","v":0},0,0,0,0,0,0,0,{"$f":"J26","v":0},{"$f":"K26","v":0}]
[null,null,null,null,null,null,null,null,null,null,null,null,null,null,null,null,null,"P2",{"$f":"IF(B24<>\"\",B24,0)","v":0},{"$f":"IF(C24<>\"\",C24,0)","v":0},0,0,0,0,0,0,{"$f":"IF(J24<>\"\",J24,0)","v":0},{"$f":"IF(K24<>\"\",K24,0)","v":0}]
[null,null,null,null,null,null,null,null,null,null,null,null,null,null,null,null,null,"AP2",{"$f":"B26","v":0},0,0,0,0,0,0,0,{"$f":"J26","v":0},{"$f":"K26","v":0}]
[]
[]
[null,null,null,null,null,null,null,null,null,null,null,null,null,null,null,null,null,"P1",{"$f":"S37","v":0},0,0,0,0,0,0,0,{"$f":"AA37","v":0},{"$f":"AB37","v":0}]
[null,null,null,null,null,null,null,null,null,null,null,null,null,null,null,null,null,"%P",0,0,0,0,0,0,0,0,{"$f":"AA38","v":0},{"$f":"AB38","v":0}]
[null,null,null,null,null,null,null,null,null,null,null,null,null,null,null,null,null,"P2",{"$f":"S40","v":0},0,0,0,0,0,0,0,{"$f":"AA40","v":0},{"$f":"AB40","v":0}]
[]
[]
[null,null,null,null,null,null,null,null,null,null,null,null,null,null,null,null,null,null,{"$f":"S37*S38*S39","v":0},{"$f":"T37*T38*T39","v":0},{"$f":"U37*U38*U39","v":0},0,0,0,{"$f":"Y37*Y38*Y39","v":0},0,{"$f":"AA37*AA38*AA39","v":0},{"$f":"AB37*AB38*AB39","v":0},{"$f":"SUM(S49:AB49)","v":0}]
[null,null,null,null,null,null,null,null,null,null,null,null,null,null,null,null,null,null,{"$f":"S37*S38","v":0},0,0,0,0,0,0,0,{"$f":"AA37*AA38","v":0},{"$f":"AB37*AB38","v":0}]
[null,null,null,null,null,null,null,null,null,null,null,null,null,null,null,null,null,null,{"$f":"IF(S39,S50,0)","v":0},0,0,0,0,0,0,0,{"$f":"IF(AA39,AA50,0)","v":0},{"$f":"IF(AB39,AB50,0)","v":0},{"$f":"SUM(S51:AB51)","v":0}]
[null,null,null,null,null,null,null,null,null,null,null,null,null,null,null,null,null,null,null,null,null,null,null,null,null,null,null,null,{"$f":"AC49/AC51","v":{"$error":"#DIV/0!"}}]
[]
[]
[]
[]
[]
[]
[]
[]
[]
[]
[]
[]
[]
[]
[null,null,"No Oven Temp Corr."]
[]
[]
["IGNITION OVEN - TR 323-02 (Ignition Oven Correction Factors and Verification Gradations",null,null,null,null,null,null,null,null,null,null,"IGNITION OVEN - TR 323-02 (Ignition Oven Correction Factors and Verification Gradations"]
["Each JMF must have an Ignition Oven Correction Factor for AC in accordance with TR 323-02.  A total of two (2) burns must be performed and the results averaged for the determination of the correction factor.  If the difference between the two samples is greater than 0.015%, then a 3rd and 4th burn must be performed as well.  Then the High and low values are discarded, and remaining two values are averaged for the correct correction factor."]
["Test 1 - Burn",null,null,"GRADATION OF THE AGGREGATE"]
[{"$f":"IF($C$67=\"No Oven Temp Corr.\",\"Tr. Baskets\", \"Wt of Mix\")","v":"Tr. Baskets"},2904,null,"SIEVE","WT.","PERCENT","Per.Coar","Per.Pass",null,null,null,null,"Test # 1","Test # 2","Test # 3","Test # 4","Average","Composite"]
[{"$f":"IF($C$67=\"No Oven Temp Corr.\",\"Baskets+Mix w/AC\", \"Wt. Loss\")","v":"Baskets+Mix w/AC"},4920.3,null,"1\"",63.6,{"$f":"IF($E$87>0,((E74/E$87)*100),\" \")","v":3.2912440488511692},{"$f":"IF($E$87>0,(SUM(F74:F74)),\" \")","v":3.2912440488511692},{"$f":"IF($E$87>0,(100-G74),\" \")","v":96.708755951148831},null,null,null,"1\"",{"$f":"H74","v":96.708755951148831},{"$f":"H92","v":96.33041930586819},{"$f":"H111","v":" "},{"$f":"H129","v":" "},{"$f":"IF(SUM(M74:P74)>0, AVERAGE(M74:P74), 0)","v":96.519587628508503},{"$f":"L10","v":0},{"$f":"IF(AND(N10>0, ROUND(Q74,0)<N10), \"Min\", IF(AND(O10>0, ROUND(Q74,0)>O10),\"Max\",\"\"))","v":""}]
[{"$f":"IF($C$67=\"No Oven Temp Corr.\",\"Baskets minus AC\", \"Temp. Corr.\")","v":"Baskets minus AC"},4837,null,"3/4\"",214.3,{"$f":"IF($E$87>0,((E75/E$87)*100),\" \")","v":11.089836472779961},{"$f":"IF($E$87>0,(SUM(F74:F75)),\" \")","v":14.38108052163113},{"$f":"IF($E$87>0,(100-G75),\" \")","v":85.618919478368866},null,null,null,"3/4\"",85.618919478368866,84.578338480866876," "," ",{"$f":"IF(SUM(M75:P75)>0, AVERAGE(M75:P75), 0)","v":85.098628979617871},0,{"$f":"IF(AND(N11>0, ROUND(Q75,0)<N11), \"Min\", IF(AND(O11>0, ROUND(Q75,0)>O11),\"Max\",\"\"))","v":""}]
[{"$f":"IF($C$67=\"No Oven Temp Corr.\",\"% LOSS\", \"% LOSS-Tmp. Cor.\")","v":"% LOSS"},{"$f":"IF(B74>0,IF($C$67=\"No Oven Temp Corr.\", ((B74-B75)/(B74-B73))*100, B74/B73*100-B75),\" \")","v":4.131329663244566},null,"1/2\"",313.8,16.238873939143033,{"$f":"IF($E$87>0,(SUM(F74:F76)),\" \")","v":30.619954460774164},69.380045539225833,null,null,null,"1/2\"",69.380045539225833,69.449824634874105," "," ",69.414935087049969,0,""]
["Virgin AC - Added",{"$f":"IF(B74>0,'JMF Input'!G23,\" \")","v":0},null,"3/8\"",134.5,6.9602566756365132,{"$f":"IF($E$87>0,(SUM(F74:F77)),\" \")","v":37.580211136410675},62.419788863589325,null,null,null,"3/8\"",62.419788863589325,61.561011359472339," "," ",61.990400111530832,0,""]
["RAP(AC) - From JMF",{"$f":"IF(B74>0,'JMF Input'!G26,\" \")","v":0},null,"NO. 4",215.8,11.167460153177394,{"$f":"IF($E$87>0,(SUM(F74:F78)),\" \")","v":48.747671289588069},51.252328710411931,null,null,null,"NO. 4",51.252328710411931,50.630790975239492," "," ",50.941559842825711,0,""]
["Target AC",{"$f":"IF(B74>0,(B77+B78),\" \")","v":0},null,"NO. 8",232.9,12.052370109708132,{"$f":"IF($E$87>0,(SUM(F74:F79)),\" \")","v":60.800041399296205},39.199958600703795,null,null,null,"NO. 8",39.199958600703795,39.218970842276086," "," ",39.209464721489937,0,""]
["Corr. Factor",{"$f":"IF(B74>0,(B76-B79),\"\")","v":4.131329663244566},null,"NO.16",144.69999999999999,7.4880977023390578,{"$f":"IF($E$87>0,(SUM(F74:F80)),\" \")","v":68.288139101635267},31.711860898364733,null,null,null,"NO.16",31.711860898364733,33.120452284981425," "," ",32.416156591673079,0,""]
["Int.DryWt",1933,null,"NO.30",143.4,7.420823845994617,{"$f":"IF($E$87>0,(SUM(F74:F81)),\" \")","v":75.708962947629885},24.291037052370115,null,null,null,"NO.30",24.291037052370115,25.142647751662054," "," ",24.716842402016084,0,""]
["AfterWash",1848.1,null,"NO.50",240.8,12.461188159801281,{"$f":"IF($E$87>0,(SUM(F74:F82)),\" \")","v":88.170151107431167},11.829848892568833,null,null,null,"NO.50",11.829848892568833,12.223211013976879," "," ",12.026529953272856,0,""]
["Decant.",{"$f":"IF(B74>0,(B81-B82),\" \")","v":84.900000000000091},null,"NO.100",94.9,4.9109915131442765,{"$f":"IF($E$87>0,(SUM(F74:F83)),\" \")","v":93.081142620575449},6.9188573794245514,null,null,null,"NO.100",6.9188573794245514,8.0929696906245283," "," ",7.5059135350245398,0,""]
["Sieve Tot",{"$f":"IF(B74>0,(E87),\" \")","v":1932.4000000000003},null,"NO.200",37.700000000000003,1.9509418339888218,{"$f":"IF($E$87>0,(SUM(F74:F84)),\" \")","v":95.03208445456427},4.96791554543573,null,null,null,"NO.200",4.96791554543573,5.062032141548471," "," ",5.0149738434921005,0,{"$f":"IF(AND(N20>0, ROUND(Q84,1)<N20), \"Min\", IF(AND(O20>0, ROUND(Q84,1)>O20),\"Max\",\"\"))","v":""}]
["% Diff.",{"$f":"IF(B74>0,(((B81-B84)/B81)*100),\" \")","v":3.1039834454199777E-2},null,"PAN",11.1,0.57441523494100588,null,null,null,null,null,"% Crushed",{"$f":"H88","v":100},{"$f":"H106","v":100},{"$f":"H125","v":" "},{"$f":"H143","v":" "},{"$f":"IF(SUM(M85:P85)>0, ROUND(AVERAGE(M85:P85),0), 0)","v":100},null,null,{"$f":"IF(S74<>\"\",A10&\" \"&S74,\"\")&IF(S75<>\"\",A11&\" \"&S75,\"\")&IF(S76<>\"\",A12&\" \"&S76,\"\")&IF(S77<>\"\",A13&\" \"&S77,\"\")&IF(S78<>\"\",A14&\" \"&S78,\"\")&IF(S79<>\"\",A15&\" \"&S79,\"\")&IF(S80<>\"\",A16&\" \"&S80,\"\")&IF(S81<>\"\",A17&\" \"&S81,\"\")&IF(S82<>\"\",A18&\" \"&S82,\"\")&IF(S83<>\"\",A19&\" \"&S83,\"\")&IF(S84<>\"\",A20&\" \"&S84,\"\")","v":""}]
[null,null,null,"DECANT",{"$f":"B83","v":84.900000000000091},null,"WT.CRUSH",942,null,null,null,"% AC Correction",{"$f":"$B$80","v":4.131329663244566},{"$f":"$B$98","v":4.1438820047158158},{"$f":"$B$117","v":" "},{"$f":"$B$135","v":" "},{"$f":"IF(SUM(M86:P86)>0, AVERAGE(M86:P86), 0)","v":4.1376058339801904}]
[null,null,null,"ACC.TOTAL",{"$f":"SUM(E74:E86)","v":1932.4000000000003},null,"WT. +#4",{"$f":"IF(H86>0,(SUM(E74:E78)),\" \")","v":942},null,null,null,"Difference",null,{"$f":"IF(OR(M86=\" \", N86=\" \"), 0, (M86-N86))","v":-1.2552341471249839E-2}]
[null,null,null,null,null,"PERCENT CRUSHED",null,{"$f":"IF(H86>0,ROUND((H86/H87)*100,0),\" \")","v":100}]
[null,null,null,null,null,null,null,null,null,null,null,"Max Value",{"$f":"MIN(M86:P86)","v":4.131329663244566},null,"Min Value",{"$f":"MAX(M86:P86)","v":4.1438820047158158}]
["Test 2 - Burn",null,null,"GRADATION OF THE AGGREGATE"]
[{"$f":"IF($C$67=\"No Oven Temp Corr.\",\"Tr. Baskets\", \"Wt of Mix\")","v":"Tr. Baskets"},2904,null,"SIEVE","WT.","PERCENT","Per.Coar","Per.Pass",null,null,null,"A","If Difference less than 0.15",null,null,null,"Correction Factor =",null,{"$f":"IF(AND(M86<>\"\", N86<>\"\", SUM(Q74:Q86)>0), IF(N87<0.15,(AVERAGE(M86:N86)),\"\"), \"\")","v":4.1376058339801904}]
[{"$f":"IF($C$67=\"No Oven Temp Corr.\",\"Baskets+Mix w/AC\", \"Wt. Loss\")","v":"Baskets+Mix w/AC"},4897.3,null,"1\"",70.099999999999994,{"$f":"IF($E$105>0,((E92/E$105)*100),\" \")","v":3.669580694131811},{"$f":"IF($E$105>0,(SUM(F$92:F92)),\" \")","v":3.669580694131811},{"$f":"IF($E$105>0,(100-G92),\" \")","v":96.33041930586819},null,null,null,"B","If Difference greater than 0.15",null,null,null,"Correction Factor =",null,{"$f":"IF(N87>0.15,((SUM(M86:P86)-(P89+M89))/2),\" \")","v":" "}]
[{"$f":"IF($C$67=\"No Oven Temp Corr.\",\"Baskets minus AC\", \"Temp. Corr.\")","v":"Baskets minus AC"},4814.7,null,"3/4\"",224.5,{"$f":"IF($E$105>0,((E93/E$105)*100),\" \")","v":11.752080825001308},{"$f":"IF($E$105>0,(SUM(F$92:F93)),\" \")","v":15.421661519133119},{"$f":"IF($E$105>0,(100-G93),\" \")","v":84.578338480866876}]
[{"$f":"IF($C$67=\"No Oven Temp Corr.\",\"% LOSS\", \"% LOSS-Tmp. Cor.\")","v":"% LOSS"},{"$f":"IF(B92>0,IF($C$67=\"No Oven Temp Corr.\", ((B92-B93)/(B92-B91))*100, B92/B91*100-B93),\" \")","v":4.1438820047158158},null,"1/2\"",289,15.128513845992774,{"$f":"IF($E$105>0,(SUM(F$92:F94)),\" \")","v":30.550175365125895},69.449824634874105,null,null,null,null,"Factor to be used on JMF Input",null,null,null,null,null,{"$f":"MAX(S91:S92)","v":4.1376058339801904}]
["Virgin AC - Added",{"$f":"IF(B92>0,'JMF Input'!G23,\" \")","v":0},null,"3/8\"",150.69999999999999,7.8888132754017679,{"$f":"IF($E$105>0,(SUM(F$92:F95)),\" \")","v":38.438988640527661},61.561011359472339]
["RAP(AC) - From JMF",{"$f":"IF(B92>0,'JMF Input'!G26,\" \")","v":0},null,"NO. 4",208.8,10.930220384232843,{"$f":"IF($E$105>0,(SUM(F$92:F96)),\" \")","v":49.369209024760508},50.630790975239492,null,null,null,{"$f":"setup!S2","v":"LaPave 502 v18.05.02"},null,null,null,null,null,{"$f":"TODAY()","v":"2023-03-31"}]
["Total AC",{"$f":"IF(B92>0,(B95+B96),\"\")","v":0},null,"NO. 8",218,11.411820132963408,{"$f":"IF($E$105>0,(SUM(F$92:F97)),\" \")","v":60.781029157723914},39.218970842276086]
["Corr. Factor",{"$f":"IF(B92>0,(B94-B97),\" \")","v":4.1438820047158158},null,"NO.16",116.5,6.098518557294665,{"$f":"IF($E$105>0,(SUM(F$92:F98)),\" \")","v":66.879547715018575},33.120452284981425]
["Int.DryWt",1910.7,null,"NO.30",152.4,7.9778045333193726,{"$f":"IF($E$105>0,(SUM(F$92:F99)),\" \")","v":74.857352248337946},25.142647751662054]
["AfterWash",1822.9,null,"NO.50",246.8,12.91943673768518,{"$f":"IF($E$105>0,(SUM(F$92:F100)),\" \")","v":87.776788986023121},12.223211013976879]
["Decant.",{"$f":"IF(B92>0,(B99-B100),\" \")","v":87.799999999999955},null,"NO.100",78.900000000000006,4.1302413233523527,{"$f":"IF($E$105>0,(SUM(F$92:F101)),\" \")","v":91.907030309375472},8.0929696906245283]
["Sieve Tot",{"$f":"IF(B92>0,(E105),\" \")","v":1910.3000000000002},null,"NO.200",57.9,3.0309375490760608,{"$f":"IF($E$105>0,(SUM(F$92:F102)),\" \")","v":94.937967858451529},5.062032141548471]
["% Diff.",{"$f":"IF(B92>0,(((B99-B102)/B99)*100),\" \")","v":2.0934735960635557E-2},null,"PAN",8.9]
[null,null,null,"DECANT",{"$f":"B101","v":87.799999999999955},null,"WT.CRUSH",943.1]
[null,null,null,"ACC.TOTAL",{"$f":"SUM(E92:E104)","v":1910.3000000000002},null,"WT. +#4",{"$f":"IF(H104>0,(SUM(E92:E96)),\" \")","v":943.09999999999991}]
[null,null,null,null,null,"PERCENT CRUSHED",null,{"$f":"IF(H104>0,ROUND((H104/H105)*100,0),\" \")","v":100}]
[]
["Tests Nos 3 and 4 only used if average from first 2 tests shows difference greater than 0.015"]
["Test 3 - Burn",null,null,"GRADATION OF THE AGGREGATE"]
[{"$f":"IF($C$67=\"No Oven Temp Corr.\",\"Tr. Baskets\", \"Wt of Mix\")","v":"Tr. Baskets"},null,null,"SIEVE","WT.","PERCENT","Per.Coar","Per.Pass"]
[{"$f":"IF($C$67=\"No Oven Temp Corr.\",\"Baskets+Mix w/AC\", \"Wt. Loss\")","v":"Baskets+Mix w/AC"},null,null,"1\"",null,{"$f":"IF($E$124>0,((E111/E$124)*100),\" \")","v":" "},{"$f":"IF($E$124>0,(SUM(F$111:F111)),\" \")","v":" "},{"$f":"IF($E$124>0,(100-G111),\" \")","v":" "}]
[{"$f":"IF($C$67=\"No Oven Temp Corr.\",\"Baskets minus AC\", \"Temp. Corr.\")","v":"Baskets minus AC"},null,null,"3/4\"",null,{"$f":"IF($E$124>0,((E112/E$124)*100),\" \")","v":" "},{"$f":"IF($E$124>0,(SUM(F$111:F112)),\" \")","v":" "},{"$f":"IF($E$124>0,(100-G112),\" \")","v":" "}]
[{"$f":"IF($C$67=\"No Oven Temp Corr.\",\"% LOSS\", \"% LOSS-Tmp. Cor.\")","v":"% LOSS"},{"$f":"IF(B111>0,IF($C$67=\"No Oven Temp Corr.\", ((B111-B112)/(B111-B110))*100, B111/B110*100-B112),\" \")","v":" "},null,"1/2\"",null," ",{"$f":"IF($E$124>0,(SUM(F$111:F113)),\" \")","v":" "}," "]
["Virgin AC - Added",{"$f":"IF(B111>0,'JMF Input'!G23,\" \")","v":" "},null,"3/8\"",null," ",{"$f":"IF($E$124>0,(SUM(F$111:F114)),\" \")","v":" "}," "]
["RAP(AC) - From JMF",{"$f":"IF(B111>0,'JMF Input'!G26,\" \")","v":" "},null,"NO. 4",null," ",{"$f":"IF($E$124>0,(SUM(F$111:F115)),\" \")","v":" "}," "]
["Total AC",{"$f":"IF(B111>0,(B114+B115),\"\")","v":""},null,"NO. 8",null," ",{"$f":"IF($E$124>0,(SUM(F$111:F116)),\" \")","v":" "}," "]
["Corr. Factor",{"$f":"IF(B111>0,(B113-B116),\" \")","v":" "},null,"NO.16",null," ",{"$f":"IF($E$124>0,(SUM(F$111:F117)),\" \")","v":" "}," "]
["Int.DryWt",null,null,"NO.30",null," ",{"$f":"IF($E$124>0,(SUM(F$111:F118)),\" \")","v":" "}," "]
["AfterWash",null,null,"NO.50",null," ",{"$f":"IF($E$124>0,(SUM(F$111:F119)),\" \")","v":" "}," "]
["Decant.",{"$f":"IF(B111>0,(B118-B119),\" \")","v":" "},null,"NO.100",null," ",{"$f":"IF($E$124>0,(SUM(F$111:F120)),\" \")","v":" "}," "]
["Sieve Tot",{"$f":"IF(B111>0,(E124),\" \")","v":" "},null,"NO.200",null," ",{"$f":"IF($E$124>0,(SUM(F$111:F121)),\" \")","v":" "}," "]
["% Diff.",{"$f":"IF(B111>0,(((B118-B121)/B118)*100),\" \")","v":" "},null,"PAN"]
[null,null,null,"DECANT",{"$f":"B120","v":" "},null,"WT.CRUSH"]
[null,null,null,"ACC.TOTAL",{"$f":"SUM(E111:E123)","v":0},null,"WT. +#4",{"$f":"IF(H123>0,(SUM(E111:E115)),\" \")","v":" "}]
[null,null,null,null,null,"PERCENT CRUSHED",null,{"$f":"IF(H123>0,ROUND((H123/H124)*100,0),\" \")","v":" "}]
[]
["Test 4 - Burn",null,null,"GRADATION OF THE AGGREGATE"]
[{"$f":"IF($C$67=\"No Oven Temp Corr.\",\"Tr. Baskets\", \"Wt of Mix\")","v":"Tr. Baskets"},null,null,"SIEVE","WT.","PERCENT","Per.Coar","Per.Pass"]
[{"$f":"IF($C$67=\"No Oven Temp Corr.\",\"Baskets+Mix w/AC\", \"Wt. Loss\")","v":"Baskets+Mix w/AC"},null,null,"1\"",null,{"$f":"IF($E$142>0,((E129/E$142)*100),\" \")","v":" "},{"$f":"IF($E$142>0,(SUM(F$129:F129)),\" \")","v":" "},{"$f":"IF($E$142>0,(100-G129),\" \")","v":" "}]
[{"$f":"IF($C$67=\"No Oven Temp Corr.\",\"Baskets minus AC\", \"Temp. Corr.\")","v":"Baskets minus AC"},null,null,"3/4\"",null,{"$f":"IF($E$142>0,((E130/E$142)*100),\" \")","v":" "},{"$f":"IF($E$142>0,(SUM(F$129:F130)),\" \")","v":" "},{"$f":"IF($E$142>0,(100-G130),\" \")","v":" "}]
[{"$f":"IF($C$67=\"No Oven Temp Corr.\",\"% LOSS\", \"% LOSS-Tmp. Cor.\")","v":"% LOSS"},{"$f":"IF(B129>0,IF($C$67=\"No Oven Temp Corr.\", ((B129-B130)/(B129-B128))*100, B129/B128*100-B130),\" \")","v":" "},null,"1/2\"",null," ",{"$f":"IF($E$142>0,(SUM(F$129:F131)),\" \")","v":" "}," "]
["Virgin AC - Added",{"$f":"IF(B129>0,'JMF Input'!G23,\" \")","v":" "},null,"3/8\"",null," ",{"$f":"IF($E$142>0,(SUM(F$129:F132)),\" \")","v":" "}," "]
["RAP(AC) - From JMF",{"$f":"IF(B129>0,'JMF Input'!G26,\" \")","v":" "},null,"NO. 4",null," ",{"$f":"IF($E$142>0,(SUM(F$129:F133)),\" \")","v":" "}," "]
["Total AC",{"$f":"IF(B129>0,(B132+B133),\"\")","v":""},null,"NO. 8",null," ",{"$f":"IF($E$142>0,(SUM(F$129:F134)),\" \")","v":" "}," "]
["Corr. Factor",{"$f":"IF(B129>0,(B131-B134),\" \")","v":" "},null,"NO.16",null," ",{"$f":"IF($E$142>0,(SUM(F$129:F135)),\" \")","v":" "}," "]
["Int.DryWt",null,null,"NO.30",null," ",{"$f":"IF($E$142>0,(SUM(F$129:F136)),\" \")","v":" "}," "]
["AfterWash",null,null,"NO.50",null," ",{"$f":"IF($E$142>0,(SUM(F$129:F137)),\" \")","v":" "}," "]
["Decant.",{"$f":"IF(B129>0,(B136-B137),\" \")","v":" "},null,"NO.100",null," ",{"$f":"IF($E$142>0,(SUM(F$129:F138)),\" \")","v":" "}," "]
["Sieve Tot",{"$f":"IF(B129>0,(E142),\" \")","v":" "},null,"NO.200",null," ",{"$f":"IF($E$142>0,(SUM(F$129:F139)),\" \")","v":" "}," "]
["% Diff.",{"$f":"IF(B129>0,(((B136-B139)/B136)*100),\" \")","v":" "},null,"PAN"]
[null,null,null,"DECANT",{"$f":"B138","v":" "},null,"WT.CRUSH"]
[null,null,null,"ACC.TOTAL",{"$f":"SUM(E129:E141)","v":0},null,"WT. +#4",{"$f":"IF(H141>0,(SUM(E129:E133)),\" \")","v":" "}]
[null,null,null,null,null,"PERCENT CRUSHED",null,{"$f":"IF(H141>0,ROUND((H141/H142)*100,0),\" \")","v":" "}]
[]
[{"$f":"setup!S2","v":"LaPave 502 v18.05.02"},null,null,null,null,null,{"$f":"TODAY()","v":"2023-03-31"}]

{"sheet":"Moisture Susceptibility Design","index":5,"n_rows":87,"n_cols":19,"rows_kept":87,"cut":false,"hidden":false,"merged":[[81,11,81,18],[83,11,83,18],[36,1,36,6],[36,11,36,16],[54,10,54,18],[63,10,63,18],[76,13,76,14],[77,13,77,14],[78,13,78,14],[52,2,52,3],[40,11,40,12],[43,11,43,14],[43,15,43,18],[52,12,52,13],[54,0,54,8],[81,1,81,8],[40,1,40,2],[78,3,78,4],[43,1,43,4],[43,5,43,8],[35,10,35,18],[37,11,37,13],[37,14,37,15],[38,11,38,13],[39,11,39,13],[39,14,39,15],[0,0,0,8],[1,1,1,6],[2,1,2,3],[2,4,2,5],[3,1,3,3],[4,1,4,3],[4,4,4,5],[5,1,5,2],[10,5,10,6],[9,5,9,6],[8,6,8,7],[14,15,14,16],[15,15,15,16],[13,6,13,7],[14,5,14,6],[15,5,15,6],[24,1,24,8],[24,11,24,18],[26,1,26,8],[28,1,28,8],[0,10,0,18],[1,11,1,16],[2,11,2,13],[2,14,2,15],[3,11,3,13],[4,11,4,13],[4,14,4,15],[5,11,5,12],[8,16,8,17],[9,15,9,16],[10,15,10,16],[13,16,13,17],[86,17,86,18],[86,7,86,8],[31,17,31,18],[31,7,31,8],[26,11,26,18],[28,11,28,18],[83,1,83,8],[35,0,35,8],[37,1,37,3],[37,4,37,5],[76,3,76,4],[38,1,38,3],[39,1,39,3],[39,4,39,5],[77,3,77,4],[63,0,63,8]]}
["LOADED WHEEL TEST (LWT) -- AASHTO T 324",null,null,null,null,null,null,null,null,null,"LOADED WHEEL TEST (LWT) -- AASHTO T 324"]
[null,"Design Test",null,null,null,null,null,null,null,null,null,"Validation Test"]
[null,null,null,null,"Date Sampled",null,null,null,null,null,"Project",{"$f":"'Validation Input'!B2","v":0},null,null,"Date Sampled"]
["Mix Type",{"$f":"'JMF Input'!E5","v":"Base Course"},null,null,null,null,null,null,null,null,"Mix Type",{"$f":"'JMF Input'!E5","v":"Base Course"}]
["Contractor Mix Number",{"$f":"'JMF Input'!$B$7","v":0},null,null,"JMF Seq. No. ",null,{"$f":"'JMF Input'!$F$3","v":0},null,null,null,"Contractor Mix Number",{"$f":"'JMF Input'!$B$7","v":0},null,null,"JMF Seq. No. ",null,{"$f":"'JMF Input'!$F$3","v":0}]
["Plant / Plant Code",{"$f":"'JMF Input'!$B$6","v":0},null,{"$f":"'JMF Input'!$I$3","v":0},null,"  Max. Sp. Grav.",{"$f":"JMF!D35","v":0},null,null,null,"Plant / Plant Code",{"$f":"'JMF Input'!$B$6","v":0},null,{"$f":"'JMF Input'!$I$3","v":0},null,"  Max. Sp. Grav.",{"$f":"JMF!H35","v":""}]
[]
[]
[null,1,2,3,4,null,"Left",null,null,null,null,1,2,3,4,null,"Left"]
[" A   Weight in air (dry)",null,null,null,null,"Bricks:",null,"1 & 2",null,null," A   Weight in air (dry)",null,null,null,null,"Bricks:",null,"1 & 2"]
[" B   Weight in water",null,null,null,null,"Avg. Voids:",null,{"$f":"IF(H10=\"1 & 2\", ROUND(AVERAGE(B16,C16),setup!M12), IF(H10=\"1 & 3\", ROUND(AVERAGE(B16,D16),setup!M12),IF(H10=\"1 & 4\", ROUND(AVERAGE(B16,E16),setup!M12),IF(H10=\"2 & 3\", ROUND(AVERAGE(C16,D16),setup!M12),IF(H10=\"2 & 4\", ROUND(AVERAGE(C16,E16),setup!M12),IF(H10=\"3 & 4\", ROUND(AVERAGE(D16,E16),setup!M12),\"\"))))))","v":{"$error":"#DIV/0!"}},null,null," B   Weight in water",null,null,null,null,"Avg. Voids:",null,{"$f":"IF(R10=\"1 & 2\", ROUND(AVERAGE(L16,M16),setup!M12), IF(R10=\"1 & 3\", ROUND(AVERAGE(L16,N16),setup!M12),IF(R10=\"1 & 4\", ROUND(AVERAGE(L16,O16),setup!M12),IF(R10=\"2 & 3\", ROUND(AVERAGE(M16,N16),setup!M12),IF(R10=\"2 & 4\", ROUND(AVERAGE(M16,O16),setup!M12),IF(R10=\"3 & 4\", ROUND(AVERAGE(N16,O16),setup!M12),\"\"))))))","v":{"$error":"#DIV/0!"}}]
[" C   Weight in air (SSD)",null,null,null,null,null,null,null,null,null," C   Weight in air (SSD)"]
[" v    Volume   (C-B)",{"$f":"IF(B10>0,B12-B11,\"\")","v":""},"","","",null,null,null,null,null," v    Volume   (C-B)",{"$f":"IF(L10>0,L12-L11,\"\")","v":""},"","",""]
["D   Bulk Sp. Gr. (A/v)",{"$f":"IF(B10>0,ROUND(B10/B13,setup!M9),\"\")","v":""},{"$f":"IF(C10>0,ROUND(C10/C13,setup!M9),\"\")","v":""},{"$f":"IF(D10>0,ROUND(D10/D13,setup!M9),\"\")","v":""},{"$f":"IF(E10>0,ROUND(E10/E13,setup!M9),\"\")","v":""},null,"Right",null,null,null,"D   Bulk Sp. Gr. (A/v)",{"$f":"IF(L10>0,ROUND(L10/L13,setup!M9),\"\")","v":""},{"$f":"IF(M10>0,ROUND(M10/M13,setup!M9),\"\")","v":""},{"$f":"IF(N10>0,ROUND(N10/N13,setup!M9),\"\")","v":""},{"$f":"IF(O10>0,ROUND(O10/O13,setup!M9),\"\")","v":""},null,"Right"]
["F % Max. Theo. Gr. (D/E x100)",{"$f":"IF(B10>0,ROUND((B14/$G$6)*100,setup!M10),\"\")","v":""},{"$f":"IF(C10>0,ROUND((C14/$G$6)*100,setup!M10),\"\")","v":""},{"$f":"IF(D10>0,ROUND((D14/$G$6)*100,setup!M10),\"\")","v":""},{"$f":"IF(E10>0,ROUND((E14/$G$6)*100,setup!M10),\"\")","v":""},"Bricks:",null,{"$f":"IF(H10=\"1 & 2\", \"3 & 4\", IF(H10=\"1 & 3\", \"2 & 4\",IF(H10=\"1 & 4\", \"2 & 3\",IF(H10=\"2 & 3\", \"1 & 4\",IF(H10=\"2 & 4\", \"1 & 3\",IF(H10=\"3 & 4\", \"1 & 2\",\"\"))))))","v":"3 & 4"},null,null,"F % Max. Theo. Gr. (D/E x100)",{"$f":"IF(L10>0,ROUND((L14/$Q$6)*100,setup!M10),\"\")","v":""},{"$f":"IF(M10>0,ROUND((M14/$Q$6)*100,setup!M10),\"\")","v":""},{"$f":"IF(N10>0,ROUND((N14/$Q$6)*100,setup!M10),\"\")","v":""},{"$f":"IF(O10>0,ROUND((O14/$Q$6)*100,setup!M10),\"\")","v":""},"Bricks:",null,{"$f":"IF(R10=\"1 & 2\", \"3 & 4\", IF(R10=\"1 & 3\", \"2 & 4\",IF(R10=\"1 & 4\", \"2 & 3\",IF(R10=\"2 & 3\", \"1 & 4\",IF(R10=\"2 & 4\", \"1 & 3\",IF(R10=\"3 & 4\", \"1 & 2\",\"\"))))))","v":"3 & 4"}]
["H  % Air Voids  (100-F)",{"$f":"IF(B10>0,ROUND(100-B15,setup!M12),\"\")","v":""},{"$f":"IF(C10>0,ROUND(100-C15,setup!M12),\"\")","v":""},{"$f":"IF(D10>0,ROUND(100-D15,setup!M12),\"\")","v":""},{"$f":"IF(E10>0,ROUND(100-E15,setup!M12),\"\")","v":""},"Avg. Voids:",null,{"$f":"IF(H15=\"1 & 2\", ROUND(AVERAGE(B16,C16),setup!M12), IF(H15=\"1 & 3\", ROUND(AVERAGE(B16,D16),setup!M12),IF(H15=\"1 & 4\", ROUND(AVERAGE(B16,E16),setup!M12),IF(H15=\"2 & 3\", ROUND(AVERAGE(C16,D16),setup!M12),IF(H15=\"2 & 4\", ROUND(AVERAGE(C16,E16),setup!M12),IF(H15=\"3 & 4\", ROUND(AVERAGE(D16,E16),setup!M12),\"\"))))))","v":{"$error":"#DIV/0!"}},null,null,"H  % Air Voids  (100-F)",{"$f":"IF(L10>0,ROUND(100-L15,setup!M12),\"\")","v":""},{"$f":"IF(M10>0,ROUND(100-M15,setup!M12),\"\")","v":""},{"$f":"IF(N10>0,ROUND(100-N15,setup!M12),\"\")","v":""},{"$f":"IF(O10>0,ROUND(100-O15,setup!M12),\"\")","v":""},"Avg. Voids:",null,{"$f":"IF(R15=\"1 & 2\", ROUND(AVERAGE(L16,M16),setup!M12), IF(R15=\"1 & 3\", ROUND(AVERAGE(L16,N16),setup!M12),IF(R15=\"1 & 4\", ROUND(AVERAGE(L16,O16),setup!M12),IF(R15=\"2 & 3\", ROUND(AVERAGE(M16,N16),setup!M12),IF(R15=\"2 & 4\", ROUND(AVERAGE(M16,O16),setup!M12),IF(R15=\"3 & 4\", ROUND(AVERAGE(N16,O16),setup!M12),\"\"))))))","v":{"$error":"#DIV/0!"}}]
[]
["Temp(°C):",50,null,"Pass","Left",null,"Pass","Right",null,null,"Temp(°C):",null,null,"Pass","Left",null,"Pass","Right"]
["Avg Rut (mm):",{"$f":"IF(B20=7500, ROUND(AVERAGE(E20,H20),setup!M21), IF(B20 = 10000, ROUND(AVERAGE(E21,H21),setup!M21),IF(B20 = 20000, ROUND(AVERAGE(E23,H23),setup!M21),\"\")))","v":{"$error":"#DIV/0!"}},null,5000,null,null,5000,null,null,null,"Avg Rut (mm):",{"$f":"IF(L20=7500, ROUND(AVERAGE(O20,R20),setup!M21), IF(L20 = 10000, ROUND(AVERAGE(O21,R21),setup!M21),IF(L20 = 20000, ROUND(AVERAGE(O23,R23),setup!M21),\"\")))","v":""},null,5000,null,null,5000]
["At Pass:",20000,null,7500,null,null,7500,null,null,null,"At Pass:",null,null,7500,null,null,7500]
["Results(Pass/Fail):",null,null,10000,null,null,10000,null,null,null,"Results(Pass/Fail):",null,null,10000,null,null,10000]
[null,null,null,15000,null,null,15000,null,null,null,null,null,null,15000,null,null,15000]
["Date Tested:",null,null,20000,null,null,20000,null,null,null,"Date Tested:",null,null,20000,null,null,20000]
[]
["Remarks:",null,null,null,null,null,null,null,null,null,"Remarks:"]
[]
["Tested by:",null,null,null,null,null,null,null,null,null,"Tested by:"]
[]
["Checked by:",null,null,null,null,null,null,null,null,null,"Checked by:"]
[]
[]
[{"$f":"setup!S2","v":"LaPave 502 v18.05.02"},null,null,null,null,null,null,{"$f":"TODAY()","v":"2023-03-31"},null,null,{"$f":"setup!S2","v":"LaPave 502 v18.05.02"},null,null,null,null,null,null,{"$f":"TODAY()","v":"2023-03-31"}]
[]
[]
[]
["TENSILE STRENGTH RATIO (TSR) -- AASHTO T 283/ DOTD TR 322",null,null,null,null,null,null,null,null,null,"TENSILE STRENGTH RATIO (TSR) -- AASHTO T 283/ DOTD TR 322"]
[null,"Design Test",null,null,null,null,null,null,null,null,null,"Validation Test"]
[null,null,null,null,"Date Sampled",null,null,null,null,null,null,null,null,null,"Date Sampled"]
["Mix Type",{"$f":"'JMF Input'!E5","v":"Base Course"},null,null,null,null,null,null,null,null,"Mix Type",{"$f":"'JMF Input'!E5","v":"Base Course"}]
["Contractor Mix Number",{"$f":"'JMF Input'!$B$7","v":0},null,null,"JMF Seq. No. ",null,{"$f":"'JMF Input'!$F$3","v":0},null,null,null,"Contractor Mix Number",{"$f":"'JMF Input'!$B$7","v":0},null,null,"JMF Seq. No. ",null,{"$f":"'JMF Input'!$F$3","v":0}]
["Plant / Plant Code",{"$f":"'JMF Input'!$B$6","v":0},null,{"$f":"'JMF Input'!$I$3","v":0},null,"  Max. Sp. Grav.",{"$f":"G6","v":0},null,null,null,"Plant / Plant Code",{"$f":"'JMF Input'!$B$6","v":0},null,{"$f":"'JMF Input'!$I$3","v":0},null,"  Max. Sp. Grav.",{"$f":"Q6","v":""}]
[]
[null,1,2,3,4,5,6,7,8,null,null,1,2,3,4,5,6,7,8]
[null,"Control Set",null,null,null,"Moisture Conditioned Set",null,null,null,null,null,"Control Set",null,null,null,"Moisture Conditioned Set"]
[" A   Weight in air (dry)",null,null,null,null,null,null,null,null,null," A   Weight in air (dry)"]
[" B   Weight in water",null,null,null,null,null,null,null,null,null," B   Weight in water"]
[" C   Weight in air (SSD)",null,null,null,null,null,null,null,null,null," C   Weight in air (SSD)"]
[" v    Volume   (C-B)",{"$f":"IF(B45>0,B47-B46,\"\")","v":""},"","","","","","","",null," v    Volume   (C-B)",{"$f":"IF(L45>0,L47-L46,\"\")","v":""},"","","","","","",""]
["D   Bulk Sp. Gr. (A/v)",{"$f":"IF(B45>0,ROUND(B45/B48,setup!M9),\"\")","v":""},{"$f":"IF(C45>0,ROUND(C45/C48,setup!M9),\"\")","v":""},{"$f":"IF(D45>0,ROUND(D45/D48,setup!M9),\"\")","v":""},{"$f":"IF(E45>0,ROUND(E45/E48,setup!M9),\"\")","v":""},{"$f":"IF(F45>0,ROUND(F45/F48,setup!M9),\"\")","v":""},{"$f":"IF(G45>0,ROUND(G45/G48,setup!M9),\"\")","v":""},{"$f":"IF(H45>0,ROUND(H45/H48,setup!M9),\"\")","v":""},{"$f":"IF(I45>0,ROUND(I45/I48,setup!M9),\"\")","v":""},null,"D   Bulk Sp. Gr. (A/v)",{"$f":"IF(L45>0,ROUND(L45/L48,setup!M9),\"\")","v":""},{"$f":"IF(M45>0,ROUND(M45/M48,setup!M9),\"\")","v":""},{"$f":"IF(N45>0,ROUND(N45/N48,setup!M9),\"\")","v":""},{"$f":"IF(O45>0,ROUND(O45/O48,setup!M9),\"\")","v":""},{"$f":"IF(P45>0,ROUND(P45/P48,setup!M9),\"\")","v":""},{"$f":"IF(Q45>0,ROUND(Q45/Q48,setup!M9),\"\")","v":""},{"$f":"IF(R45>0,ROUND(R45/R48,setup!M9),\"\")","v":""},{"$f":"IF(S45>0,ROUND(S45/S48,setup!M9),\"\")","v":""}]
["F % Max. Theo. Gr. (D/E x100)",{"$f":"IF(B45>0,ROUND((B49/$G$41)*100,setup!M10),\"\")","v":""},{"$f":"IF(C45>0,ROUND((C49/$G$41)*100,setup!M10),\"\")","v":""},{"$f":"IF(D45>0,ROUND((D49/$G$41)*100,setup!M10),\"\")","v":""},{"$f":"IF(E45>0,ROUND((E49/$G$41)*100,setup!M10),\"\")","v":""},{"$f":"IF(F45>0,ROUND((F49/$G$41)*100,setup!M10),\"\")","v":""},{"$f":"IF(G45>0,ROUND((G49/$G$41)*100,setup!M10),\"\")","v":""},{"$f":"IF(H45>0,ROUND((H49/$G$41)*100,setup!M10),\"\")","v":""},{"$f":"IF(I45>0,ROUND((I49/$G$41)*100,setup!M10),\"\")","v":""},null,"F % Max. Theo. Gr. (D/E x100)",{"$f":"IF(L45>0,ROUND((L49/$Q$41)*100,setup!$M$10),\"\")","v":""},{"$f":"IF(M45>0,ROUND((M49/$Q$41)*100,setup!$M$10),\"\")","v":""},{"$f":"IF(N45>0,ROUND((N49/$Q$41)*100,setup!$M$10),\"\")","v":""},{"$f":"IF(O45>0,ROUND((O49/$Q$41)*100,setup!$M$10),\"\")","v":""},{"$f":"IF(P45>0,ROUND((P49/$Q$41)*100,setup!$M$10),\"\")","v":""},{"$f":"IF(Q45>0,ROUND((Q49/$Q$41)*100,setup!$M$10),\"\")","v":""},{"$f":"IF(R45>0,ROUND((R49/$Q$41)*100,setup!$M$10),\"\")","v":""},{"$f":"IF(S45>0,ROUND((S49/$Q$41)*100,setup!$M$10),\"\")","v":""}]
["H  % Air Voids  (100-F)",{"$f":"IF(B45>0,ROUND(100-B50,setup!M12),\"\")","v":""},{"$f":"IF(C45>0,ROUND(100-C50,setup!M12),\"\")","v":""},{"$f":"IF(D45>0,ROUND(100-D50,setup!M12),\"\")","v":""},{"$f":"IF(E45>0,ROUND(100-E50,setup!M12),\"\")","v":""},{"$f":"IF(F45>0,ROUND(100-F50,setup!M12),\"\")","v":""},{"$f":"IF(G45>0,ROUND(100-G50,setup!M12),\"\")","v":""},{"$f":"IF(H45>0,ROUND(100-H50,setup!M12),\"\")","v":""},{"$f":"IF(I45>0,ROUND(100-I50,setup!M12),\"\")","v":""},null,"H  % Air Voids  (100-F)",{"$f":"IF(L45>0,ROUND(100-L50,setup!M12),\"\")","v":""},{"$f":"IF(M45>0,ROUND(100-M50,setup!$M$12),\"\")","v":""},{"$f":"IF(N45>0,ROUND(100-N50,setup!$M$12),\"\")","v":""},{"$f":"IF(O45>0,ROUND(100-O50,setup!$M$12),\"\")","v":""},{"$f":"IF(P45>0,ROUND(100-P50,setup!$M$12),\"\")","v":""},{"$f":"IF(Q45>0,ROUND(100-Q50,setup!$M$12),\"\")","v":""},{"$f":"IF(R45>0,ROUND(100-R50,setup!$M$12),\"\")","v":""},{"$f":"IF(S45>0,ROUND(100-S50,setup!$M$12),\"\")","v":""}]
[]
["Avg. Voids (Control)",{"$f":"IF(B45>0,ROUND(AVERAGE(B51:E51),setup!M12),\"\")","v":""},"Avg. Voids (Cond)",null,{"$f":"IF(F45>0,ROUND(AVERAGE(F51:I51),setup!M12),\"\")","v":""},null,null,"Weight",null,null,"Avg. Voids (Control)",{"$f":"IF(L45>0,ROUND(AVERAGE(L51:O51),setup!M12),\"\")","v":""},"Avg. Voids (Cond)",null,{"$f":"IF(P45>0,ROUND(AVERAGE(P51:S51),setup!$M$12),\"\")","v":""},null,null,"Weight"]
[null,null,null,null,null,null,null,"# Blows",null,null,null,null,null,null,null,null,null,"# Blows"]
["AFTER VACUUM CONDITIONING",null,null,null,null,null,null,null,null,null,"AFTER VACUUM CONDITIONING"]
[null,1,2,3,4,5,6,7,8,null,null,1,2,3,4,5,6,7,8]
["G  Weight in air (SSD)",null,null,null,null,null,null,null,null,null,"G  Weight in air (SSD)"]
[" I   Weight in Water",null,null,null,null,null,null,null,null,null," I   Weight in Water"]
[" V   Volume (G-I)",{"$f":"IF(B57>0,B57-B58,\"\")","v":""},"","","",{"$f":"IF(F57>0,F57-F58,\"\")","v":""},{"$f":"IF(G57>0,G57-G58,\"\")","v":""},"",{"$f":"IF(I57>0,I57-I58,\"\")","v":""},null," V   Volume (G-I)",{"$f":"IF(L57>0,L57-L58,\"\")","v":""},"","","","","","",""]
["W  Vol. Abs. Water,cc (G-A)",{"$f":"IF(B57>0,ROUND(B57-B45,setup!$M$16),\"\")","v":""},{"$f":"IF(C57>0,ROUND(C57-C45,setup!$M$16),\"\")","v":""},{"$f":"IF(D57>0,ROUND(D57-D45,setup!$M$16),\"\")","v":""},{"$f":"IF(E57>0,ROUND(E57-E45,setup!$M$16),\"\")","v":""},{"$f":"IF(F57>0,ROUND(F57-F45,setup!$M$16),\"\")","v":""},{"$f":"IF(G57>0,ROUND(G57-G45,setup!M16),\"\")","v":""},{"$f":"IF(H57>0,ROUND(H57-H45,setup!M16),\"\")","v":""},{"$f":"IF(I57>0,ROUND(I57-I45,setup!M16),\"\")","v":""},null,"W  Vol. Abs. Water,cc (G-A)",{"$f":"IF(L57>0,ROUND(L57-L45,setup!$M$16),\"\")","v":""},{"$f":"IF(M57>0,ROUND(M57-M45,setup!$M$16),\"\")","v":""},{"$f":"IF(N57>0,ROUND(N57-N45,setup!$M$16),\"\")","v":""},{"$f":"IF(O57>0,ROUND(O57-O45,setup!$M$16),\"\")","v":""},{"$f":"IF(P57>0,ROUND(P57-P45,setup!$M$16),\"\")","v":""},{"$f":"IF(Q57>0,ROUND(Q57-Q45,setup!$M$16),\"\")","v":""},{"$f":"IF(R57>0,ROUND(R57-R45,setup!$M$16),\"\")","v":""},{"$f":"IF(S57>0,ROUND(S57-S45,setup!$M$16),\"\")","v":""}]
["Vv  Vol. Air Voids (Hv/100)",{"$f":"IF(B57>0,ROUND((B51*B48)/100,setup!$M$12),\"\")","v":""},{"$f":"IF(C57>0,ROUND((C51*C48)/100,setup!$M$12),\"\")","v":""},{"$f":"IF(D57>0,ROUND((D51*D48)/100,setup!$M$12),\"\")","v":""},{"$f":"IF(E57>0,ROUND((E51*E48)/100,setup!$M$12),\"\")","v":""},{"$f":"IF(F57>0,ROUND((F51*F48)/100,setup!$M$12),\"\")","v":""},{"$f":"IF(G57>0,ROUND((G51*G48)/100,setup!M12),\"\")","v":""},{"$f":"IF(H57>0,ROUND((H51*H48)/100,setup!M12),\"\")","v":""},{"$f":"IF(I57>0,ROUND((I51*I48)/100,setup!M12),\"\")","v":""},null,"Vv  Vol. Air Voids (Hv/100)",{"$f":"IF(L57>0,ROUND((L51*L48)/100,setup!$M$12),\"\")","v":""},{"$f":"IF(M57>0,ROUND((M51*M48)/100,setup!$M$12),\"\")","v":""},{"$f":"IF(N57>0,ROUND((N51*N48)/100,setup!$M$12),\"\")","v":""},{"$f":"IF(O57>0,ROUND((O51*O48)/100,setup!$M$12),\"\")","v":""},{"$f":"IF(P57>0,ROUND((P51*P48)/100,setup!$M$12),\"\")","v":""},{"$f":"IF(Q57>0,ROUND((Q51*Q48)/100,setup!$M$12),\"\")","v":""},{"$f":"IF(R57>0,ROUND((R51*R48)/100,setup!$M$12),\"\")","v":""},{"$f":"IF(S57>0,ROUND((S51*S48)/100,setup!$M$12),\"\")","v":""}]
[" N   % Sat  (100W/Vv)",{"$f":"IF(B57>0,ROUND((B60/B61)*100,setup!$M$17),\"\")","v":""},{"$f":"IF(C57>0,ROUND((C60/C61)*100,setup!$M$17),\"\")","v":""},{"$f":"IF(D57>0,ROUND((D60/D61)*100,setup!$M$17),\"\")","v":""},{"$f":"IF(E57>0,ROUND((E60/E61)*100,setup!$M$17),\"\")","v":""},{"$f":"IF(F57>0,ROUND((F60/F61)*100,setup!$M$17),\"\")","v":""},{"$f":"IF(G57>0,ROUND((G60/G61)*100,setup!M17),\"\")","v":""},{"$f":"IF(H57>0,ROUND((H60/H61)*100,setup!M17),\"\")","v":""},{"$f":"IF(I57>0,ROUND((I60/I61)*100,setup!M17),\"\")","v":""},null," N   % Sat  (100W/Vv)",{"$f":"IF(L57>0,ROUND((L60/L61)*100,setup!$M$17),\"\")","v":""},{"$f":"IF(M57>0,ROUND((M60/M61)*100,setup!$M$17),\"\")","v":""},{"$f":"IF(N57>0,ROUND((N60/N61)*100,setup!$M$17),\"\")","v":""},{"$f":"IF(O57>0,ROUND((O60/O61)*100,setup!$M$17),\"\")","v":""},{"$f":"IF(P57>0,ROUND((P60/P61)*100,setup!$M$17),\"\")","v":""},{"$f":"IF(Q57>0,ROUND((Q60/Q61)*100,setup!$M$17),\"\")","v":""},{"$f":"IF(R57>0,ROUND((R60/R61)*100,setup!$M$17),\"\")","v":""},{"$f":"IF(S57>0,ROUND((S60/S61)*100,setup!$M$17),\"\")","v":""}]
[]
["INDIRECT TENSILE TESTING",null,null,null,null,null,null,null,null,null,"INDIRECT TENSILE TESTING"]
[null,1,2,3,4,5,6,7,8,null,null,1,2,3,4,5,6,7,8]
["D1",null,null,null,null,null,null,null,null,null,"D1"]
["    Specimen                    D2",null,null,null,null,null,null,null,null,null,"Speciman                     D2"]
["   Diameter                        D",{"$f":"IF(B66>0,ROUND(AVERAGE(B66:B67),setup!M18),\"\")","v":""},{"$f":"IF(C66>0,ROUND(AVERAGE(C66:C67),setup!M18),\"\")","v":""},{"$f":"IF(D66>0,ROUND(AVERAGE(D66:D67),setup!M18),\"\")","v":""},{"$f":"IF(E66>0,ROUND(AVERAGE(E66:E67),setup!M18),\"\")","v":""},{"$f":"IF(F66>0,ROUND(AVERAGE(F66:F67),setup!$M$18),\"\")","v":""},{"$f":"IF(G66>0,ROUND(AVERAGE(G66:G67),setup!$M$18),\"\")","v":""},{"$f":"IF(H66>0,ROUND(AVERAGE(H66:H67),setup!$M$18),\"\")","v":""},{"$f":"IF(I66>0,ROUND(AVERAGE(I66:I67),setup!M18),\"\")","v":""},null,"Diameter                        D",{"$f":"IF(L66>0,ROUND(AVERAGE(L66:L67),setup!M18),\"\")","v":""},{"$f":"IF(M66>0,ROUND(AVERAGE(M66:M67),setup!$M$18),\"\")","v":""},{"$f":"IF(N66>0,ROUND(AVERAGE(N66:N67),setup!M18),\"\")","v":""},{"$f":"IF(O66>0,ROUND(AVERAGE(O66:O67),setup!$M$18),\"\")","v":""},{"$f":"IF(P66>0,ROUND(AVERAGE(P66:P67),setup!$M$18),\"\")","v":""},{"$f":"IF(Q66>0,ROUND(AVERAGE(Q66:Q67),setup!$M$18),\"\")","v":""},{"$f":"IF(R66>0,ROUND(AVERAGE(R66:R67),setup!$M$18),\"\")","v":""},{"$f":"IF(S66>0,ROUND(AVERAGE(S66:S67),setup!$M$18),\"\")","v":""}]
["T1",null,null,null,null,null,null,null,null,null,"T1"]
["   Specimen                      T2",null,null,null,null,null,null,null,null,null,"Speciman                     T2"]
["   Thickness                      T3",null,null,null,null,null,null,null,null,null,"Thickness                     T3"]
["T",{"$f":"IF(B69>0,ROUND(AVERAGE(B69:B71),setup!M18),\"\")","v":""},{"$f":"IF(C69>0,ROUND(AVERAGE(C69:C71),setup!M18),\"\")","v":""},{"$f":"IF(D69>0,ROUND(AVERAGE(D69:D71),setup!M18),\"\")","v":""},{"$f":"IF(E69>0,ROUND(AVERAGE(E69:E71),setup!M18),\"\")","v":""},{"$f":"IF(F69>0,ROUND(AVERAGE(F69:F71),setup!M18),\"\")","v":""},{"$f":"IF(G69>0,ROUND(AVERAGE(G69:G71),setup!M18),\"\")","v":""},{"$f":"IF(H69>0,ROUND(AVERAGE(H69:H71),setup!M18),\"\")","v":""},{"$f":"IF(I69>0,ROUND(AVERAGE(I69:I71),setup!M18),\"\")","v":""},null,"T",{"$f":"IF(L69>0,ROUND(AVERAGE(L69:L71),setup!$M$18),\"\")","v":""},{"$f":"IF(M69>0,ROUND(AVERAGE(M69:M71),setup!$M$18),\"\")","v":""},{"$f":"IF(N69>0,ROUND(AVERAGE(N69:N71),setup!$M$18),\"\")","v":""},{"$f":"IF(O69>0,ROUND(AVERAGE(O69:O71),setup!$M$18),\"\")","v":""},{"$f":"IF(P69>0,ROUND(AVERAGE(P69:P71),setup!$M$18),\"\")","v":""},{"$f":"IF(Q69>0,ROUND(AVERAGE(Q69:Q71),setup!$M$18),\"\")","v":""},{"$f":"IF(R69>0,ROUND(AVERAGE(R69:R71),setup!$M$18),\"\")","v":""},{"$f":"IF(S69>0,ROUND(AVERAGE(S69:S71),setup!$M$18),\"\")","v":""}]
["Dial Reading",null,null,null,null,null,null,null,null,null,"Dial Reading"]
["  P   Maximum Load",null,null,null,null,null,null,null,null,null,"  P   Maximum Load"]
["S    Strength   (2P/pi*TD)",{"$f":"IF(B74>0,ROUND((2*B74)/(PI()*B72*B68),setup!M19),\"\")","v":""},{"$f":"IF(C74>0,ROUND((2*C74)/(PI()*C72*C68),setup!M19),\"\")","v":""},{"$f":"IF(D74>0,ROUND((2*D74)/(PI()*D72*D68),setup!M19),\"\")","v":""},{"$f":"IF(E74>0,ROUND((2*E74)/(PI()*E72*E68),setup!M19),\"\")","v":""},{"$f":"IF(F74>0,ROUND((2*F74)/(PI()*F72*F68),setup!M19),\"\")","v":""},{"$f":"IF(G74>0,ROUND((2*G74)/(PI()*G72*G68),setup!M19),\"\")","v":""},{"$f":"IF(H74>0,ROUND((2*H74)/(PI()*H72*H68),setup!M19),\"\")","v":""},{"$f":"IF(I74>0,ROUND((2*I74)/(PI()*I72*I68),setup!M19),\"\")","v":""},null,"S    Strength   (2P/pi*TD)",{"$f":"IF(L74>0,ROUND((2*L74)/(PI()*L72*L68),setup!M19),\"\")","v":""},{"$f":"IF(M74>0,ROUND((2*M74)/(PI()*M72*M68),setup!$M$19),\"\")","v":""},{"$f":"IF(N74>0,ROUND((2*N74)/(PI()*N72*N68),setup!$M$19),\"\")","v":""},{"$f":"IF(O74>0,ROUND((2*O74)/(PI()*O72*O68),setup!$M$19),\"\")","v":""},{"$f":"IF(P74>0,ROUND((2*P74)/(PI()*P72*P68),setup!$M$19),\"\")","v":""},{"$f":"IF(Q74>0,ROUND((2*Q74)/(PI()*Q72*Q68),setup!$M$19),\"\")","v":""},{"$f":"IF(R74>0,ROUND((2*R74)/(PI()*R72*R68),setup!$M$19),\"\")","v":""},{"$f":"IF(S74>0,ROUND((2*S74)/(PI()*S72*S68),setup!$M$19),\"\")","v":""}]
[]
["Avg. Strength (Ctrl.)",{"$f":"IF(B75<>\"\",ROUND(AVERAGE(B75:E75),setup!$M$19),\"\")","v":""},null,"Date Tested",null,null,null,null,null,null,"Avg. Strength (Ctrl.)",{"$f":"IF(L75<>\"\",ROUND(AVERAGE(L75:O75),setup!$M$19),\"\")","v":""},null,"Date Tested"]
["Avg. Strength (Cond.)",{"$f":"IF(F75<>\"\",ROUND(AVERAGE(F75:I75),setup!$M$19),\"\")","v":""},null,"Samp. Set I.D.",null,null,null,null,null,null,"Avg. Strength (Cond.)",{"$f":"IF(P75<>\"\",ROUND(AVERAGE(P75:S75),setup!$M$19),\"\")","v":""},null,"Samp. Set I.D."]
["TSR",{"$f":"IF(B77<>\"\",ROUND((B78/B77)*100,setup!$M$20),\"\")","v":""},null,"Warm Mix Asphalt(Y/N) ",null,{"$f":"'JMF Input'!K23","v":"No"},null,null,null,null,"TSR",{"$f":"IF(L77<>\"\",ROUND((L78/L77)*100,setup!$M$20),\"\")","v":""},null,"Warm Mix Asphalt(Y/N) ",null,{"$f":"'JMF Input'!K23","v":"No"}]
[]
[]
["Tested by:",null,null,null,null,null,null,null,null,null,"Tested by:"]
[]
["Checked by:",null,null,null,null,null,null,null,null,null,"Checked by:"]
[]
[]
[{"$f":"setup!S2","v":"LaPave 502 v18.05.02"},null,null,null,null,null,null,{"$f":"TODAY()","v":"2023-03-31"},null,null,{"$f":"setup!S2","v":"LaPave 502 v18.05.02"},null,null,null,null,null,null,{"$f":"TODAY()","v":"2023-03-31"}]

{"sheet":"JMF Input","index":6,"n_rows":47,"n_cols":28,"rows_kept":47,"cut":false,"hidden":false,"merged":[[26,2,26,5],[10,1,10,3],[21,2,21,5],[22,2,22,5],[14,1,14,3],[13,1,13,3],[12,1,12,3],[11,1,11,3],[25,0,25,5],[23,2,23,5],[24,2,24,5],[15,1,15,3],[35,16,35,17],[46,11,46,14],[45,1,45,14],[28,4,28,5],[31,10,32,11],[25,10,26,11],[30,10,30,11],[29,10,29,11],[28,9,28,11],[22,10,22,11],[23,10,23,11],[24,10,24,11],[21,9,21,11],[19,1,19,3],[18,1,18,3],[17,1,17,3],[16,1,16,3],[2,13,2,14],[3,13,3,14],[4,13,4,14],[6,9,6,10],[9,1,9,3],[8,1,8,3],[2,6,2,8],[6,3,6,7],[4,1,4,2],[3,7,3,8],[4,4,4,5],[5,1,5,2],[5,4,5,5],[3,1,3,2]]}
[null,null,null,null,"SUPERPAVE ASPHALTIC CONCRETE MIXTURES"]
[]
["Project No.",null,"Mix Code","26-English","JMF No",null,{"$f":"IF(SUM(AB3:AB14)=0, \"NMS, Level, Mix Type not valid\",\"\")","v":""},null,null,"Traffic (ADT)",null,null,"ESAL",null,null,null,"mix code","design level",null,"mix type",null,null,"mix use",null,"0.5 in.","A","Incidental Paving",{"$f":"IF(AND($I$5=Y3, LEFT($F$4,1)=Z3, $E$5=AA3), 1, 0)","v":0}]
["Project Name",null,null,null,"Design Level",1,"Plant Type","3-dryer drum",null,"Prod. Rate",null,null,"Adj.Fac",{"$f":"IF(JMF!H35<>\"\",  IF(JMF!H35<=2.339, 2.4/JMF!D35, IF(JMF!H35<=2.36, 1.02, IF(JMF!H35<=2.399, 1.01, IF(JMF!H35<=2.54, 1, IF(JMF!H35<=2.57, 0.99, IF(JMF!H35<=2.59, 0.98, 2.54/JMF!H35)))))), IF(JMF!D35<>\"\", IF(JMF!D35<=2.339, 2.4/JMF!D35, IF(JMF!D35<=2.36, 1.02, IF(JMF!D35<=2.399, 1.01, IF(JMF!D35<=2.54, 1, IF(JMF!D35<=2.57, 0.99, IF(JMF!D35<=2.59, 0.98, 2.54/JMF!D35)))))), \"\"))","v":{"$error":"#DIV/0!"}},null,null,"26-English",1,null,"Incidental Paving",null,null,"ML - Wearing",null,"0.5 in.","1","Wearing Course",{"$f":"IF(AND($I$5=Y4, LEFT($F$4,1)=Z4, $E$5=AA4), 1, 0)","v":0}]
["Project Eng.",null,null,"Mix Type","Base Course",null,null,"Nom Agg Size","1 in.","Mix Temp",null,null,"Date",null,null,null,"64-Metric","1F",null,"Wearing Course",null,null,"ML - Binder",null,"0.5 in.","2","Wearing Course",0]
["Contractor",null,null,"Use","Min - Patching",null,null,"Specs","2016","AC Corr Factor",{"$f":"'Comp. Grad. and FAA Input'!$S$94","v":4.1376058339801904},null,{"$f":"IF(OR('Moisture Susceptibility Design'!B19<>\"\",'Moisture Susceptibility Design'!L19<>\"\"),\"Design LWT Rut\",IF(OR('Moisture Susceptibility Design'!B79<>\"\",'Moisture Susceptibility Design'!L79<>\"\"),\"Design TSR%\",\"LWT/TSR\"))","v":{"$error":"#DIV/0!"}},{"$f":"IF(OR('Moisture Susceptibility Design'!B19<>\"\",'Moisture Susceptibility Design'!L19<>\"\"),TEXT('Moisture Susceptibility Design'!B19,\"0.00\"),IF(OR('Moisture Susceptibility Design'!B79<>\"\",'Moisture Susceptibility Design'!L79<>\"\"),TEXT('Moisture Susceptibility Design'!B79,\"0\"),\"\"))","v":{"$error":"#DIV/0!"}},null,null,null,2,null,"Binder Course",null,null,"ML - Base",null,"0.75 in.","2","Wearing Course",0]
["Contr. Mix #",null,"SMM P/S",{"$f":"'Material Setup'!B5","v":0},null,null,null,null,"SMM ID",null,null,null,{"$f":"IF(OR('Moisture Susceptibility Design'!B19<>\"\",'Moisture Susceptibility Design'!L19<>\"\"),\"No. Passes\",IF(OR('Moisture Susceptibility Design'!B79<>\"\",'Moisture Susceptibility Design'!L79<>\"\"),\"Control (psi)\",\"\"))","v":{"$error":"#DIV/0!"}},{"$f":"IF(OR('Moisture Susceptibility Design'!B19<>\"\",'Moisture Susceptibility Design'!L19<>\"\"),'Moisture Susceptibility Design'!B20,IF(OR('Moisture Susceptibility Design'!B79<>\"\",'Moisture Susceptibility Design'!L79<>\"\"),'Moisture Susceptibility Design'!B77,\"\"))","v":{"$error":"#DIV/0!"}},null,null,null,"2F",null,"Base Course",null,0,"ML - Ramp >300ft",null,"0.75 in.","1","Binder Course",0]
[null,null,null,null,null,null,null,null,null,null,null,null,null,null,null,null,null,"A",null,"ATB",null,null,"ML - Interstate acc/dec",null,"0.75 in.","2","Binder Course",0]
["P/S","Aggregate",null,null,"%","Bulk"," ","FAA","Sand Eq.","Flat & Elong","CAA","Friction","%Ret","%Ret","Aggr.",null,null,"SMA",null,"SMA",null,null,"ML - Center turn lane",null,"1 in.","1","Binder Course",0]
["Code","Type",null,null,null,"Gravity","Absorption","Method A","- 4.75 mm","%5:1",null,"Rating","No.8","No.4","Class",null,"Sorts Agg for JMF",null,null,"AC",null,null,"ML - Airport center lane",null,"1 in.","2","Binder Course",0]
[null,null,null,null,null,null,null,null,null,null,null,null,{"$f":"IF(O11>0, 100-'Comp. Grad. and FAA Input'!K15, \"\")","v":""},{"$f":"IF(O11>0, 100-'Comp. Grad. and FAA Input'!K14, \"\")","v":""},null,null,{"$f":"IF(E11<0,0,IF(O11=\"Coarse\", 100+ROW(), IF(O11=\"Rap\", 1000+ROW(), IF(O11=\"Fine\", 10000+ROW(), IF(O11=\"Other\",100000+ROW(), 1000000+ROW())))))","v":1000011},{"$f":"SMALL($Q$11:$Q$20,1)","v":1000011},null,"PG58-28",null,null,"Min - Shoulder > 7ft",null,"1 in.","1","Base Course",1]
[null,null,null,null,null,null,null,null,null,null,null,null,{"$f":"IF(O12>0, 100-'Comp. Grad. and FAA Input'!J15, \"\")","v":""},{"$f":"IF(O12>0, 100-'Comp. Grad. and FAA Input'!J14, \"\")","v":""},null,null,{"$f":"IF(E12<0,0,IF(O12=\"Coarse\", 100+ROW(), IF(O12=\"Rap\", 1000+ROW(), IF(O12=\"Fine\", 10000+ROW(), IF(O12=\"Other\",100000+ROW(), 1000000+ROW())))))","v":1000012},{"$f":"SMALL($Q$11:$Q$20,2)","v":1000012},null,"PG64-22",null,null,"Min - Shoulder",null,"1 in.","1","ATB",0]
[null,null,null,null,null,null,null,null,null,null,null,null,{"$f":"IF(O13>0, 100-'Comp. Grad. and FAA Input'!I15, \"\")","v":""},{"$f":"IF(O13>0, 100-'Comp. Grad. and FAA Input'!I14, \"\")","v":""},null,null,{"$f":"IF(E13<0,0,IF(O13=\"Coarse\", 100+ROW(), IF(O13=\"Rap\", 1000+ROW(), IF(O13=\"Fine\", 10000+ROW(), IF(O13=\"Other\",100000+ROW(), 1000000+ROW())))))","v":1000013},{"$f":"SMALL($Q$11:$Q$20,3)","v":1000013},null,"PG70-22M",null,null,"Min - Patching",null,"1.5 in.","1","Base Course",0]
[null,null,null,null,null,null,null,null,null,null,null,null,{"$f":"IF(O14>0, 100-'Comp. Grad. and FAA Input'!H15, \"\")","v":""},{"$f":"IF(O14>0, 100-'Comp. Grad. and FAA Input'!H14, \"\")","v":""},null,null,1000014,{"$f":"SMALL($Q$11:$Q$20,4)","v":1000014},null,"PG76-22M",null,null,"Min - Leveling",null,null,"S","Wearing Course",{"$f":"IF(AND(LEFT($F$4,1)=Z14, $E$5=AA14), 1, 0)","v":0}]
[null,null,null,null,null,null,null,null,null,null,null,null,{"$f":"IF(O15>0, 100-'Comp. Grad. and FAA Input'!G15, \"\")","v":""},{"$f":"IF(O15>0, 100-'Comp. Grad. and FAA Input'!G14, \"\")","v":""},null,null,1000015,{"$f":"SMALL($Q$11:$Q$20,5)","v":1000015},null,"PG82-22M",null,null,"Min - Widening"]
[null,null,null,null,null,null,null,null,null,null,null,null,{"$f":"IF(O16>0, 100-'Comp. Grad. and FAA Input'!F15, \"\")","v":""},{"$f":"IF(O16>0, 100-'Comp. Grad. and FAA Input'!F14, \"\")","v":""},null,null,1000016,{"$f":"SMALL($Q$11:$Q$20,6)","v":1000016},null,null,null,null,"Min - Ramp < 300ft"]
[null,null,null,null,null,null,null,null,null,null,null,null,{"$f":"IF(O17>0, 100-'Comp. Grad. and FAA Input'!E15, \"\")","v":""},{"$f":"IF(O17>0, 100-'Comp. Grad. and FAA Input'!E14, \"\")","v":""},null,null,1000017,{"$f":"SMALL($Q$11:$Q$20,7)","v":1000017},null,"plant type",null,"nom size","Min - Crossover"]
[null,null,null,null,null,null,null,null,null,null,null,null,{"$f":"IF(O18>0, 100-'Comp. Grad. and FAA Input'!D15, \"\")","v":""},{"$f":"IF(O18>0, 100-'Comp. Grad. and FAA Input'!D14, \"\")","v":""},null,null,1000018,{"$f":"SMALL($Q$11:$Q$20,8)","v":1000018},null,"1-batch screenless",null,"0.5 in.","Min - Turnout"]
[null,null,null,null,null,null,null,null,null,null,null,null,{"$f":"IF(O19>0, 100-'Comp. Grad. and FAA Input'!H15, \"\")","v":""},{"$f":"IF(O19>0, 100-'Comp. Grad. and FAA Input'!C14, \"\")","v":""},null,null,1000019,{"$f":"SMALL($Q$11:$Q$20,9)","v":1000019},null,"2-batch hot bin",null,"0.75 in.","Min - Miscellaneous"]
[null,null,null,null,null,null,null,null,null,null,null,null,{"$f":"IF(O20>0, 100-'Comp. Grad. and FAA Input'!B15, \"\")","v":""},{"$f":"IF(O20>0, 100-'Comp. Grad. and FAA Input'!B14, \"\")","v":""},null,null,1000020,{"$f":"SMALL($Q$11:$Q$20,10)","v":1000020},null,"3-dryer drum",null,"1 in."]
[null,null,null,null,{"$f":"SUM(E11:E20)","v":0},null,null,{"$f":"IF('JMF CHECK'!J21<Y27,\"FAA check\",\"\")","v":""},{"$f":"IF('JMF CHECK'!K21<Y26,\"SE check\",\"\")","v":""},{"$f":"IF('JMF CHECK'!L21>'JMF Input'!Y24,\"F&E check\",\"\")","v":""},{"$f":"IF('JMF CHECK'!M21<Y25,\"CAA check\",\"\")","v":""},{"$f":"IF(E6=\"ML - Wearing\",IF(K3<2500, IF(OR(U33+V33>50,W33=0), \"\",\"I/II >= 50\"), IF(W33>0,\"NO IV in WEAR\",IF(K3>7000,IF(OR(U33>=50,U33+V33>=75),\"\",\"I>50 or I/II>75\"),\"\"))),\"\")","v":""},null,null,null,null,null,null,null,"4-continuous",null,"1.5 in."]
[null,"Source Code","Material",null,null,null,"%","Sp. Gravity",null,"Warm Mix Asphalt",null,null,null,"Gyr. Rev",null,null,"FAA","SE","F&E","CAA","FR I","FR II","FR IV",null,null,"Nat Sand"]
["Asphalt",null,null,null,null,null,{"$f":"J37-G26","v":0},1.03,{"$f":"IF(G23<setup!B42,\"MIN Binder\",\"\")","v":""},"Warm Mix","No",null,"Nini ",{"$f":"IF($F$4=\"OGFC\",setup!AG10, IF($F$4=\"T.L.\",setup!AF10, IF($F$4=\"SMA\",setup!AE10,IF($I$5=$V$18,IF($E$5=$T$4,IF(LEFT($F$4,1)=\"A\",setup!T10,\"\"),IF($E$5=$T$5,IF(LEFT($F$4,1)=\"1\",setup!U10,IF(LEFT($F$4,1)=\"2\",setup!V10,\"\")))),IF($I$5=$V$19,IF($E$5=$T$5,IF(LEFT($F$4,1)=\"2\",setup!W10,\"\"),IF($E$5=$T$6,IF(LEFT($F$4,1)=\"1\",setup!X10,IF(LEFT($F$4,1)=\"2\",setup!Y10,\"\")),\"\")),IF($I$5=$V$20, IF($E$5=$T$6, IF(LEFT($F$4,1)=\"1\",setup!Z10,IF(LEFT($F$4,1)=\"2\", setup!AA10, \"\")), IF($E$5=$T$7,  IF(LEFT($F$4,1)=\"1\",setup!AB10,\"\"), IF($E$5=$T$8,  IF(LEFT($F$4,1)=\"1\",setup!AC10,\"\"),\"\"))),IF($I$5=$V$21, IF($E$5=$T$7, IF(LEFT($F$4, 1) = \"1\", setup!AD10, \"\"), \"\"), \"\")))))))","v":7},null,{"$f":"IF(AND(O11=\"Coarse\",N11>10),\"C\",IF(AND(O11=\"Fine\",IFERROR((100-N11),0)>10),\"F\",\"\"))","v":""},{"$f":"IF(P23=\"F\", IF(H11>=$Y$27,0,1),0)","v":0},{"$f":"IF(P23=\"F\", IF(I11>=$Y$26,0,1),0)","v":0},{"$f":"IF($Y$24=\"--\",0,IF(P23=\"C\", IF(J11<=$Y$24,0,1),0))","v":0},{"$f":"IF($Y$25=\"--\",0,IF(P23=\"C\", IF(K11>=$Y$25,0,1),0))","v":0},{"$f":"IF(L11=\"I\",E11,0)","v":0},{"$f":"IF(L11=\"II\",E11,0)","v":0},{"$f":"IF(L11=\"IV\",E11,0)","v":0},null,null,{"$f":"IF(LEFT(B11,10)=\"1003M01825\",E11,0)","v":0}]
["Alt. Asphalt",null,"",null,null,null,null,null,null,"Method","None",null,"Ndes ",{"$f":"IF($F$4=\"OGFC\",setup!AG11, IF($F$4=\"T.L.\",setup!AF11, IF($F$4=\"SMA\",setup!AE11,IF($I$5=$V$18,IF($E$5=$T$4,IF(LEFT($F$4,1)=\"A\",setup!T11,\"\"),IF($E$5=$T$5,IF(LEFT($F$4,1)=\"1\",setup!U11,IF(LEFT($F$4,1)=\"2\",setup!V11,\"\")))),IF($I$5=$V$19,IF($E$5=$T$5,IF(LEFT($F$4,1)=\"2\",setup!W11,\"\"),IF($E$5=$T$6,IF(LEFT($F$4,1)=\"1\",setup!X11,IF(LEFT($F$4,1)=\"2\",setup!Y11,\"\")),\"\")),IF($I$5=$V$20, IF($E$5=$T$6, IF(LEFT($F$4,1)=\"1\",setup!Z11,IF(LEFT($F$4,1)=\"2\", setup!AA11, \"\")), IF($E$5=$T$7,  IF(LEFT($F$4,1)=\"1\",setup!AB11,\"\"), IF($E$5=$T$8,  IF(LEFT($F$4,1)=\"1\",setup!AC11,\"\"),\"\"))),IF($I$5=$V$21, IF($E$5=$T$7, IF(LEFT($F$4, 1) = \"1\", setup!AD11, \"\"), \"\"), \"\")))))))","v":55},null,{"$f":"IF(AND(O12=\"Coarse\",N12>10),\"C\",IF(AND(O12=\"Fine\",IFERROR((100-N12),0)>10),\"F\",\"\"))","v":""},{"$f":"IF(P24=\"F\", IF(H12>=$Y$27,0,1),0)","v":0},{"$f":"IF(P24=\"F\", IF(I12>=$Y$26,0,1),0)","v":0},{"$f":"IF($Y$24=\"--\",0,IF(P24=\"C\", IF(J12<=$Y$24,0,1),0))","v":0},{"$f":"IF($Y$25=\"--\",0,IF(P24=\"C\", IF(K12>=$Y$25,0,1),0))","v":0},{"$f":"IF(L12=\"I\",E12,0)","v":0},{"$f":"IF(L12=\"II\",E12,0)","v":0},{"$f":"IF(L12=\"IV\",E12,0)","v":0},"F&E",{"$f":"setup!B38","v":10},{"$f":"IF(LEFT(B12,10)=\"1003M01825\",E12,0)","v":0}]
["Alt. Asphalt",null,null,null,null,null,null,null,null,"Rate",null,null,"Nmax ",{"$f":"IF($F$4=\"OGFC\",setup!AG12, IF($F$4=\"T.L.\",setup!AF12, IF($F$4=\"SMA\",setup!AE12,IF($I$5=$V$18,IF($E$5=$T$4,IF(LEFT($F$4,1)=\"A\",setup!T12,\"\"),IF($E$5=$T$5,IF(LEFT($F$4,1)=\"1\",setup!U12,IF(LEFT($F$4,1)=\"2\",setup!V12,\"\")))),IF($I$5=$V$19,IF($E$5=$T$5,IF(LEFT($F$4,1)=\"2\",setup!W12,\"\"),IF($E$5=$T$6,IF(LEFT($F$4,1)=\"1\",setup!X12,IF(LEFT($F$4,1)=\"2\",setup!Y12,\"\")),\"\")),IF($I$5=$V$20, IF($E$5=$T$6, IF(LEFT($F$4,1)=\"1\",setup!Z12,IF(LEFT($F$4,1)=\"2\", setup!AA12, \"\")), IF($E$5=$T$7,  IF(LEFT($F$4,1)=\"1\",setup!AB12,\"\"), IF($E$5=$T$8,  IF(LEFT($F$4,1)=\"1\",setup!AC12,\"\"),\"\"))),IF($I$5=$V$21, IF($E$5=$T$7, IF(LEFT($F$4, 1) = \"1\", setup!AD12, \"\"), \"\"), \"\")))))))","v":90},null,"",0,0,0,0,0,0,0,"CAA",{"$f":"setup!B37","v":75},0]
["Asphalt Content from RAP",null,null,null,null,null,{"$f":"SUM(M41:N41)","v":0},{"$f":"1.03","v":1.03},null,"If Chemical -",null,null,null,null,null,"",0,0,0,0,0,0,0,"SE",{"$f":"setup!B39","v":40},0]
["Anti-strip",null,null,null,null,null,null," ",null,"Brand Name:",null,null,null,null,null,"",{"$f":"IF(P27=\"F\", IF(H15>=$Y$27,0,1),0)","v":0},0,0,0,0,0,0,"FAA",{"$f":"setup!B40","v":40},0]
[null,null,null,null,null,null,null,null,null,null,null,null,null,null,null,"",0,0,0,0,0,0,0,"FR","I,II",0]
[null,"Cold Feed","Avg Oven Extract",null,"Validated Results",null,null,null,null,"Draindown Control",null,null,null,null,null,"",{"$f":"IF(P29=\"F\", IF(H17>=$Y$27,0,1),0)","v":0},0,0,0,0,0,0,"Rap",{"$f":"IF(E6=\"ML - Airport center lane\",0,setup!C41+IF(F4=\"SMA\",0,5))","v":35},0]
["Sieve","% Passing","% Passing",null,"% Passing","Tolerance",null,null,null,"Type","None",null,null,null,null,"",0,0,0,0,0,0,0,"SCB",{"$f":"setup!B43","v":0.5},0]
["1.5\"      37.5",100,100,null,{"$f":"JMF!H44","v":""},{"$f":"JMF!N44 & \" \" & JMF!P44  & \" \" & JMF!Q44","v":" -- "},null,null,null,"Rate",null,null,null,null,null,"",0,0,0,0,0,0,0,null,null,0]
["1\"           25",{"$f":"ROUND('Comp. Grad. and FAA Input'!L10,setup!$M$42)","v":0},{"$f":"ROUND('Comp. Grad. and FAA Input'!Q74,setup!$M$42)","v":96.5},null,{"$f":"JMF!H45","v":""},{"$f":"JMF!N45 & \" \" & JMF!P45  & \" \" & JMF!Q45","v":" -- "},null,null,null,"If Chemical -",null,null,null,null,null,"",0,0,0,0,0,0,0,null,null,0]
["3/4\"        19",{"$f":"ROUND('Comp. Grad. and FAA Input'!L11,setup!$M$42)","v":0},{"$f":"ROUND('Comp. Grad. and FAA Input'!Q75,setup!$M$42)","v":85.1},null,{"$f":"JMF!H46","v":""},{"$f":"JMF!N46 & \" \" & JMF!P46  & \" \" & JMF!Q46","v":" -- "},null,null,null,"Brand Name:",null,null,null,null,null,null,null,null,null,null,{"$f":"SUM(U23:U32)","v":0},{"$f":"SUM(V23:V32)","v":0},{"$f":"SUM(W23:W32)","v":0},null,null,{"$f":"SUM(Z23:Z32)","v":0}]
["1/2\"      12.5",{"$f":"ROUND('Comp. Grad. and FAA Input'!L12,setup!$M$42)","v":0},{"$f":"ROUND('Comp. Grad. and FAA Input'!Q76,setup!$M$42)","v":69.400000000000006},null,{"$f":"JMF!H47","v":""},{"$f":"JMF!N47 & \" \" & JMF!P47  & \" \" & JMF!Q47","v":" -- "}]
["3/8\"      9.5",{"$f":"ROUND('Comp. Grad. and FAA Input'!L13,setup!$M$42)","v":0},{"$f":"ROUND('Comp. Grad. and FAA Input'!Q77,setup!$M$42)","v":62},null,{"$f":"JMF!H48","v":""},{"$f":"JMF!N48 & \" \" & JMF!P48  & \" \" & JMF!Q48","v":" -- "},null,null,"%Nat Sand",{"$f":"Z33","v":0},{"$f":"IF(setup!C36<>\"NA\", IF(J35>setup!C36, \"MAX Nat Sand\", \"\"),\"\")","v":""}]
["#4       4.75",{"$f":"ROUND('Comp. Grad. and FAA Input'!L14,setup!$M$42)","v":0},{"$f":"ROUND('Comp. Grad. and FAA Input'!Q78,setup!$M$42)","v":50.9},null,{"$f":"JMF!H49","v":""},{"$f":"JMF!N49 & \" \" & JMF!P49  & \" \" & JMF!Q49","v":" -- "},null,null,"PSG",{"$f":"$H$23","v":1.03},null,null,"Rap 1","Rap 2",null,null,"correct rap agg%",null,"n"]
["#8       2.36",{"$f":"ROUND('Comp. Grad. and FAA Input'!L15,setup!$M$42)","v":0},{"$f":"ROUND('Comp. Grad. and FAA Input'!Q79,setup!$M$42)","v":39.200000000000003},null,{"$f":"JMF!H50","v":""},{"$f":"JMF!N50 & \" \" & JMF!P50  & \" \" & JMF!Q50","v":" -- "},null,null,"%Design AC",{"$f":"'Optimum AC Test Results'!C35","v":0},null,"Type"]
["#16      1.18",{"$f":"ROUND('Comp. Grad. and FAA Input'!L16,setup!$M$42)","v":0},{"$f":"ROUND('Comp. Grad. and FAA Input'!Q80,setup!$M$42)","v":32.4},null,{"$f":"JMF!H51","v":""},{"$f":"JMF!N51 & \" \" & JMF!P51  & \" \" & JMF!Q51","v":" -- "},null,null,"%Crushed",null,{"$f":"IF(J38<Y25,\"%Crush MIN\",\"\")","v":"%Crush MIN"},"% MixRapTotal",null,null,{"$f":"IF(SUM(M38:N38)>(Y29),\"MAX RAP\",\"\")","v":""}]
["#30       0.6",{"$f":"ROUND('Comp. Grad. and FAA Input'!L17,setup!$M$42)","v":0},{"$f":"ROUND('Comp. Grad. and FAA Input'!Q81,setup!$M$42)","v":24.7},null,{"$f":"JMF!H52","v":""},{"$f":"JMF!N52 & \" \" & JMF!P52  & \" \" & JMF!Q52","v":" -- "},null,null,"Gsbavg",{"$f":"IF(SUM(F11:F20)>0,ROUND(100/(IF('JMF Input'!F11>0,ROUND('JMF Input'!E11/'JMF Input'!F11,5),0)+IF('JMF Input'!F12>0,ROUND('JMF Input'!E12/'JMF Input'!F12,5),0)+IF('JMF Input'!F13>0,ROUND('JMF Input'!E13/'JMF Input'!F13,5),0)+IF('JMF Input'!F14>0,ROUND('JMF Input'!E14/'JMF Input'!F14,5),0)+IF('JMF Input'!F15>0,ROUND('JMF Input'!E15/'JMF Input'!F15,5),0)+IF('JMF Input'!F16>0,ROUND('JMF Input'!E16/'JMF Input'!F16,5),0)+IF('JMF Input'!F17>0,ROUND('JMF Input'!E17/'JMF Input'!F17,5),0)+IF('JMF Input'!F18>0,ROUND('JMF Input'!E18/'JMF Input'!F18,5),0)+IF('JMF Input'!F19>0,ROUND('JMF Input'!E19/'JMF Input'!F19,5),0)+IF('JMF Input'!F20>0,ROUND('JMF Input'!E20/'JMF Input'!F20,5),0)),setup!M24),0)","v":0},null,"% AC in RAP"]
["#50       0.3",{"$f":"ROUND('Comp. Grad. and FAA Input'!L18,setup!$M$42)","v":0},{"$f":"ROUND('Comp. Grad. and FAA Input'!Q82,setup!$M$42)","v":12},null,{"$f":"JMF!H53","v":""},{"$f":"JMF!N53 & \" \" & JMF!P53  & \" \" & JMF!Q53","v":" -- "},null,null,"Comp Temp",null,null,"% MixRap Agg",{"$f":"IF(M35>0, ROUND(M38-M41,1), \"\")","v":""},{"$f":"IF(N35>0, N38-N41, \"\")","v":""}]
["#100    0.15",{"$f":"ROUND('Comp. Grad. and FAA Input'!L19,setup!$M$42)","v":0},{"$f":"ROUND('Comp. Grad. and FAA Input'!Q83,setup!$M$42)","v":7.5},null,{"$f":"JMF!H54","v":""},{"$f":"JMF!N54 & \" \" & JMF!P54  & \" \" & JMF!Q54","v":" -- "},null,null,"SCB Jc",null,{"$f":"IF(J41<Y30,\"SCB Min\",\"\")","v":"SCB Min"},"% MixRap AC",{"$f":"IF(M35>0, ROUND(M39*M38/100,1), \"\")","v":""},{"$f":"IF(N35>0, ROUND(N39*N38/100,1), \"\")","v":""}]
["#200   0.075",{"$f":"ROUND('Comp. Grad. and FAA Input'!L20,setup!$M$43)","v":0},{"$f":"ROUND('Comp. Grad. and FAA Input'!Q84,setup!$M$43)","v":5},null,{"$f":"JMF!H55","v":""},{"$f":"JMF!N55 & \" \" & JMF!P55  & \" \" & JMF!Q55","v":" -- "},null,null,{"$f":"IF(F4=\"SMA\",\"Flat and Elong 3:1\",\"\")","v":""},null,{"$f":"IF(AND(F4=\"SMA\",J42>25),\"F&E 3:1\",\"\")","v":""}]
[]
["Extracted %AC",null,{"$f":"J37","v":0},null,{"$f":"JMF!H56","v":""},{"$f":"JMF!N56 & \" \" & JMF!P56  & \" \" & JMF!Q56","v":" -- "}]
[]
["Remarks:"]
[{"$f":"setup!S2","v":"LaPave 502 v18.05.02"},null,null,null,null,null,null,null,null,null,null,{"$f":"TODAY()","v":"2023-03-31"}]

{"sheet":"JMF","index":7,"n_rows":66,"n_cols":37,"rows_kept":66,"cut":false,"hidden":false,"merged":[[0,0,0,30],[1,0,1,30],[4,18,4,22],[12,28,12,29],[16,19,16,21],[39,7,39,9],[34,7,34,9],[36,13,36,14],[22,15,22,16],[21,15,21,16],[21,3,21,5],[34,17,34,26],[19,19,19,21],[38,18,38,27],[35,17,35,22],[35,25,35,28],[30,15,30,16],[27,15,27,16],[16,22,16,24],[32,0,32,6],[38,13,38,14],[31,4,31,7],[36,3,36,6],[32,13,32,16],[61,3,61,15],[62,3,62,15],[12,0,12,2],[12,3,12,5],[12,13,12,14],[12,15,12,16],[12,19,12,21],[12,22,12,24],[12,25,12,26],[54,3,54,6],[55,3,55,6],[48,7,48,9],[52,0,52,2],[55,13,55,14],[57,18,57,24],[56,10,56,11],[56,0,56,2],[52,10,52,11],[51,13,51,14],[52,3,52,6],[56,3,56,6],[51,21,51,24],[52,21,52,26],[53,13,53,14],[44,0,44,2],[41,28,41,29],[39,13,39,14],[41,10,41,11],[42,7,42,9],[40,0,40,2],[41,0,41,2],[41,3,41,6],[42,10,42,11],[42,3,42,6],[41,13,41,14],[42,13,42,14],[42,0,42,2],[40,13,40,14],[39,17,39,29],[39,0,39,2],[39,3,39,6],[39,10,39,11],[43,21,43,24],[54,28,54,29],[56,28,56,29],[57,28,57,29],[56,21,56,22],[58,28,58,29],[55,28,55,29],[55,0,55,2],[54,0,54,2],[57,10,57,11],[54,13,54,14],[53,3,53,6],[48,10,48,11],[48,0,48,2],[51,10,51,11],[50,10,50,11],[51,7,51,9],[47,10,47,11],[48,13,48,14],[50,13,50,14],[53,0,53,2],[52,7,52,9],[53,10,53,11],[47,3,47,6],[46,3,46,6],[49,0,49,2],[50,3,50,6],[51,3,51,6],[49,3,49,6],[48,3,48,6],[50,7,50,9],[51,0,51,2],[50,0,50,2],[46,18,46,27],[46,13,46,14],[47,0,47,2],[46,0,46,2],[47,13,47,14],[58,7,58,9],[49,25,49,27],[50,25,50,27],[56,23,56,27],[58,18,58,26],[52,13,52,14],[54,7,54,9],[52,18,52,19],[54,17,54,27],[55,7,55,9],[54,10,54,11],[55,10,55,11],[58,13,58,16],[56,13,56,14],[57,13,57,14],[58,10,58,11],[49,13,49,14],[53,7,53,9],[46,10,46,11],[37,7,37,9],[38,7,38,9],[57,7,57,9],[56,7,56,9],[49,28,49,29],[50,28,50,29],[49,10,49,11],[49,7,49,9],[40,3,40,6],[40,10,40,11],[40,7,40,9],[43,10,43,11],[41,7,41,9],[42,28,42,29],[44,21,44,26],[47,17,47,29],[44,18,44,19],[44,13,44,14],[44,10,44,11],[44,3,44,6],[44,7,44,9],[45,7,45,9],[45,3,45,6],[45,10,45,11],[20,19,20,21],[18,3,18,5],[19,3,19,5],[19,0,19,2],[28,0,28,3],[19,15,19,16],[43,13,43,14],[45,13,45,14],[32,33,32,34],[34,27,34,28],[37,3,37,6],[33,13,33,16],[36,7,36,9],[35,0,35,2],[35,3,35,6],[35,7,35,9],[35,10,35,11],[35,13,35,14],[36,0,36,2],[33,0,33,2],[33,3,33,6],[33,7,33,9],[33,10,33,11],[37,13,37,14],[15,28,15,29],[16,28,16,29],[16,25,16,26],[15,22,15,24],[15,25,15,26],[30,27,30,28],[34,13,34,14],[29,21,29,26],[30,23,30,26],[22,28,22,29],[22,19,22,21],[26,27,26,28],[29,27,29,28],[21,19,21,21],[24,17,24,29],[27,23,27,26],[26,21,26,26],[27,27,27,28],[22,22,22,24],[22,25,22,26],[25,15,26,16],[15,19,15,21],[17,19,17,21],[18,19,18,21],[21,33,21,34],[17,22,17,24],[18,22,18,24],[19,22,19,24],[21,25,21,26],[20,28,20,29],[19,28,19,29],[20,22,20,24],[21,22,21,24],[17,25,17,26],[18,28,18,29],[18,25,18,26],[17,28,17,29],[19,25,19,26],[20,25,20,26],[21,28,21,29],[6,0,6,2],[10,0,11,2],[15,0,15,2],[21,13,21,14],[13,13,13,14],[13,3,13,5],[19,13,19,14],[20,13,20,14],[17,13,17,14],[18,13,18,14],[21,0,21,2],[16,0,16,2],[17,0,17,2],[20,0,20,2],[20,3,20,5],[18,0,18,2],[17,3,17,5],[14,13,14,14],[15,13,15,14],[15,3,15,5],[16,13,16,14],[15,15,15,16],[18,15,18,16],[16,15,16,16],[17,15,17,16],[20,15,20,16],[32,7,32,12],[24,0,24,16],[38,0,38,2],[22,6,22,9],[22,0,22,2],[22,10,22,11],[28,4,28,7],[28,8,28,14],[28,15,28,16],[29,0,29,3],[29,4,29,7],[29,8,29,14],[29,15,29,16],[25,4,25,7],[25,0,26,3],[26,4,26,7],[31,15,31,16],[37,0,37,2],[34,10,34,11],[63,18,63,22],[63,23,63,27],[61,17,61,29],[2,2,2,6],[4,27,4,28],[6,10,6,11],[3,0,3,2],[6,3,6,4],[6,22,6,24],[13,22,13,24],[58,3,58,6],[58,0,58,2],[10,22,11,24],[57,0,57,2],[7,12,7,16],[10,19,11,21],[10,3,11,5],[10,13,11,14],[10,15,11,16],[3,3,3,6],[59,13,59,14],[59,7,59,9],[57,3,57,6],[16,3,16,5],[65,26,65,29],[5,1,5,4],[5,27,5,29],[60,18,60,27],[10,28,11,29],[14,22,14,24],[10,25,11,26],[7,0,7,2],[14,25,14,26],[13,25,13,26],[14,28,14,29],[13,0,13,2],[13,28,13,29],[7,21,7,27],[14,0,14,2],[13,19,13,21],[14,19,14,21],[13,15,13,16],[38,10,38,11],[47,7,47,9],[46,7,46,9],[43,7,43,9],[37,10,37,11],[10,18,11,18],[14,15,14,16],[14,3,14,5],[61,0,61,2],[59,0,59,2],[59,3,59,6],[59,10,59,11],[26,8,26,14],[25,8,25,14],[31,8,31,14],[30,8,30,14],[27,8,27,14],[22,3,22,5],[31,0,31,3],[30,4,30,7],[27,0,27,3],[27,4,27,7],[30,0,30,3],[34,3,34,6],[36,10,36,11],[38,3,38,6],[45,0,45,2],[43,3,43,6],[43,0,43,2],[34,0,34,2],[6,15,6,16],[4,13,4,16],[31,19,31,21],[20,6,20,12],[8,12,8,15],[4,7,4,10],[5,8,5,9],[2,24,3,29],[2,11,3,19],[2,21,3,23],[2,9,3,10],[5,13,5,14],[21,6,21,12],[19,6,19,12],[18,6,18,12],[17,6,17,12],[16,6,16,12],[15,6,15,12],[14,6,14,12],[13,6,13,12],[12,6,12,12],[10,6,11,12],[7,3,7,9],[10,17,11,17]]}
["Louisiana Department of Transportation and Development"]
["JMF SUPERPAVE ASPHALTIC CONCRETE MIXTURES"]
[null,null,"Metric/English",null,null,null,null,{"$f":"IF('JMF Input'!D3=\"64-Metric\",\"M\",\"E\")","v":"E"},null,"Plant Code",null,{"$f":"'JMF Input'!D7","v":0},null,null,null,null,null,null,null,null,null,"SMM ID",null,null,{"$f":"'JMF Input'!J7","v":0}]
["Project No.",null,null,{"$f":"'JMF Input'!B3","v":0},null,null,null,null,null,null,null,null,null,null,null,null,null,null,null,null,26]
[null,"Specs",{"$f":"'JMF Input'!I6","v":"2016"},null,null,null,"Plant Type",{"$f":"'JMF Input'!H4:I4","v":"3-dryer drum"},null,null,null,null,"Mix Type",{"$f":"'JMF Input'!E5","v":"Base Course"},null,null,null,"Mix Use",{"$f":"'JMF Input'!E6","v":"Min - Patching"},null,null,null,null,null,null,null," Des.Level",{"$f":"'JMF Input'!F4","v":1}]
["ESAL",{"$f":"'JMF Input'!N3","v":0},null,null,null,null,null,"Prod.Rate",{"$f":"'JMF Input'!K4","v":0},null,null,null,"Mix Temp",{"$f":"'JMF CHECK'!M5","v":0},null,null,null,null,null,null,null,null,null,null,null,null,"Seq No",{"$f":"'JMF Input'!F3","v":0}]
["Adj. Factor",null,null,{"$f":"'JMF Input'!N4","v":{"$error":"#DIV/0!"}},null,null,null,null,null,"ADT/lane",{"$f":"'JMF Input'!K3","v":0},null,null,null,"Nom.Agg.Size",{"$f":"'JMF Input'!I5","v":"1 in."},null,null,"AC Corr Factor",null,"AC Corr Factor",null,{"$f":"'JMF Input'!K6","v":4.1376058339801904}]
["Project Name",null,null,{"$f":"'JMF Input'!B4","v":0},null,null,null,null,null,null,"Project Cont.",null,{"$f":"'JMF Input'!B6","v":0},null,null,null,null,null,"Project Engr",null,"Project Engr.",{"$f":"'JMF Input'!B5","v":0}]
[null,null,null,null,null,null,null,null,null,null,"Mix Type",null,{"$f":"'JMF CHECK'!E5","v":"Base Course"},null,null,null,null,null,"Mix Use",null,null,{"$f":"'JMF CHECK'!E6","v":"Min - Patching"}]
["Aggregate"]
["Material",null,null,"Source Code",null,null,"Aggr.    Type",null,null,null,null,null,null,"Aggr. %",null,"Bulk Sp Gr, Gsb",null,"Abs.","FAA","Sand Eq",null,null,"Flat& Elong",null,null,"CAA",null,"Fr.","%Ret #8"]
[null,null,null,null,null,null,null,null,null,null,null,null,null,null,null,null,null,null,null,null,null,null,null,null,null,null,null,"Rate"]
[{"$f":"IF(INDIRECT(\"'JMF Input'!O\"&RIGHT('JMF Input'!R11,2))=0, \"\", IF(INDIRECT(\"'JMF Input'!O\"&RIGHT('JMF Input'!R11,2))=\"Coarse\", \"Cr. Aggr\", IF(INDIRECT(\"'JMF Input'!O\"&RIGHT('JMF Input'!R11,2))=\"Fine\", \"Fine Aggr\",IF(INDIRECT(\"'JMF Input'!O\"&RIGHT('JMF Input'!R11,2))=\"Rap\", \"RAP Aggr\", \"Other\"))))","v":""},null,null,{"$f":"INDIRECT(\"'JMF Input'!A\"&RIGHT('JMF Input'!R11,2))","v":0},null,null,{"$f":"INDIRECT(\"'JMF Input'!B\"&RIGHT('JMF Input'!R11,2))","v":0},null,null,null,null,null,null,{"$f":"IF(ISNUMBER(INDIRECT(\"'JMF Input'!E\"&RIGHT('JMF Input'!R11,2))),INDIRECT(\"'JMF Input'!E\"&RIGHT('JMF Input'!R11,2)),\"\")","v":""},null,{"$f":"IF(ISNUMBER(INDIRECT(\"'JMF Input'!F\"&RIGHT('JMF Input'!R11,2))),INDIRECT(\"'JMF Input'!F\"&RIGHT('JMF Input'!R11,2)),\"\")","v":""},null,{"$f":"IF(ISNUMBER(INDIRECT(\"'JMF Input'!G\"&RIGHT('JMF Input'!R11,2))),INDIRECT(\"'JMF Input'!G\"&RIGHT('JMF Input'!R11,2)),\"\")","v":""},{"$f":"IF(ISNUMBER(INDIRECT(\"'JMF Input'!H\"&RIGHT('JMF Input'!R11,2))),INDIRECT(\"'JMF Input'!H\"&RIGHT('JMF Input'!R11,2)),\"\")","v":""},{"$f":"IF(ISNUMBER(INDIRECT(\"'JMF Input'!I\"&RIGHT('JMF Input'!R11,2))),INDIRECT(\"'JMF Input'!I\"&RIGHT('JMF Input'!R11,2)),\"\")","v":""},null,null,{"$f":"IF(ISNUMBER(INDIRECT(\"'JMF Input'!J\"&RIGHT('JMF Input'!R11,2))),INDIRECT(\"'JMF Input'!J\"&RIGHT('JMF Input'!R11,2)),\"\")","v":""},null,null,{"$f":"IF(ISNUMBER(INDIRECT(\"'JMF Input'!K\"&RIGHT('JMF Input'!R11,2))),INDIRECT(\"'JMF Input'!K\"&RIGHT('JMF Input'!R11,2)),\"\")","v":""},null,{"$f":"IF(INDIRECT(\"'JMF Input'!L\"&RIGHT('JMF Input'!R11,2))<>\"\",INDIRECT(\"'JMF Input'!L\"&RIGHT('JMF Input'!R11,2)),\"\")","v":""},{"$f":"IF(ISNUMBER(INDIRECT(\"'JMF Input'!M\"&RIGHT('JMF Input'!R11,2))),INDIRECT(\"'JMF Input'!M\"&RIGHT('JMF Input'!R11,2)),\"\")","v":""}]
[{"$f":"IF(INDIRECT(\"'JMF Input'!O\"&RIGHT('JMF Input'!R12,2))=0, \"\", IF(INDIRECT(\"'JMF Input'!O\"&RIGHT('JMF Input'!R12,2))=\"Coarse\", \"Cr. Aggr\", IF(INDIRECT(\"'JMF Input'!O\"&RIGHT('JMF Input'!R12,2))=\"Fine\", \"Fine Aggr\",IF(INDIRECT(\"'JMF Input'!O\"&RIGHT('JMF Input'!R12,2))=\"Rap\", \"RAP Aggr\", \"Other\"))))","v":""},null,null,{"$f":"INDIRECT(\"'JMF Input'!A\"&RIGHT('JMF Input'!R12,2))","v":0},null,null,{"$f":"INDIRECT(\"'JMF Input'!B\"&RIGHT('JMF Input'!R12,2))","v":0},null,null,null,null,null,null,{"$f":"IF(ISNUMBER(INDIRECT(\"'JMF Input'!E\"&RIGHT('JMF Input'!R12,2))),INDIRECT(\"'JMF Input'!E\"&RIGHT('JMF Input'!R12,2)),\"\")","v":""},null,{"$f":"IF(ISNUMBER(INDIRECT(\"'JMF Input'!F\"&RIGHT('JMF Input'!R12,2))),INDIRECT(\"'JMF Input'!F\"&RIGHT('JMF Input'!R12,2)),\"\")","v":""},null,{"$f":"IF(ISNUMBER(INDIRECT(\"'JMF Input'!G\"&RIGHT('JMF Input'!R12,2))),INDIRECT(\"'JMF Input'!G\"&RIGHT('JMF Input'!R12,2)),\"\")","v":""},{"$f":"IF(ISNUMBER(INDIRECT(\"'JMF Input'!H\"&RIGHT('JMF Input'!R12,2))),INDIRECT(\"'JMF Input'!H\"&RIGHT('JMF Input'!R12,2)),\"\")","v":""},{"$f":"IF(ISNUMBER(INDIRECT(\"'JMF Input'!I\"&RIGHT('JMF Input'!R12,2))),INDIRECT(\"'JMF Input'!I\"&RIGHT('JMF Input'!R12,2)),\"\")","v":""},null,null,{"$f":"IF(ISNUMBER(INDIRECT(\"'JMF Input'!J\"&RIGHT('JMF Input'!R12,2))),INDIRECT(\"'JMF Input'!J\"&RIGHT('JMF Input'!R12,2)),\"\")","v":""},null,null,{"$f":"IF(ISNUMBER(INDIRECT(\"'JMF Input'!K\"&RIGHT('JMF Input'!R12,2))),INDIRECT(\"'JMF Input'!K\"&RIGHT('JMF Input'!R12,2)),\"\")","v":""},null,{"$f":"IF(INDIRECT(\"'JMF Input'!L\"&RIGHT('JMF Input'!R12,2))<>\"\",INDIRECT(\"'JMF Input'!L\"&RIGHT('JMF Input'!R12,2)),\"\")","v":""},{"$f":"IF(ISNUMBER(INDIRECT(\"'JMF Input'!M\"&RIGHT('JMF Input'!R12,2))),INDIRECT(\"'JMF Input'!M\"&RIGHT('JMF Input'!R12,2)),\"\")","v":""}]
[{"$f":"IF(INDIRECT(\"'JMF Input'!O\"&RIGHT('JMF Input'!R13,2))=0, \"\", IF(INDIRECT(\"'JMF Input'!O\"&RIGHT('JMF Input'!R13,2))=\"Coarse\", \"Cr. Aggr\", IF(INDIRECT(\"'JMF Input'!O\"&RIGHT('JMF Input'!R13,2))=\"Fine\", \"Fine Aggr\",IF(INDIRECT(\"'JMF Input'!O\"&RIGHT('JMF Input'!R13,2))=\"Rap\", \"RAP Aggr\", \"Other\"))))","v":""},null,null,{"$f":"INDIRECT(\"'JMF Input'!A\"&RIGHT('JMF Input'!R13,2))","v":0},null,null,{"$f":"INDIRECT(\"'JMF Input'!B\"&RIGHT('JMF Input'!R13,2))","v":0},null,null,null,null,null,null,{"$f":"IF(ISNUMBER(INDIRECT(\"'JMF Input'!E\"&RIGHT('JMF Input'!R13,2))),INDIRECT(\"'JMF Input'!E\"&RIGHT('JMF Input'!R13,2)),\"\")","v":""},null,{"$f":"IF(ISNUMBER(INDIRECT(\"'JMF Input'!F\"&RIGHT('JMF Input'!R13,2))),INDIRECT(\"'JMF Input'!F\"&RIGHT('JMF Input'!R13,2)),\"\")","v":""},null,{"$f":"IF(ISNUMBER(INDIRECT(\"'JMF Input'!G\"&RIGHT('JMF Input'!R13,2))),INDIRECT(\"'JMF Input'!G\"&RIGHT('JMF Input'!R13,2)),\"\")","v":""},{"$f":"IF(ISNUMBER(INDIRECT(\"'JMF Input'!H\"&RIGHT('JMF Input'!R13,2))),INDIRECT(\"'JMF Input'!H\"&RIGHT('JMF Input'!R13,2)),\"\")","v":""},{"$f":"IF(ISNUMBER(INDIRECT(\"'JMF Input'!I\"&RIGHT('JMF Input'!R13,2))),INDIRECT(\"'JMF Input'!I\"&RIGHT('JMF Input'!R13,2)),\"\")","v":""},null,null,{"$f":"IF(ISNUMBER(INDIRECT(\"'JMF Input'!J\"&RIGHT('JMF Input'!R13,2))),INDIRECT(\"'JMF Input'!J\"&RIGHT('JMF Input'!R13,2)),\"\")","v":""},null,null,{"$f":"IF(ISNUMBER(INDIRECT(\"'JMF Input'!K\"&RIGHT('JMF Input'!R13,2))),INDIRECT(\"'JMF Input'!K\"&RIGHT('JMF Input'!R13,2)),\"\")","v":""},null,{"$f":"IF(INDIRECT(\"'JMF Input'!L\"&RIGHT('JMF Input'!R13,2))<>\"\",INDIRECT(\"'JMF Input'!L\"&RIGHT('JMF Input'!R13,2)),\"\")","v":""},{"$f":"IF(ISNUMBER(INDIRECT(\"'JMF Input'!M\"&RIGHT('JMF Input'!R13,2))),INDIRECT(\"'JMF Input'!M\"&RIGHT('JMF Input'!R13,2)),\"\")","v":""}]
[{"$f":"IF(INDIRECT(\"'JMF Input'!O\"&RIGHT('JMF Input'!R14,2))=0, \"\", IF(INDIRECT(\"'JMF Input'!O\"&RIGHT('JMF Input'!R14,2))=\"Coarse\", \"Cr. Aggr\", IF(INDIRECT(\"'JMF Input'!O\"&RIGHT('JMF Input'!R14,2))=\"Fine\", \"Fine Aggr\",IF(INDIRECT(\"'JMF Input'!O\"&RIGHT('JMF Input'!R14,2))=\"Rap\", \"RAP Aggr\", \"Other\"))))","v":""},null,null,{"$f":"INDIRECT(\"'JMF Input'!A\"&RIGHT('JMF Input'!R14,2))","v":0},null,null,{"$f":"INDIRECT(\"'JMF Input'!B\"&RIGHT('JMF Input'!R14,2))","v":0},null,null,null,null,null,null,{"$f":"IF(ISNUMBER(INDIRECT(\"'JMF Input'!E\"&RIGHT('JMF Input'!R14,2))),INDIRECT(\"'JMF Input'!E\"&RIGHT('JMF Input'!R14,2)),\"\")","v":""},null,{"$f":"IF(ISNUMBER(INDIRECT(\"'JMF Input'!F\"&RIGHT('JMF Input'!R14,2))),INDIRECT(\"'JMF Input'!F\"&RIGHT('JMF Input'!R14,2)),\"\")","v":""},null,{"$f":"IF(ISNUMBER(INDIRECT(\"'JMF Input'!G\"&RIGHT('JMF Input'!R14,2))),INDIRECT(\"'JMF Input'!G\"&RIGHT('JMF Input'!R14,2)),\"\")","v":""},{"$f":"IF(ISNUMBER(INDIRECT(\"'JMF Input'!H\"&RIGHT('JMF Input'!R14,2))),INDIRECT(\"'JMF Input'!H\"&RIGHT('JMF Input'!R14,2)),\"\")","v":""},{"$f":"IF(ISNUMBER(INDIRECT(\"'JMF Input'!I\"&RIGHT('JMF Input'!R14,2))),INDIRECT(\"'JMF Input'!I\"&RIGHT('JMF Input'!R14,2)),\"\")","v":""},null,null,{"$f":"IF(ISNUMBER(INDIRECT(\"'JMF Input'!J\"&RIGHT('JMF Input'!R14,2))),INDIRECT(\"'JMF Input'!J\"&RIGHT('JMF Input'!R14,2)),\"\")","v":""},null,null,{"$f":"IF(ISNUMBER(INDIRECT(\"'JMF Input'!K\"&RIGHT('JMF Input'!R14,2))),INDIRECT(\"'JMF Input'!K\"&RIGHT('JMF Input'!R14,2)),\"\")","v":""},null,{"$f":"IF(INDIRECT(\"'JMF Input'!L\"&RIGHT('JMF Input'!R14,2))<>\"\",INDIRECT(\"'JMF Input'!L\"&RIGHT('JMF Input'!R14,2)),\"\")","v":""},{"$f":"IF(ISNUMBER(INDIRECT(\"'JMF Input'!M\"&RIGHT('JMF Input'!R14,2))),INDIRECT(\"'JMF Input'!M\"&RIGHT('JMF Input'!R14,2)),\"\")","v":""}]
[{"$f":"IF(INDIRECT(\"'JMF Input'!O\"&RIGHT('JMF Input'!R15,2))=0, \"\", IF(INDIRECT(\"'JMF Input'!O\"&RIGHT('JMF Input'!R15,2))=\"Coarse\", \"Cr. Aggr\", IF(INDIRECT(\"'JMF Input'!O\"&RIGHT('JMF Input'!R15,2))=\"Fine\", \"Fine Aggr\",IF(INDIRECT(\"'JMF Input'!O\"&RIGHT('JMF Input'!R15,2))=\"Rap\", \"RAP Aggr\", \"Other\"))))","v":""},null,null,{"$f":"INDIRECT(\"'JMF Input'!A\"&RIGHT('JMF Input'!R15,2))","v":0},null,null,{"$f":"INDIRECT(\"'JMF Input'!B\"&RIGHT('JMF Input'!R15,2))","v":0},null,null,null,null,null,null,{"$f":"IF(ISNUMBER(INDIRECT(\"'JMF Input'!E\"&RIGHT('JMF Input'!R15,2))),INDIRECT(\"'JMF Input'!E\"&RIGHT('JMF Input'!R15,2)),\"\")","v":""},null,{"$f":"IF(ISNUMBER(INDIRECT(\"'JMF Input'!F\"&RIGHT('JMF Input'!R15,2))),INDIRECT(\"'JMF Input'!F\"&RIGHT('JMF Input'!R15,2)),\"\")","v":""},null,{"$f":"IF(ISNUMBER(INDIRECT(\"'JMF Input'!G\"&RIGHT('JMF Input'!R15,2))),INDIRECT(\"'JMF Input'!G\"&RIGHT('JMF Input'!R15,2)),\"\")","v":""},{"$f":"IF(ISNUMBER(INDIRECT(\"'JMF Input'!H\"&RIGHT('JMF Input'!R15,2))),INDIRECT(\"'JMF Input'!H\"&RIGHT('JMF Input'!R15,2)),\"\")","v":""},{"$f":"IF(ISNUMBER(INDIRECT(\"'JMF Input'!I\"&RIGHT('JMF Input'!R15,2))),INDIRECT(\"'JMF Input'!I\"&RIGHT('JMF Input'!R15,2)),\"\")","v":""},null,null,{"$f":"IF(ISNUMBER(INDIRECT(\"'JMF Input'!J\"&RIGHT('JMF Input'!R15,2))),INDIRECT(\"'JMF Input'!J\"&RIGHT('JMF Input'!R15,2)),\"\")","v":""},null,null,{"$f":"IF(ISNUMBER(INDIRECT(\"'JMF Input'!K\"&RIGHT('JMF Input'!R15,2))),INDIRECT(\"'JMF Input'!K\"&RIGHT('JMF Input'!R15,2)),\"\")","v":""},null,{"$f":"IF(INDIRECT(\"'JMF Input'!L\"&RIGHT('JMF Input'!R15,2))<>\"\",INDIRECT(\"'JMF Input'!L\"&RIGHT('JMF Input'!R15,2)),\"\")","v":""},{"$f":"IF(ISNUMBER(INDIRECT(\"'JMF Input'!M\"&RIGHT('JMF Input'!R15,2))),INDIRECT(\"'JMF Input'!M\"&RIGHT('JMF Input'!R15,2)),\"\")","v":""}]
[{"$f":"IF(INDIRECT(\"'JMF Input'!O\"&RIGHT('JMF Input'!R16,2))=0, \"\", IF(INDIRECT(\"'JMF Input'!O\"&RIGHT('JMF Input'!R16,2))=\"Coarse\", \"Cr. Aggr\", IF(INDIRECT(\"'JMF Input'!O\"&RIGHT('JMF Input'!R16,2))=\"Fine\", \"Fine Aggr\",IF(INDIRECT(\"'JMF Input'!O\"&RIGHT('JMF Input'!R16,2))=\"Rap\", \"RAP Aggr\", \"Other\"))))","v":""},null,null,{"$f":"INDIRECT(\"'JMF Input'!A\"&RIGHT('JMF Input'!R16,2))","v":0},null,null,{"$f":"INDIRECT(\"'JMF Input'!B\"&RIGHT('JMF Input'!R16,2))","v":0},null,null,null,null,null,null,{"$f":"IF(ISNUMBER(INDIRECT(\"'JMF Input'!E\"&RIGHT('JMF Input'!R16,2))),INDIRECT(\"'JMF Input'!E\"&RIGHT('JMF Input'!R16,2)),\"\")","v":""},null,{"$f":"IF(ISNUMBER(INDIRECT(\"'JMF Input'!F\"&RIGHT('JMF Input'!R16,2))),INDIRECT(\"'JMF Input'!F\"&RIGHT('JMF Input'!R16,2)),\"\")","v":""},null,{"$f":"IF(ISNUMBER(INDIRECT(\"'JMF Input'!G\"&RIGHT('JMF Input'!R16,2))),INDIRECT(\"'JMF Input'!G\"&RIGHT('JMF Input'!R16,2)),\"\")","v":""},{"$f":"IF(ISNUMBER(INDIRECT(\"'JMF Input'!H\"&RIGHT('JMF Input'!R16,2))),INDIRECT(\"'JMF Input'!H\"&RIGHT('JMF Input'!R16,2)),\"\")","v":""},{"$f":"IF(ISNUMBER(INDIRECT(\"'JMF Input'!I\"&RIGHT('JMF Input'!R16,2))),INDIRECT(\"'JMF Input'!I\"&RIGHT('JMF Input'!R16,2)),\"\")","v":""},null,null,{"$f":"IF(ISNUMBER(INDIRECT(\"'JMF Input'!J\"&RIGHT('JMF Input'!R16,2))),INDIRECT(\"'JMF Input'!J\"&RIGHT('JMF Input'!R16,2)),\"\")","v":""},null,null,{"$f":"IF(ISNUMBER(INDIRECT(\"'JMF Input'!K\"&RIGHT('JMF Input'!R16,2))),INDIRECT(\"'JMF Input'!K\"&RIGHT('JMF Input'!R16,2)),\"\")","v":""},null,{"$f":"IF(INDIRECT(\"'JMF Input'!L\"&RIGHT('JMF Input'!R16,2))<>\"\",INDIRECT(\"'JMF Input'!L\"&RIGHT('JMF Input'!R16,2)),\"\")","v":""},{"$f":"IF(ISNUMBER(INDIRECT(\"'JMF Input'!M\"&RIGHT('JMF Input'!R16,2))),INDIRECT(\"'JMF Input'!M\"&RIGHT('JMF Input'!R16,2)),\"\")","v":""}]
[{"$f":"IF(INDIRECT(\"'JMF Input'!O\"&RIGHT('JMF Input'!R17,2))=0, \"\", IF(INDIRECT(\"'JMF Input'!O\"&RIGHT('JMF Input'!R17,2))=\"Coarse\", \"Cr. Aggr\", IF(INDIRECT(\"'JMF Input'!O\"&RIGHT('JMF Input'!R17,2))=\"Fine\", \"Fine Aggr\",IF(INDIRECT(\"'JMF Input'!O\"&RIGHT('JMF Input'!R17,2))=\"Rap\", \"RAP Aggr\", \"Other\"))))","v":""},null,null,{"$f":"INDIRECT(\"'JMF Input'!A\"&RIGHT('JMF Input'!R17,2))","v":0},null,null,{"$f":"INDIRECT(\"'JMF Input'!B\"&RIGHT('JMF Input'!R17,2))","v":0},null,null,null,null,null,null,{"$f":"IF(ISNUMBER(INDIRECT(\"'JMF Input'!E\"&RIGHT('JMF Input'!R17,2))),INDIRECT(\"'JMF Input'!E\"&RIGHT('JMF Input'!R17,2)),\"\")","v":""},null,{"$f":"IF(ISNUMBER(INDIRECT(\"'JMF Input'!F\"&RIGHT('JMF Input'!R17,2))),INDIRECT(\"'JMF Input'!F\"&RIGHT('JMF Input'!R17,2)),\"\")","v":""},null,{"$f":"IF(ISNUMBER(INDIRECT(\"'JMF Input'!G\"&RIGHT('JMF Input'!R17,2))),INDIRECT(\"'JMF Input'!G\"&RIGHT('JMF Input'!R17,2)),\"\")","v":""},{"$f":"IF(ISNUMBER(INDIRECT(\"'JMF Input'!H\"&RIGHT('JMF Input'!R17,2))),INDIRECT(\"'JMF Input'!H\"&RIGHT('JMF Input'!R17,2)),\"\")","v":""},{"$f":"IF(ISNUMBER(INDIRECT(\"'JMF Input'!I\"&RIGHT('JMF Input'!R17,2))),INDIRECT(\"'JMF Input'!I\"&RIGHT('JMF Input'!R17,2)),\"\")","v":""},null,null,{"$f":"IF(ISNUMBER(INDIRECT(\"'JMF Input'!J\"&RIGHT('JMF Input'!R17,2))),INDIRECT(\"'JMF Input'!J\"&RIGHT('JMF Input'!R17,2)),\"\")","v":""},null,null,{"$f":"IF(ISNUMBER(INDIRECT(\"'JMF Input'!K\"&RIGHT('JMF Input'!R17,2))),INDIRECT(\"'JMF Input'!K\"&RIGHT('JMF Input'!R17,2)),\"\")","v":""},null,{"$f":"IF(INDIRECT(\"'JMF Input'!L\"&RIGHT('JMF Input'!R17,2))<>\"\",INDIRECT(\"'JMF Input'!L\"&RIGHT('JMF Input'!R17,2)),\"\")","v":""},{"$f":"IF(ISNUMBER(INDIRECT(\"'JMF Input'!M\"&RIGHT('JMF Input'!R17,2))),INDIRECT(\"'JMF Input'!M\"&RIGHT('JMF Input'!R17,2)),\"\")","v":""}]
[{"$f":"IF(INDIRECT(\"'JMF Input'!O\"&RIGHT('JMF Input'!R18,2))=0, \"\", IF(INDIRECT(\"'JMF Input'!O\"&RIGHT('JMF Input'!R18,2))=\"Coarse\", \"Cr. Aggr\", IF(INDIRECT(\"'JMF Input'!O\"&RIGHT('JMF Input'!R18,2))=\"Fine\", \"Fine Aggr\",IF(INDIRECT(\"'JMF Input'!O\"&RIGHT('JMF Input'!R18,2))=\"Rap\", \"RAP Aggr\", \"Other\"))))","v":""},null,null,{"$f":"INDIRECT(\"'JMF Input'!A\"&RIGHT('JMF Input'!R18,2))","v":0},null,null,{"$f":"INDIRECT(\"'JMF Input'!B\"&RIGHT('JMF Input'!R18,2))","v":0},null,null,null,null,null,null,{"$f":"IF(ISNUMBER(INDIRECT(\"'JMF Input'!E\"&RIGHT('JMF Input'!R18,2))),INDIRECT(\"'JMF Input'!E\"&RIGHT('JMF Input'!R18,2)),\"\")","v":""},null,{"$f":"IF(ISNUMBER(INDIRECT(\"'JMF Input'!F\"&RIGHT('JMF Input'!R18,2))),INDIRECT(\"'JMF Input'!F\"&RIGHT('JMF Input'!R18,2)),\"\")","v":""},null,{"$f":"IF(ISNUMBER(INDIRECT(\"'JMF Input'!G\"&RIGHT('JMF Input'!R18,2))),INDIRECT(\"'JMF Input'!G\"&RIGHT('JMF Input'!R18,2)),\"\")","v":""},{"$f":"IF(ISNUMBER(INDIRECT(\"'JMF Input'!H\"&RIGHT('JMF Input'!R18,2))),INDIRECT(\"'JMF Input'!H\"&RIGHT('JMF Input'!R18,2)),\"\")","v":""},{"$f":"IF(ISNUMBER(INDIRECT(\"'JMF Input'!I\"&RIGHT('JMF Input'!R18,2))),INDIRECT(\"'JMF Input'!I\"&RIGHT('JMF Input'!R18,2)),\"\")","v":""},null,null,{"$f":"IF(ISNUMBER(INDIRECT(\"'JMF Input'!J\"&RIGHT('JMF Input'!R18,2))),INDIRECT(\"'JMF Input'!J\"&RIGHT('JMF Input'!R18,2)),\"\")","v":""},null,null,{"$f":"IF(ISNUMBER(INDIRECT(\"'JMF Input'!K\"&RIGHT('JMF Input'!R18,2))),INDIRECT(\"'JMF Input'!K\"&RIGHT('JMF Input'!R18,2)),\"\")","v":""},null,{"$f":"IF(INDIRECT(\"'JMF Input'!L\"&RIGHT('JMF Input'!R18,2))<>\"\",INDIRECT(\"'JMF Input'!L\"&RIGHT('JMF Input'!R18,2)),\"\")","v":""},{"$f":"IF(ISNUMBER(INDIRECT(\"'JMF Input'!M\"&RIGHT('JMF Input'!R18,2))),INDIRECT(\"'JMF Input'!M\"&RIGHT('JMF Input'!R18,2)),\"\")","v":""}]
[{"$f":"IF(INDIRECT(\"'JMF Input'!O\"&RIGHT('JMF Input'!R19,2))=0, \"\", IF(INDIRECT(\"'JMF Input'!O\"&RIGHT('JMF Input'!R19,2))=\"Coarse\", \"Cr. Aggr\", IF(INDIRECT(\"'JMF Input'!O\"&RIGHT('JMF Input'!R19,2))=\"Fine\", \"Fine Aggr\",IF(INDIRECT(\"'JMF Input'!O\"&RIGHT('JMF Input'!R19,2))=\"Rap\", \"RAP Aggr\", \"Other\"))))","v":""},null,null,{"$f":"INDIRECT(\"'JMF Input'!A\"&RIGHT('JMF Input'!R19,2))","v":0},null,null,{"$f":"INDIRECT(\"'JMF Input'!B\"&RIGHT('JMF Input'!R19,2))","v":0},null,null,null,null,null,null,{"$f":"IF(ISNUMBER(INDIRECT(\"'JMF Input'!E\"&RIGHT('JMF Input'!R19,2))),INDIRECT(\"'JMF Input'!E\"&RIGHT('JMF Input'!R19,2)),\"\")","v":""},null,{"$f":"IF(ISNUMBER(INDIRECT(\"'JMF Input'!F\"&RIGHT('JMF Input'!R19,2))),INDIRECT(\"'JMF Input'!F\"&RIGHT('JMF Input'!R19,2)),\"\")","v":""},null,{"$f":"IF(ISNUMBER(INDIRECT(\"'JMF Input'!G\"&RIGHT('JMF Input'!R19,2))),INDIRECT(\"'JMF Input'!G\"&RIGHT('JMF Input'!R19,2)),\"\")","v":""},{"$f":"IF(ISNUMBER(INDIRECT(\"'JMF Input'!H\"&RIGHT('JMF Input'!R19,2))),INDIRECT(\"'JMF Input'!H\"&RIGHT('JMF Input'!R19,2)),\"\")","v":""},{"$f":"IF(ISNUMBER(INDIRECT(\"'JMF Input'!I\"&RIGHT('JMF Input'!R19,2))),INDIRECT(\"'JMF Input'!I\"&RIGHT('JMF Input'!R19,2)),\"\")","v":""},null,null,{"$f":"IF(ISNUMBER(INDIRECT(\"'JMF Input'!J\"&RIGHT('JMF Input'!R19,2))),INDIRECT(\"'JMF Input'!J\"&RIGHT('JMF Input'!R19,2)),\"\")","v":""},null,null,{"$f":"IF(ISNUMBER(INDIRECT(\"'JMF Input'!K\"&RIGHT('JMF Input'!R19,2))),INDIRECT(\"'JMF Input'!K\"&RIGHT('JMF Input'!R19,2)),\"\")","v":""},null,{"$f":"IF(INDIRECT(\"'JMF Input'!L\"&RIGHT('JMF Input'!R19,2))<>\"\",INDIRECT(\"'JMF Input'!L\"&RIGHT('JMF Input'!R19,2)),\"\")","v":""},{"$f":"IF(ISNUMBER(INDIRECT(\"'JMF Input'!M\"&RIGHT('JMF Input'!R19,2))),INDIRECT(\"'JMF Input'!M\"&RIGHT('JMF Input'!R19,2)),\"\")","v":""}]
[{"$f":"IF(INDIRECT(\"'JMF Input'!O\"&RIGHT('JMF Input'!R20,2))=0, \"\", IF(INDIRECT(\"'JMF Input'!O\"&RIGHT('JMF Input'!R20,2))=\"Coarse\", \"Cr. Aggr\", IF(INDIRECT(\"'JMF Input'!O\"&RIGHT('JMF Input'!R20,2))=\"Fine\", \"Fine Aggr\",IF(INDIRECT(\"'JMF Input'!O\"&RIGHT('JMF Input'!R20,2))=\"Rap\", \"RAP Aggr\", \"Other\"))))","v":""},null,null,{"$f":"INDIRECT(\"'JMF Input'!A\"&RIGHT('JMF Input'!R20,2))","v":0},null,null,{"$f":"INDIRECT(\"'JMF Input'!B\"&RIGHT('JMF Input'!R20,2))","v":0},null,null,null,null,null,null,{"$f":"IF(ISNUMBER(INDIRECT(\"'JMF Input'!E\"&RIGHT('JMF Input'!R20,2))),INDIRECT(\"'JMF Input'!E\"&RIGHT('JMF Input'!R20,2)),\"\")","v":""},null,{"$f":"IF(ISNUMBER(INDIRECT(\"'JMF Input'!F\"&RIGHT('JMF Input'!R20,2))),INDIRECT(\"'JMF Input'!F\"&RIGHT('JMF Input'!R20,2)),\"\")","v":""},null,{"$f":"IF(ISNUMBER(INDIRECT(\"'JMF Input'!G\"&RIGHT('JMF Input'!R20,2))),INDIRECT(\"'JMF Input'!G\"&RIGHT('JMF Input'!R20,2)),\"\")","v":""},{"$f":"IF(ISNUMBER(INDIRECT(\"'JMF Input'!H\"&RIGHT('JMF Input'!R20,2))),INDIRECT(\"'JMF Input'!H\"&RIGHT('JMF Input'!R20,2)),\"\")","v":""},{"$f":"IF(ISNUMBER(INDIRECT(\"'JMF Input'!I\"&RIGHT('JMF Input'!R20,2))),INDIRECT(\"'JMF Input'!I\"&RIGHT('JMF Input'!R20,2)),\"\")","v":""},null,null,{"$f":"IF(ISNUMBER(INDIRECT(\"'JMF Input'!J\"&RIGHT('JMF Input'!R20,2))),INDIRECT(\"'JMF Input'!J\"&RIGHT('JMF Input'!R20,2)),\"\")","v":""},null,null,{"$f":"IF(ISNUMBER(INDIRECT(\"'JMF Input'!K\"&RIGHT('JMF Input'!R20,2))),INDIRECT(\"'JMF Input'!K\"&RIGHT('JMF Input'!R20,2)),\"\")","v":""},null,{"$f":"IF(INDIRECT(\"'JMF Input'!L\"&RIGHT('JMF Input'!R20,2))<>\"\",INDIRECT(\"'JMF Input'!L\"&RIGHT('JMF Input'!R20,2)),\"\")","v":""},{"$f":"IF(ISNUMBER(INDIRECT(\"'JMF Input'!M\"&RIGHT('JMF Input'!R20,2))),INDIRECT(\"'JMF Input'!M\"&RIGHT('JMF Input'!R20,2)),\"\")","v":""}]
["Composite",null,null,null,null,null,null,null,null,null,null,null,null,null,"GSB",{"$f":"'JMF Input'!J39","v":0},null,{"$f":"'JMF CHECK'!I21","v":0},{"$f":"'JMF CHECK'!J21","v":""},{"$f":"'JMF CHECK'!K21","v":""},null,null,{"$f":"'JMF CHECK'!L21","v":0},null,null,{"$f":"'JMF CHECK'!M21","v":""}]
[]
["Asphalt Cement and Additives",null,null,null,null,null,null,null,null,null,null,null,null,null,null,null,null,{"$f":"IF(OR('Moisture Susceptibility Design'!B19<>\"\",'Moisture Susceptibility Design'!L19<>\"\"),\"Loaded Wheel Test\",IF(OR('Moisture Susceptibility Design'!B79<>\"\",'Moisture Susceptibility Design'!L79<>\"\"),\"Tensile Strength Ratio\",\"LWT/TSR\"))","v":{"$error":"#DIV/0!"}}]
["Material",null,null,null,"Source",null,null,null,"Material",null,null,null,null,null,null,"% of Mix"]
[null,null,null,null,"Code",null,null,null,"Name",null,null,null,null,null,null,null,null,null,"Design:",null,"Control PSI(Mpa)",{"$f":"IF(OR('Moisture Susceptibility Design'!B19<>\"\",'Moisture Susceptibility Design'!L19<>\"\"),\"No. Passes\",IF(OR('Moisture Susceptibility Design'!B79<>\"\",'Moisture Susceptibility Design'!L79<>\"\"),\"Control (psi)\",\"\"))","v":{"$error":"#DIV/0!"}},null,null,null,null,null,{"$f":"IF(OR('Moisture Susceptibility Design'!B19<>\"\",'Moisture Susceptibility Design'!L19<>\"\"),'Moisture Susceptibility Design'!B20,IF(OR('Moisture Susceptibility Design'!B79<>\"\",'Moisture Susceptibility Design'!L79<>\"\"),'Moisture Susceptibility Design'!B77,\"\"))","v":{"$error":"#DIV/0!"}}]
["Asphalt Cement",null,null,null,{"$f":"'JMF Input'!B23","v":0},null,null,null,{"$f":"'JMF Input'!C23","v":0},null,null,null,null,null,null,{"$f":"'JMF Input'!G23","v":0},null,null,null,null,null,null,null,{"$f":"IF(OR('Moisture Susceptibility Design'!B19<>\"\",'Moisture Susceptibility Design'!L19<>\"\"),\"Rut\",IF(OR('Moisture Susceptibility Design'!B79<>\"\",'Moisture Susceptibility Design'!L79<>\"\"),\"TSR\",\"\"))","v":{"$error":"#DIV/0!"}},null,null,null,{"$f":"IF(OR('Moisture Susceptibility Design'!B19<>\"\",'Moisture Susceptibility Design'!L19<>\"\"),TEXT('Moisture Susceptibility Design'!B19,\"0.00\"),IF(OR('Moisture Susceptibility Design'!B79<>\"\",'Moisture Susceptibility Design'!L79<>\"\"),TEXT('Moisture Susceptibility Design'!B79,\"0\"),\"\"))","v":{"$error":"#DIV/0!"}}]
["Alternate Asphalt",null,null,null,{"$f":"IF('JMF Input'!B24<>\"\",'JMF Input'!B24,\"\")","v":""},null,null,null,{"$f":"IF('JMF Input'!C24<>\"\",'JMF Input'!C24,\"\")","v":""}]
["Alternate Asphalt",null,null,null,{"$f":"IF('JMF Input'!B25<>\"\",'JMF Input'!B25,\"\")","v":""},null,null,null,{"$f":"IF('JMF Input'!C25<>\"\",'JMF Input'!C25,\"\")","v":""},null,null,null,null,null,null,null,null,null,"Validation:",null,"Control PSI(Mpa)",{"$f":"IF(OR('Moisture Susceptibility Design'!B19<>\"\",'Moisture Susceptibility Design'!L19<>\"\"),\"No. Passes\",IF(OR('Moisture Susceptibility Design'!B79<>\"\",'Moisture Susceptibility Design'!L79<>\"\"),\"Control (psi)\",\"\"))","v":{"$error":"#DIV/0!"}},null,null,null,null,null,{"$f":"IF(OR('Moisture Susceptibility Design'!B19<>\"\",'Moisture Susceptibility Design'!L19<>\"\"),'Moisture Susceptibility Design'!L20,IF(OR('Moisture Susceptibility Design'!B79<>\"\",'Moisture Susceptibility Design'!L79<>\"\"),'Moisture Susceptibility Design'!L77,\"\"))","v":{"$error":"#DIV/0!"}}]
["Rap Asphalt",null,null,null,null,null,null,null,null,null,null,null,null,null,null,{"$f":"'JMF Input'!G26","v":0},null,null,null,null,null,null,null,{"$f":"IF(OR('Moisture Susceptibility Design'!B19<>\"\",'Moisture Susceptibility Design'!L19<>\"\"),\"Rut\",IF(OR('Moisture Susceptibility Design'!B79<>\"\",'Moisture Susceptibility Design'!L79<>\"\"),\"TSR\",\"\"))","v":{"$error":"#DIV/0!"}},null,null,null,{"$f":"IF(OR('Moisture Susceptibility Design'!B19<>\"\",'Moisture Susceptibility Design'!L19<>\"\"),TEXT('Moisture Susceptibility Design'!L19,\"0.00\"),IF(OR('Moisture Susceptibility Design'!B79<>\"\",'Moisture Susceptibility Design'!L79<>\"\"),TEXT('Moisture Susceptibility Design'!L79,\"0\"),\"\"))","v":{"$error":"#DIV/0!"}}]
["Anti Strip",null,null,null,{"$f":"'JMF Input'!B27","v":0},null,null,null,{"$f":"'JMF Input'!C27","v":0},null,null,null,null,null,null,{"$f":"'JMF Input'!G27","v":0},null,null,"SCB Jc:",{"$f":"'JMF Input'!J41","v":0}]
["DESIGN DATA",null,null,null,null,null,null,"VALIDATION DATA",null,null,null,null,null,"JMF Limits"]
["Parameter",null,null,"Submittal",null,null,null,"Average",null,null,"Std. Dev",null,"PWL","(per valid.avg)"]
["Gmm",null,null,{"$f":"'JMF CHECK'!B32","v":0},null,null,null,{"$f":"Validation!H7","v":""},null,null,{"$f":"Validation!I7","v":""},null,{"$f":"Validation!N7","v":"--"},{"$f":"IF(H35<>\"\", H35-setup!D8, \"\")","v":""},null,"--",{"$f":"IF(H35<>\"\", H35+setup!D8, \"\")","v":""},"Submitted for Contractor By:"]
["%Gmm,Nini",null,null,{"$f":"'JMF CHECK'!B33","v":""},null,null,null,{"$f":"Validation!H9","v":""},null,null,{"$f":"Validation!I9","v":""},null,{"$f":"Validation!N9","v":"--"},null,null,null,{"$f":"setup!C9","v":91},"Date Submitted",null,null,null,null,null,null,null,{"$f":"'JMF Input'!$N$5","v":"00:00:00"}]
["%Gmm,Nmax",null,null,{"$f":"'JMF CHECK'!B34","v":""},null,null,null,{"$f":"Validation!H15","v":""},null,null,{"$f":"Validation!I15","v":""},null,{"$f":"Validation!N10","v":"--"},null,null,"--",{"$f":"setup!C11","v":98}]
["VMA",null,null,{"$f":"'JMF CHECK'!B36","v":{"$error":"#DIV/0!"}},12.3,null,null,{"$f":"Validation!H12","v":""},null,null,{"$f":"Validation!I12","v":""},null,{"$f":"Validation!N12","v":"--"},{"$f":"setup!B13","v":11.5},null,"--"]
["VFA",null,null,{"$f":"'JMF CHECK'!B37","v":{"$error":"#DIV/0!"}},13.3,null,null,{"$f":"Validation!H13","v":""},null,null,{"$f":"Validation!I13","v":""},null,{"$f":"Validation!N13","v":"--"},{"$f":"setup!B14","v":69},null,"--",{"$f":"setup!C14","v":80},null,null,null,null,null,null,null,null,null,null,null,null,null,null,null,null,null,null,{"$f":"IF(AH39=\"\", \"\", IF(AK39, \"√\", \"X\"))","v":""},0]
["% Voids",null,null,{"$f":"'JMF CHECK'!B38","v":3.5},14.3,null,null,{"$f":"Validation!H11","v":""},null,null,{"$f":"Validation!I11","v":""},null,{"$f":"Validation!N11","v":"--"},{"$f":"setup!B15","v":2.5},null,"--",{"$f":"setup!C15","v":4.5},"Technician"]
["% Design AC",null,null,{"$f":"'JMF CHECK'!B39","v":0}]
["Comp Temp",null,null,{"$f":"'JMF CHECK'!B41","v":0},null,null,null,{"$f":"Validation!H39","v":""},null,null,{"$f":"Validation!I39","v":""},null,{"$f":"Validation!N39","v":"--"},{"$f":"IF(H42<>\"\", H42-setup!D17, \"\")","v":""},null,"--",{"$f":"IF(H42<>\"\", H42+setup!D17, \"\")","v":""},null,"Proposal Approved",null,"Proposal Approved:",null,null,null,null,null,"Y=Yes"]
["% DF Crushed",null,null,{"$f":"'JMF CHECK'!B42","v":0},null,null,null,{"$f":"Validation!H38","v":""},null,null,{"$f":"Validation!I38","v":""},null,null,{"$f":"setup!B37","v":75},null,"--",null,null,null,null,null,null,null,null,null,null,"N=No"]
["1 1/2  (37.5mm)",null,null,{"$f":"'JMF CHECK'!E35","v":100},null,null,null,{"$f":"IF(Validation!H20<>\"\", ROUND(Validation!H20, 0), \"\")","v":""},null,null,{"$f":"Validation!I20","v":""},null,{"$f":"Validation!N20","v":"--"},{"$f":"IF(H44<>\"\", H44-setup!D19, \"\")","v":""},null,"--",{"$f":"IF(H44<>\"\", IF(H44+setup!D19>100, 100, H44+setup!D19), \"\")","v":""},null,null,"By:"]
["1 in  (25mm)",null,null,{"$f":"'JMF CHECK'!E36","v":96.5},null,null,null,{"$f":"IF(Validation!H21<>\"\", ROUND(Validation!H21, 0), \"\")","v":""},null,null,{"$f":"Validation!I21","v":""},null,{"$f":"Validation!N21","v":"--"},{"$f":"IF(H45<>\"\", H45-setup!D20, \"\")","v":""},null,"--",{"$f":"IF(H45<>\"\", IF(H45+setup!D20>100, 100, H45+setup!D20), \"\")","v":""},null,"Date"]
["3/4  (19mm)",null,null,{"$f":"'JMF CHECK'!E37","v":85.1},null,null,null,{"$f":"IF(Validation!H22<>\"\", ROUND(Validation!H22, 0), \"\")","v":""},null,null,{"$f":"Validation!I22","v":""},null,{"$f":"Validation!N22","v":"--"},{"$f":"IF(H46<>\"\", H46-setup!D21, \"\")","v":""},null,"--",{"$f":"IF(H46<>\"\", IF(H46+setup!D21>100, 100, H46+setup!D21), \"\")","v":""},null,null,null,null,null,null,null,null,null,null,null,null,null,null,null,"A",1,2,3]
["1/2in  (12.5mm)",null,null,{"$f":"'JMF CHECK'!E38","v":69.400000000000006},null,null,null,{"$f":"IF(Validation!H23<>\"\", ROUND(Validation!H23, 0), \"\")","v":""},null,null,{"$f":"Validation!I23","v":""},null,{"$f":"Validation!N23","v":"--"},{"$f":"IF(H47<>\"\", H47-setup!D22, \"\")","v":""},null,"--",{"$f":"IF(H47<>\"\", IF(H47+setup!D22>100, 100, H47+setup!D22), \"\")","v":""},null,null,null,null,null,null,null,null,null,null,null,null,null,null,null,55,75,95,98]
["3/8in  (9.5mm)",null,null,{"$f":"'JMF CHECK'!E39","v":62},null,null,null,{"$f":"IF(Validation!H24<>\"\", ROUND(Validation!H24, 0), \"\")","v":""},null,null,{"$f":"Validation!I24","v":""},null,{"$f":"Validation!N24","v":"--"},{"$f":"IF(H48<>\"\", H48-setup!D23, \"\")","v":""},null,"--",{"$f":"IF(H48<>\"\", IF(H48+setup!D23>100, 100, H48+setup!D23), \"\")","v":""},"Signature"]
["No. 4 (4.75mm)",null,null,{"$f":"'JMF CHECK'!E40","v":50.9},null,null,null,{"$f":"IF(Validation!H25<>\"\", ROUND(Validation!H25, 0), \"\")","v":""},null,null,{"$f":"Validation!I25","v":""},null,{"$f":"Validation!N25","v":"--"},{"$f":"IF(H49<>\"\", H49-setup!D24, \"\")","v":""},null,"--",{"$f":"IF(H49<>\"\", IF(H49+setup!D24>100, 100, H49+setup!D24), \"\")","v":""}]
["No. 8(2.38mm)",null,null,{"$f":"'JMF CHECK'!E41","v":39.200000000000003},null,null,null,{"$f":"IF(Validation!H26<>\"\", ROUND(Validation!H26, 0), \"\")","v":""},null,null,{"$f":"Validation!I26","v":""},null,{"$f":"Validation!N26","v":"--"},{"$f":"IF(H50<>\"\", H50-setup!D25, \"\")","v":""},null,"--",{"$f":"IF(H50<>\"\", IF(H50+setup!D25>100, 100, H50+setup!D25), \"\")","v":""},null,"Validation Approved",null,null,null,null,null,null,"Y=Yes"]
["No.16(1.18mm)",null,null,{"$f":"'JMF CHECK'!E42","v":32.4},null,null,null,{"$f":"IF(Validation!H27<>\"\", ROUND(Validation!H27, 0), \"\")","v":""},null,null,{"$f":"Validation!I27","v":""},null,{"$f":"Validation!N27","v":"--"},{"$f":"IF(H51<>\"\", H51-setup!D26, \"\")","v":""},null,"--",{"$f":"IF(H51<>\"\", IF(H51+setup!D26>100, 100, H51+setup!D26), \"\")","v":""},null,null,null,"Validation Approved",null,null,null,null,"N=No"]
["No.30(600um)",null,null,{"$f":"'JMF CHECK'!E43","v":24.7},null,null,null,{"$f":"IF(Validation!H28<>\"\", ROUND(Validation!H28, 0), \"\")","v":""},null,null,{"$f":"Validation!I28","v":""},null,{"$f":"Validation!N28","v":"--"},{"$f":"IF(H52<>\"\", H52-setup!D27, \"\")","v":""},null,"--",{"$f":"IF(H52<>\"\", IF(H52+setup!D27>100, 100, H52+setup!D27), \"\")","v":""},null,null,"By:","By:"]
["No.50(300um)",null,null,{"$f":"'JMF CHECK'!E44","v":12},null,null,null,{"$f":"IF(Validation!H29<>\"\", ROUND(Validation!H29, 0), \"\")","v":""},null,null,{"$f":"Validation!I29","v":""},null,{"$f":"Validation!N29","v":"--"},{"$f":"IF(H53<>\"\", H53-setup!D28, \"\")","v":""},null,"--",{"$f":"IF(H53<>\"\", IF(H53+setup!D28>100, 100, H53+setup!D28), \"\")","v":""},null,"Date",null,"Date"]
["No100(150um)",null,null,{"$f":"'JMF CHECK'!E45","v":7.5},null,null,null,{"$f":"IF(Validation!H30<>\"\", ROUND(Validation!H30, 0), \"\")","v":""},null,null,{"$f":"Validation!I30","v":""},null,{"$f":"Validation!N30","v":"--"},{"$f":"IF(H54<>\"\", H54-setup!D29, \"\")","v":""},null,"--",{"$f":"IF(H54<>\"\", IF(H54+setup!D29>100, 100, H54+setup!D29), \"\")","v":""}]
["No. 200(75um)",null,null,{"$f":"'JMF CHECK'!E46","v":5},null,null,null,{"$f":"IF(Validation!H31<>\"\", ROUND(Validation!H31, 1), \"\")","v":""},null,null,{"$f":"Validation!I31","v":""},null,{"$f":"Validation!N31","v":"--"},{"$f":"IF(H55<>\"\", H55-setup!D30, \"\")","v":""},null,"--",{"$f":"IF(H55<>\"\", IF(H55+setup!D30>100, 100, H55+setup!D30), \"\")","v":""},"Number of Validation Attempts"]
["% AC Extracted",null,null,{"$f":"'JMF CHECK'!E47","v":0},null,null,null,{"$f":"IF(Validation!H32<>\"\", ROUND(Validation!H32, 1), \"\")","v":""},null,null,{"$f":"Validation!I32","v":""},null,{"$f":"Validation!N32","v":"--"},{"$f":"IF(H56<>\"\", H56-setup!D31, \"\")","v":""},null,"--",{"$f":"IF(H56<>\"\", H56+setup!D31, \"\")","v":""},null,null,null,"1 TSR ",null,null,null,null,null,null,null,"(y/n)"]
["Dust/Pbeff",null,null,{"$f":"'JMF CHECK'!B43","v":{"$error":"#DIV/0!"}},null,null,null,{"$f":"Validation!H33","v":""},null,null,{"$f":"Validation!I33","v":""},null,{"$f":"Validation!N33","v":"--"},{"$f":"setup!B32","v":0.6},null,"--",{"$f":"setup!C32","v":1.6},null,{"$f":"IF(OR('Moisture Susceptibility Design'!B19<>\"\",'Moisture Susceptibility Design'!L19<>\"\"),\"LWT\",IF(OR('Moisture Susceptibility Design'!B79<>\"\",'Moisture Susceptibility Design'!L79<>\"\"),\"TSR\",\"\"))","v":{"$error":"#DIV/0!"}},{"$f":"IF(OR('Moisture Susceptibility Design'!B19<>\"\",'Moisture Susceptibility Design'!L19<>\"\"),\"=\",IF(OR('Moisture Susceptibility Design'!B79<>\"\",'Moisture Susceptibility Design'!L79<>\"\"),\"≥\",\"\"))","v":{"$error":"#DIV/0!"}},"3 Avg. within Jmf specs. Limits",{"$f":"IF(OR('Moisture Susceptibility Design'!B19<>\"\",'Moisture Susceptibility Design'!L19<>\"\"),\"PASS\",IF(OR('Moisture Susceptibility Design'!B79<>\"\",'Moisture Susceptibility Design'!L79<>\"\"),\"80\",\"\"))","v":{"$error":"#DIV/0!"}},null,". . . . . . . . . . . . . ."]
["Gse",null,null,{"$f":"'JMF CHECK'!B44","v":0},null,null,null,{"$f":"Validation!H34","v":""},null,null,{"$f":"Validation!I34","v":""},null,null,null,null,null,null,null,"Each PWL Parameter",null,null,null,null,null,null,">",71,". . . ."]
["Pba",null,null,{"$f":"'JMF CHECK'!B45","v":{"$error":"#DIV/0!"}},null,null,null,{"$f":"Validation!H35","v":""},null,null,{"$f":"Validation!I35","v":""},null,null,">  0.0",null,null,null,null,"Avg. within JMF spec. limits",null,null,null,null,null,null,null,null,". . . ."]
["Pbe",null,null,{"$f":"'JMF CHECK'!B46","v":{"$error":"#DIV/0!"}},null,null,null,{"$f":"Validation!H36","v":""},null,null,{"$f":"Validation!I36","v":""}]
[]
["Remarks:",null,null,null,null,null,null,null,null,null,null,null,null,null,null,null,null,"Approved By"]
[null,null,null,null,null,null,null,null,null,null,null,null,null,null,null,null,null,null,null,null,"Date First Used:"]
[null,null,null,null,null,null,null,null,null,null,null,null,null,null,null,null,null,null,"Date First Used"]
[]
[{"$f":"setup!S2","v":"LaPave 502 v18.05.02"},null,null,null,null,null,null,null,null,null,null,null,null,null,null,null,null,null,null,null,null,null,null,null,null,null,{"$f":"TODAY()","v":"2023-03-31"}]

{"sheet":"JMF CHECK","index":8,"n_rows":62,"n_cols":20,"rows_kept":62,"cut":false,"hidden":false,"merged":[[59,1,59,15],[50,0,50,1],[49,0,49,1],[57,2,57,9],[55,2,55,9],[53,2,53,9],[57,11,57,13],[55,11,55,13],[53,11,53,13],[32,11,32,12],[31,11,31,12],[26,11,27,12],[50,14,50,15],[49,14,49,15],[48,14,48,15],[47,14,47,15],[41,14,41,16],[40,14,40,16],[39,14,39,16],[35,14,35,16],[38,14,38,16],[37,14,37,16],[36,14,36,16],[34,14,34,16],[33,14,33,16],[32,14,32,16],[31,14,31,16],[30,14,30,16],[29,14,29,16],[28,14,28,16],[61,13,61,15],[37,4,37,5],[46,4,46,5],[45,4,45,5],[43,4,43,5],[42,4,42,5],[41,4,41,5],[44,4,44,5],[4,1,4,2],[5,1,5,2],[4,4,4,6],[5,4,5,6],[20,0,20,3],[33,11,34,12],[32,7,32,8],[36,4,36,5],[35,4,35,5],[34,4,34,5],[33,4,33,5],[30,11,30,12],[29,10,29,12],[25,11,25,12],[24,11,24,12],[40,4,40,5],[39,4,39,5],[38,4,38,5],[17,5,17,6],[32,4,32,5],[20,5,20,6],[22,2,22,6],[27,2,27,6],[26,2,26,6],[23,2,23,6],[24,2,24,6],[25,2,25,6],[3,1,3,2],[19,1,19,3],[18,1,18,3],[17,1,17,3],[16,1,16,3],[15,1,15,3],[14,1,14,3],[13,1,13,3],[12,1,12,3],[11,1,11,3],[2,12,2,13],[13,5,13,6],[19,5,19,6],[18,5,18,6],[14,5,14,6],[15,5,15,6],[16,5,16,6],[3,8,3,9],[3,12,3,13],[5,12,5,13],[4,12,4,13],[12,5,12,6],[2,5,2,6],[3,5,3,6],[9,5,9,6],[8,5,8,6],[11,5,11,6],[10,5,10,6],[6,4,6,9],[2,8,2,9],[30,19,31,22],[27,14,27,16],[26,14,26,16],[25,14,25,16],[24,14,24,16],[26,0,26,1],[9,1,9,3],[8,1,8,3],[10,1,10,3],[23,11,23,12],[22,10,22,12],[23,14,23,16]]}
[null,null,null,null,null,null,"JMF SUPERPAVE FORM"]
[]
["Project No.",{"$f":"'JMF Input'!B3","v":0},"Mix Code",{"$f":"IF('JMF Input'!D3=\"26-English\",26,64)","v":26},"JMF No.",{"$f":"'JMF Input'!F3","v":0},null,"SMM ID",{"$f":"'JMF Input'!J7","v":0},null,null,"Traffic (ADT)",{"$f":"'JMF Input'!K3","v":0}]
["Project Name",{"$f":"'JMF Input'!B4","v":0},null,null,"Design Level",{"$f":"'JMF Input'!F4","v":1},null,"Plant Type",{"$f":"'JMF Input'!H4","v":"3-dryer drum"},null,null,"Prod. Rate",{"$f":"'JMF Input'!K4","v":0}]
["Project Eng.",{"$f":"'JMF Input'!B5","v":0},null,"Mix Type",{"$f":"'JMF Input'!E5","v":"Base Course"},null,null,null,"Nom Agg Size",{"$f":"'JMF Input'!I5","v":"1 in."},null,"Mix Temp",{"$f":"'JMF Input'!K5","v":0}]
["Submitted",{"$f":"'JMF Input'!B6","v":0},null,"Mix Use",{"$f":"'JMF Input'!E6","v":"Min - Patching"},null,null,null,"Specs",{"$f":"'JMF Input'!I6","v":"2016"},null,"Date",{"$f":"'JMF Input'!N5","v":"00:00:00"}]
["Contractor Mix #",{"$f":"'JMF Input'!B7","v":0},null,"SMM P/S",{"$f":"'JMF Input'!D7","v":0},null,null,null,null,null,null,"AC Corr Factor",{"$f":"'JMF Input'!K6","v":4.1376058339801904}]
[]
["Source","Aggregate",null,null,"%","Apparent",null,"Bulk","Abs.","FAA","Sand Eq.","Flat & Elong","CAA","FR","%Ret","%Ret"]
["Code","  Type",null,null,null,"Gravity",null,"Gravity",null,"Method A","- 4.75 mm","%5:1",null,null,"No.8","No.4"]
[{"$f":"IF('JMF Input'!A11<>\"\",'JMF Input'!A11,\"\")","v":""},{"$f":"IF('JMF Input'!B11<>\"\",'JMF Input'!B11,\"\")","v":""},{"$f":"IF('JMF Input'!C11<>\"\",'JMF Input'!C11,\"\")","v":""},{"$f":"IF('JMF Input'!D11<>\"\",'JMF Input'!D11,\"\")","v":""},{"$f":"IF(ISNUMBER('JMF Input'!E11),'JMF Input'!E11, \"\")","v":""},{"$f":"IFERROR(ROUND((100*H11)/(100-(IF(ISNUMBER(I11),I11,0)*H11)),setup!$M$23),\"\")","v":""},{"$f":"IF(ISNUMBER('JMF Input'!E11),'JMF Input'!E11, \"\")","v":""},{"$f":"IF(ISNUMBER('JMF Input'!F11),'JMF Input'!F11, \"\")","v":""},{"$f":"IF(ISNUMBER('JMF Input'!G11),'JMF Input'!G11, \"\")","v":""},{"$f":"IF(ISNUMBER('JMF Input'!H11),'JMF Input'!H11, \"\")","v":""},{"$f":"IF(ISNUMBER('JMF Input'!I11),'JMF Input'!I11, \"\")","v":""},{"$f":"IF(ISNUMBER('JMF Input'!J11),'JMF Input'!J11, \"\")","v":""},{"$f":"IF(ISNUMBER('JMF Input'!K11),'JMF Input'!K11, \"\")","v":""},{"$f":"IF('JMF Input'!L11<>\"\",'JMF Input'!L11,\"\")","v":""},{"$f":"IF(ISNUMBER('JMF Input'!M11),'JMF Input'!M11, \"\")","v":""},{"$f":"IF(ISNUMBER('JMF Input'!N11),'JMF Input'!N11, \"\")","v":""},{"$f":"IF('JMF Input'!O11<>\"\",'JMF Input'!O11,\"\")","v":""}]
[{"$f":"IF('JMF Input'!A12<>\"\",'JMF Input'!A12,\"\")","v":""},{"$f":"IF('JMF Input'!B12<>\"\",'JMF Input'!B12,\"\")","v":""},{"$f":"IF('JMF Input'!C12<>\"\",'JMF Input'!C12,\"\")","v":""},{"$f":"IF('JMF Input'!D12<>\"\",'JMF Input'!D12,\"\")","v":""},{"$f":"IF(ISNUMBER('JMF Input'!E12),'JMF Input'!E12, \"\")","v":""},{"$f":"IFERROR(ROUND((100*H12)/(100-(IF(ISNUMBER(I12),I12,0)*H12)),setup!$M$23),\"\")","v":""},{"$f":"IF(ISNUMBER('JMF Input'!E12),'JMF Input'!E12, \"\")","v":""},{"$f":"IF(ISNUMBER('JMF Input'!F12),'JMF Input'!F12, \"\")","v":""},{"$f":"IF(ISNUMBER('JMF Input'!G12),'JMF Input'!G12, \"\")","v":""},{"$f":"IF(ISNUMBER('JMF Input'!H12),'JMF Input'!H12, \"\")","v":""},{"$f":"IF(ISNUMBER('JMF Input'!I12),'JMF Input'!I12, \"\")","v":""},{"$f":"IF(ISNUMBER('JMF Input'!J12),'JMF Input'!J12, \"\")","v":""},{"$f":"IF(ISNUMBER('JMF Input'!K12),'JMF Input'!K12, \"\")","v":""},{"$f":"IF('JMF Input'!L12<>\"\",'JMF Input'!L12,\"\")","v":""},{"$f":"IF(ISNUMBER('JMF Input'!M12),'JMF Input'!M12, \"\")","v":""},{"$f":"IF(ISNUMBER('JMF Input'!N12),'JMF Input'!N12, \"\")","v":""},{"$f":"IF('JMF Input'!O12<>\"\",'JMF Input'!O12,\"\")","v":""}]
[{"$f":"IF('JMF Input'!A13<>\"\",'JMF Input'!A13,\"\")","v":""},{"$f":"IF('JMF Input'!B13<>\"\",'JMF Input'!B13,\"\")","v":""},{"$f":"IF('JMF Input'!C13<>\"\",'JMF Input'!C13,\"\")","v":""},{"$f":"IF('JMF Input'!D13<>\"\",'JMF Input'!D13,\"\")","v":""},{"$f":"IF(ISNUMBER('JMF Input'!E13),'JMF Input'!E13, \"\")","v":""},{"$f":"IFERROR(ROUND((100*H13)/(100-(IF(ISNUMBER(I13),I13,0)*H13)),setup!$M$23),\"\")","v":""},{"$f":"IF(ISNUMBER('JMF Input'!E13),'JMF Input'!E13, \"\")","v":""},{"$f":"IF(ISNUMBER('JMF Input'!F13),'JMF Input'!F13, \"\")","v":""},{"$f":"IF(ISNUMBER('JMF Input'!G13),'JMF Input'!G13, \"\")","v":""},{"$f":"IF(ISNUMBER('JMF Input'!H13),'JMF Input'!H13, \"\")","v":""},{"$f":"IF(ISNUMBER('JMF Input'!I13),'JMF Input'!I13, \"\")","v":""},{"$f":"IF(ISNUMBER('JMF Input'!J13),'JMF Input'!J13, \"\")","v":""},{"$f":"IF(ISNUMBER('JMF Input'!K13),'JMF Input'!K13, \"\")","v":""},{"$f":"IF('JMF Input'!L13<>\"\",'JMF Input'!L13,\"\")","v":""},{"$f":"IF(ISNUMBER('JMF Input'!M13),'JMF Input'!M13, \"\")","v":""},{"$f":"IF(ISNUMBER('JMF Input'!N13),'JMF Input'!N13, \"\")","v":""},{"$f":"IF('JMF Input'!O13<>\"\",'JMF Input'!O13,\"\")","v":""}]
[{"$f":"IF('JMF Input'!A14<>\"\",'JMF Input'!A14,\"\")","v":""},{"$f":"IF('JMF Input'!B14<>\"\",'JMF Input'!B14,\"\")","v":""},{"$f":"IF('JMF Input'!C14<>\"\",'JMF Input'!C14,\"\")","v":""},{"$f":"IF('JMF Input'!D14<>\"\",'JMF Input'!D14,\"\")","v":""},{"$f":"IF(ISNUMBER('JMF Input'!E14),'JMF Input'!E14, \"\")","v":""},{"$f":"IFERROR(ROUND((100*H14)/(100-(IF(ISNUMBER(I14),I14,0)*H14)),setup!$M$23),\"\")","v":""},{"$f":"IF(ISNUMBER('JMF Input'!E14),'JMF Input'!E14, \"\")","v":""},{"$f":"IF(ISNUMBER('JMF Input'!F14),'JMF Input'!F14, \"\")","v":""},{"$f":"IF(ISNUMBER('JMF Input'!G14),'JMF Input'!G14, \"\")","v":""},{"$f":"IF(ISNUMBER('JMF Input'!H14),'JMF Input'!H14, \"\")","v":""},{"$f":"IF(ISNUMBER('JMF Input'!I14),'JMF Input'!I14, \"\")","v":""},{"$f":"IF(ISNUMBER('JMF Input'!J14),'JMF Input'!J14, \"\")","v":""},{"$f":"IF(ISNUMBER('JMF Input'!K14),'JMF Input'!K14, \"\")","v":""},{"$f":"IF('JMF Input'!L14<>\"\",'JMF Input'!L14,\"\")","v":""},{"$f":"IF(ISNUMBER('JMF Input'!M14),'JMF Input'!M14, \"\")","v":""},{"$f":"IF(ISNUMBER('JMF Input'!N14),'JMF Input'!N14, \"\")","v":""},{"$f":"IF('JMF Input'!O14<>\"\",'JMF Input'!O14,\"\")","v":""}]
[{"$f":"IF('JMF Input'!A15<>\"\",'JMF Input'!A15,\"\")","v":""},{"$f":"IF('JMF Input'!B15<>\"\",'JMF Input'!B15,\"\")","v":""},{"$f":"IF('JMF Input'!C15<>\"\",'JMF Input'!C15,\"\")","v":""},{"$f":"IF('JMF Input'!D15<>\"\",'JMF Input'!D15,\"\")","v":""},{"$f":"IF(ISNUMBER('JMF Input'!E15),'JMF Input'!E15, \"\")","v":""},{"$f":"IFERROR(ROUND((100*H15)/(100-(IF(ISNUMBER(I15),I15,0)*H15)),setup!$M$23),\"\")","v":""},{"$f":"IF(ISNUMBER('JMF Input'!E15),'JMF Input'!E15, \"\")","v":""},{"$f":"IF(ISNUMBER('JMF Input'!F15),'JMF Input'!F15, \"\")","v":""},{"$f":"IF(ISNUMBER('JMF Input'!G15),'JMF Input'!G15, \"\")","v":""},{"$f":"IF(ISNUMBER('JMF Input'!H15),'JMF Input'!H15, \"\")","v":""},{"$f":"IF(ISNUMBER('JMF Input'!I15),'JMF Input'!I15, \"\")","v":""},{"$f":"IF(ISNUMBER('JMF Input'!J15),'JMF Input'!J15, \"\")","v":""},{"$f":"IF(ISNUMBER('JMF Input'!K15),'JMF Input'!K15, \"\")","v":""},{"$f":"IF('JMF Input'!L15<>\"\",'JMF Input'!L15,\"\")","v":""},{"$f":"IF(ISNUMBER('JMF Input'!M15),'JMF Input'!M15, \"\")","v":""},{"$f":"IF(ISNUMBER('JMF Input'!N15),'JMF Input'!N15, \"\")","v":""},{"$f":"IF('JMF Input'!O15<>\"\",'JMF Input'!O15,\"\")","v":""}]
[{"$f":"IF('JMF Input'!A16<>\"\",'JMF Input'!A16,\"\")","v":""},{"$f":"IF('JMF Input'!B16<>\"\",'JMF Input'!B16,\"\")","v":""},{"$f":"IF('JMF Input'!C16<>\"\",'JMF Input'!C16,\"\")","v":""},{"$f":"IF('JMF Input'!D16<>\"\",'JMF Input'!D16,\"\")","v":""},{"$f":"IF(ISNUMBER('JMF Input'!E16),'JMF Input'!E16, \"\")","v":""},{"$f":"IFERROR(ROUND((100*H16)/(100-(IF(ISNUMBER(I16),I16,0)*H16)),setup!$M$23),\"\")","v":""},{"$f":"IF(ISNUMBER('JMF Input'!E16),'JMF Input'!E16, \"\")","v":""},{"$f":"IF(ISNUMBER('JMF Input'!F16),'JMF Input'!F16, \"\")","v":""},{"$f":"IF(ISNUMBER('JMF Input'!G16),'JMF Input'!G16, \"\")","v":""},{"$f":"IF(ISNUMBER('JMF Input'!H16),'JMF Input'!H16, \"\")","v":""},{"$f":"IF(ISNUMBER('JMF Input'!I16),'JMF Input'!I16, \"\")","v":""},{"$f":"IF(ISNUMBER('JMF Input'!J16),'JMF Input'!J16, \"\")","v":""},{"$f":"IF(ISNUMBER('JMF Input'!K16),'JMF Input'!K16, \"\")","v":""},{"$f":"IF('JMF Input'!L16<>\"\",'JMF Input'!L16,\"\")","v":""},{"$f":"IF(ISNUMBER('JMF Input'!M16),'JMF Input'!M16, \"\")","v":""},{"$f":"IF(ISNUMBER('JMF Input'!N16),'JMF Input'!N16, \"\")","v":""},{"$f":"IF('JMF Input'!O16<>\"\",'JMF Input'!O16,\"\")","v":""}]
[{"$f":"IF('JMF Input'!A17<>\"\",'JMF Input'!A17,\"\")","v":""},{"$f":"IF('JMF Input'!B17<>\"\",'JMF Input'!B17,\"\")","v":""},{"$f":"IF('JMF Input'!C17<>\"\",'JMF Input'!C17,\"\")","v":""},{"$f":"IF('JMF Input'!D17<>\"\",'JMF Input'!D17,\"\")","v":""},{"$f":"IF(ISNUMBER('JMF Input'!E17),'JMF Input'!E17, \"\")","v":""},{"$f":"IFERROR(ROUND((100*H17)/(100-(IF(ISNUMBER(I17),I17,0)*H17)),setup!$M$23),\"\")","v":""},{"$f":"IF(ISNUMBER('JMF Input'!E17),'JMF Input'!E17, \"\")","v":""},{"$f":"IF(ISNUMBER('JMF Input'!F17),'JMF Input'!F17, \"\")","v":""},{"$f":"IF(ISNUMBER('JMF Input'!G17),'JMF Input'!G17, \"\")","v":""},{"$f":"IF(ISNUMBER('JMF Input'!H17),'JMF Input'!H17, \"\")","v":""},{"$f":"IF(ISNUMBER('JMF Input'!I17),'JMF Input'!I17, \"\")","v":""},{"$f":"IF(ISNUMBER('JMF Input'!J17),'JMF Input'!J17, \"\")","v":""},{"$f":"IF(ISNUMBER('JMF Input'!K17),'JMF Input'!K17, \"\")","v":""},{"$f":"IF('JMF Input'!L17<>\"\",'JMF Input'!L17,\"\")","v":""},{"$f":"IF(ISNUMBER('JMF Input'!M17),'JMF Input'!M17, \"\")","v":""},{"$f":"IF(ISNUMBER('JMF Input'!N17),'JMF Input'!N17, \"\")","v":""},{"$f":"IF('JMF Input'!O17<>\"\",'JMF Input'!O17,\"\")","v":""}]
[{"$f":"IF('JMF Input'!A18<>\"\",'JMF Input'!A18,\"\")","v":""},{"$f":"IF('JMF Input'!B18<>\"\",'JMF Input'!B18,\"\")","v":""},{"$f":"IF('JMF Input'!C18<>\"\",'JMF Input'!C18,\"\")","v":""},{"$f":"IF('JMF Input'!D18<>\"\",'JMF Input'!D18,\"\")","v":""},{"$f":"IF(ISNUMBER('JMF Input'!E18),'JMF Input'!E18, \"\")","v":""},{"$f":"IFERROR(ROUND((100*H18)/(100-(IF(ISNUMBER(I18),I18,0)*H18)),setup!$M$23),\"\")","v":""},{"$f":"IF(ISNUMBER('JMF Input'!E18),'JMF Input'!E18, \"\")","v":""},{"$f":"IF(ISNUMBER('JMF Input'!F18),'JMF Input'!F18, \"\")","v":""},{"$f":"IF(ISNUMBER('JMF Input'!G18),'JMF Input'!G18, \"\")","v":""},{"$f":"IF(ISNUMBER('JMF Input'!H18),'JMF Input'!H18, \"\")","v":""},{"$f":"IF(ISNUMBER('JMF Input'!I18),'JMF Input'!I18, \"\")","v":""},{"$f":"IF(ISNUMBER('JMF Input'!J18),'JMF Input'!J18, \"\")","v":""},{"$f":"IF(ISNUMBER('JMF Input'!K18),'JMF Input'!K18, \"\")","v":""},{"$f":"IF('JMF Input'!L18<>\"\",'JMF Input'!L18,\"\")","v":""},{"$f":"IF(ISNUMBER('JMF Input'!M18),'JMF Input'!M18, \"\")","v":""},{"$f":"IF(ISNUMBER('JMF Input'!N18),'JMF Input'!N18, \"\")","v":""},{"$f":"IF('JMF Input'!O18<>\"\",'JMF Input'!O18,\"\")","v":""}]
[{"$f":"IF('JMF Input'!A19<>\"\",'JMF Input'!A19,\"\")","v":""},{"$f":"IF('JMF Input'!B19<>\"\",'JMF Input'!B19,\"\")","v":""},{"$f":"IF('JMF Input'!C19<>\"\",'JMF Input'!C19,\"\")","v":""},{"$f":"IF('JMF Input'!D19<>\"\",'JMF Input'!D19,\"\")","v":""},{"$f":"IF(ISNUMBER('JMF Input'!E19),'JMF Input'!E19, \"\")","v":""},{"$f":"IFERROR(ROUND((100*H19)/(100-(IF(ISNUMBER(I19),I19,0)*H19)),setup!$M$23),\"\")","v":""},{"$f":"IF(ISNUMBER('JMF Input'!E19),'JMF Input'!E19, \"\")","v":""},{"$f":"IF(ISNUMBER('JMF Input'!F19),'JMF Input'!F19, \"\")","v":""},{"$f":"IF(ISNUMBER('JMF Input'!G19),'JMF Input'!G19, \"\")","v":""},{"$f":"IF(ISNUMBER('JMF Input'!H19),'JMF Input'!H19, \"\")","v":""},{"$f":"IF(ISNUMBER('JMF Input'!I19),'JMF Input'!I19, \"\")","v":""},{"$f":"IF(ISNUMBER('JMF Input'!J19),'JMF Input'!J19, \"\")","v":""},{"$f":"IF(ISNUMBER('JMF Input'!K19),'JMF Input'!K19, \"\")","v":""},{"$f":"IF('JMF Input'!L19<>\"\",'JMF Input'!L19,\"\")","v":""},{"$f":"IF(ISNUMBER('JMF Input'!M19),'JMF Input'!M19, \"\")","v":""},{"$f":"IF(ISNUMBER('JMF Input'!N19),'JMF Input'!N19, \"\")","v":""},{"$f":"IF('JMF Input'!O19<>\"\",'JMF Input'!O19,\"\")","v":""}]
[{"$f":"IF('JMF Input'!A20<>\"\",'JMF Input'!A20,\"\")","v":""},{"$f":"IF('JMF Input'!B20<>\"\",'JMF Input'!B20,\"\")","v":""},{"$f":"IF('JMF Input'!C20<>\"\",'JMF Input'!C20,\"\")","v":""},{"$f":"IF('JMF Input'!D20<>\"\",'JMF Input'!D20,\"\")","v":""},{"$f":"IF(ISNUMBER('JMF Input'!E20),'JMF Input'!E20, \"\")","v":""},{"$f":"IFERROR(ROUND((100*H20)/(100-(IF(ISNUMBER(I20),I20,0)*H20)),setup!$M$23),\"\")","v":""},{"$f":"IF(ISNUMBER('JMF Input'!E20),'JMF Input'!E20, \"\")","v":""},{"$f":"IF(ISNUMBER('JMF Input'!F20),'JMF Input'!F20, \"\")","v":""},{"$f":"IF(ISNUMBER('JMF Input'!G20),'JMF Input'!G20, \"\")","v":""},{"$f":"IF(ISNUMBER('JMF Input'!H20),'JMF Input'!H20, \"\")","v":""},{"$f":"IF(ISNUMBER('JMF Input'!I20),'JMF Input'!I20, \"\")","v":""},{"$f":"IF(ISNUMBER('JMF Input'!J20),'JMF Input'!J20, \"\")","v":""},{"$f":"IF(ISNUMBER('JMF Input'!K20),'JMF Input'!K20, \"\")","v":""},{"$f":"IF('JMF Input'!L20<>\"\",'JMF Input'!L20,\"\")","v":""},{"$f":"IF(ISNUMBER('JMF Input'!M20),'JMF Input'!M20, \"\")","v":""},{"$f":"IF(ISNUMBER('JMF Input'!N20),'JMF Input'!N20, \"\")","v":""},{"$f":"IF('JMF Input'!O20<>\"\",'JMF Input'!O20,\"\")","v":""}]
["Combined Aggregates  Properties",null,null,null,{"$f":"SUM(E11:E20)","v":0},{"$f":"ROUND((100*H21)/(100-(I21*H21)),setup!M24)","v":0},null,{"$f":"'JMF Input'!J39","v":0},{"$f":"IF(SUMIF(I11:I20,\">0\",E12:E20),ROUND((IFERROR(I11*E11,0)+IFERROR(I12*E12,0)+IFERROR(I13*E13,0)+IFERROR(I14*E14,0)+IFERROR(I15*E15,0)+IFERROR(I16*E16,0)+IFERROR(I17*E17,0)+IFERROR(I18*E18,0)+IFERROR(I19*E19,0)+IFERROR(E20*I20,0))/(SUMIF(I11:I20,\">0\",E11:E20)),setup!M37),0)","v":0},{"$f":"IF('Comp. Grad. and FAA Input'!L26<>\"\",ROUND('Comp. Grad. and FAA Input'!L26, setup!M33), \"\")","v":""},{"$f":"IF(SUMIF(K12:K20,\">0\",E12:E20)>0,ROUND((IFERROR(E11*K11,0)+IFERROR(E12*K12,0)+IFERROR(E13*K13,0)+IFERROR(E14*K14,0)+IFERROR(E15*K15,0)+IFERROR(E16*K16,0)+IFERROR(K17*E17,0)+IFERROR(K18*E18,0)+IFERROR(K19*E19,0)+IFERROR(E20*K20,0))/SUMIF(K11:K20,\">0\",E11:E20),setup!M34),\"\")","v":""},{"$f":"IF(SUMIF(L11:L20,\">0\",E11:E20)>0,ROUND((IFERROR(E11*L11,0)+IFERROR(E12*L12,0)+IFERROR(E13*L13,0)+IFERROR(E14*L14,0)+IFERROR(E15*L15,0)+IFERROR(E16*L16,0)+IFERROR(L17*E17,0)+IFERROR(L18*E18,0)+IFERROR(L19*E19,0)+IFERROR(E20*L20,0))/SUMIF(L11:L20,\">0\",E11:E20),setup!M35),0)","v":0},{"$f":"IF(SUMIF(E11:E20,\">0\",M11:M20)>0,ROUND(SUM(IFERROR(M11*E11*O11/100,0), IFERROR(M12*E12*O12/100,0), IFERROR(M13*E13*O13/100,0), IFERROR(M14*E14*O14/100,0), IFERROR(M15*E15*O15/100,0), IFERROR(M16*E16*O16/100,0), IFERROR(M17*E17*O17/100,0), IFERROR(M18*E18*O18/100,0), IFERROR(M19*E19*O19/100,0), IFERROR(M20*E20*O20/100,0))/SUM(IFERROR(IF(M11<>\"\",E11*O11/100,0),0),IFERROR(IF(M12<>\"\",E12*O12/100,0),0),IFERROR(IF(M13<>\"\",E13*O13/100,0),0),IFERROR(IF(M14<>\"\",E14*O14/100,0),0),IFERROR(IF(M15<>\"\",E15*O15/100,0),0),IFERROR(IF(M16<>\"\",E16*O16/100,0),0),IFERROR(IF(M17<>\"\",E17*O17/100,0),0),IFERROR(IF(M18<>\"\",E18*O18/100,0),0),IFERROR(IF(M19<>\"\",E19*O19/100,0),0),IFERROR(IF(M20<>\"\",E20*O20/100,0),0)),setup!M32),\"\")","v":""}]
[]
[null,"Code/Grade","Material",null,null,null,null,"%","Sp. Gravity",null,"Warm Mix Asphalt"]
[{"$f":"'JMF Input'!A23","v":"Asphalt"},{"$f":"'JMF Input'!B23","v":0},{"$f":"'JMF Input'!C23","v":0},null,null,null,null,{"$f":"'JMF Input'!G23","v":0},{"$f":"'JMF Input'!H23","v":1.03},{"$f":"'JMF Input'!I23","v":""},"Warm Mix",{"$f":"'JMF Input'!K23","v":"No"},null,null,"Flag Checklist"]
[{"$f":"'JMF Input'!A24","v":"Alt. Asphalt"},{"$f":"IF('JMF Input'!B24<>\"\",'JMF Input'!B24,\"\")","v":""},{"$f":"IF('JMF Input'!C24<>\"\",'JMF Input'!C24,\"\")","v":""},null,null,null,null,null,null,null,"Method",{"$f":"IF('JMF Input'!K24=0, \"\", 'JMF Input'!K24)","v":"None"},null,{"$f":"IF(O25<>\"\",\"FAA\",\"\")","v":""},{"$f":"'JMF Input'!H21","v":""}]
[{"$f":"'JMF Input'!A25","v":"Alt. Asphalt"},{"$f":"IF('JMF Input'!B25<>\"\",'JMF Input'!B25,\"\")","v":""},{"$f":"IF('JMF Input'!C25<>\"\",'JMF Input'!C25,\"\")","v":""},null,null,null,null,null,null,null,"Rate",{"$f":"IF('JMF Input'!K25=0, \"\", 'JMF Input'!K25)","v":""},null,{"$f":"IF(O26<>\"\",\"Sand Eq\",\"\")","v":""},{"$f":"'JMF Input'!I21","v":""}]
[{"$f":"'JMF Input'!A26","v":"Asphalt Content from RAP"},null,null,null,null,null,null,{"$f":"'JMF Input'!G26","v":0},{"$f":"'JMF Input'!H26","v":1.03},null,"If Chemical",{"$f":"IF('JMF Input'!K26=0, \"\", 'JMF Input'!K26)","v":""},null,{"$f":"IF(O27<>\"\",\"Flat & Elong\",\"\")","v":""},{"$f":"'JMF Input'!J21","v":""}]
[{"$f":"'JMF Input'!A27","v":"Anti-strip"},{"$f":"'JMF Input'!B27","v":0},{"$f":"'JMF Input'!C27","v":0},null,null,null,null,{"$f":"'JMF Input'!G27","v":0},{"$f":"'JMF Input'!H27","v":" "},null,"Brand Name",null,null,{"$f":"IF(O28<>\"\",\"CAA\",\"\")","v":""},{"$f":"'JMF Input'!K21","v":""}]
[null,null,null,null,null,null,null,null,null,null,null,null,null,{"$f":"IF(O29<>\"\",\"Friction\",\"\")","v":""},{"$f":"'JMF Input'!L21","v":""}]
["Design Submitted by Contractor",null,null,null,null,null,null,null,null,null,"Draindown Control",null,null,{"$f":"IF(O30<>\"\",\"AC binder\",\"\")","v":""},{"$f":"'JMF Input'!I23","v":""}]
["Average Volumetrics",null,null,null,null,null,null,null,null,null,"Fibers",{"$f":"'JMF Input'!K30","v":"None"},null,{"$f":"IF(O31<>\"\",\"% Nat Sand\",\"\")","v":""},{"$f":"'JMF Input'!K35","v":""},null,null,null,null,"Use Design Voids"]
["Gmm",{"$f":"'Optimum AC Test Results'!$C$39","v":0},null,null,null,null,null,null,null,null,null,null,null,{"$f":"IF(O32<>\"\",\"% Crushed\",\"\")","v":"% Crushed"},{"$f":"'JMF Input'!K38","v":"%Crush MIN"}]
["%Gmm,Nini",{"$f":"'Optimum AC Test Results'!E52","v":""},null,{"$f":"'JMF Input'!B29","v":"Cold Feed"},{"$f":"'JMF Input'!C29","v":"Avg Oven Extract"},null,null,{"$f":"'JMF Input'!E29","v":"Validated Results"},null,null,"Rate",{"$f":"IF('JMF Input'!K31=0,\"\",'JMF Input'!K31)","v":""},null,{"$f":"IF(O33<>\"\",\"VFA\",\"\")","v":{"$error":"#DIV/0!"}},{"$f":"IF(OR(B37<MAX(0,setup!B14), B37>MIN(setup!C14,100)),MAX(0,setup!B14)&\" - \" & MIN(setup!C14,100),\"\")","v":{"$error":"#DIV/0!"}}]
["%Gmm,Nmax",{"$f":"'Optimum AC Test Results'!I58","v":""},"Sieve",{"$f":"'JMF Input'!B30","v":"% Passing"},{"$f":"'JMF Input'!C30","v":"% Passing"},null,null,{"$f":"'JMF Input'!E30","v":"% Passing"},{"$f":"'JMF Input'!F30","v":"Tolerance"},null,"If Chemical",{"$f":"IF('JMF Input'!K32=0,\"\",'JMF Input'!K32)","v":""},null,{"$f":"IF(O34<>\"\",\"% RAP\",\"\")","v":""},{"$f":"'JMF Input'!O38","v":""}]
["Gmb@Des,cor",{"$f":"(100-B38)*B32/100","v":0},"1.5\"      37.5",{"$f":"'JMF Input'!B31","v":100},{"$f":"'JMF Input'!C31","v":100},null,null,{"$f":"'JMF Input'!E31","v":""},null,null,"Brand Name",null,null,{"$f":"IF(O35<>\"\",\"Design Gradn\",\"\")","v":"Design Gradn"},{"$f":"'Comp. Grad. and FAA Input'!L21","v":"     1\" Min  No 8 Min  No 200 Min"}]
["VMA",{"$f":"ROUND((100-(B35*(100-B39))/H21),setup!M27)","v":{"$error":"#DIV/0!"}},"1\"           25",{"$f":"'JMF Input'!B32","v":0},{"$f":"'JMF Input'!C32","v":96.5},null,null,{"$f":"'JMF Input'!E32","v":""},{"$f":"'JMF Input'!F32","v":" -- "},null,null,null,null,{"$f":"IF(O36<>\"\",\"Verifctn Gradn\",\"\")","v":""},{"$f":"'Comp. Grad. and FAA Input'!T85","v":""}]
["VFA",{"$f":"100*(B36-B38)/B36","v":{"$error":"#DIV/0!"}},"3/4\"        19",{"$f":"'JMF Input'!B33","v":0},{"$f":"'JMF Input'!C33","v":85.1},null,null,{"$f":"'JMF Input'!E33","v":""},{"$f":"'JMF Input'!F33","v":" -- "},null,null,"Rap 1","Rap 2",{"$f":"IF(O37<>\"\",\"SCB\",\"\")","v":"SCB"},{"$f":"'JMF Input'!K41","v":"SCB Min"}]
["%Voids",{"$f":"IF(T31=\"Use Verification Briq Voids\", 'Optimum AC Test Results'!E60,'Optimum AC Test Results'!P10)","v":3.5},"1/2\"      12.5",{"$f":"'JMF Input'!B34","v":0},{"$f":"'JMF Input'!C34","v":69.400000000000006},null,null,{"$f":"'JMF Input'!E34","v":""},{"$f":"'JMF Input'!F34","v":" -- "},null,"Type",{"$f":"IF('JMF Input'!M37>0,'JMF Input'!M37,\"\")","v":""},{"$f":"IF('JMF Input'!N37>0,'JMF Input'!N37,\"\")","v":""},{"$f":"IF(O38<>\"\",\"LWT\",\"\")","v":"LWT"},{"$f":"IF(C51<>\"PASS\", \"LWT Check\",\"\")","v":"LWT Check"}]
["%DesignAC",{"$f":"'Optimum AC Test Results'!C35","v":0},"3/8\"      9.5",{"$f":"'JMF Input'!B35","v":0},{"$f":"'JMF Input'!C35","v":62},null,null,{"$f":"'JMF Input'!E35","v":""},{"$f":"'JMF Input'!F35","v":" -- "},null,"Percent",{"$f":"IF('JMF Input'!M38>0,'JMF Input'!M38,\"\")","v":""},{"$f":"IF('JMF Input'!N38>0,'JMF Input'!N38,\"\")","v":""},{"$f":"IF(O39<>\"\",\"Aggregate\",\"\")","v":"Aggregate"},{"$f":"IF(E21<>100,\"Agg Total Not 100%\",\"\")","v":"Agg Total Not 100%"}]
["Gsb agg",{"$f":"H21","v":0},"#4       4.75",{"$f":"'JMF Input'!B36","v":0},{"$f":"'JMF Input'!C36","v":50.9},null,null,{"$f":"'JMF Input'!E36","v":""},{"$f":"'JMF Input'!F36","v":" -- "},null,"Residual%",{"$f":"IF('JMF Input'!M39>0,'JMF Input'!M39,\"\")","v":""},{"$f":"IF('JMF Input'!N39>0,'JMF Input'!N39,\"\")","v":""}]
["Comp Temp",{"$f":"'JMF Input'!J40","v":0},"#8       2.36",{"$f":"'JMF Input'!B37","v":0},{"$f":"'JMF Input'!C37","v":39.200000000000003},null,null,{"$f":"'JMF Input'!E37","v":""},{"$f":"'JMF Input'!F37","v":" -- "},null,"Agg %",{"$f":"IF('JMF Input'!M40>0,'JMF Input'!M40,\"\")","v":""},{"$f":"IF('JMF Input'!N40>0,'JMF Input'!N40,\"\")","v":""}]
["%Crushed",{"$f":"'JMF Input'!J38","v":0},"#16      1.18",{"$f":"'JMF Input'!B38","v":0},{"$f":"'JMF Input'!C38","v":32.4},null,null,{"$f":"'JMF Input'!E38","v":""},{"$f":"'JMF Input'!F38","v":" -- "},null,"Rap AC%",{"$f":"IF('JMF Input'!M41>0,'JMF Input'!M41,\"\")","v":""},{"$f":"IF('JMF Input'!N41>0,'JMF Input'!N41,\"\")","v":""}]
["dust/Peff",{"$f":"ROUND(E46/B46,setup!M36)","v":{"$error":"#DIV/0!"}},"#30       0.6",{"$f":"'JMF Input'!B39","v":0},{"$f":"'JMF Input'!C39","v":24.7},null,null,{"$f":"'JMF Input'!E39","v":""},{"$f":"'JMF Input'!F39","v":" -- "}]
["Gse ",{"$f":"'Optimum AC Test Results'!C37","v":0},"#50       0.3",{"$f":"'JMF Input'!B40","v":0},{"$f":"'JMF Input'!C40","v":12},null,null,{"$f":"'JMF Input'!E40","v":""},{"$f":"'JMF Input'!F40","v":" -- "}]
["Pabsorb",{"$f":"ROUND((103*(B44-B40))/(B40*B44),setup!M37)","v":{"$error":"#DIV/0!"}},"#100    0.15",{"$f":"'JMF Input'!B41","v":0},{"$f":"'JMF Input'!C41","v":7.5},null,null,{"$f":"'JMF Input'!E41","v":""},{"$f":"'JMF Input'!F41","v":" -- "}]
["Pbe",{"$f":"ROUND('JMF Input'!J37-((B45*(100-J37))/100),setup!M26)","v":{"$error":"#DIV/0!"}},"#200   0.075",{"$f":"'JMF Input'!B42","v":0},{"$f":"'JMF Input'!C42","v":5},null,null,{"$f":"'JMF Input'!E42","v":""},{"$f":"'JMF Input'!F42","v":" -- "}]
["SCB",{"$f":"'JMF Input'!J41","v":0},"% Extracted AC",null,{"$f":"'JMF Input'!C44","v":0},null,null,{"$f":"'JMF Input'!E44","v":""},{"$f":"'JMF Input'!F44","v":" -- "}]
[null,null,null,null,null,null,null,null,null,null,null,null,null,null,"Gyr. Rev"]
["AASHTO T324",null,null,null,null,null,null,null,"AASHTO T283 as modified by PP28",null,null,null,null,"Nini ",{"$f":"'JMF Input'!N23","v":7}]
["Average Rut (mm)",null,{"$f":"'Moisture Susceptibility Design'!B19","v":{"$error":"#DIV/0!"}},null,null,null,null,null,null,"Control PSI",{"$f":"'Moisture Susceptibility Design'!B77","v":""},null,null,"Ndes ",{"$f":"'JMF Input'!N24","v":55}]
["Results (Pass/Fail)",null,{"$f":"'Moisture Susceptibility Design'!B21","v":0},null,null,null,null,null,null,"Design TSR%",{"$f":"'Moisture Susceptibility Design'!B79","v":""},null,null,"Nmax ",{"$f":"'JMF Input'!N25","v":90}]
[]
[]
["Proposal approved by:",null,null,null,null,null,null,null,null,null,"Date:"]
[]
["Validation approved by:",null,null,null,null,null,null,null,null,null,"Date:"]
[]
["Submitted for contractor by:",null,null,null,null,null,null,null,null,null,"Date:"]
[]
["Remarks:",{"$f":"'JMF Input'!B46:O46","v":0}]
[]
[{"$f":"setup!S2","v":"LaPave 502 v18.05.02"},null,null,null,null,null,null,null,null,null,null,null,null,{"$f":"TODAY()","v":"2023-03-31"}]

{"sheet":"Validation Input","index":9,"n_rows":81,"n_cols":27,"rows_kept":81,"cut":false,"hidden":false,"merged":[[34,20,35,22],[13,12,13,13],[13,6,13,7],[0,0,0,14],[1,5,1,6],[2,9,2,10],[11,9,11,10],[7,9,7,15],[10,9,10,10],[1,9,1,10],[10,1,10,2],[11,1,11,2],[7,1,7,7],[1,1,1,2],[2,1,2,2],[5,1,5,5],[5,8,5,9],[77,16,77,17],[75,1,75,16],[14,3,14,4],[14,9,14,10],[38,9,38,10],[38,1,38,2],[63,8,63,12],[39,4,39,5],[39,12,39,13]]}
["VALIDATION"]
["Proj. No.",null,null,null,null,"Design level",null,{"$f":"'JMF Input'!F4","v":1},"Mix Type",null,null,"Purp.Code",null,"DATE"]
["Proj. Name.",{"$f":"'JMF Input'!B4:C4","v":0},null,"JMF No.",{"$f":"'JMF Input'!$F$3","v":0},"Lot No.",null,null,"Mix Use"]
["Lot Size",null,null,"Start Date",null,null,"End Date"]
["No. Sublots",{"$f":"COUNT(D10:H10)","v":0},"%AC",{"$f":"'JMF Input'!J37","v":0},null,"Gsb",{"$f":"'JMF CHECK'!H21","v":0},null,"Ps",{"$f":"100-D5","v":100},null,"AC Corr Factor",{"$f":"'JMF Input'!K6","v":4.1376058339801904}]
["SMM P/S",{"$f":"'JMF Input'!D7","v":0},null,null,null,null,null,"SMM ID",{"$f":"'JMF Input'!J7","v":0}]
[]
[null,"Theoretical Maximum Specific Gravity, Gmm \"Rice\"  Sample 1",null,null,null,null,null,null,null,"Theoretical Maximum Specific Gravity, Gmm \"Rice\"  Sample 2"]
[null,null,null,"A","B","C","D","E",null,null,null,"A","B","C","D","E"]
[null,"Wt of Mix",null,null,null,null,null,null,null,"Wt of Mix"]
[null,"Wt of Pyc & H2O",null,null,null,null,null,null,null,"Wt of Pyc & H2O"]
[null,"Wt of Pyc, H2O & Mix",null,null,null,null,null,null,null,"Wt of Pyc, H2O & Mix"]
[]
["SUBLOT#A",null,null,null,null,null,"SUBLOT #B",null,null,null,null,null,"SUBLOT #C",null,null,null,null,null,null,null,"Shldr 10'","1-QC","Shoulder","A","ML - Wearing",{"$f":"IF(OR(J3=Y14,J3=Y15,J3=Y19,J3=Y22,J3=Y23),92,89)","v":89},"Incidental Paving"]
["Gradation","Wt. Retained","% Passing","Volumetrics",null,null,"Gradation","Wt. Retained","% Passing","Volumetrics",null,null,"Gradation","Wt. Retained","% Passing","Volumetrics",null,null,null,null,"Shldr <10'","2-Verif.","Travel Lane","B","ML - Binder",null,"Wearing Course"]
["2\"         50",null,{"$f":"IF($B$31=0,\" \",ROUND(100-(B16/$B$31)*100,setup!M42))","v":" "},"Rice 1",{"$f":"IF(D11>0,ROUND(D10/(D10+D11-D12),setup!M39),\"\")","v":""},null,"2\"         50",null,{"$f":"IF($H$31=0,\"\",ROUND(100-(H16/$H$31)*100,setup!M42))","v":""},"Rice 1",{"$f":"IF(E11>0,ROUND(E10/(E10+E11-E12),setup!M39),\"\")","v":""},null,"2\"         50",null,{"$f":"IF($N$31=0,\"\",ROUND(100-(N16/$N$31)*100,setup!M42))","v":""},"Rice 1",{"$f":"IF(F11>0,ROUND(F10/(F10+F11-F12),setup!M39),\"\")","v":""},null,null,null,{"$f":"IF(OR(J3=\"5-Wearing Shoulder\",J3=\"11-Binder Shoulder\",J3=\"12- Base Shoulder\",J3=\"13- Patching Shoulder\"),TRUE,FALSE)","v":false},"3-Accept.",null,"C","ML - Base",null,"Binder Course"]
["1.5\"    37.5",null,{"$f":"IF($B$48=0,\" \",(IF(B17=0,C16,ROUND(100-(SUM($B$16:B17)/$B$31)*100,setup!M42))))","v":" "},"Rice 2",{"$f":"IF(L11>0,ROUND(L10/(L10+L11-L12),setup!M39),\"\")","v":""},null,"1.5\"    37.5",null,{"$f":"IF($H$31=0,\"\",(IF(H17=0,I16,ROUND(100-(SUM($H$16:H17)/$H$31)*100,setup!M42))))","v":""},"Rice 2",{"$f":"IF(M11>0,ROUND(M10/(M10+M11-M12),setup!M39),\"\")","v":""},null,"1.5\"    37.5",null,{"$f":"IF($N$31=0,\"\",(IF(N17=0,O16,ROUND(100-(SUM($N$16:N17)/$N$31)*100,setup!M42))))","v":""},"Rice 2",{"$f":"IF(N11>0,ROUND(N10/(N10+N11-N12),setup!M39),\"\")","v":""},null,null,null,null,"4-Check",null,"D","ML - Ramp >300ft",null,"Base Course"]
["1\"         25",null,{"$f":"IF($B$48=0,\" \",(IF(B18=0,C17,ROUND(100-(SUM($B$16:B18)/$B$31)*100,setup!M42))))","v":" "},null,null,null,"1\"         25",null,{"$f":"IF($H$31=0,\"\",(IF(H18=0,I17,ROUND(100-(SUM($H$16:H18)/$H$31)*100,setup!M42))))","v":""},null,null,null,"1\"         25",null,{"$f":"IF($N$31=0,\"\",(IF(N18=0,O17,ROUND(100-(SUM($N$16:N18)/$N$31)*100,setup!M42))))","v":""},null,null,null,null,null,null,"5-Resample",null,null,"ML - Interstate acc/dec",null,"ATB"]
["3/4\"       19",null,{"$f":"IF($B$48=0,\" \",(IF(B19=0,C18,ROUND(100-(SUM($B$16:B19)/$B$31)*100,setup!M42))))","v":" "},null,"Brick 1","Brick 2","3/4\"       19",null,{"$f":"IF($H$31=0,\"\",(IF(H19=0,I18,ROUND(100-(SUM($H$16:H19)/$H$31)*100,setup!M42))))","v":""},null,"Brick 1","Brick 2","3/4\"       19",null,{"$f":"IF($N$31=0,\"\",(IF(N19=0,O18,ROUND(100-(SUM($N$16:N19)/$N$31)*100,setup!M42))))","v":""},null,"Brick 1","Brick 2",null,null,null,"6-S. Approv.",null,null,"ML - Center turn lane"]
["1/2\"    12.5",null,{"$f":"IF($B$48=0,\" \",(IF(B20=0,C19,ROUND(100-(SUM($B$16:B20)/$B$31)*100,setup!M42))))","v":" "},"Air",null,null,"1/2\"    12.5",null,{"$f":"IF($H$31=0,\"\",(IF(H20=0,I19,ROUND(100-(SUM($H$16:H20)/$H$31)*100,setup!M42))))","v":""},"Air",null,null,"1/2\"    12.5",null,{"$f":"IF($N$31=0,\"\",(IF(N20=0,O19,ROUND(100-(SUM($N$16:N20)/$N$31)*100,setup!M42))))","v":""},"Air",null,null,null,null,null,"7-Design",null,null,"ML - Airport center lane"]
["3/8\"     9.5",null,{"$f":"IF($B$48=0,\" \",(IF(B21=0,C20,ROUND(100-(SUM($B$16:B21)/$B$31)*100,setup!M42))))","v":" "},"Water",null,null,"3/8\"     9.5",null,{"$f":"IF($H$31=0,\"\",(IF(H21=0,I20,ROUND(100-(SUM($H$16:H21)/$H$31)*100,setup!M42))))","v":""},"Water",null,null,"3/8\"     9.5",null,{"$f":"IF($N$31=0,\"\",(IF(N21=0,O20,ROUND(100-(SUM($N$16:N21)/$N$31)*100,setup!M42))))","v":""},"Water",null,null,null,null,null,"8-IA",null,null,"Min - Shoulder > 7ft"]
["#4      4.75",null,{"$f":"IF($B$48=0,\" \",(IF(B22=0,C21,ROUND(100-(SUM($B$16:B22)/$B$31)*100,setup!M42))))","v":" "},"SSD",null,null,"#4      4.75",null,{"$f":"IF($H$31=0,\"\",(IF(H22=0,I21,ROUND(100-(SUM($H$16:H22)/$H$31)*100,setup!M42))))","v":""},"SSD",null,null,"#4      4.75",null,{"$f":"IF($N$31=0,\"\",(IF(N22=0,O21,ROUND(100-(SUM($N$16:N22)/$N$31)*100,setup!M42))))","v":""},"SSD",null,null,null,null,null,"9-Pre.S.App.",null,null,"Min - Shoulder"]
["#8      2.36",null,{"$f":"IF($B$48=0,\" \",(IF(B23=0,C22,ROUND(100-(SUM($B$16:B23)/$B$31)*100,setup!M42))))","v":" "},"N@int(mm)",null,null,"#8      2.36",null,{"$f":"IF($H$31=0,\"\",(IF(H23=0,I22,ROUND(100-(SUM($H$16:H23)/$H$31)*100,setup!M42))))","v":""},"N@int(mm)",null,null,"#8      2.36",null,{"$f":"IF($N$31=0,\"\",(IF(N23=0,O22,ROUND(100-(SUM($N$16:N23)/$N$31)*100,setup!M42))))","v":""},"N@int(mm)",null,null,null,null,null,null,null,null,"Min - Patching"]
["#16     1.18",null,{"$f":"IF($B$48=0,\" \",(IF(B24=0,C23,ROUND(100-(SUM($B$16:B24)/$B$31)*100,setup!M42))))","v":" "},"N@des(mm)",null,null,"#16     1.18",null,{"$f":"IF($H$31=0,\"\",(IF(H24=0,I23,ROUND(100-(SUM($H$16:H24)/$H$31)*100,setup!M42))))","v":""},"N@des(mm)",null,null,"#16     1.18",null,{"$f":"IF($N$31=0,\"\",(IF(N24=0,O23,ROUND(100-(SUM($N$16:N24)/$N$31)*100,setup!M42))))","v":""},"N@des(mm)",null,null,null,null,null,null,null,null,"Min - Leveling"]
["#30      0.6",null,{"$f":"IF($B$48=0,\" \",(IF(B25=0,C24,ROUND(100-(SUM($B$16:B25)/$B$31)*100,setup!M42))))","v":" "},"N@max(mm)",null,null,"#30      0.6",null,{"$f":"IF($H$31=0,\"\",(IF(H25=0,I24,ROUND(100-(SUM($H$16:H25)/$H$31)*100,setup!M42))))","v":""},"N@max(mm)",null,null,"#30      0.6",null,{"$f":"IF($N$31=0,\"\",(IF(N25=0,O24,ROUND(100-(SUM($N$16:N25)/$N$31)*100,setup!M42))))","v":""},"N@max(mm)",null,null,null,null,null,null,null,null,"Min - Widening"]
["#50      0.3",null,{"$f":"IF($B$48=0,\" \",(IF(B26=0,C25,ROUND(100-(SUM($B$16:B26)/$B$31)*100,setup!M42))))","v":" "},null,null,null,"#50      0.3",null,{"$f":"IF($H$31=0,\"\",(IF(H26=0,I25,ROUND(100-(SUM($H$16:H26)/$H$31)*100,setup!M42))))","v":""},null,null,null,"#50      0.3",null,{"$f":"IF($N$31=0,\"\",(IF(N26=0,O25,ROUND(100-(SUM($N$16:N26)/$N$31)*100,setup!M42))))","v":""},null,null,null,null,null,null,null,null,null,"Min - Ramp < 300ft"]
["#100   0.15",null,{"$f":"IF($B$48=0,\" \",(IF(B27=0,C26,ROUND(100-(SUM($B$16:B27)/$B$31)*100,setup!M42))))","v":" "},null,"%AC Meter",null,"#100   0.15",null,{"$f":"IF($H$31=0,\"\",(IF(H27=0,I26,ROUND(100-(SUM($H$16:H27)/$H$31)*100,setup!M42))))","v":""},null,"%AC Meter",null,"#100   0.15",null,{"$f":"IF($N$31=0,\"\",(IF(N27=0,O26,ROUND(100-(SUM($N$16:N27)/$N$31)*100,setup!M42))))","v":""},null,"%AC Meter",null,null,null,null,null,null,null,"Min - Crossover"]
["#200  0.075",null,{"$f":"IF($B$48=0,\" \",(IF(B28=0,C27,ROUND(100-(SUM($B$16:B28)/$B$31)*100,setup!M43))))","v":" "},null,"Comp Temp",null,"#200  0.075",null,{"$f":"IF($H$31=0,\"\",(IF(H28=0,I27,ROUND(100-(SUM($H$16:H28)/$H$31)*100,setup!M43))))","v":""},null,"Comp Temp",null,"#200 0.075",null,{"$f":"IF($N$31=0,\"\",(IF(N28=0,O27,ROUND(100-(SUM($N$16:N28)/$N$31)*100,setup!M43))))","v":""},null,"Comp Temp",null,null,null,null,null,null,null,"Min - Turnout"]
["Pass",null,null,null,"Sample Taken-Tons",null,"Pass",null,null,null,"Sample Taken-Tons",null,"Pass",null,null,null,"Sample Taken-Tons",null,null,null,null,null,null,null,"Min - Miscellaneous"]
["Dec Loss",{"$f":"IF(F34>0, F34-F35,\"\")","v":""},null,null,"Mix Temp",null,"Dec Loss",{"$f":"IF(L34>0, L34-L35,\"\")","v":""},null,null,"Mix Temp",null,"Dec Loss",{"$f":"IF(R34>0, R34-R35,\"\")","v":""},null,null,"Mix Temp"]
["Cum. Total",{"$f":"SUM(B16:B30)","v":0},null,"Antistrip",null,null,"Cum. Total",{"$f":"SUM(H16:H30)","v":0},null,"Antistrip",null,null,"Cum. Total",{"$f":"SUM(N16:N30)","v":0},null,"Antistrip"]
["%AC",{"$f":"IF(D37<>\"\", ROUND(D37-M5,setup!$M$45), \"\")","v":""},null,null,null,null,"%AC",{"$f":"IF(J37<>\"\", ROUND(J37-M5,setup!$M$45), \"\")","v":""},null,null,null,null,"%AC",{"$f":"IF(P37<>\"\", ROUND(P37-M5,setup!$M$45), \"\")","v":""}]
["Crushed",{"$f":"IF(SUM(B16:B22)>0, ROUND(F37/SUM(B16:B22)*100,0),\"\")","v":""},null,null,null,null,"Crushed",{"$f":"IF(SUM(H16:H22)>0, ROUND(L37/SUM(H16:H22)*100,0),\"\")","v":""},null,null,null,null,"Crushed",{"$f":"IF(SUM(N16:N22)>0, ROUND(R37/SUM(N16:N22)*100,0),\"\")","v":""}]
[null,null,{"$f":"IF($U$35=\"No Oven Temp Corr.\",\"Tr. Bskt\", \"Wt of Mix\")","v":"Tr. Bskt"},null,"Int.DryWt",null,null,null,{"$f":"IF($U$35=\"No Oven Temp Corr.\",\"Tr. Bskt\", \"Wt of Mix\")","v":"Tr. Bskt"},null,"Int.DryWt",null,null,null,{"$f":"IF($U$35=\"No Oven Temp Corr.\",\"Tr. Bskt\", \"Wt of Mix\")","v":"Tr. Bskt"},null,"Int.DryWt"]
["Initial Wt",null,{"$f":"IF($U$35=\"No Oven Temp Corr.\",\"Bskt+Mix w/AC\", \"Wt. Loss\")","v":"Bskt+Mix w/AC"},null,"AfterWash",null,"Initial Wt",null,{"$f":"IF($U$35=\"No Oven Temp Corr.\",\"B+Mix w/AC\", \"Wt. Loss\")","v":"B+Mix w/AC"},null,"AfterWash",null,"Initial Wt",null,{"$f":"IF($U$35=\"No Oven Temp Corr.\",\"B+Mix w/AC\", \"Wt. Loss\")","v":"B+Mix w/AC"},null,"AfterWash",null,null,null,"No Oven Temp Corr."]
["Final Wt",null,{"$f":"IF($U$35=\"No Oven Temp Corr.\",\"Bskt minus AC\", \"Temp. Corr.\")","v":"Bskt minus AC"},null,"% Diff",{"$f":"IF(F34>0, ROUND((F34-B31)/F34*100,1),\"\")","v":""},"Final Wt",null,{"$f":"IF($U$35=\"No Oven Temp Corr.\",\"B minus AC\", \"Temp. Corr.\")","v":"B minus AC"},null,"% Diff",{"$f":"IF(L34>0, ROUND((L34-H31)/L34*100,1),\"\")","v":""},"Final Wt",null,{"$f":"IF($U$35=\"No Oven Temp Corr.\",\"B minus AC\", \"Temp. Corr.\")","v":"B minus AC"},null,"% Diff",{"$f":"IF(R34>0, ROUND((R34-N31)/R34*100,1),\"\")","v":""}]
["% Moisture",{"$f":"IF(B36>0,(B35-B36)/B36,0)","v":0},{"$f":"IF($U$35=\"No Oven Temp Corr.\",\"% LOSS\", \"% LOSS-Tmp.Cor.\")","v":"% LOSS"},{"$f":"IF($U$35=\"No Oven Temp Corr.\", IF(D35>0,((D35-D36)/(D35-D34))*100, \"\"), IF(D34>0, D35/D34*100-D36,\"\"))","v":""},"Wt. Crush",null,"% Moisture",{"$f":"IF(H36>0,(H35-H36)/H36,0)","v":0},{"$f":"IF($U$35=\"No Oven Temp Corr.\",\"% LOSS\", \"% LOSS-Tmp. Cor.\")","v":"% LOSS"},{"$f":"IF($U$35=\"No Oven Temp Corr.\", IF(J35>0,((J35-J36)/(J35-J34))*100, \"\"), IF(J34>0, J35/J34*100-J36,\"\"))","v":""},"Wt. Crush",null,"% Moisture",{"$f":"IF(N36>0,(N35-N36)/N36,0)","v":0},{"$f":"IF($U$35=\"No Oven Temp Corr.\",\"% LOSS\", \"% LOSS-Tmp. Cor.\")","v":"% LOSS"},{"$f":"IF($U$35=\"No Oven Temp Corr.\", IF(P35>0,((P35-P36)/(P35-P34))*100, \"\"), IF(P34>0, P35/P34*100-P36,\"\"))","v":""},"Wt. Crush"]
[null,null,"%Loss - Moisture",{"$f":"IF(D37<>\"\",D37-B37,\"\")","v":""},null,null,null,null,"%Loss - Moisture",{"$f":"IF(J37<>\"\",J37-H37,\"\")","v":""},null,null,null,null,"%Loss - Moisture",{"$f":"IF(P37<>\"\",P37-N37,\"\")","v":""}]
[null,"SUBLOT #D",null,null,null,null,null,null,null,"SUBLOT #E"]
[null,"Gradation","Wt. Retained","% Passing","Volumetrics",null,null,null,null,"Gradation","Wt. Retained","% Passing","Volumetrics"]
[null,"2\"         50",null,{"$f":"IF($C$56=0,\"\",ROUND(100-(C41/$C$56)*100,setup!M42))","v":""},"Rice 1",{"$f":"IF(G11>0, ROUND(G10/(G10+G11-G12),setup!M39),\"\")","v":""},null,null,null,"2\"         50",null,{"$f":"IF($K$56=0,\"\",ROUND(100-(K41/$K$56)*100,setup!M42))","v":""},"Rice 1",{"$f":"IF(H11>0,ROUND(H10/(H10+H11-H12),setup!M39),\"\")","v":""}]
[null,"1.5\"    37.5",null,{"$f":"IF($C$56=0,\"\",(IF(C42=0,D41,ROUND(100-(SUM($C$41:C42)/$C$56)*100,setup!M42))))","v":""},"Rice 2",{"$f":"IF(O11>0,ROUND(O10/(O10+O11-O12),setup!M39),\"\")","v":""},null,null,null,"1.5\"    37.5",null,{"$f":"IF($K$56=0,\"\",(IF(K42=0,L41,ROUND(100-(SUM($K$41:K42)/$K$56)*100,setup!M42))))","v":""},"Rice 2",{"$f":"IF(P11>0,ROUND(P10/(P10+P11-P12),setup!M39),\"\")","v":""}]
[null,"1\"         25",null,{"$f":"IF($C$56=0,\"\",(IF(C43=0,D42,ROUND(100-(SUM($C$41:C43)/$C$56)*100,setup!M42))))","v":""},null,null,null,null,null,"1\"         25",null,{"$f":"IF($K$56=0,\"\",(IF(K43=0,L42,ROUND(100-(SUM($K$41:K43)/$K$56)*100,setup!M42))))","v":""}]
[null,"3/4\"       19",null,{"$f":"IF($C$56=0,\"\",(IF(C44=0,D43,ROUND(100-(SUM($C$41:C44)/$C$56)*100,setup!M42))))","v":""},null,"Brick 1","Brick 2",null,null,"3/4\"       19",null,{"$f":"IF($K$56=0,\"\",(IF(K44=0,L43,ROUND(100-(SUM($K$41:K44)/$K$56)*100,setup!M42))))","v":""},null,"Brick 1","Brick 2"]
[null,"1/2\"    12.5",null,{"$f":"IF($C$56=0,\"\",(IF(C45=0,D44,ROUND(100-(SUM($C$41:C45)/$C$56)*100,setup!M42))))","v":""},"Air",null,null,null,null,"1/2\"    12.5",null,{"$f":"IF($K$56=0,\"\",(IF(K45=0,L44,ROUND(100-(SUM($K$41:K45)/$K$56)*100,setup!M42))))","v":""},"Air"]
[null,"3/8\"     9.5",null,{"$f":"IF($C$56=0,\"\",(IF(C46=0,D45,ROUND(100-(SUM($C$41:C46)/$C$56)*100,setup!M42))))","v":""},"Water",null,null,null,null,"3/8\"     9.5",null,{"$f":"IF($K$56=0,\"\",(IF(K46=0,L45,ROUND(100-(SUM($K$41:K46)/$K$56)*100,setup!M42))))","v":""},"Water"]
[null,"#4      4.75",null,{"$f":"IF($C$56=0,\"\",(IF(C47=0,D46,ROUND(100-(SUM($C$41:C47)/$C$56)*100,setup!M42))))","v":""},"SSD",null,null,null,null,"#4      4.75",null,{"$f":"IF($K$56=0,\"\",(IF(K47=0,L46,ROUND(100-(SUM($K$41:K47)/$K$56)*100,setup!M42))))","v":""},"SSD"]
[null,"#8      2.36",null,{"$f":"IF($C$56=0,\"\",(IF(C48=0,D47,ROUND(100-(SUM($C$41:C48)/$C$56)*100,setup!M42))))","v":""},"N@int(mm)",null,null,null,null,"#8      2.36",null,{"$f":"IF($K$56=0,\"\",(IF(K48=0,L47,ROUND(100-(SUM($K$41:K48)/$K$56)*100,setup!M42))))","v":""},"N@int(mm)"]
[null,"#16     1.18",null,{"$f":"IF($C$56=0,\"\",(IF(C49=0,D48,ROUND(100-(SUM($C$41:C49)/$C$56)*100,setup!M42))))","v":""},"N@des(mm)",null,null,null,null,"#16     1.18",null,{"$f":"IF($K$56=0,\"\",(IF(K49=0,L48,ROUND(100-(SUM($K$41:K49)/$K$56)*100,setup!M42))))","v":""},"N@des(mm)"]
[null,"#30      0.6",null,{"$f":"IF($C$56=0,\"\",(IF(C50=0,D49,ROUND(100-(SUM($C$41:C50)/$C$56)*100,setup!M42))))","v":""},"N@max(mm)",null,null,null,null,"#30      0.6",null,{"$f":"IF($K$56=0,\"\",(IF(K50=0,L49,ROUND(100-(SUM($K$41:K50)/$K$56)*100,setup!M42))))","v":""},"N@max(mm)"]
[null,"#50      0.3",null,{"$f":"IF($C$56=0,\"\",(IF(C51=0,D50,ROUND(100-(SUM($C$41:C51)/$C$56)*100,setup!M42))))","v":""},null,null,null,null,null,"#50      0.3",null,{"$f":"IF($K$56=0,\"\",(IF(K51=0,L50,ROUND(100-(SUM($K$41:K51)/$K$56)*100,setup!M42))))","v":""}]
[null,"#100   0.15",null,{"$f":"IF($C$56=0,\"\",(IF(C52=0,D51,ROUND(100-(SUM($C$41:C52)/$C$56)*100,setup!M42))))","v":""},null,"%AC Meter",null,null,null,"#100   0.15",null,{"$f":"IF($K$56=0,\"\",(IF(K52=0,L51,ROUND(100-(SUM($K$41:K52)/$K$56)*100,setup!M42))))","v":""},null,"%AC Meter"]
[null,"#200  0.075",null,{"$f":"IF($C$56=0,\"\",(IF(C53=0,D52,ROUND(100-(SUM($C$41:C53)/$C$56)*100,setup!M43))))","v":""},null,"Comp Temp",null,null,null,"#200  0.075",null,{"$f":"IF($K$56=0,\"\",(IF(K53=0,L52,ROUND(100-(SUM($K$41:K53)/$K$56)*100,setup!M43))))","v":""},null,"Comp Temp"]
[null,"Pass",null,null,null,"Sample Taken-Tons",null,null,null,"Pass",null,null,null,"Sample Taken-Tons"]
[null,"Dec Loss",{"$f":"IF(G59>0, G59-G60,\"\")","v":""},null,null,"Mix Temp",null,null,null,"Dec Loss",{"$f":"IF(O59>0, O59-O60,\"\")","v":""},null,null,"Mix Temp"]
[null,"Cum. Total",{"$f":"SUM(C41:C55)","v":0},null,"Antistrip",null,null,null,null,"Cum. Total",{"$f":"SUM(K41:K55)","v":0},null,"Antistrip",null,null,null,null,null,null,null,"Wearing","CL"]
[null,"%AC",{"$f":"IF(E62<>\"\", ROUND(E62-M5,setup!$M$45), \"\")","v":""},null,null,null,null,null,null,"%AC",{"$f":"IF(M62<>\"\", ROUND(M62-M5,setup!$M$45), \"\")","v":""},null,null,null,null,null,null,null,null,null,"Binder","RT CL"]
[null,"Crushed",{"$f":"IF(SUM(C41:C47)>0, ROUND(G62/SUM(C41:C47)*100,0),\"\")","v":""},null,null,null,null,null,null,"Crushed",{"$f":"IF(SUM(K41:K47)>0, ROUND(O62/SUM(K41:K47)*100,0),\"\")","v":""},null,null,null,null,null,null,null,null,null,"Base","LT CL"]
[null,null,null,{"$f":"IF($U$35=\"No Oven Temp Corr.\",\"Tr. Bskt\", \"Wt of Mix\")","v":"Tr. Bskt"},null,"Int.DryWt",null,null,null,null,null,{"$f":"IF($U$35=\"No Oven Temp Corr.\",\"Tr. Bskt\", \"Wt of Mix\")","v":"Tr. Bskt"},null,"Int.DryWt",null,null,null,null,null,null,"Shldr >7ft","RT SH"]
["Initial Wt",null,null,{"$f":"IF($U$35=\"No Oven Temp Corr.\",\"Bskt+Mix w/AC\", \"Wt. Loss\")","v":"Bskt+Mix w/AC"},null,"AfterWash",null,null,"Initial Wt",null,null,{"$f":"IF($U$35=\"No Oven Temp Corr.\",\"Bskt+Mix w/AC\", \"Wt. Loss\")","v":"Bskt+Mix w/AC"},null,"AfterWash",null,null,null,null,null,null,"Shldr <7ft","LT SH"]
["Final Wt",null,null,{"$f":"IF($U$35=\"No Oven Temp Corr.\",\"Bskt minus AC\", \"Temp. Corr.\")","v":"Bskt minus AC"},null,"% Diff",{"$f":"IF(G59>0, ROUND((G59-C56)/G59*100,1),\"\")","v":""},null,"Final Wt",null,null,{"$f":"IF($U$35=\"No Oven Temp Corr.\",\"Bskt minus AC\", \"Temp. Corr.\")","v":"Bskt minus AC"},null,"% Diff",{"$f":"IF(O59>0, ROUND((O59-K56)/O59*100,1),\"\")","v":""},null,null,null,null,null,"Widening","GD RL"]
["% Moisture",{"$f":"IF(B61>0,(B60-B61)/B61,0)","v":0},null,{"$f":"IF($U$35=\"No Oven Temp Corr.\",\"% LOSS\", \"% LOSS-Tmp. Cor.\")","v":"% LOSS"},{"$f":"IF($U$35=\"No Oven Temp Corr.\", IF(E60>0,((E60-E61)/(E60-E59))*100, \"\"), IF(E59>0, E60/E59*100-E61,\"\"))","v":""},"Wt. Crush",null,null,"% Moisture",{"$f":"IF(J61>0,(J60-J61)/J61,0)","v":0},null,{"$f":"IF($U$35=\"No Oven Temp Corr.\",\"% LOSS\", \"% LOSS-Tmp. Cor.\")","v":"% LOSS"},{"$f":"IF($U$35=\"No Oven Temp Corr.\", IF(M60>0,((M60-M61)/(M60-M59))*100, \"\"), IF(M59>0, M60/M59*100-M61,\"\"))","v":""},"Wt. Crush",null,null,null,null,null,null,"Patching"]
[null,null,null,"%Loss - Moisture",{"$f":"IF(E62<>\"\",E62-B62,\"\")","v":""},null,null,null,null,null,null,"%Loss - Moisture",{"$f":"IF(M62<>\"\",M62-J62,\"\")","v":""},null,null,null,null,null,null,null,"Turnouts"]
[null,null,null,null,null,null,null,null,"Roadway Density Cores",null,null,null,null,null,null,null,null,null,null,null,"Leveling"]
[null,null,null,null,null,null,null,null,"A","B","C","D","E",null,null,null,null,null,null,null,"Crossover"]
[null,null,null,null,null,null,null,"Use",null,null,null,null,null,null,null,null,null,null,null,null,"Curb"]
[null,null,null,null,null,null,null,"Station",null,null,null,null,null,null,null,null,null,null,null,null,"Detour Rd"]
[null,null,null,null,null,null,null,"Location",null,null,null,null,null,null,null,null,null,null,null,null,"Ramp >300ft"]
[null,null,null,null,null,null,null,"Thickness",null,null,null,null,null,null,null,null,null,null,null,null,"Ramp <300ft"]
[null,null,null,null,null,null,null,"Air",null,null,null,null,null,null,null,null,null,null,null,null,"Ints. Acc/Dec"]
[null,null,null,null,null,null,null,"Water",null,null,null,null,null,null,null,null,null,null,null,null,"Mailbox Stop"]
[null,null,null,null,null,null,null,"SSD",null,null,null,null,null,null,null,null,null,null,null,null,"Parking Lot"]
[null,null,null,null,null,null,null,"Gmb",{"$f":"IF(I71>0,ROUND(I70/(I72-I71),setup!$M$40),\"\")","v":""},{"$f":"IF(J71>0,ROUND(J70/(J72-J71),setup!$M$40),\"\")","v":""},{"$f":"IF(K71>0,ROUND(K70/(K72-K71),setup!$M$40),\"\")","v":""},{"$f":"IF(L71>0,ROUND(L70/(L72-L71),setup!$M$40),\"\")","v":""},{"$f":"IF(M71>0,ROUND(M70/(M72-M71),setup!$M$40),\"\")","v":""},null,null,null,null,null,null,null,"Bike Path"]
[null,null,null,null,null,null,null,"Tonnage",null,null,null,null,null,null,null,null,null,null,null,null,"Airport Center"]
[null,null,null,null,null,null,null,null,null,null,null,null,null,null,null,null,null,null,null,null,"Airport Other"]
["Remarks:",null,null,null,null,null,null,null,null,null,null,null,null,null,null,null,null,null,null,null,"Guardrail"]
[null,null,null,null,null,null,null,null,null,null,null,null,null,null,null,null,null,null,null,null,"Driveways"]
[{"$f":"setup!S2","v":"LaPave 502 v18.05.02"},null,null,null,null,null,null,null,null,null,null,null,null,null,null,null,{"$f":"TODAY()","v":"2023-03-31"},null,null,null,"Island"]
[null,null,null,null,null,null,null,null,null,null,null,null,null,null,null,null,null,null,null,null,"Incidental"]
[null,null,null,null,null,null,null,null,null,null,null,null,null,null,null,null,null,null,null,null,"Joint Repair"]
[null,null,null,null,null,null,null,null,null,null,null,null,null,null,null,null,null,null,null,null,"Other"]

{"sheet":"Validation","index":10,"n_rows":92,"n_cols":37,"rows_kept":92,"cut":false,"hidden":false,"merged":[[65,13,65,14],[61,0,61,2],[42,2,42,6],[63,1,63,11],[61,9,61,11],[61,4,61,7],[57,2,57,4],[56,2,56,4],[55,2,55,4],[54,2,54,4],[56,8,57,10],[56,11,57,12],[54,8,55,10],[54,11,55,12],[15,21,15,25],[18,21,18,22],[16,21,16,22],[17,21,17,22],[2,1,2,2],[2,4,2,5],[4,11,4,12],[4,1,4,7]]}
[null,null,null,null,null," SUPERPAVE VALIDATION FORM",null,null,null,null,null,null,null,null,null,null,"n=3","n=4","n=5","PWL",null,null,null,null,null,null,null,null,null,null,null,null,null,"Est PWL","n=3","n=4","n= 5"]
[null,null,null,null,null,null,null,null,null,null,null,null,null,null,null,null,0,0,0,50,null,null,null,null,null,null,null,null,null,null,null,null,null,10,50,50,50]
["Project",{"$f":"'Validation Input'!B2","v":0},null,"Mix Type",{"$f":"'JMF Input'!E5","v":"Base Course"},null,"JMF No.",{"$f":"'Validation Input'!E3","v":0},null,null,"Date",{"$f":"'Validation Input'!O2","v":"00:00:00"},null,null,null,null,0.03,0.03,0.03,{"$f":"T2+1","v":51},null,null,null,null,null,null,null,null,null,null,null,null,null,11,51,50,50]
[null,null,null,null,"Lot",{"$f":"'Validation Input'!G3","v":0},"Lot Size",{"$f":"'Validation Input'!B4","v":0},null,null,null,null,null,null,null,null,7.0000000000000007E-2,0.06,0.06,{"$f":"T3+1","v":52},null,null,null,null,null,null,null,null,null,null,null,null,null,12,52,50,50]
["SMM P/S",{"$f":"'JMF Input'!D7","v":0},null,null,null,null,null,null,null,null,"SMM ID",{"$f":"'JMF Input'!J7","v":0},null,null,null,null,0.11,0.09,0.08,53,null,null,null,null,null,null,null,null,null,null,null,null,null,13,53,50,50]
[null,null,"#1","#2","#3","#4","#5","Mean","StDev","QL","QU","PWLL","PWLU","PWL","Validate?",null,0.14000000000000001,0.12,0.11,54,null,null,null,null,null,null,null,null,null,null,null,null,null,14,54,50,50]
["Gmm",null,{"$f":"IF('Validation Input'!E16<>\"\",ROUND((AVERAGE('Validation Input'!E16:'Validation Input'!E17)),setup!M39),\"\")","v":""},{"$f":"IF('Validation Input'!K16<>\"\",ROUND(AVERAGE('Validation Input'!K16:'Validation Input'!K17),setup!M39),\"\")","v":""},{"$f":"IF('Validation Input'!Q16<>\"\",ROUND(AVERAGE('Validation Input'!Q16:'Validation Input'!Q17),setup!M39),\"\")","v":""},{"$f":"IF('Validation Input'!F41<>\"\",ROUND(AVERAGE('Validation Input'!F41:'Validation Input'!F42),setup!M39),\"\")","v":""},{"$f":"IF('Validation Input'!N41<>\"\",ROUND(AVERAGE('Validation Input'!N41:'Validation Input'!N42),setup!M39),\"\")","v":""},{"$f":"IF(SUM(C7:G7)>0, ROUND(AVERAGE(C7:G7),setup!M39+1),\"\")","v":""},{"$f":"IF(SUM(C7:G7)>0,ROUND(STDEV(C7:G7),setup!M39+3),\"\")","v":""},{"$f":"IF(AND(I7>0,I7<>\"\"), ROUND(setup!D8/Validation!I7,2),\"--\")","v":"--"},{"$f":"IF(AND(I7<>\"\",I7>0), ROUND(setup!D8/Validation!I7,2),\"--\")","v":"--"},{"$f":"IF(J7=\"--\", \"--\", IF(J7<0, 100, 0)+IF(J7<0, -1, 1)* IF(COUNT(C7:G7)=5, VLOOKUP(ABS(J7),$S$2:$T$51,2,TRUE)+IF(LOOKUP(ABS(J7),$S$2:$S$51)<ABS(J7),1,0), IF(COUNT(C7:G7)=4, VLOOKUP(ABS(J7),$R$2:$T$51,3,TRUE)+IF(LOOKUP(ABS(J7),$R$2:$R$51)<ABS(J7),1,0), IF(COUNT(C7:G7)=3, VLOOKUP(ABS(J7),$Q$2:$T$51,4,TRUE)+IF(LOOKUP(ABS(J7),$Q$2:$Q$51)<ABS(J7),1,0),\"--\"))))","v":"--"},{"$f":"IF(K7=\"--\", \"--\", IF(K7<0, 100, 0)+IF(K7<0, -1, 1)* IF(COUNT(C7:G7)=5, VLOOKUP(ABS(K7),$S$2:$T$51,2,TRUE)+IF(LOOKUP(ABS(K7),$S$2:$S$51)<ABS(K7),1,0), IF(COUNT(C7:G7)=4, VLOOKUP(ABS(K7),$R$2:$T$51,3,TRUE)+IF(LOOKUP(ABS(K7),$R$2:$R$51)<ABS(K7),1,0), IF(COUNT(C7:G7)=3, VLOOKUP(ABS(K7),$Q$2:$T$51,4,TRUE)+IF(LOOKUP(ABS(K7),$Q$2:$Q$51)<ABS(K7),1,0),\"--\"))))","v":"--"},{"$f":"IF(AND(L7=\"--\", M7=\"--\"), \"--\", IF(L7=\"--\", 100, L7)+IF(M7=\"--\", 100, M7)-100)","v":"--"},{"$f":"IF(N7<71, \"<71\", \"OK\")","v":"OK"},null,0.18,0.15,0.14000000000000001,55,null,null,null,null,null,null,null,null,null,null,null,null,null,15,56,50,50]
["Gmb, ND",null,{"$f":"IF('Validation Input'!E22>0, ROUND(('Validation Input'!E20/('Validation Input'!E22-'Validation Input'!E21)),setup!M40),\"\")","v":""},{"$f":"IF('Validation Input'!K22>0, ROUND(('Validation Input'!K20/('Validation Input'!K22-'Validation Input'!K21)),setup!M40), \"\")","v":""},{"$f":"IF('Validation Input'!Q22>0, ROUND(('Validation Input'!Q20/('Validation Input'!Q22-'Validation Input'!Q21)),setup!M40),\"\")","v":""},{"$f":"IF('Validation Input'!F47>0, ROUND(('Validation Input'!F45/('Validation Input'!F47-'Validation Input'!F46)),setup!M40),\"\")","v":""},{"$f":"IF('Validation Input'!N47>0, ROUND(('Validation Input'!N45/('Validation Input'!N47-'Validation Input'!N46)),setup!M40), \"\")","v":""},{"$f":"IF(SUM(C8:G8)>0, ROUND(AVERAGE(C8:G8),setup!$M$40+1),\"\")","v":""},{"$f":"IF(SUM(C8:G8)>0,ROUND(STDEV(C8:G8),setup!$M$40+3),\"\")","v":""},"--","--",{"$f":"IF(J8=\"--\", \"--\", IF(J8<0, 100, 0)+IF(J8<0, -1, 1)* IF(COUNT(C8:G8)=5, VLOOKUP(ABS(J8),$S$2:$T$51,2,TRUE)+IF(LOOKUP(ABS(J8),$S$2:$S$51)<ABS(J8),1,0), IF(COUNT(C8:G8)=4, VLOOKUP(ABS(J8),$R$2:$T$51,3,TRUE)+IF(LOOKUP(ABS(J8),$R$2:$R$51)<ABS(J8),1,0), IF(COUNT(C8:G8)=3, VLOOKUP(ABS(J8),$Q$2:$T$51,4,TRUE)+IF(LOOKUP(ABS(J8),$Q$2:$Q$51)<ABS(J8),1,0),\"--\"))))","v":"--"},{"$f":"IF(K8=\"--\", \"--\", IF(K8<0, 100, 0)+IF(K8<0, -1, 1)* IF(COUNT(C8:G8)=5, VLOOKUP(ABS(K8),$S$2:$T$51,2,TRUE)+IF(LOOKUP(ABS(K8),$S$2:$S$51)<ABS(K8),1,0), IF(COUNT(C8:G8)=4, VLOOKUP(ABS(K8),$R$2:$T$51,3,TRUE)+IF(LOOKUP(ABS(K8),$R$2:$R$51)<ABS(K8),1,0), IF(COUNT(C8:G8)=3, VLOOKUP(ABS(K8),$Q$2:$T$51,4,TRUE)+IF(LOOKUP(ABS(K8),$Q$2:$Q$51)<ABS(K8),1,0),\"--\"))))","v":"--"},{"$f":"IF(AND(L8=\"--\", M8=\"--\"), \"--\", IF(L8=\"--\", 100, L8)+IF(M8=\"--\", 100, M8)-100)","v":"--"},null,null,0.22,0.18,0.17,56,null,null,null,null,null,null,null,null,null,null,null,null,null,16,57,50,50]
["%Gmm, NI",null,{"$f":"IF(C8<>\"\",ROUND((ROUND(ROUND('Validation Input'!E20/(((3.1416*150*150*'Validation Input'!E23)/4)*0.001),setup!M40)*(Validation!C8/ROUND('Validation Input'!E20/((((3.1416*150*150*'Validation Input'!E24)/4)*0.001)),setup!M40)),setup!M40)/C7)*100,setup!M41),\"\")","v":""},{"$f":"IF(D8<>\"\",ROUND((ROUND(ROUND('Validation Input'!K20/(((3.1416*150*150*'Validation Input'!K23)/4)*0.001),setup!M40)*(Validation!D8/ROUND('Validation Input'!K20/((((3.1416*150*150*'Validation Input'!K24)/4)*0.001)),setup!M40)),setup!M40)/D7)*100,setup!M41),\"\")","v":""},{"$f":"IF(E8<>\"\",ROUND((ROUND(ROUND('Validation Input'!Q20/(((3.1416*150*150*'Validation Input'!Q23)/4)*0.001),setup!M40)*(Validation!E8/ROUND('Validation Input'!Q20/((((3.1416*150*150*'Validation Input'!Q24)/4)*0.001)),setup!M40)),setup!M40)/E7)*100,setup!M41),\"\")","v":""},{"$f":"IF(F8<>\"\",ROUND((ROUND(ROUND('Validation Input'!F45/(((3.1416*150*150*'Validation Input'!F48)/4)*0.001),setup!M40)*(Validation!F8/ROUND('Validation Input'!F45/((((3.1416*150*150*'Validation Input'!F49)/4)*0.001)),setup!M40)),setup!M40)/F7)*100,setup!M41),\"\")","v":""},{"$f":"IF(G8<>\"\",ROUND((ROUND(ROUND('Validation Input'!N45/(((3.1416*150*150*'Validation Input'!N48)/4)*0.001),setup!M40)*(Validation!G8/ROUND('Validation Input'!N45/((((3.1416*150*150*'Validation Input'!N49)/4)*0.001)),setup!M40)),setup!M40)/G7)*100,setup!M41),\"\")","v":""},{"$f":"IF(SUM(C9:G9)>0, ROUND(AVERAGE(C9:G9),setup!$M$41+1),\"\")","v":""},{"$f":"IF(SUM(C9:G9)>0,ROUND(STDEV(C9:G9),setup!$M$41+3),\"\")","v":""},"--",{"$f":"IF(AND(I9<>\"\", Validation!I9>0), ROUND((setup!C9-Validation!H9)/Validation!I9,2), \"--\")","v":"--"},"--","--",{"$f":"IF(AND(L9=\"--\", M9=\"--\"), \"--\", IF(L9=\"--\", 100, L9)+IF(M9=\"--\", 100, M9)-100)","v":"--"},{"$f":"IF(H9<>\"\", IF(H9>setup!C9, \"Over Spec Limit\", IF(N9<71, \"PWL <71\", \"OK\")), \"\")","v":""},null,0.25,0.21,0.2,57,null,null,null,null,null,null,null,null,null,null,null,null,null,17,58,50,50]
["%Gmm, ND",null,{"$f":"IF(C11<>\"\", 100-C11, \"\")","v":""},{"$f":"IF(D11<>\"\", 100-D11, \"\")","v":""},"","",{"$f":"IF(G11<>\"\", 100-G11, \"\")","v":""},{"$f":"IF(SUM(C10:G10)>0, ROUND(AVERAGE(C10:G10),setup!M41+1),\"\")","v":""},{"$f":"IF(SUM(C10:G10)>0,ROUND(STDEV(C10:G10),setup!$M$41+3),\"\")","v":""},{"$f":"IF(AND(I10<>\"\", I10>0), ROUND((H10-setup!B10)/Validation!I10,2),\"--\")","v":"--"},{"$f":"IF(AND(I10<>\"\", I10>0), ROUND((setup!C10-H10)/Validation!I10,2),\"--\")","v":"--"},{"$f":"IF(J10=\"--\", \"--\", IF(J10<0, 100, 0)+IF(J10<0, -1, 1)* IF(COUNT(C10:G10)=5, VLOOKUP(ABS(J10),$S$2:$T$51,2,TRUE)+IF(LOOKUP(ABS(J10),$S$2:$S$51)<ABS(J10),1,0), IF(COUNT(C10:G10)=4, VLOOKUP(ABS(J10),$R$2:$T$51,3,TRUE)+IF(LOOKUP(ABS(J10),$R$2:$R$51)<ABS(J10),1,0), IF(COUNT(C10:G10)=3, VLOOKUP(ABS(J10),$Q$2:$T$51,4,TRUE)+IF(LOOKUP(ABS(J10),$Q$2:$Q$51)<ABS(J10),1,0),\"--\"))))","v":"--"},{"$f":"IF(K10=\"--\", \"--\", IF(K10<0, 100, 0)+IF(K10<0, -1, 1)* IF(COUNT(C10:G10)=5, VLOOKUP(ABS(K10),$S$2:$T$51,2,TRUE)+IF(LOOKUP(ABS(K10),$S$2:$S$51)<ABS(K10),1,0), IF(COUNT(C10:G10)=4, VLOOKUP(ABS(K10),$R$2:$T$51,3,TRUE)+IF(LOOKUP(ABS(K10),$R$2:$R$51)<ABS(K10),1,0), IF(COUNT(C10:G10)=3, VLOOKUP(ABS(K10),$Q$2:$T$51,4,TRUE)+IF(LOOKUP(ABS(K10),$Q$2:$Q$51)<ABS(K10),1,0),\"--\"))))","v":"--"},{"$f":"IF(AND(L10=\"--\", M10=\"--\"), \"--\", IF(L10=\"--\", 100, L10)+IF(M10=\"--\", 100, M10)-100)","v":"--"},{"$f":"IF(H10<>\"\", IF(H10>setup!C10, \"Over Spec Limit\", IF(H10<setup!B10, \"Under Spec Limit\", IF(N10<71, \"PWL <71\", \"OK\"))), \"\")","v":""},null,0.28999999999999998,0.24,0.23,58,null,null,null,null,null,null,null,null,null,null,null,null,null,18,59,52,50]
["%Voids",null,{"$f":"IF(C8<>\"\", ROUND(100*(((C7-C8)/C7)),setup!$M$49), \"\")","v":""},{"$f":"IF(D8<>\"\", ROUND(100*(((D7-D8)/D7)),setup!$M$49), \"\")","v":""},{"$f":"IF(E8<>\"\", ROUND(100*(((E7-E8)/E7)),setup!$M$49), \"\")","v":""},{"$f":"IF(F8<>\"\", ROUND(100*(((F7-F8)/F7)),setup!$M$49), \"\")","v":""},{"$f":"IF(G8<>\"\", ROUND(100*(((G7-G8)/G7)),setup!$M$49), \"\")","v":""},{"$f":"IF(SUM(C11:G11)>0, ROUND(AVERAGE(C11:G11),setup!M49+1),\"\")","v":""},{"$f":"IF(SUM(C11:G11)>0,ROUND(STDEV(C11:G11),setup!M49+3),\"\")","v":""},{"$f":"IF(AND(I11<>\"\", I11>0), ROUND((H11-setup!B15)/Validation!I11,2),\"--\")","v":"--"},{"$f":"IF(AND(I11<>\"\", I11>0), ROUND((setup!C15-H11)/Validation!I11,2),\"--\")","v":"--"},"--","--","--",{"$f":"IF(H11<>\"\", IF(H11>setup!C15, \"Over Spec Limit\", IF(H11<setup!B15, \"Under Spec Limit\", IF(N11<71, \"PWL <71\", \"OK\"))), \"\")","v":""},null,0.32,0.27,0.25,59,null,null,null,null,null,null,null,null,null,null,null,null,null,19,60,53,50]
["VMA",null,{"$f":"IF(C8<>\"\", ROUND(100-((C8*'Validation Input'!$J$5)/C18),setup!$M$48), \"\")","v":""},{"$f":"IF(D8<>\"\", ROUND(100-((D8*'Validation Input'!$J$5)/D18),setup!$M$48), \"\")","v":""},{"$f":"IF(E8<>\"\", ROUND(100-((E8*'Validation Input'!$J$5)/E18),setup!$M$48), \"\")","v":""},{"$f":"IF(F8<>\"\", ROUND(100-((F8*'Validation Input'!$J$5)/F18),setup!$M$48), \"\")","v":""},{"$f":"IF(G8<>\"\", ROUND(100-((G8*'Validation Input'!$J$5)/G18),setup!$M$48), \"\")","v":""},{"$f":"IF(SUM(C12:G12)>0, ROUND(AVERAGE(C12:G12),setup!M48+1),\"\")","v":""},{"$f":"IF(SUM(C12:G12)>0,ROUND(STDEV(C12:G12),setup!M48+3),\"\")","v":""},{"$f":"IF(AND(I12<>\"\",I12>0), ROUND((H12-setup!B13)/Validation!I12,2),\"--\")","v":"--"},"--","--","--","--",{"$f":"IF(H12<>\"\",IF(H12<setup!B13, \"Under Spec Limit\", IF(N12<71, \"PWL <71\", \"OK\")), \"\")","v":""},null,0.36,0.3,0.28000000000000003,60,null,null,null,null,null,null,null,null,null,null,null,null,null,20,61,53,50]
["VFA",null,{"$f":"IF(C12<>\"\", ROUND(100*(C12-C11)/C12,setup!$M$50), \"\")","v":""},{"$f":"IF(D12<>\"\", ROUND(100*(D12-D11)/D12,setup!$M$50), \"\")","v":""},{"$f":"IF(E12<>\"\", ROUND(100*(E12-E11)/E12,setup!$M$50), \"\")","v":""},{"$f":"IF(F12<>\"\", ROUND(100*(F12-F11)/F12,setup!$M$50), \"\")","v":""},{"$f":"IF(G12<>\"\", ROUND(100*(G12-G11)/G12,setup!$M$50), \"\")","v":""},{"$f":"IF(SUM(C13:G13)>0, ROUND(AVERAGE(C13:G13),setup!M50+1),\"\")","v":""},{"$f":"IF(SUM(C13:G13)>0,ROUND(STDEV(C13:G13),setup!M50+3),\"\")","v":""},{"$f":"IF(AND(I13<>\"\",I13>0), ROUND((H13-setup!B14)/Validation!I13,2),\"--\")","v":"--"},{"$f":"IF(AND(I13<>\"\", I13>0), ROUND((setup!C14-H13)/Validation!I13,2),\"--\")","v":"--"},"--","--","--",{"$f":"IF(H13<>\"\", IF(H13>setup!C14, \"Over Spec Limit\", IF(H13<setup!B14, \"Under Spec Limit\", IF(N13<71, \"PWL <71\", IF(P13>0, \"Indiv. out of spec.\", \"OK\")))), \"\")","v":""},{"$f":"COUNTIF(C13:G13,\">\"&setup!C14)+COUNTIF(C13:G13,\"<\"&setup!B14)","v":0},0.39,0.33,0.31,61,null,"Luanna recommended all gradations to one decimal to avoid standard deviation = 0.",null,null,null,null,null,null,null,null,null,null,null,21,62,54,50]
["Gmb, NM",null,{"$f":"IF('Validation Input'!F22>0,ROUND('Validation Input'!F20/('Validation Input'!F22-'Validation Input'!F21),setup!M40),\"\")","v":""},{"$f":"IF('Validation Input'!L22>0,ROUND('Validation Input'!L20/('Validation Input'!L22-'Validation Input'!L21),setup!M40),\"\")","v":""},{"$f":"IF('Validation Input'!R22>0,ROUND('Validation Input'!R20/('Validation Input'!R22-'Validation Input'!R21),setup!M40),\"\")","v":""},{"$f":"IF('Validation Input'!G47>0,ROUND('Validation Input'!G45/('Validation Input'!G47-'Validation Input'!G46),setup!M40),\"\")","v":""},{"$f":"IF('Validation Input'!O47>0, ROUND('Validation Input'!O45/('Validation Input'!O47-'Validation Input'!O46),setup!M40),\"\")","v":""},{"$f":"IF(SUM(C14:G14)>0, ROUND(AVERAGE(C14:G14),setup!$M$40+1),\"\")","v":""},{"$f":"IF(SUM(C14:G14)>0,ROUND(STDEV(C14:G14),setup!$M$40+3),\"\")","v":""},"--","--","--","--","--",null,null,0.43,0.36,0.34,62,null,null,null,null,null,null,null,null,null,null,null,null,null,22,63,56,50]
["%Gmm, NM",null,{"$f":"IF(C14<>\"\", ROUND(100*(C14/C7),setup!$M$41), \"\")","v":""},{"$f":"IF(D14<>\"\", ROUND(100*(D14/D7),setup!$M$41), \"\")","v":""},{"$f":"IF(E14<>\"\", ROUND(100*(E14/E7),setup!$M$41), \"\")","v":""},{"$f":"IF(F14<>\"\", ROUND(100*(F14/F7),setup!$M$41), \"\")","v":""},{"$f":"IF(G14<>\"\", ROUND(100*(G14/G7),setup!$M$41), \"\")","v":""},{"$f":"IF(SUM(C15:G15)>0, ROUND(AVERAGE(C15:G15),setup!$M$41+1),\"\")","v":""},{"$f":"IF(SUM(C15:G15)>0,ROUND(STDEV(C15:G15),setup!$M$41+3),\"\")","v":""},"--",{"$f":"IF(AND(I15<>\"\", I15>0), ROUND((setup!C11-H15)/Validation!I15,2),\"--\")","v":"--"},"--","--","--",{"$f":"IF(H15<>\"\", IF(H15>setup!C11, \"Over Spec Limit\", IF(N15<71, \"PWL <71\", \"OK\")), \"\")","v":""},null,0.46,0.39,0.37,63,null,null,null,null,null,null,null,null,null,null,null,null,null,23,64,58,50]
["slope",null,{"$f":"IF(C10<>\"\", ROUND((C10-C9)/(LOG('JMF Input'!$N$24)-LOG('JMF Input'!$N$23)),2), \"\")","v":""},{"$f":"IF(D10<>\"\", ROUND((D10-D9)/(LOG('JMF Input'!$N$24)-LOG('JMF Input'!$N$23)),2), \"\")","v":""},{"$f":"IF(E10<>\"\", ROUND((E10-E9)/(LOG('JMF Input'!$N$24)-LOG('JMF Input'!$N$23)),2), \"\")","v":""},{"$f":"IF(F10<>\"\", ROUND((F10-F9)/(LOG('JMF Input'!$N$24)-LOG('JMF Input'!$N$23)),2), \"\")","v":""},{"$f":"IF(G10<>\"\", ROUND((G10-G9)/(LOG('JMF Input'!$N$24)-LOG('JMF Input'!$N$23)),2), \"\")","v":""},{"$f":"IF(SUM(C16:G16)>0, ROUND(AVERAGE(C16:G16),setup!$M$40+1),\"\")","v":""},{"$f":"IF(SUM(C16:G16)>0,ROUND(STDEV(C16:G16),setup!$M$40+3),\"\")","v":""},"--","--","--","--","--",null,null,0.49,0.42,0.4,64,null,"Minor Pay",null,null,null,null,null,null,null,null,null,null,null,24,66,59,50]
["correction factor",null,{"$f":"IF('Validation Input'!E24>0,ROUND(C8/ROUND('Validation Input'!E20/(((3.1416*150*150*'Validation Input'!E24)/4)*0.001),setup!M66),4),\"\")","v":""},{"$f":"IF('Validation Input'!K24>0,ROUND(D8/ROUND('Validation Input'!K20/(((3.1416*150*150*'Validation Input'!K24)/4)*0.001),setup!N66),4),\"\")","v":""},{"$f":"IF('Validation Input'!Q24>0,ROUND(E8/ROUND('Validation Input'!Q20/(((3.1416*150*150*'Validation Input'!Q24)/4)*0.001),setup!O66),4),\"\")","v":""},{"$f":"IF('Validation Input'!F49>0,ROUND(F8/ROUND('Validation Input'!F45/(((3.1416*150*150*'Validation Input'!F49)/4)*0.001),setup!P66),4),\"\")","v":""},{"$f":"IF('Validation Input'!N49>0,ROUND(G8/ROUND('Validation Input'!N45/(((3.1416*150*150*'Validation Input'!N49)/4)*0.001),setup!Q66),4),\"\")","v":""},{"$f":"IF(SUM(C17:G17)>0, ROUND(AVERAGE(C17:G17),setup!$M$41+1),\"\")","v":""},{"$f":"IF(SUM(C17:G17)>0,ROUND(STDEV(C17:G17),setup!$M$41+3),\"\")","v":""},"--","--","--","--","--",null,null,0.53,0.45,0.43,{"$f":"T16+1","v":65},null,"Mainline %Gmm",null,{"$f":"\">=\"&setup!B34","v":">=92"},{"$f":"setup!B34-0.1&\" to \"&setup!B34-1.9","v":"91.9 to 90.1"},{"$f":"\"<=\"&setup!B34-2","v":"<=90"},null,null,null,null,null,null,null,25,67,60,52]
["Gsb agg",null,{"$f":"IF(C7<>\"\", 'Validation Input'!$G$5,\"\")","v":""},{"$f":"IF(D7<>\"\", 'Validation Input'!$G$5,\"\")","v":""},{"$f":"IF(E7<>\"\", 'Validation Input'!$G$5,\"\")","v":""},{"$f":"IF(F7<>\"\", 'Validation Input'!$G$5,\"\")","v":""},{"$f":"IF(G7<>\"\", 'Validation Input'!$G$5,\"\")","v":""},{"$f":"IF(SUM(C18:G18)>0, ROUND(AVERAGE(C18:G18),setup!$M$40+1),\"\")","v":""},{"$f":"IF(SUM(C18:G18)>0,ROUND(STDEV(C18:G18),setup!$M$40+3),\"\")","v":""},"--","--","--","--","--",null,null,0.56000000000000005,0.48,0.46,66,null,"Minor %Gmm",null,{"$f":"\">=\"&setup!B35","v":">=90"},{"$f":"setup!B35-0.1&\" to \"&setup!B35-1.9","v":"89.9 to 88.1"},{"$f":"\"<=\"&setup!B35-2","v":"<=88"},null,null,null,null,null,null,null,26,68,61,55]
["2\"               50",null,{"$f":"IF('Validation Input'!C16>0, 'Validation Input'!C16, \"\")","v":" "},{"$f":"IF('Validation Input'!I16>0, 'Validation Input'!I16, \"\")","v":""},{"$f":"IF('Validation Input'!O16>0, 'Validation Input'!O16, \"\")","v":""},{"$f":"IF('Validation Input'!D41>0, 'Validation Input'!D41, \"\")","v":""},{"$f":"IF('Validation Input'!L41>0, 'Validation Input'!L41, \"\")","v":""},{"$f":"IF(SUM(C19:G19)>0, ROUND(AVERAGE(C19:G19),setup!$M$42+1),\"\")","v":""},{"$f":"IF(SUM(C19:G19)>0,ROUND(STDEV(C19:G19),setup!$M$42+3),\"\")","v":""},{"$f":"IF(AND(I19<>\"\", I19>0), ROUND((setup!D18)/Validation!I19,2),\"--\")","v":"--"},{"$f":"IF(AND(I19<>\"\", I19>0), ROUND((IF(Validation!H19+setup!D18>100,100,Validation!H19+setup!D18)-H19)/Validation!I19,2),\"--\")","v":"--"},"--","--","--",null,null,0.59,0.51,0.49,67,null,"% Pay",null,100,90,"80 or remove",null,null,null,null,null,null,null,27,69,62,57]
["1.5\"        37.5",null,{"$f":"IF('Validation Input'!C17>0, 'Validation Input'!C17, \"\")","v":" "},{"$f":"IF('Validation Input'!I17>0, 'Validation Input'!I17, \"\")","v":""},{"$f":"IF('Validation Input'!O17>0, 'Validation Input'!O17, \"\")","v":""},{"$f":"IF('Validation Input'!D42>0, 'Validation Input'!D42, \"\")","v":""},{"$f":"IF('Validation Input'!L42>0, 'Validation Input'!L42, \"\")","v":""},{"$f":"IF(SUM(C20:G20)>0, ROUND(AVERAGE(C20:G20),setup!$M$42+1),\"\")","v":""},{"$f":"IF(SUM(C20:G20)>0,ROUND(STDEV(C20:G20),setup!$M$42+3),\"\")","v":""},{"$f":"IF(AND(I20<>\"\", I20>0), ROUND((setup!D19)/Validation!I20,2),\"--\")","v":"--"},{"$f":"IF(AND(I20<>\"\", I20>0), ROUND((IF(Validation!H20+setup!D19>100,100,Validation!H20+setup!D19)-H20)/Validation!I20,2),\"--\")","v":"--"},"--","--","--",null,null,0.62,0.54,0.52,68,null,null,null,null,null,null,null,null,null,null,null,null,null,28,70,64,58]
["1\"               25",null,{"$f":"IF('Validation Input'!C18>0, 'Validation Input'!C18, \"\")","v":" "},{"$f":"IF('Validation Input'!I18>0, 'Validation Input'!I18, \"\")","v":""},{"$f":"IF('Validation Input'!O18>0, 'Validation Input'!O18, \"\")","v":""},{"$f":"IF('Validation Input'!D43>0, 'Validation Input'!D43, \"\")","v":""},{"$f":"IF('Validation Input'!L43>0, 'Validation Input'!L43, \"\")","v":""},{"$f":"IF(SUM(C21:G21)>0, ROUND(AVERAGE(C21:G21),setup!$M$42+1),\"\")","v":""},{"$f":"IF(SUM(C21:G21)>0,ROUND(STDEV(C21:G21),setup!$M$42+3),\"\")","v":""},{"$f":"IF(AND(I21<>\"\", I21>0), ROUND((setup!D20)/Validation!I21,2),\"--\")","v":"--"},{"$f":"IF(AND(I21<>\"\", I21>0), ROUND((IF(Validation!H21+setup!D20>100,100,Validation!H21+setup!D20)-H21)/Validation!I21,2),\"--\")","v":"--"},{"$f":"IF(J21=\"--\", \"--\", IF(J21<0, 100, 0)+IF(J21<0, -1, 1)* IF(COUNT(C21:G21)=5, VLOOKUP(ABS(J21),$S$2:$T$51,2,TRUE)+IF(LOOKUP(ABS(J21),$S$2:$S$51)<ABS(J21),1,0), IF(COUNT(C21:G21)=4, VLOOKUP(ABS(J21),$R$2:$T$51,3,TRUE)+IF(LOOKUP(ABS(J21),$R$2:$R$51)<ABS(J21),1,0), IF(COUNT(C21:G21)=3, VLOOKUP(ABS(J21),$Q$2:$T$51,4,TRUE)+IF(LOOKUP(ABS(J21),$Q$2:$Q$51)<ABS(J21),1,0),\"--\"))))","v":"--"},"--","--",{"$f":"IF(H21<>\"\", IF(OR(setup!C20<>\"\", setup!B20<>\"\"), IF(AND(H21>setup!C20, setup!C20<>\"\"), \"Over Spec Limit\", IF(AND(H21<setup!B20, setup!B20<>\"\"), \"Under Spec Limit\", \"OK\")),\"\"),\"\")","v":""},null,0.65,0.56999999999999995,0.55000000000000004,69,null,null,null,null,null,null,null,null,null,null,null,null,null,29,71,65,59]
["3/4\"            19",null,{"$f":"IF('Validation Input'!C19>0, 'Validation Input'!C19, \"\")","v":" "},{"$f":"IF('Validation Input'!I19>0, 'Validation Input'!I19, \"\")","v":""},{"$f":"IF('Validation Input'!O19>0, 'Validation Input'!O19, \"\")","v":""},{"$f":"IF('Validation Input'!D44>0, 'Validation Input'!D44, \"\")","v":""},{"$f":"IF('Validation Input'!L44>0, 'Validation Input'!L44, \"\")","v":""},{"$f":"IF(SUM(C22:G22)>0, ROUND(AVERAGE(C22:G22),setup!$M$42+1),\"\")","v":""},{"$f":"IF(SUM(C22:G22)>0,ROUND(STDEV(C22:G22),setup!$M$42+3),\"\")","v":""},{"$f":"IF(AND(I22<>\"\", I22>0), ROUND((setup!D21)/Validation!I22,2),\"--\")","v":"--"},{"$f":"IF(AND(I22<>\"\", I22>0), ROUND((IF(Validation!H22+setup!D21>100,100,Validation!H22+setup!D21)-H22)/Validation!I22,2),\"--\")","v":"--"},"--","--",{"$f":"IF(AND(L22=\"--\", M22=\"--\"), \"--\", IF(L22=\"--\", 100, L22)+IF(M22=\"--\", 100, M22)-100)","v":"--"},{"$f":"IF(H22<>\"\", IF(OR(setup!C21<>\"\", setup!B21<>\"\"), IF(AND(H22>setup!C21, setup!C21<>\"\"), \"Over Spec Limit\", IF(AND(H22<setup!B21, setup!B21<>\"\"), \"Under Spec Limit\", \"OK\")),\"\"),\"\")","v":""},null,0.68,0.6,0.57999999999999996,70,null,null,null,null,null,null,null,null,null,null,null,null,null,30,72,66,61]
["1/2\"         12.5",null,{"$f":"IF('Validation Input'!C20>0, 'Validation Input'!C20, \"\")","v":" "},{"$f":"IF('Validation Input'!I20>0, 'Validation Input'!I20, \"\")","v":""},{"$f":"IF('Validation Input'!O20>0, 'Validation Input'!O20, \"\")","v":""},{"$f":"IF('Validation Input'!D45>0, 'Validation Input'!D45, \"\")","v":""},{"$f":"IF('Validation Input'!L45>0, 'Validation Input'!L45, \"\")","v":""},{"$f":"IF(SUM(C23:G23)>0, ROUND(AVERAGE(C23:G23),setup!$M$42+1),\"\")","v":""},{"$f":"IF(SUM(C23:G23)>0,ROUND(STDEV(C23:G23),setup!$M$42+3),\"\")","v":""},{"$f":"IF(AND(I23<>\"\", I23>0), ROUND((setup!D22)/Validation!I23,2),\"--\")","v":"--"},{"$f":"IF(AND(I23<>\"\", I23>0), ROUND((IF(Validation!H23+setup!D22>100,100,Validation!H23+setup!D22)-H23)/Validation!I23,2),\"--\")","v":"--"},{"$f":"IF(J23=\"--\", \"--\", IF(J23<0, 100, 0)+IF(J23<0, -1, 1)* IF(COUNT(C23:G23)=5, VLOOKUP(ABS(J23),$S$2:$T$51,2,TRUE)+IF(LOOKUP(ABS(J23),$S$2:$S$51)<ABS(J23),1,0), IF(COUNT(C23:G23)=4, VLOOKUP(ABS(J23),$R$2:$T$51,3,TRUE)+IF(LOOKUP(ABS(J23),$R$2:$R$51)<ABS(J23),1,0), IF(COUNT(C23:G23)=3, VLOOKUP(ABS(J23),$Q$2:$T$51,4,TRUE)+IF(LOOKUP(ABS(J23),$Q$2:$Q$51)<ABS(J23),1,0),\"--\"))))","v":"--"},"--","--",{"$f":"IF(H23<>\"\", IF(OR(setup!C22<>\"\", setup!B22<>\"\"), IF(AND(H23>setup!C22, setup!C22<>\"\"), \"Over Spec Limit\", IF(AND(H23<setup!B22, setup!B22<>\"\"), \"Under Spec Limit\", \"OK\")),\"\"),\"\")","v":""},null,0.71,0.63,0.6,71,null,null,null,null,null,null,null,null,null,null,null,null,null,31,73,67,62]
["3/8\"           9.5",null,{"$f":"IF('Validation Input'!C21>0, 'Validation Input'!C21, \"\")","v":" "},{"$f":"IF('Validation Input'!I21>0, 'Validation Input'!I21, \"\")","v":""},{"$f":"IF('Validation Input'!O21>0, 'Validation Input'!O21, \"\")","v":""},{"$f":"IF('Validation Input'!D46>0, 'Validation Input'!D46, \"\")","v":""},{"$f":"IF('Validation Input'!L46>0, 'Validation Input'!L46, \"\")","v":""},{"$f":"IF(SUM(C24:G24)>0, ROUND(AVERAGE(C24:G24),setup!$M$42+1),\"\")","v":""},{"$f":"IF(SUM(C24:G24)>0,ROUND(STDEV(C24:G24),setup!$M$42+3),\"\")","v":""},{"$f":"IF(AND(I24<>\"\", I24>0), ROUND((setup!D23)/Validation!I24,2),\"--\")","v":"--"},{"$f":"IF(AND(I24<>\"\", I24>0), ROUND((IF(Validation!H24+setup!D23>100,100,Validation!H24+setup!D23)-H24)/Validation!I24,2),\"--\")","v":"--"},"--","--","--",{"$f":"IF(H24<>\"\", IF(OR(setup!C23<>\"\", setup!B23<>\"\"), IF(AND(H24>setup!C23, setup!C23<>\"\"), \"Over Spec Limit\", IF(AND(H24<setup!B23, setup!B23<>\"\"), \"Under Spec Limit\", \"OK\")),\"\"),\"\")","v":""},null,0.74,0.66,0.64,72,null,null,null,null,null,null,null,null,null,null,null,null,null,32,74,69,63]
["#4           4.75",null,{"$f":"IF('Validation Input'!C22>0, 'Validation Input'!C22, \"\")","v":" "},{"$f":"IF('Validation Input'!I22>0, 'Validation Input'!I22, \"\")","v":""},{"$f":"IF('Validation Input'!O22>0, 'Validation Input'!O22, \"\")","v":""},{"$f":"IF('Validation Input'!D47>0, 'Validation Input'!D47, \"\")","v":""},{"$f":"IF('Validation Input'!L47>0, 'Validation Input'!L47, \"\")","v":""},{"$f":"IF(SUM(C25:G25)>0, ROUND(AVERAGE(C25:G25),setup!$M$42+1),\"\")","v":""},{"$f":"IF(SUM(C25:G25)>0,ROUND(STDEV(C25:G25),setup!$M$42+3),\"\")","v":""},{"$f":"IF(AND(I25<>\"\", I25>0), ROUND((setup!D24)/Validation!I25,2),\"--\")","v":"--"},{"$f":"IF(AND(I25<>\"\", I25>0), ROUND((IF(Validation!H25+setup!D24>100,100,Validation!H25+setup!D24)-H25)/Validation!I25,2),\"--\")","v":"--"},"--","--","--",{"$f":"IF(H25<>\"\", IF(OR(setup!C24<>\"\", setup!B24<>\"\"), IF(AND(H25>setup!C24, setup!C24<>\"\"), \"Over Spec Limit\", IF(AND(H25<setup!B24, setup!B24<>\"\"), \"Under Spec Limit\", \"OK\")),\"\"),\"\")","v":""},null,0.77,0.69,0.67,73,null,null,null,null,null,null,null,null,null,null,null,null,null,33,75,70,65]
["#8           2.36",null,{"$f":"IF('Validation Input'!C23>0, 'Validation Input'!C23, \"\")","v":" "},{"$f":"IF('Validation Input'!I23>0, 'Validation Input'!I23, \"\")","v":""},{"$f":"IF('Validation Input'!O23>0, 'Validation Input'!O23, \"\")","v":""},{"$f":"IF('Validation Input'!D48>0, 'Validation Input'!D48, \"\")","v":""},{"$f":"IF('Validation Input'!L48>0, 'Validation Input'!L48, \"\")","v":""},{"$f":"IF(SUM(C26:G26)>0, ROUND(AVERAGE(C26:G26),setup!$M$42+1),\"\")","v":""},{"$f":"IF(SUM(C26:G26)>0,ROUND(STDEV(C26:G26),setup!$M$42+3),\"\")","v":""},{"$f":"IF(AND(I26<>\"\",I26>0), ROUND((setup!D25)/Validation!I26,2),\"--\")","v":"--"},{"$f":"IF(AND(I26<>\"\", I26>0), ROUND((IF(Validation!H26+setup!D25>100,100,Validation!H26+setup!D25)-H26)/Validation!I26,2),\"--\")","v":"--"},"--","--","--",{"$f":"IF(H26<>\"\", IF(OR(setup!C25<>\"\", setup!B25<>\"\"), IF(AND(H26>setup!C25, setup!C25<>\"\"), \"Over Spec Limit\", IF(AND(H26<setup!B25, setup!B25<>\"\"), \"Under Spec Limit\", IF(N26<71, \"PWL <71\", \"OK\"))),IF(N26<71, \"PWL <71\", \"OK\")),\"\")","v":""},null,0.79,0.72,0.7,74,null,null,null,null,null,null,null,null,null,null,null,null,null,34,76,71,66]
["#16         1.18",null,{"$f":"IF('Validation Input'!C24>0, 'Validation Input'!C24, \"\")","v":" "},{"$f":"IF('Validation Input'!I24>0, 'Validation Input'!I24, \"\")","v":""},{"$f":"IF('Validation Input'!O24>0, 'Validation Input'!O24, \"\")","v":""},{"$f":"IF('Validation Input'!D49>0, 'Validation Input'!D49, \"\")","v":""},{"$f":"IF('Validation Input'!L49>0, 'Validation Input'!L49, \"\")","v":""},{"$f":"IF(SUM(C27:G27)>0, ROUND(AVERAGE(C27:G27),setup!$M$42+1),\"\")","v":""},{"$f":"IF(SUM(C27:G27)>0,ROUND(STDEV(C27:G27),setup!$M$42+3),\"\")","v":""},{"$f":"IF(AND(I27<>\"\", I27>0), ROUND((setup!D26)/Validation!I27,2),\"--\")","v":"--"},{"$f":"IF(AND(I27<>\"\", I27>0), ROUND((IF(Validation!H27+setup!D26>100,100,Validation!H27+setup!D26)-H27)/Validation!I27,2),\"--\")","v":"--"},"--","--",{"$f":"IF(AND(L27=\"--\", M27=\"--\"), \"--\", IF(L27=\"--\", 100, L27)+IF(M27=\"--\", 100, M27)-100)","v":"--"},{"$f":"IF(H27<>\"\", IF(OR(setup!C26<>\"\", setup!B26<>\"\"), IF(AND(H27>setup!C26, setup!C26<>\"\"), \"Over Spec Limit\", IF(AND(H27<setup!B26, setup!B26<>\"\"), \"Under Spec Limit\", \"OK\")),\"\"),\"\")","v":""},null,0.82,0.75,0.73,75,null,null,null,null,null,null,null,null,null,null,null,null,null,35,77,72,67]
["#30         0.60",null,{"$f":"IF('Validation Input'!C25>0, 'Validation Input'!C25, \"\")","v":" "},{"$f":"IF('Validation Input'!I25>0, 'Validation Input'!I25, \"\")","v":""},{"$f":"IF('Validation Input'!O25>0, 'Validation Input'!O25, \"\")","v":""},{"$f":"IF('Validation Input'!D50>0, 'Validation Input'!D50, \"\")","v":""},{"$f":"IF('Validation Input'!L50>0, 'Validation Input'!L50, \"\")","v":""},{"$f":"IF(SUM(C28:G28)>0, ROUND(AVERAGE(C28:G28),setup!$M$42+1),\"\")","v":""},{"$f":"IF(SUM(C28:G28)>0,ROUND(STDEV(C28:G28),setup!$M$42+3),\"\")","v":""},{"$f":"IF(AND(I28<>\"\", I28>0), ROUND((setup!D27)/Validation!I28,2),\"--\")","v":"--"},{"$f":"IF(AND(I28<>\"\", I28>0), ROUND((IF(Validation!H28+setup!D27>100,100,Validation!H28+setup!D27)-H28)/Validation!I28,2),\"--\")","v":"--"},"--","--","--",{"$f":"IF(H28<>\"\", IF(OR(setup!C27<>\"\", setup!B27<>\"\"), IF(AND(H28>setup!C27, setup!C27<>\"\"), \"Over Spec Limit\", IF(AND(H28<setup!B27, setup!B27<>\"\"), \"Under Spec Limit\", \"OK\")),\"\"),\"\")","v":""},null,0.84,0.78,0.76,76,null,null,null,null,null,null,null,null,null,null,null,null,null,36,78,73,68]
["#50         0.30",null,{"$f":"IF('Validation Input'!C26>0, 'Validation Input'!C26, \"\")","v":" "},{"$f":"IF('Validation Input'!I26>0, 'Validation Input'!I26, \"\")","v":""},{"$f":"IF('Validation Input'!O26>0, 'Validation Input'!O26, \"\")","v":""},{"$f":"IF('Validation Input'!D51>0, 'Validation Input'!D51, \"\")","v":""},{"$f":"IF('Validation Input'!L51>0, 'Validation Input'!L51, \"\")","v":""},{"$f":"IF(SUM(C29:G29)>0, ROUND(AVERAGE(C29:G29),setup!$M$42+1),\"\")","v":""},{"$f":"IF(SUM(C29:G29)>0,ROUND(STDEV(C29:G29),setup!$M$42+3),\"\")","v":""},{"$f":"IF(AND(I29<>\"\", I29>0), ROUND((setup!D28)/Validation!I29,2),\"--\")","v":"--"},{"$f":"IF(AND(I29<>\"\", I29>0), ROUND((IF(Validation!H29+setup!D28>100,100,Validation!H29+setup!D28)-H29)/Validation!I29,2),\"--\")","v":"--"},"--","--","--",{"$f":"IF(H29<>\"\", IF(OR(setup!C28<>\"\", setup!B28<>\"\"), IF(AND(H29>setup!C28, setup!C28<>\"\"), \"Over Spec Limit\", IF(AND(H29<setup!B28, setup!B28<>\"\"), \"Under Spec Limit\", \"OK\")),\"\"),\"\")","v":""},null,0.87,0.81,0.79,77,null,null,null,null,null,null,null,null,null,null,null,null,null,37,79,74,70]
["#100      0.15",null,{"$f":"IF('Validation Input'!C27>0, 'Validation Input'!C27, \"\")","v":" "},{"$f":"IF('Validation Input'!I27>0, 'Validation Input'!I27, \"\")","v":""},{"$f":"IF('Validation Input'!O27>0, 'Validation Input'!O27, \"\")","v":""},{"$f":"IF('Validation Input'!D52>0, 'Validation Input'!D52, \"\")","v":""},{"$f":"IF('Validation Input'!L52>0, 'Validation Input'!L52, \"\")","v":""},{"$f":"IF(SUM(C30:G30)>0, ROUND(AVERAGE(C30:G30),setup!$M$42+1),\"\")","v":""},{"$f":"IF(SUM(C30:G30)>0,ROUND(STDEV(C30:G30),setup!$M$42+3),\"\")","v":""},{"$f":"IF(AND(I30<>\"\", I30>0), ROUND((setup!D29)/Validation!I30,2),\"--\")","v":"--"},{"$f":"IF(AND(I30<>\"\", I30>0), ROUND((IF(Validation!H30+setup!D29>100,100,Validation!H30+setup!D29)-H30)/Validation!I30,2),\"--\")","v":"--"},"--","--","--",{"$f":"IF(H30<>\"\", IF(OR(setup!C29<>\"\", setup!B29<>\"\"), IF(AND(H30>setup!C29, setup!C29<>\"\"), \"Over Spec Limit\", IF(AND(H30<setup!B29, setup!B29<>\"\"), \"Under Spec Limit\", \"OK\")),\"\"),\"\")","v":""},null,0.89,0.84,0.82,78,null,null,null,null,null,null,null,null,null,null,null,null,null,38,80,75,71]
["#200    0.075",null,{"$f":"IF('Validation Input'!C28>0, 'Validation Input'!C28, \"\")","v":" "},{"$f":"IF('Validation Input'!I28>0, 'Validation Input'!I28, \"\")","v":""},{"$f":"IF('Validation Input'!O28>0, 'Validation Input'!O28, \"\")","v":""},{"$f":"IF('Validation Input'!D53>0, 'Validation Input'!D53, \"\")","v":""},{"$f":"IF('Validation Input'!L53>0, 'Validation Input'!L53, \"\")","v":""},{"$f":"IF(SUM(C31:G31)>0, ROUND(AVERAGE(C31:G31),setup!$M$43+1),\"\")","v":""},{"$f":"IF(SUM(C31:G31)>0,ROUND(STDEV(C31:G31),setup!$M$43+3),\"\")","v":""},{"$f":"IF(AND(I31<>\"\", I31>0), ROUND((setup!D30)/Validation!I31,2),\"--\")","v":"--"},{"$f":"IF(AND(I31<>\"\", I31>0), ROUND((IF(Validation!H31+setup!D30>100,100,Validation!H31+setup!D30)-H31)/Validation!I31,2),\"--\")","v":"--"},"--","--","--",{"$f":"IF(H31<>\"\", IF(OR(setup!C30<>\"\", setup!B30<>\"\"), IF(AND(H31>setup!C30, setup!C30<>\"\"), \"Over Spec Limit\", IF(AND(H31<setup!B30, setup!B30<>\"\"), \"Under Spec Limit\", IF(N31<71, \"PWL <71\", \"OK\"))),IF(N31<71, \"PWL <71\", \"OK\")),\"\")","v":""},null,0.92,0.87,0.85,79,null,null,null,null,null,null,null,null,null,null,null,null,null,39,81,76,72]
["%AC",null,{"$f":"IF('Validation Input'!B32<>\"\",ROUND('Validation Input'!B32,setup!M45),\"\")","v":""},{"$f":"IF('Validation Input'!H32<>\"\",ROUND('Validation Input'!H32,setup!M45),\"\")","v":""},{"$f":"IF('Validation Input'!N32<>\"\",ROUND('Validation Input'!N32,setup!M45),\"\")","v":""},{"$f":"IF('Validation Input'!C57<>\"\",ROUND('Validation Input'!C57,setup!M45),\"\")","v":""},{"$f":"IF('Validation Input'!K57<>\"\",ROUND('Validation Input'!K57,setup!M45),\"\")","v":""},{"$f":"IF(SUM(C32:G32)>0, ROUND(AVERAGE(C32:G32),setup!M45+1),\"\")","v":""},{"$f":"IF(SUM(C32:G32)>0,ROUND(STDEV(C32:G32),setup!M45+3),\"\")","v":""},{"$f":"IF(AND(I32<>\"\", I32>0), ROUND(setup!D31/Validation!I32,2),\"--\")","v":"--"},{"$f":"IF(AND(I32<>\"\", I32>0), ROUND(setup!D31/Validation!I32,2),\"--\")","v":"--"},"--","--","--",null,null,0.94,0.9,0.88,80,null,null,null,null,null,null,null,null,null,null,null,null,null,40,82,77,74]
["dust/Peff",null,{"$f":"IF(AND('Validation Input'!C28<>\"\", C36<>\"\"),ROUND('Validation Input'!C28/C36,setup!M46),\"\")","v":""},{"$f":"IF(AND('Validation Input'!I28<>\"\", D36<>\"\"),ROUND('Validation Input'!I28/D36,setup!M46),\"\")","v":""},{"$f":"IF(AND('Validation Input'!O28<>\"\", E36<>\"\"),ROUND('Validation Input'!O28/E36,setup!M46),\"\")","v":""},{"$f":"IF(AND('Validation Input'!D53<>\"\", F36<>\"\"),ROUND('Validation Input'!D53/F36,setup!M46),\"\")","v":""},{"$f":"IF(AND('Validation Input'!L53<>\"\", G36<>\"\"), ROUND('Validation Input'!L53/G36,setup!M46), \"\")","v":""},{"$f":"IF(SUM(C33:G33)>0, ROUND(AVERAGE(C33:G33),setup!M46+1),\"\")","v":""},{"$f":"IF(SUM(C33:G33)>0,ROUND(STDEV(C33:G33),setup!M46+3),\"\")","v":""},{"$f":"IF(AND(I33<>\"\", I33>0), ROUND((H33-setup!B32)/Validation!I33,2),\"--\")","v":"--"},{"$f":"IF(AND(I33<>\"\", I33>0), ROUND((setup!C32-H33)/Validation!I33,2),\"--\")","v":"--"},"--","--","--",{"$f":"IF(H33<>\"\", IF(H33>setup!C32, \"Over Spec Limit\", IF(H33<setup!B32, \"Under Spec Limit\", \"OK\")), \"\")","v":""},null,0.96,0.93,0.92,81,null,null,null,null,null,null,null,null,null,null,null,null,null,41,83,79,75]
["Gse",null,{"$f":"IF(C7<>\"\",ROUND(('Validation Input'!$J$5)/((100/C7)-('Validation Input'!$D$5/1.03)),setup!M40),\"\")","v":""},{"$f":"IF(D7<>\"\",ROUND(('Validation Input'!$J$5)/((100/D7)-('Validation Input'!$D$5/1.03)),setup!M40),\"\")","v":""},{"$f":"IF(E7<>\"\",ROUND(('Validation Input'!$J$5)/((100/E7)-('Validation Input'!$D$5/1.03)),setup!M40),\"\")","v":""},{"$f":"IF(F7<>\"\",ROUND(('Validation Input'!$J$5)/((100/F7)-('Validation Input'!$D$5/1.03)),setup!M40),\"\")","v":""},{"$f":"IF(G7<>\"\",ROUND(('Validation Input'!$J$5)/((100/G7)-('Validation Input'!$D$5/1.03)),setup!M40),\"\")","v":""},{"$f":"IF(SUM(C34:G34)>0, ROUND(AVERAGE(C34:G34),setup!M40+1),\"\")","v":""},{"$f":"IF(SUM(C34:G34)>0,ROUND(STDEV(C34:G34),setup!M40+3),\"\")","v":""},"--","--","--","--","--",null,null,0.98,0.96,0.95,82,null,null,null,null,null,null,null,null,null,null,null,null,null,42,84,80,76]
["Pba",null,{"$f":"IF(C18<>\"\",ROUND((103*(C34-C18))/(C18*C34),setup!$M$47),\"\")","v":""},{"$f":"IF(D18<>\"\",ROUND((103*(D34-D18))/(D18*D34),setup!$M$47),\"\")","v":""},{"$f":"IF(E18<>\"\",ROUND((103*(E34-E18))/(E18*E34),setup!$M$47),\"\")","v":""},{"$f":"IF(F18<>\"\",ROUND((103*(F34-F18))/(F18*F34),setup!$M$47),\"\")","v":""},{"$f":"IF(G18<>\"\",ROUND((103*(G34-G18))/(G18*G34),setup!$M$47),\"\")","v":""},{"$f":"IF(SUM(C35:G35)>0, ROUND(AVERAGE(C35:G35),setup!M47+1),\"\")","v":""},{"$f":"IF(SUM(C35:G35)>0,ROUND(STDEV(C35:G35),setup!M47+3),\"\")","v":""},"--","--","--","--","--",null,null,1,0.99,0.98,83,null,null,null,null,null,null,null,null,null,null,null,null,null,43,85,81,77]
["Pbe",null,{"$f":"IF(C35<>\"\",ROUND('Validation Input'!$D$5-((C35*'Validation Input'!$J$5)/100),setup!M45),\"\")","v":""},{"$f":"IF(D35<>\"\",ROUND('Validation Input'!$D$5-((D35*'Validation Input'!$J$5)/100),setup!M45),\"\")","v":""},{"$f":"IF(E35<>\"\",ROUND('Validation Input'!$D$5-((E35*'Validation Input'!$J$5)/100),setup!M45),\"\")","v":""},{"$f":"IF(F35<>\"\",ROUND('Validation Input'!$D$5-((F35*'Validation Input'!$J$5)/100),setup!M45),\"\")","v":""},{"$f":"IF(G35<>\"\",ROUND('Validation Input'!$D$5-((G35*'Validation Input'!$J$5)/100),setup!M45),\"\")","v":""},{"$f":"IF(SUM(C36:G36)>0, ROUND(AVERAGE(C36:G36),setup!M45+1),\"\")","v":""},{"$f":"IF(SUM(C36:G36)>0,ROUND(STDEV(C36:G36),setup!M45+3),\"\")","v":""},"--","--","--","--","--",null,null,1.02,1.02,1.02,84,null,null,null,null,null,null,null,null,null,null,null,null,null,44,85,82,78]
["%Antistrip",null,{"$f":"IF('Validation Input'!E31>0,'Validation Input'!E31,\"\")","v":""},{"$f":"IF('Validation Input'!K31>0,'Validation Input'!K31,\"\")","v":""},{"$f":"IF('Validation Input'!Q31>0,'Validation Input'!Q31,\"\")","v":""},{"$f":"IF('Validation Input'!F56>0,'Validation Input'!F56,\"\")","v":""},{"$f":"IF('Validation Input'!N56>0,'Validation Input'!N56,\"\")","v":""},{"$f":"IF(SUM(C37:G37)>0, ROUND(AVERAGE(C37:G37),2),\"\")","v":""},{"$f":"IF(SUM(C37:G37)>0,ROUND(STDEV(C37:G37),4),\"\")","v":""},"--","--","--","--","--",null,null,1.03,1.05,1.05,85,null,null,null,null,null,null,null,null,null,null,null,null,null,45,86,83,79]
["%Crushed",null,{"$f":"IF('Validation Input'!B33<>\"\", 'Validation Input'!B33, \"\")","v":""},{"$f":"IF('Validation Input'!H33<>\"\", 'Validation Input'!H33, \"\")","v":""},{"$f":"IF('Validation Input'!N33<>\"\", 'Validation Input'!N33, \"\")","v":""},{"$f":"IF('Validation Input'!C58<>\"\", 'Validation Input'!C58, \"\")","v":""},{"$f":"IF('Validation Input'!K58<>\"\",'Validation Input'!K58,\"\")","v":""},{"$f":"IF(SUM(C38:G38)>0, ROUND(AVERAGE(C38:G38),1),\"\")","v":""},{"$f":"IF(SUM(C38:G38)>0,ROUND(STDEV(C38:G38),3),\"\")","v":""},"--","--","--","--","--",null,null,1.05,1.08,1.08,86,null,null,null,null,null,null,null,null,null,null,null,null,null,46,87,84,80]
["Comp Temp",null,{"$f":"IF('Validation Input'!F28>0, 'Validation Input'!F28, \"\")","v":""},{"$f":"IF('Validation Input'!L28>0, 'Validation Input'!L28, \"\")","v":""},{"$f":"IF('Validation Input'!R28>0, 'Validation Input'!R28, \"\")","v":""},{"$f":"IF('Validation Input'!G53>0, 'Validation Input'!G53, \"\")","v":""},{"$f":"IF('Validation Input'!O53>0, 'Validation Input'!O53, \"\")","v":""},{"$f":"IF(SUM(C39:G39)>0, ROUND(AVERAGE(C39:G39),1),\"\")","v":""},{"$f":"IF(SUM(C39:G39)>0,ROUND(STDEV(C39:G39),3),\"\")","v":""},{"$f":"IF(AND(I39<>\"\", I39>0), ROUND(setup!D17/Validation!I39,2),\"--\")","v":"--"},{"$f":"IF(AND(I39<>\"\", I39>0), ROUND(setup!D17/Validation!I39,2),\"--\")","v":"--"},{"$f":"IF(J39=\"--\", \"--\", IF(J39<0, 100, 0)+IF(J39<0, -1, 1)* IF(COUNT(C39:G39)=5, VLOOKUP(ABS(J39),$S$2:$T$51,2,TRUE)+IF(LOOKUP(ABS(J39),$S$2:$S$51)<ABS(J39),1,0), IF(COUNT(C39:G39)=4, VLOOKUP(ABS(J39),$R$2:$T$51,3,TRUE)+IF(LOOKUP(ABS(J39),$R$2:$R$51)<ABS(J39),1,0), IF(COUNT(C39:G39)=3, VLOOKUP(ABS(J39),$Q$2:$T$51,4,TRUE)+IF(LOOKUP(ABS(J39),$Q$2:$Q$51)<ABS(J39),1,0),\"--\"))))","v":"--"},{"$f":"IF(K39=\"--\", \"--\", IF(K39<0, 100, 0)+IF(K39<0, -1, 1)* IF(COUNT(C39:G39)=5, VLOOKUP(ABS(K39),$S$2:$T$51,2,TRUE)+IF(LOOKUP(ABS(K39),$S$2:$S$51)<ABS(K39),1,0), IF(COUNT(C39:G39)=4, VLOOKUP(ABS(K39),$R$2:$T$51,3,TRUE)+IF(LOOKUP(ABS(K39),$R$2:$R$51)<ABS(K39),1,0), IF(COUNT(C39:G39)=3, VLOOKUP(ABS(K39),$Q$2:$T$51,4,TRUE)+IF(LOOKUP(ABS(K39),$Q$2:$Q$51)<ABS(K39),1,0),\"--\"))))","v":"--"},{"$f":"IF(AND(L39=\"--\", M39=\"--\"), \"--\", IF(L39=\"--\", 100, L39)+IF(M39=\"--\", 100, M39)-100)","v":"--"},null,null,1.06,1.1100000000000001,1.1200000000000001,87,null,null,null,null,null,null,null,null,null,null,null,null,null,47,88,85,81]
["Mix Temp",null,{"$f":"'Validation Input'!F30","v":0},{"$f":"'Validation Input'!L30","v":0},{"$f":"'Validation Input'!R30","v":0},{"$f":"'Validation Input'!G55","v":0},{"$f":"'Validation Input'!O55","v":0},{"$f":"IF(SUM(C40:G40)>0, ROUND(AVERAGE(C40:G40),1),\"\")","v":""},{"$f":"IF(SUM(C40:G40)>0,ROUND(STDEV(C40:G40),3),\"\")","v":""},"--","--","--","--","--",null,null,1.07,1.1399999999999999,1.1599999999999999,88,null,null,null,null,null,null,null,null,null,null,null,null,null,48,89,86,82]
["Meter AC",null,{"$f":"'Validation Input'!F27","v":0},{"$f":"'Validation Input'!L27","v":0},{"$f":"'Validation Input'!R27","v":0},{"$f":"'Validation Input'!G52","v":0},{"$f":"'Validation Input'!O52","v":0},{"$f":"IF(SUM(C41:G41)>0, ROUND(AVERAGE(C41:G41),1),\"\")","v":""},{"$f":"IF(SUM(C41:G41)>0,ROUND(STDEV(C41:G41),3),\"\")","v":""},"--","--","--","--","--",null,null,1.08,1.17,1.2,89,null,null,null,null,null,null,null,null,null,null,null,null,null,49,90,87,83]
[null,null,null,null,null,null,null,null,null,null,null,null,null,null,null,null,1.0900000000000001,1.2,1.23,90,null,null,null,null,null,null,null,null,null,null,null,null,null,50,90,88,84]
[null,null,"Roadway Density Cores",null,null,null,null,null,null,"Tonnage","% Pay",null,null,null,null,null,1.1000000000000001,1.23,1.27,91,null,null,null,null,null,null,null,null,null,null,null,null,null,51,91,88,85]
[null,null,"Core A","Core B","Core C","Core D","Core E",null,"Mainline",{"$f":"IF(B53>=3, IF(C46=\"Main\",'Validation Input'!I74,0)+IF(D46=\"Main\",'Validation Input'!J74,0)+IF(E46=\"Main\",'Validation Input'!K74,0)+IF(F46=\"Main\",'Validation Input'!L74,0)+IF(G46=\"Main\",'Validation Input'!M74,0), 0)","v":0},{"$f":"IF(G53=\"--\",\"--\",IF(B53=5,VLOOKUP(G53,AH2:AK92,4,FALSE),IF(B53=4,VLOOKUP(G53,AH2:AK92,3,FALSE),IF(B53=3,VLOOKUP(G53,AH2:AK92,2,FALSE),\"--\"))))","v":"--"},{"$f":"IF(K44=50, \"or Remove\", \"\")","v":""},null,null,null,null,1.1100000000000001,1.26,1.31,92,null,null,null,null,null,null,null,null,null,null,null,null,null,52,92,89,87]
[null,null,{"$f":"IF('Validation Input'!I73<>\"\",ROUND(('Validation Input'!I73/$H$7)*100,setup!$M$67),\"--\")","v":"--"},{"$f":"IF('Validation Input'!J73<>\"\",ROUND(('Validation Input'!J73/$H$7)*100,setup!$M$67),\"--\")","v":"--"},{"$f":"IF('Validation Input'!K73<>\"\",ROUND(('Validation Input'!K73/$H$7)*100,setup!$M$67),\"--\")","v":"--"},{"$f":"IF('Validation Input'!L73<>\"\",ROUND(('Validation Input'!L73/$H$7)*100,setup!$M$67),\"--\")","v":"--"},{"$f":"IF('Validation Input'!M73<>\"\",ROUND(('Validation Input'!M73/$H$7)*100,setup!$M$67),\"--\")","v":"--"},null,"Minor A",{"$f":"IF(OR(C46=\"Minor\", B53<3), 'Validation Input'!I74, 0)","v":0},{"$f":"IF(C46<>\"--\",IF(C46=\"Minor\",IF(C45>=setup!$B$35,100,IF(C45>setup!$B$35-2,90,80)),IF($B$53<3,IF(C45>=setup!$B$34,100,IF(C45>setup!$B$34-2,90,80)),0)), 0)","v":0},{"$f":"IF(K45=80, \"or Remove\", \"\")","v":""},null,null,null,null,1.1200000000000001,1.29,1.36,93,null,null,null,null,null,null,null,null,null,null,null,null,null,53,93,90,88]
[null,null,{"$f":"IF('Validation Input'!I66<>0, IF(OR('Validation Input'!I66=\"Wearing\", 'Validation Input'!I66=\"Binder\", 'Validation Input'!I66=\"Base\", 'Validation Input'!I66=\"Ramp >300ft\", 'Validation Input'!I66=\"Ints. Acc/Dec\", 'Validation Input'!I66=\"Airport Center\"),\"Main\", \"Minor\"), \"--\")","v":"--"},{"$f":"IF('Validation Input'!J66<>0, IF(OR('Validation Input'!J66=\"Wearing\", 'Validation Input'!J66=\"Binder\", 'Validation Input'!J66=\"Base\", 'Validation Input'!J66=\"Ramp >300ft\", 'Validation Input'!J66=\"Ints. Acc/Dec\", 'Validation Input'!J66=\"Airport Center\"),\"Main\", \"Minor\"), \"--\")","v":"--"},{"$f":"IF('Validation Input'!K66<>0, IF(OR('Validation Input'!K66=\"Wearing\", 'Validation Input'!K66=\"Binder\", 'Validation Input'!K66=\"Base\", 'Validation Input'!K66=\"Ramp >300ft\", 'Validation Input'!K66=\"Ints. Acc/Dec\", 'Validation Input'!K66=\"Airport Center\"),\"Main\", \"Minor\"), \"--\")","v":"--"},{"$f":"IF('Validation Input'!L66<>0, IF(OR('Validation Input'!L66=\"Wearing\", 'Validation Input'!L66=\"Binder\", 'Validation Input'!L66=\"Base\", 'Validation Input'!L66=\"Ramp >300ft\", 'Validation Input'!L66=\"Ints. Acc/Dec\", 'Validation Input'!L66=\"Airport Center\"),\"Main\", \"Minor\"), \"--\")","v":"--"},{"$f":"IF('Validation Input'!M66<>0, IF(OR('Validation Input'!M66=\"Wearing\", 'Validation Input'!M66=\"Binder\", 'Validation Input'!M66=\"Base\", 'Validation Input'!M66=\"Ramp >300ft\", 'Validation Input'!M66=\"Ints. Acc/Dec\", 'Validation Input'!M66=\"Airport Center\"),\"Main\", \"Minor\"), \"--\")","v":"--"},null,"Minor B",{"$f":"IF(OR(D46=\"Minor\", B53<3), 'Validation Input'!J74, 0)","v":0},{"$f":"IF(D46<>\"--\",IF(D46=\"Minor\",IF(D45>=setup!$B$35,100,IF(D45>setup!$B$35-2,90,80)),IF($B$53<3,IF(D45>=setup!$B$34,100,IF(D45>setup!$B$34-2,90,80)),0)), 0)","v":0},"",null,null,null,null,1.1299999999999999,1.32,1.4,94,null,null,null,null,null,null,null,null,null,null,null,null,null,54,94,91,89]
[null,null,null,null,null,null,null,null,"Minor C",{"$f":"IF(OR(E46=\"Minor\", B53<3), 'Validation Input'!K74, 0)","v":0},{"$f":"IF(E46<>\"--\",IF(E46=\"Minor\",IF(E45>=setup!$B$35,100,IF(E45>setup!$B$35-2,90,80)),IF($B$53<3,IF(E45>=setup!$B$34,100,IF(E45>setup!$B$34-2,90,80)),0)), 0)","v":0},"",null,null,null,null,1.1399999999999999,1.35,1.45,{"$f":"T46+1","v":95},null,null,null,null,null,null,null,null,null,null,null,null,null,55,95,92,90]
["*uses PWL for Mainline if 3 or more sublots are Mainline use",null,null,null,null,null,null,null,"Minor D",{"$f":"IF(OR(F46=\"Minor\", B53<3), 'Validation Input'!L74, 0)","v":0},{"$f":"IF(F46<>\"--\",IF(F46=\"Minor\",IF(F45>=setup!$B$35,100,IF(F45>setup!$B$35-2,90,80)),IF($B$53<3,IF(F45>=setup!$B$34,100,IF(F45>setup!$B$34-2,90,80)),0)), 0)","v":0},"",null,null,null,null,1.1499999999999999,1.38,1.49,96,null,null,null,null,null,null,null,null,null,null,null,null,null,56,95,92,90]
["**Mainline = WC, Binder, Base, Ramp >300ft, Ints. Acc/Dec, Airport Center",null,null,null,null,null,null,null,"Minor E",{"$f":"IF(OR(G46=\"Minor\", B53<3), 'Validation Input'!M74, 0)","v":0},{"$f":"IF(G46<>\"--\", IF(G46=\"Minor\",IF(G45>=setup!$B$35,100,IF(G45>setup!$B$35-2,90,80)),IF($B$53<3,IF(G45>=setup!$B$34,100,IF(G45>setup!$B$34-2,90,80)),0)), 0)","v":0},"",null,null,null,null,1.1499999999999999,1.41,1.55,97,null,null,null,null,null,null,null,null,null,null,null,null,null,57,96,93,91]
[null,null,null,null,null,null,null,null,"*** %Pay weighted by tonnage associated with cores",null,null,null,null,null,null,null,1.1499999999999999,1.44,1.61,98,null,null,null,null,null,null,null,null,null,null,null,null,null,58,97,94,92]
[null,null,null,null,null,null,null,null,null,null,null,null,null,null,null,null,1.1599999999999999,1.47,1.68,99,null,null,null,null,null,null,null,null,null,null,null,null,null,59,97,95,93]
[null,"Ct.","Mean","StDev","QL","QU","PWL",null,null,null,null,null,null,null,null,null,null,null,null,null,null,null,null,null,null,null,null,null,null,null,null,null,null,60,98,95,94]
["Mainline Dens.",{"$f":"COUNTIF(C46:G46,\"Main\")","v":0},{"$f":"IF(COUNTIF(C46:G46,\"Main\")>=3, ROUND(AVERAGEIF(C46:G46, \"Main\",C45:G45),setup!M41+1),\"\")","v":""},{"$f":"IF(C53<>\"\", IF(COUNTIF(C46:G46,\"Main\")>1,ROUND(STDEV(IF(C46:G46=\"Main\",C45:G45,\"\")),setup!$M$41+3),0),\"\")","v":""},{"$f":"IF(D53<>\"\", IF(D53>0, ROUND((Validation!C53-setup!B34)/Validation!D53,2),\"--\"),\"\")","v":""},{"$f":"IF(C53<>\"\", \"--\", \"\")","v":""},{"$f":"IF(E53<>\"\", IF(E53=\"--\", \"--\", IF(E53<0, 100, 0)+IF(E53<0, -1, 1)* IF(COUNTIF(C46:G46,\"Main\")=5, VLOOKUP(ABS(E53),$S$2:$T$51,2,TRUE)+IF(LOOKUP(ABS(E53),$S$2:$S$51)<ABS(E53),1,0), IF(COUNTIF(C46:G46,\"Main\")=4, VLOOKUP(ABS(E53),$R$2:$T$51,3,TRUE)+IF(LOOKUP(ABS(E53),$R$2:$R$51)<ABS(E53),1,0), IF(COUNTIF(C46:G46,\"Main\")=3, VLOOKUP(ABS(E53),$Q$2:$T$51,4,TRUE)+IF(LOOKUP(ABS(E53),$Q$2:$Q$51)<ABS(E53),1,0),\"--\")))),\"\")","v":""},null,null,null,null,null,null,null,null,null,null,null,null,null,null,null,null,null,null,null,null,null,null,null,null,null,null,61,98,96,94]
[null,null,null,null,null,null,null,null,null,null,null,null,null,null,null,null,null,null,null,null,null,null,null,null,null,null,null,null,null,null,null,null,null,62,99,97,95]
[null,null,"Total Tons",null,null,{"$f":"SUM(J44:J49)","v":0},null,null,"Final % Pay",null,null,{"$f":"IF(F55>0, ROUND(SUMPRODUCT((J44:J49)*(K44:K49)/F55),1),\"--\")","v":"--"},null,null,null,null,null,null,null,null,null,null,null,null,null,null,null,null,null,null,null,null,null,63,99,98,95]
[null,null,"Gmm",null,null,{"$f":"ROUND(H7,setup!M65)","v":{"$error":"#VALUE!"}},null,null,null,null,null,null,null,null,null,null,null,null,null,null,null,null,null,null,null,null,null,null,null,null,null,null,null,64,99,98,96]
[null,null,"Adjustment Factor",null,null,{"$f":"IF(F56<2.34,ROUND(2.4/F56,2),IF(F56<2.361,1.02,IF(F56<2.4,1.01,IF(F56<2.541,1,IF(F56<2.571,0.99,IF(F56<2.591,0.98,ROUND(2.54/F56,2)))))))","v":{"$error":"#VALUE!"}},null,null,"Adjusted Tonnage",null,null,{"$f":"F58","v":{"$error":"#VALUE!"}},null,null,null,null,null,null,null,null,null,null,null,null,null,null,null,null,null,null,null,null,null,65,100,99,96]
[null,null,"Adjusted Total Tons",null,null,{"$f":"F55*F57","v":{"$error":"#VALUE!"}},null,null,null,null,null,null,null,null,null,null,null,null,null,null,null,null,null,null,null,null,null,null,null,null,null,null,null,66,100,99,97]
[null,null,null,null,null,null,null,null,null,null,null,null,null,null,null,null,null,null,null,null,null,null,null,null,null,null,null,null,null,null,null,null,null,67,100,100,97]
[null,null,null,null,null,null,null,null,null,null,null,null,null,null,null,null,null,null,null,null,null,null,null,null,null,null,null,null,null,null,null,null,null,68,100,100,98]
[null,null,null,null,null,null,null,null,null,null,null,null,null,null,null,null,null,null,null,null,null,null,null,null,null,null,null,null,null,null,null,null,null,69,100,100,98]
["DOTD Cert. AC Plant Tech.",null,null,null,"QA Cert. Asphaltic Concrete Plant Tech.",null,null,null,null,"APPROVED BY: District Lab Engr.",null,null,null,null,null,null,null,null,null,null,null,null,null,null,null,null,null,null,null,null,null,null,null,70,100,100,99]
[null,null,null,null,null,null,null,null,null,null,null,null,null,null,null,null,null,null,null,null,null,null,null,null,null,null,null,null,null,null,null,null,null,71,100,100,100]
["Remarks:",{"$f":"'Validation Input'!B76:Q76","v":0},null,null,null,null,null,null,null,null,null,null,null,null,null,null,null,null,null,null,null,null,null,null,null,null,null,null,null,null,null,null,null,72,100,100,100]
[null,null,null,null,null,null,null,null,null,null,null,null,null,null,null,null,null,null,null,null,null,null,null,null,null,null,null,null,null,null,null,null,null,73,100,100,100]
[{"$f":"setup!S2","v":"LaPave 502 v18.05.02"},null,null,null,null,null,null,null,null,null,null,null,null,{"$f":"TODAY()","v":"2023-03-31"},null,null,null,null,null,null,null,null,null,null,null,null,null,null,null,null,null,null,null,74,100,100,100]
[null,null,null,null,null,null,null,null,null,null,null,null,null,null,null,null,null,null,null,null,null,null,null,null,null,null,null,null,null,null,null,null,null,75,100,100,100]
[null,null,null,null,null,null,null,null,null,null,null,null,null,null,null,null,null,null,null,null,null,null,null,null,null,null,null,null,null,null,null,null,null,76,100,100,100]
[null,null,null,null,null,null,null,null,null,null,null,null,null,null,null,null,null,null,null,null,null,null,null,null,null,null,null,null,null,null,null,null,null,77,100,100,100]
[null,null,null,null,null,null,null,null,null,null,null,null,null,null,null,null,null,null,null,null,null,null,null,null,null,null,null,null,null,null,null,null,null,78,100,100,100]
[null,null,null,null,null,null,null,null,null,null,null,null,null,null,null,null,null,null,null,null,null,null,null,null,null,null,null,null,null,null,null,null,null,79,100,100,100]
[null,null,null,null,null,null,null,null,null,null,null,null,null,null,null,null,null,null,null,null,null,null,null,null,null,null,null,null,null,null,null,null,null,80,100,100,100]
[null,null,null,null,null,null,null,null,null,null,null,null,null,null,null,null,null,null,null,null,null,null,null,null,null,null,null,null,null,null,null,null,null,81,100,100,100]
[null,null,null,null,null,null,null,null,null,null,null,null,null,null,null,null,null,null,null,null,null,null,null,null,null,null,null,null,null,null,null,null,null,82,100,100,100]
[null,null,null,null,null,null,null,null,null,null,null,null,null,null,null,null,null,null,null,null,null,null,null,null,null,null,null,null,null,null,null,null,null,83,100,100,100]
[null,null,null,null,null,null,null,null,null,null,null,null,null,null,null,null,null,null,null,null,null,null,null,null,null,null,null,null,null,null,null,null,null,84,100,100,100]
[null,null,null,null,null,null,null,null,null,null,null,null,null,null,null,null,null,null,null,null,null,null,null,null,null,null,null,null,null,null,null,null,null,85,100,100,100]
[null,null,null,null,null,null,null,null,null,null,null,null,null,null,null,null,null,null,null,null,null,null,null,null,null,null,null,null,null,null,null,null,null,86,100,100,100]
[null,null,null,null,null,null,null,null,null,null,null,null,null,null,null,null,null,null,null,null,null,null,null,null,null,null,null,null,null,null,null,null,null,87,100,100,100]
[null,null,null,null,null,null,null,null,null,null,null,null,null,null,null,null,null,null,null,null,null,null,null,null,null,null,null,null,null,null,null,null,null,88,100,100,100]
[null,null,null,null,null,null,null,null,null,null,null,null,null,null,null,null,null,null,null,null,null,null,null,null,null,null,null,null,null,null,null,null,null,89,100,100,100]
[null,null,null,null,null,null,null,null,null,null,null,null,null,null,null,null,null,null,null,null,null,null,null,null,null,null,null,null,null,null,null,null,null,90,100,100,100]
[null,null,null,null,null,null,null,null,null,null,null,null,null,null,null,null,null,null,null,null,null,null,null,null,null,null,null,null,null,null,null,null,null,91,100,100,100]
[null,null,null,null,null,null,null,null,null,null,null,null,null,null,null,null,null,null,null,null,null,null,null,null,null,null,null,null,null,null,null,null,null,92,100,100,100]
[null,null,null,null,null,null,null,null,null,null,null,null,null,null,null,null,null,null,null,null,null,null,null,null,null,null,null,null,null,null,null,null,null,93,100,100,100]
[null,null,null,null,null,null,null,null,null,null,null,null,null,null,null,null,null,null,null,null,null,null,null,null,null,null,null,null,null,null,null,null,null,94,100,100,100]
[null,null,null,null,null,null,null,null,null,null,null,null,null,null,null,null,null,null,null,null,null,null,null,null,null,null,null,null,null,null,null,null,null,95,100,100,100]
[null,null,null,null,null,null,null,null,null,null,null,null,null,null,null,null,null,null,null,null,null,null,null,null,null,null,null,null,null,null,null,null,null,96,100,100,100]
[null,null,null,null,null,null,null,null,null,null,null,null,null,null,null,null,null,null,null,null,null,null,null,null,null,null,null,null,null,null,null,null,null,97,100,100,100]
[null,null,null,null,null,null,null,null,null,null,null,null,null,null,null,null,null,null,null,null,null,null,null,null,null,null,null,null,null,null,null,null,null,98,100,100,100]
[null,null,null,null,null,null,null,null,null,null,null,null,null,null,null,null,null,null,null,null,null,null,null,null,null,null,null,null,null,null,null,null,null,99,100,100,100]
[null,null,null,null,null,null,null,null,null,null,null,null,null,null,null,null,null,null,null,null,null,null,null,null,null,null,null,null,null,null,null,null,null,100,100,100,100]

{"sheet":"Plant Report-Val","index":11,"n_rows":55,"n_cols":22,"rows_kept":55,"cut":false,"hidden":false,"merged":[[42,6,42,9],[25,6,25,9],[36,6,36,9],[37,6,37,9],[38,6,38,9],[22,10,22,13],[4,18,4,19],[21,18,21,21],[17,14,17,17],[18,14,18,17],[19,14,19,17],[19,6,19,9],[20,6,20,9],[21,6,21,9],[14,6,14,7],[18,6,18,9],[12,10,12,11],[15,6,15,7],[12,8,12,9],[13,8,13,9],[14,8,14,9],[15,8,15,9],[12,6,12,7],[13,6,13,7],[9,10,9,13],[9,6,9,9],[9,18,9,21],[10,6,10,7],[10,10,10,11],[9,14,9,17],[10,14,10,15],[12,18,12,19],[10,16,10,17],[11,16,11,17],[12,16,12,17],[12,20,12,21],[12,12,12,13],[10,20,10,21],[11,20,11,21],[13,18,13,19],[14,18,14,19],[10,18,10,19],[11,18,11,19],[10,8,10,9],[10,12,10,13],[11,12,11,13],[11,8,11,9],[14,20,14,21],[13,20,13,21],[14,16,14,17],[13,16,13,17],[14,12,14,13],[13,14,13,15],[13,10,13,11],[14,14,14,15],[14,10,14,11],[13,12,13,13],[11,14,11,15],[12,14,12,15],[11,10,11,11],[13,4,13,5],[20,2,20,5],[21,2,21,5],[26,10,26,13],[27,10,27,13],[6,3,6,4],[4,6,4,7],[6,16,6,17],[2,1,2,2],[19,2,19,5],[15,4,15,5],[10,4,10,5],[11,4,11,5],[12,4,12,5],[12,2,12,3],[13,2,13,3],[10,2,10,3],[11,2,11,3],[11,6,11,7],[21,14,21,17],[20,14,20,17],[15,14,15,15],[15,16,15,17],[23,10,23,13],[41,6,41,9],[14,0,14,1],[32,0,35,0],[31,0,31,1],[17,2,17,5],[18,2,18,5],[14,2,14,3],[14,4,14,5],[15,0,15,1],[17,0,17,1],[16,0,16,21],[17,18,17,21],[17,6,17,9],[15,2,15,3],[18,0,18,1],[19,0,19,1],[19,18,19,21],[15,20,15,21],[15,18,15,19],[24,10,24,13],[29,10,29,13],[15,10,15,11],[15,12,15,13],[17,10,17,13],[11,0,11,1],[29,6,29,9],[30,6,30,9],[0,0,0,21],[3,1,3,2],[2,18,2,21],[3,18,3,21],[3,6,3,7],[2,13,2,14],[2,11,2,12],[3,11,3,12],[9,2,9,5],[3,13,3,14],[4,11,4,12],[4,13,4,14],[5,13,5,14],[5,11,5,12],[4,4,4,5],[8,0,8,21],[5,18,5,19],[22,2,22,5],[23,2,23,5],[12,0,12,1],[13,0,13,1],[40,14,40,17],[40,6,40,9],[39,10,39,13],[40,10,40,13],[26,6,26,9],[27,6,27,9],[28,6,28,9],[39,18,39,21],[38,18,38,21],[28,14,28,17],[30,18,30,21],[36,18,36,21],[37,18,37,21],[29,14,29,17],[30,14,30,17],[36,14,36,17],[27,18,27,21],[28,18,28,21],[29,18,29,21],[26,18,26,21],[23,0,23,1],[28,0,28,1],[18,18,18,21],[36,10,36,13],[37,10,37,13],[38,10,38,13],[37,14,37,17],[18,10,18,13],[19,10,19,13],[20,10,20,13],[21,10,21,13],[24,18,24,21],[22,14,22,17],[23,14,23,17],[24,14,24,17],[25,14,25,17],[23,18,23,21],[22,18,22,21],[22,6,22,9],[23,6,23,9],[24,6,24,9],[42,0,42,1],[43,0,43,1],[20,18,20,21],[46,0,46,1],[20,0,20,1],[21,0,21,1],[30,2,30,5],[25,18,25,21],[43,18,43,21],[40,18,40,21],[28,2,28,5],[22,0,22,1],[24,2,24,5],[25,2,25,5],[29,0,29,1],[30,0,30,1],[37,0,37,1],[36,0,36,1],[36,2,36,5],[37,2,37,5],[44,0,44,1],[39,0,39,1],[38,0,38,1],[41,0,41,1],[43,6,43,9],[44,6,44,9],[42,14,42,17],[42,10,42,13],[41,14,41,17],[24,0,24,1],[25,0,25,1],[27,0,27,1],[26,14,26,17],[26,0,26,1],[25,10,25,13],[27,14,27,17],[41,10,41,13],[29,2,29,5],[38,2,38,5],[38,14,38,17],[26,2,26,5],[27,2,27,5],[28,10,28,13],[30,10,30,13],[44,10,44,13],[39,2,39,5],[39,6,39,9],[39,14,39,17],[6,5,6,15],[2,6,2,9],[54,19,54,21],[54,0,54,1],[52,0,52,2],[52,15,52,21],[52,5,52,12],[40,2,40,5],[41,2,41,5],[42,2,42,5],[47,20,47,21],[47,0,47,1],[40,0,40,1],[48,1,48,21],[47,17,47,19],[41,18,41,21],[45,0,45,1],[42,18,42,21],[44,14,44,17],[43,14,43,17],[43,10,43,13],[44,18,44,21],[44,2,44,5],[43,2,43,5]]}
["Superpave Asphalt Concrete Plant Report"]
[]
["Proj. No.",{"$f":"'Validation Input'!B2","v":0},null,null,null,"SMM No.",{"$f":"'JMF Input'!J7","v":0},null,null,null,null,"Design Level",null,{"$f":"'JMF Input'!F4","v":1},null,null,null,"Mix Type",{"$f":"'JMF Input'!E5","v":"Base Course"}]
["Proj. No.",{"$f":"'Validation Input'!B3","v":0},null,null,null,"JMF No.",{"$f":"'JMF Input'!F3","v":0},null,null,null,null,"Lot No.",null,{"$f":"'Validation Input'!G3","v":0},null,null,null,"Mix Use",{"$f":"'JMF Input'!E6","v":"Min - Patching"}]
["Lot Size",{"$f":"'Validation Input'!B4","v":0},null,null,"Start Date",null,{"$f":"'Validation Input'!E4","v":"00:00:00"},null,null,null,null,"End Date",null,{"$f":"'Validation Input'!H4","v":"00:00:00"},null,null,null,"Purpose Code",{"$f":"'Validation Input'!M2","v":0}]
["No. Sublots",{"$f":"'Validation Input'!B5","v":0},null,null,null,null,null,null,null,null,null,"Gsb",null,{"$f":"'Validation Input'!G5","v":0},null,null,null,"Ps",{"$f":"'Validation Input'!J5","v":100}]
[null,null,null,"Plant",null,{"$f":"'JMF Input'!D7","v":0},null,null,null,null,null,null,null,null,null,null,"%AC",null,{"$f":"'Validation Input'!D5","v":0}]
[]
["Theoretical Maximum Specific Gravity, Gmm \"Rice\"  (AASHTO T209 or DOTD TR327)"]
[null,null,"Gmm1",null,null,null,"Gmm2",null,null,null,"Gmm3",null,null,null,"Gmm4",null,null,null,"Gmm5"]
[null,null,"A",null,"B",null,"A",null,"B",null,"A",null,"B",null,"A",null,"B",null,"A",null,"B"]
["Wt of Mix",null,{"$f":"IF('Validation Input'!D10>0, 'Validation Input'!D10, \"\")","v":""},null,{"$f":"IF('Validation Input'!L10>0, 'Validation Input'!L10, \"\")","v":""},null,{"$f":"IF('Validation Input'!E10>0, 'Validation Input'!E10, \"\")","v":""},null,{"$f":"IF('Validation Input'!M10>0, 'Validation Input'!M10, \"\")","v":""},null,{"$f":"IF('Validation Input'!F10>0, 'Validation Input'!F10, \"\")","v":""},null,{"$f":"IF('Validation Input'!N10>0, 'Validation Input'!N10, \"\")","v":""},null,{"$f":"IF('Validation Input'!G10>0, 'Validation Input'!G10, \"\")","v":""},null,{"$f":"IF('Validation Input'!O10>0, 'Validation Input'!O10, \"\")","v":""},null,{"$f":"IF('Validation Input'!H10>0, 'Validation Input'!H10, \"\")","v":""},null,{"$f":"IF('Validation Input'!P10>0, 'Validation Input'!P10, \"\")","v":""}]
["Wt of Pyc & H2O",null,{"$f":"IF('Validation Input'!D11>0, 'Validation Input'!D11, \"\")","v":""},null,{"$f":"IF('Validation Input'!L11>0, 'Validation Input'!L11, \"\")","v":""},null,{"$f":"IF('Validation Input'!E11>0, 'Validation Input'!E11, \"\")","v":""},null,{"$f":"IF('Validation Input'!M11>0, 'Validation Input'!M11, \"\")","v":""},null,{"$f":"IF('Validation Input'!F11>0, 'Validation Input'!F11, \"\")","v":""},null,{"$f":"IF('Validation Input'!N11>0, 'Validation Input'!N11, \"\")","v":""},null,{"$f":"IF('Validation Input'!G11>0, 'Validation Input'!G11, \"\")","v":""},null,{"$f":"IF('Validation Input'!O11>0, 'Validation Input'!O11, \"\")","v":""},null,{"$f":"IF('Validation Input'!H11>0, 'Validation Input'!H11, \"\")","v":""},null,{"$f":"IF('Validation Input'!P11>0, 'Validation Input'!P11, \"\")","v":""}]
["Wt of Pyc, H2O & Mix",null,{"$f":"IF('Validation Input'!D12>0, 'Validation Input'!D12, \"\")","v":""},null,{"$f":"IF('Validation Input'!L12>0, 'Validation Input'!L12, \"\")","v":""},null,{"$f":"IF('Validation Input'!E12>0, 'Validation Input'!E12, \"\")","v":""},null,{"$f":"IF('Validation Input'!M12>0, 'Validation Input'!M12, \"\")","v":""},null,{"$f":"IF('Validation Input'!F12>0, 'Validation Input'!F12, \"\")","v":""},null,{"$f":"IF('Validation Input'!N12>0, 'Validation Input'!N12, \"\")","v":""},null,{"$f":"IF('Validation Input'!G12>0, 'Validation Input'!G12, \"\")","v":""},null,{"$f":"IF('Validation Input'!O12>0, 'Validation Input'!O12, \"\")","v":""},null,{"$f":"IF('Validation Input'!H12>0, 'Validation Input'!H12, \"\")","v":""},null,{"$f":"IF('Validation Input'!P12>0, 'Validation Input'!P12, \"\")","v":""}]
["Gmm, Rice Gravity",null,{"$f":"'Validation Input'!E16","v":""},null,{"$f":"'Validation Input'!E17","v":""},null,{"$f":"'Validation Input'!K16","v":""},null,{"$f":"'Validation Input'!K17","v":""},null,{"$f":"'Validation Input'!Q16","v":""},null,{"$f":"'Validation Input'!Q17","v":""},null,{"$f":"'Validation Input'!F41","v":""},null,{"$f":"'Validation Input'!F42","v":""},null,{"$f":"'Validation Input'!N41","v":""},null,{"$f":"'Validation Input'!N42","v":""}]
["Average Gmm",null,"Gmm1=",null,{"$f":"Validation!C7","v":""},null,"Gmm2=",null,{"$f":"Validation!D7","v":""},null,"Gmm3=",null,{"$f":"Validation!E7","v":""},null,"Gmm4=",null,{"$f":"Validation!F7","v":""},null,"Gmm5=",null,{"$f":"Validation!G7","v":""}]
["Plant Test Properties (AASHTO T166, T209, T245/DOTD TR 304, 305, &327)"]
["Sublot No. ",null,1,null,null,null,2,null,null,null,3,null,null,null,4,null,null,null,5]
["Gmm",null,{"$f":"E16","v":""},null,null,null,{"$f":"I16","v":""},null,null,null,{"$f":"M16","v":""},null,null,null,{"$f":"Q16","v":""},null,null,null,{"$f":"U16","v":""}]
["Wt (Mass) in Air",null,{"$f":"IF('Validation Input'!E20>0, 'Validation Input'!E20, \"\")","v":""},null,null,null,{"$f":"IF('Validation Input'!K20>0, 'Validation Input'!K20, \"\")","v":""},null,null,null,{"$f":"IF('Validation Input'!Q20>0, 'Validation Input'!Q20, \"\")","v":""},null,null,null,{"$f":"IF('Validation Input'!F45>0, 'Validation Input'!F45, \"\")","v":""},null,null,null,{"$f":"IF('Validation Input'!N45>0, 'Validation Input'!N45, \"\")","v":""}]
["Wt (Mass) in Water",null,{"$f":"IF('Validation Input'!E21>0, 'Validation Input'!E21, \"\")","v":""},null,null,null,{"$f":"IF('Validation Input'!K21>0, 'Validation Input'!K21, \"\")","v":""},null,null,null,{"$f":"IF('Validation Input'!Q21>0, 'Validation Input'!Q21, \"\")","v":""},null,null,null,{"$f":"IF('Validation Input'!F46>0, 'Validation Input'!F46, \"\")","v":""},null,null,null,{"$f":"IF('Validation Input'!N46>0, 'Validation Input'!N46, \"\")","v":""}]
["SSD Wt (Mass)",null,{"$f":"IF('Validation Input'!E22>0, 'Validation Input'!E22, \"\")","v":""},null,null,null,{"$f":"IF('Validation Input'!K22>0, 'Validation Input'!K22, \"\")","v":""},null,null,null,{"$f":"IF('Validation Input'!Q22>0, 'Validation Input'!Q22, \"\")","v":""},null,null,null,{"$f":"IF('Validation Input'!F47>0, 'Validation Input'!F47, \"\")","v":""},null,null,null,{"$f":"IF('Validation Input'!N47>0, 'Validation Input'!N47, \"\")","v":""}]
["Gmb, ND",null,{"$f":"Validation!C8","v":""},null,null,null,{"$f":"Validation!D8","v":""},null,null,null,{"$f":"Validation!E8","v":""},null,null,null,{"$f":"Validation!F8","v":""},null,null,null,{"$f":"Validation!G8","v":""}]
["Density",null,{"$f":"IF(C23<>\"\", ROUND(C23*62.4,1), \"\")","v":""},null,null,null,{"$f":"IF(G23<>\"\", ROUND(G23*62.4,1), \"\")","v":""},null,null,null,{"$f":"IF(K23<>\"\", ROUND(K23*62.4,1), \"\")","v":""},null,null,null,{"$f":"IF(O23<>\"\", ROUND(O23*62.4,1), \"\")","v":""},null,null,null,{"$f":"IF(S23<>\"\", ROUND(S23*62.4,1), \"\")","v":""}]
["% Gmm, ND",null,{"$f":"Validation!C10","v":""},null,null,null,{"$f":"Validation!D10","v":""},null,null,null,{"$f":"Validation!E10","v":""},null,null,null,{"$f":"Validation!F10","v":""},null,null,null,{"$f":"Validation!G10","v":""}]
["Ht. @ NI (mm)",null,{"$f":"IF('Validation Input'!E23>0, 'Validation Input'!E23, \"\")","v":""},null,null,null,{"$f":"IF('Validation Input'!K23>0, 'Validation Input'!K23, \"\")","v":""},null,null,null,{"$f":"IF('Validation Input'!Q23>0, 'Validation Input'!Q23, \"\")","v":""},null,null,null,{"$f":"IF('Validation Input'!F48>0, 'Validation Input'!F48, \"\")","v":""},null,null,null,{"$f":"IF('Validation Input'!N48>0, 'Validation Input'!N48, \"\")","v":""}]
["Ht. @ ND (mm)",null,{"$f":"IF('Validation Input'!E24>0, 'Validation Input'!E24, \"\")","v":""},null,null,null,{"$f":"IF('Validation Input'!K24>0, 'Validation Input'!K24, \"\")","v":""},null,null,null,{"$f":"IF('Validation Input'!Q24>0, 'Validation Input'!Q24, \"\")","v":""},null,null,null,{"$f":"IF('Validation Input'!F49>0, 'Validation Input'!F49, \"\")","v":""},null,null,null,{"$f":"IF('Validation Input'!N49>0, 'Validation Input'!N49, \"\")","v":""}]
["% Gmm, NI",null,{"$f":"Validation!C9","v":""},null,null,null,{"$f":"Validation!D9","v":""},null,null,null,{"$f":"Validation!E9","v":""},null,null,null,{"$f":"Validation!F9","v":""},null,null,null,{"$f":"Validation!G9","v":""}]
["% Voids, Va",null,{"$f":"Validation!C11","v":""},null,null,null,{"$f":"Validation!D11","v":""},null,null,null,{"$f":"Validation!E11","v":""},null,null,null,{"$f":"Validation!F11","v":""},null,null,null,{"$f":"Validation!G11","v":""}]
["% VMA",null,{"$f":"Validation!C12","v":""},null,null,null,{"$f":"Validation!D12","v":""},null,null,null,{"$f":"Validation!E12","v":""},null,null,null,{"$f":"Validation!F12","v":""},null,null,null,{"$f":"Validation!G12","v":""}]
["% VFA",null,{"$f":"Validation!C13","v":""},null,null,null,{"$f":"Validation!D13","v":""},null,null,null,{"$f":"Validation!E13","v":""},null,null,null,{"$f":"Validation!F13","v":""},null,null,null,{"$f":"Validation!G13","v":""}]
[null,null,"Asph","Aggr","RAP","AntiStrip","Asph","Aggr","RAP","AntiStrip","Asph","Aggr","RAP","AntiStrip","Asph","Aggr","RAP","AntiStrip","Asph","Aggr","RAP","AntiStrip"]
["% Asphalt Content","1st Meter Reading, AM"]
[null,"1st Meter Reading, PM"]
[null,"2nd Meter Reading, AM"]
[null,"2nd Meter Reading, PM"]
["% AC Meter",null,{"$f":"IF('Validation Input'!F27>0, 'Validation Input'!F27, \"\")","v":""},null,null,null,{"$f":"IF('Validation Input'!L27>0, 'Validation Input'!L27, \"\")","v":""},null,null,null,{"$f":"IF('Validation Input'!R27>0, 'Validation Input'!R27, \"\")","v":""},null,null,null,{"$f":"IF('Validation Input'!G52>0, 'Validation Input'!G52, \"\")","v":""},null,null,null,{"$f":"IF('Validation Input'!O52>0,'Validation Input'!O52, \"\")","v":""}]
["Comp. Temp.",null,{"$f":"IF('Validation Input'!F28>0, 'Validation Input'!F28, \"\")","v":""},null,null,null,{"$f":"IF('Validation Input'!L28>0, 'Validation Input'!L28, \"\")","v":""},null,null,null,{"$f":"IF('Validation Input'!R28>0, 'Validation Input'!R28, \"\")","v":""},null,null,null,{"$f":"IF('Validation Input'!G53>0, 'Validation Input'!G53, \"\")","v":""},null,null,null,{"$f":"IF('Validation Input'!O53>0,'Validation Input'!O53, \"\")","v":""}]
["Dust/Peff",null,{"$f":"Validation!C33","v":""},null,null,null,{"$f":"Validation!D33","v":""},null,null,null,{"$f":"Validation!E33","v":""},null,null,null,{"$f":"Validation!F33","v":""},null,null,null,{"$f":"Validation!G33","v":""}]
["Gse",null,{"$f":"Validation!C34","v":""},null,null,null,{"$f":"Validation!D34","v":""},null,null,null,{"$f":"Validation!E34","v":""},null,null,null,{"$f":"Validation!F34","v":""},null,null,null,{"$f":"Validation!G34","v":""}]
["Pba",null,{"$f":"Validation!C35","v":""},null,null,null,{"$f":"Validation!D35","v":""},null,null,null,{"$f":"Validation!E35","v":""},null,null,null,{"$f":"Validation!F35","v":""},null,null,null,{"$f":"Validation!G35","v":""}]
["Pbe",null,{"$f":"Validation!C36","v":""},null,null,null,{"$f":"Validation!D36","v":""},null,null,null,{"$f":"Validation!E36","v":""},null,null,null,{"$f":"Validation!F36","v":""},null,null,null,{"$f":"Validation!G36","v":""}]
["Total Sublot Tons",null,{"$f":"IF('Validation Input'!I74>0, 'Validation Input'!I74, \"\")","v":""},null,null,null,{"$f":"IF('Validation Input'!J74>0, 'Validation Input'!J74, \"\")","v":""},null,null,null,{"$f":"IF('Validation Input'!K74>0, 'Validation Input'!K74, \"\")","v":""},null,null,null,{"$f":"IF('Validation Input'!L74>0, 'Validation Input'!L74, \"\")","v":""},null,null,null,{"$f":"IF('Validation Input'!M74>0, 'Validation Input'!M74, \"\")","v":""}]
["Sample Taken, Tons Accum.",null,{"$f":"IF('Validation Input'!F29>0, 'Validation Input'!F29, \"\")","v":""},null,null,null,{"$f":"IF('Validation Input'!L29>0, 'Validation Input'!L29, \"\")","v":""},null,null,null,{"$f":"IF('Validation Input'!R29>0, 'Validation Input'!R29, \"\")","v":""},null,null,null,{"$f":"IF('Validation Input'!G54>0, 'Validation Input'!G54, \"\")","v":""},null,null,null,{"$f":"IF('Validation Input'!O54>0, 'Validation Input'!O54, \"\")","v":""}]
["Mix Temperature",null,{"$f":"IF('Validation Input'!F30>0, 'Validation Input'!F30, \"\")","v":""},null,null,null,{"$f":"IF('Validation Input'!L30>0, 'Validation Input'!L30, \"\")","v":""},null,null,null,{"$f":"IF('Validation Input'!R30>0, 'Validation Input'!R30, \"\")","v":""},null,null,null,{"$f":"IF('Validation Input'!G55>0, 'Validation Input'!G55, \"\")","v":""},null,null,null,{"$f":"IF('Validation Input'!O55>0, 'Validation Input'!O55, \"\")","v":""}]
[null,null,"Test 1","Test 2"]
["% Anti Strip",null,{"$f":"'Validation Input'!E31","v":0},{"$f":"'Validation Input'!K31","v":0}]
["% Lime"]
["Remarks:"]
[]
[]
[]
["DOTD Cert. Asphaltic Concrete Plant Tech.",null,null,null,null,"QC Cert. Asphaltic Concrete Plant Tech.",null,null,null,null,null,null,null,null,null,"APPROVED BY: District Laboratory Engineer"]
[]
[{"$f":"setup!S2","v":"LaPave 502 v18.05.02"},null,null,null,null,null,null,null,null,null,null,null,null,null,null,null,null,null,null,{"$f":"TODAY()","v":"2023-03-31"}]

{"sheet":"Plant Acceptance","index":12,"n_rows":136,"n_cols":34,"rows_kept":136,"cut":false,"hidden":false,"merged":[[67,15,67,16],[135,15,135,16],[2,12,2,13],[129,15,129,17],[65,19,65,20],[125,15,125,17],[115,15,115,17],[114,15,114,17],[124,15,124,17],[123,15,123,17],[122,15,122,17],[121,15,121,17],[132,15,132,17],[131,15,131,17],[91,15,91,17],[104,15,104,17],[130,15,130,17],[120,15,120,17],[119,15,119,17],[95,15,95,17],[110,15,110,17],[109,15,109,17],[108,15,108,17],[107,15,107,17],[106,15,106,17],[92,15,92,17],[127,15,127,17],[128,15,128,17],[93,15,93,17],[99,15,99,17],[98,15,98,17],[97,15,97,17],[96,15,96,17],[94,15,94,17],[111,15,111,17],[112,15,112,17],[113,15,113,17],[105,15,105,17],[126,15,126,17],[101,15,101,17],[100,15,100,17],[116,15,116,17],[2,14,2,15],[8,0,8,2],[11,0,11,2],[10,0,10,2],[9,0,9,2],[2,1,2,2],[4,1,4,2],[5,1,5,2],[3,5,3,6],[4,5,4,6],[27,0,27,1],[26,0,26,1],[25,0,25,1],[24,0,24,1],[23,0,23,1],[32,0,32,1],[31,0,31,1],[30,0,30,1],[29,0,29,1],[28,0,28,1],[17,0,17,1],[16,0,16,1],[15,0,15,1],[14,8,14,9],[15,7,15,8],[16,7,16,8],[17,7,17,8],[22,0,22,1],[21,0,21,1],[20,0,20,1],[19,0,19,1],[18,0,18,1],[14,1,14,2],[32,7,32,8],[23,7,23,8],[24,7,24,8],[25,7,25,8],[26,7,26,8],[27,7,27,8],[18,7,18,8],[19,7,19,8],[20,7,20,8],[21,7,21,8],[22,7,22,8],[14,15,14,16],[15,14,15,15],[16,14,16,15],[17,14,17,15],[18,14,18,15],[28,7,28,8],[29,7,29,8],[30,7,30,8],[31,7,31,8],[24,14,24,15],[25,14,25,15],[26,14,26,15],[27,14,27,15],[28,14,28,15],[19,14,19,15],[20,14,20,15],[21,14,21,15],[22,14,22,15],[23,14,23,15],[55,0,55,1],[46,0,46,1],[47,0,47,1],[48,0,48,1],[49,0,49,1],[50,0,50,1],[41,0,41,1],[42,0,42,1],[43,0,43,1],[44,0,44,1],[45,0,45,1],[54,7,54,8],[55,7,55,8],[56,7,56,8],[57,7,57,8],[56,0,56,1],[57,0,57,1],[58,0,58,1],[40,8,40,9],[41,7,41,8],[42,7,42,8],[43,7,43,8],[44,7,44,8],[45,7,45,8],[46,7,46,8],[47,7,47,8],[48,7,48,8],[49,7,49,8],[50,7,50,8],[51,7,51,8],[52,7,52,8],[51,0,51,1],[52,0,52,1],[53,0,53,1],[54,0,54,1],[0,0,0,20],[4,17,5,20],[55,14,55,15],[56,14,56,15],[57,14,57,15],[58,14,58,15],[40,1,40,2],[58,7,58,8],[40,15,40,16],[41,14,41,15],[42,14,42,15],[43,14,43,15],[44,14,44,15],[45,14,45,15],[46,14,46,15],[47,14,47,15],[48,14,48,15],[49,14,49,15],[50,14,50,15],[51,14,51,15],[52,14,52,15],[53,14,53,15],[54,14,54,15],[53,7,53,8],[90,2,90,7],[89,0,89,17],[70,0,70,1],[69,0,69,1],[68,0,68,1],[75,0,75,1],[74,0,74,1],[73,0,73,1],[72,0,72,1],[71,0,71,1],[82,0,82,1],[80,0,80,1],[79,0,79,1],[78,0,78,1],[77,0,77,1],[70,10,70,12],[69,10,69,12],[67,0,67,5],[67,7,67,8],[84,1,84,17],[86,15,86,16],[74,10,74,12],[73,10,73,12],[72,10,72,12],[71,10,71,12],[2,4,2,10],[5,5,5,6],[13,1,13,2],[13,8,13,9],[13,15,13,16],[39,1,39,2],[39,8,39,9],[39,15,39,16],[8,10,8,12],[9,10,9,12],[10,10,10,12],[11,10,11,12],[29,14,29,15],[30,14,30,15],[31,14,31,15],[32,14,32,15]]}
["Data for Plant Acceptance",null,null,null,null,null,null,null,null,null,null,null,null,null,null,null,null,null,null,null,null,null,null,null,null,"n=3","n=4","n=5 - 6","n=7 - 9","n=10 - 12","n=13 - 15","PWL"]
[null,null,null,null,null,null,null,null,null,null,null,null,null,null,null,null,null,null,null,null,null,null,null,null,null,0,0,0,0,0,0,50]
["DATE",null,null,"Plant",{"$f":"'JMF Input'!D7","v":0},null,null,null,null,null,null,"Mix Type",{"$f":"'JMF Input'!E5","v":"Base Course"},null,"Gyr. Rev",null,null,null,null,null,null,null,null,null,null,0.03,0.03,0.03,0.03,0.03,0.03,{"$f":"AF2+1","v":51}]
[null,null,null,null,"JMF No.",{"$f":"'JMF Input'!F3","v":0},null,null,null,null,null,"Design level",{"$f":"'JMF Input'!F4","v":1},null,"Nini ",{"$f":"'JMF Input'!N23","v":7},null,null,null,null,null,null,null,null,null,7.0000000000000007E-2,0.06,0.06,0.05,0.05,0.05,{"$f":"AF3+1","v":52}]
["Start Date",null,null,null,"LOT",null,null,null,"%AC",{"$f":"'JMF Input'!J37","v":0},null,"Gsb",{"$f":"'JMF Input'!J39","v":0},null,"Ndes ",{"$f":"'JMF Input'!N24","v":55},null,"With Oven Temp Corr.",null,null,null,null,null,null,null,0.11,0.09,0.08,0.08,0.08,0.08,53]
["End Date",null,null,null,"Total Tons",{"$f":"F14+M14+T14+F40+M40+T40","v":0},null,null,"Ps",{"$f":"100-'JMF Input'!J37","v":100},null,"AC Corr Factor",{"$f":"'JMF Input'!K6","v":4.1376058339801904},null,"Nmax ",{"$f":"'JMF Input'!N25","v":90},null,null,null,null,null,null,null,null,null,0.14000000000000001,0.12,0.11,0.11,0.1,0.1,54]
[null,null,null,null,null,null,null,null,null,null,null,null,null,null,null,null,null,null,null,null,null,null,null,null,null,0.18,0.15,0.14000000000000001,0.13,0.13,0.13,55]
["Theoretical Maximum Specific Gravity, Gmm \"Rice\" 1",null,null,null,null,null,null,null,null,null,"Theoretical Maximum Specific Gravity, Gmm \"Rice\" 2",null,null,null,null,null,null,null,null,null,null,null,null,null,null,0.22,0.18,0.17,0.16,0.16,0.15,56]
[null,null,null,{"$f":"IF(B14<>\"\",B14,\"\")","v":1},{"$f":"IF(I14<>\"\",I14,\"\")","v":2},{"$f":"IF(P14<>\"\",P14,\"\")","v":3},{"$f":"IF(B40<>\"\",B40,\"\")","v":4},{"$f":"IF(I40<>\"\",I40,\"\")","v":5},{"$f":"IF(P40<>\"\",P40,\"\")","v":""},null,null,null,null,{"$f":"IF(B14<>\"\",B14,\"\")","v":1},{"$f":"IF(I14<>\"\",I14,\"\")","v":2},{"$f":"IF(P14<>\"\",P14,\"\")","v":3},{"$f":"IF(B40<>\"\",B40,\"\")","v":4},{"$f":"IF(I40<>\"\",I40,\"\")","v":5},{"$f":"IF(P40<>\"\",P40,\"\")","v":""},null,null,null,null,null,null,0.25,0.21,0.2,0.19,0.18,0.18,57]
["Wt of Mix",null,null,null,null,null,null,null,null,null,"Wt of Mix",null,null,null,null,null,null,null,null,null,null,null,null,null,null,0.28999999999999998,0.24,0.23,0.21,0.21,0.21,58]
["Wt of Pyc & Water",null,null,null,null,null,null,null,null,null,"Wt of Pyc & Water",null,null,null,null,null,null,null,null,null,null,null,null,null,null,0.32,0.27,0.25,0.24,0.24,0.23,59]
["Wt of Pyc, Water & Mix",null,null,null,null,null,null,null,null,null,"Wt of Pyc, Water & Mix",null,null,null,null,null,null,null,null,null,null,null,null,null,null,0.36,0.3,0.28000000000000003,0.27,0.26,0.26,60]
[null,null,null,null,null,null,null,null,null,null,null,null,null,null,null,null,null,null,null,null,null,null,null,null,null,0.39,0.33,0.31,0.3,0.3,0.28999999999999998,61]
["Sublot # ",1,null,null,"Tons ",null,null,"Sublot # ",2,null,null,"Tons ",null,null,"Sublot # ",3,null,null,"Tons ",null,null,null,null,null,null,0.43,0.36,0.34,0.33,0.32,0.31,62,null,"Luanna recommended all gradations to one decimal to avoid standard deviation = 0."]
[null,"Gradation",null,"% Pass",null,"Volumetrics",null,null,"Gradation",null,"% Pass",null,"Volumetrics",null,null,"Gradation",null,"% Pass",null,"Volumetrics",null,null,null,null,null,0.46,0.39,0.37,0.35,0.35,0.34,63]
["2\"         50",null,null,{"$f":"IF($C$31=0,\" \",ROUND(100-(C16/$C$31)*100,setup!M68))","v":" "},null,"Rice 1",{"$f":"IF(D11>0, ROUND(D10/(D10+D11-D12),setup!M65), \"\")","v":""},"2\"         50",null,null,{"$f":"IF($J$31=0,\" \",ROUND(100-(J16/$J$31)*100,setup!$M$68))","v":" "},null,"Rice 1",{"$f":"IF(E11>0, ROUND(E10/(E10+E11-E12),setup!M65), \"\")","v":""},"2\"         50",null,null,{"$f":"IF($Q$31=0,\" \",ROUND(100-(Q16/$Q$31)*100,setup!M68))","v":" "},null,"Rice 1",{"$f":"IF(F11>0, ROUND(F10/(F10+F11-F12),setup!M65), \"\")","v":""},null,null,null,null,0.49,0.42,0.4,0.38,0.37,0.37,64]
["1.5\"    37.5",null,null,{"$f":"IF($C$31=0,\" \",(IF(C17=0,D16,ROUND(100-(SUM($C$16:C17)/$C$31)*100,setup!M68))))","v":" "},null,"Rice 2",{"$f":"IF(N11>0, ROUND(N10/(N10+N11-N12),setup!M65), \"\")","v":""},"1.5\"    37.5",null,null,{"$f":"IF($J$31=0,\" \",(IF(J17=0,K16,ROUND(100-(SUM($J$16:J17)/$J$31)*100,setup!$M$68))))","v":" "},null,"Rice 2",{"$f":"IF(O11>0, ROUND(O10/(O10+O11-O12),setup!M65), \"\")","v":""},"1.5\"    37.5",null,null,{"$f":"IF($Q$31=0,\" \",(IF(Q17=0,R16,ROUND(100-(SUM($Q$16:Q17)/$Q$31)*100,setup!$M$68))))","v":" "},null,"Rice 2",{"$f":"IF(P11>0, ROUND(P10/(P10+P11-P12),setup!M65), \"\")","v":""},null,null,null,null,0.53,0.45,0.43,0.41,0.4,0.4,{"$f":"AF16+1","v":65}]
["1\"         25",null,null,{"$f":"IF($C$31=0,\" \",(IF(C18=0,D17,ROUND(100-(SUM($C$16:C18)/$C$31)*100,setup!M68))))","v":" "},null,null,null,"1\"         25",null,null,{"$f":"IF($J$31=0,\" \",(IF(J18=0,K17,ROUND(100-(SUM($J$16:J18)/$J$31)*100,setup!$M$68))))","v":" "},null,null,null,"1\"         25",null,null,{"$f":"IF($Q$31=0,\" \",(IF(Q18=0,R17,ROUND(100-(SUM($Q$16:Q18)/$Q$31)*100,setup!$M$68))))","v":" "},null,null,null,null,null,null,null,0.56000000000000005,0.48,0.46,0.44,0.43,0.42,66]
["3/4\"       19",null,null,{"$f":"IF($C$31=0,\" \",(IF(C19=0,D18,ROUND(100-(SUM($C$16:C19)/$C$31)*100,setup!M68))))","v":" "},"Air ",null,null,"3/4\"       19",null,null,{"$f":"IF($J$31=0,\" \",(IF(J19=0,K18,ROUND(100-(SUM($J$16:J19)/$J$31)*100,setup!$M$68))))","v":" "},"Air ",null,null,"3/4\"       19",null,null,{"$f":"IF($Q$31=0,\" \",(IF(Q19=0,R18,ROUND(100-(SUM($Q$16:Q19)/$Q$31)*100,setup!$M$68))))","v":" "},"Air ",null,null,null,null,null,null,0.59,0.51,0.49,0.47,0.46,0.45,67]
["1/2\"    12.5",null,null,{"$f":"IF($C$31=0,\" \",(IF(C20=0,D19,ROUND(100-(SUM($C$16:C20)/$C$31)*100,setup!M68))))","v":" "},"Water",null,null,"1/2\"    12.5",null,null,{"$f":"IF($J$31=0,\" \",(IF(J20=0,K19,ROUND(100-(SUM($J$16:J20)/$J$31)*100,setup!$M$68))))","v":" "},"Water",null,null,"1/2\"    12.5",null,null,{"$f":"IF($Q$31=0,\" \",(IF(Q20=0,R19,ROUND(100-(SUM($Q$16:Q20)/$Q$31)*100,setup!$M$68))))","v":" "},"Water",null,null,null,null,null,null,0.62,0.54,0.52,0.5,0.48,0.48,68]
["3/8\"     9.5",null,null,{"$f":"IF($C$31=0,\" \",(IF(C21=0,D20,ROUND(100-(SUM($C$16:C21)/$C$31)*100,setup!M68))))","v":" "},"SSD",null,null,"3/8\"     9.5",null,null,{"$f":"IF($J$31=0,\" \",(IF(J21=0,K20,ROUND(100-(SUM($J$16:J21)/$J$31)*100,setup!$M$68))))","v":" "},"SSD",null,null,"3/8\"     9.5",null,null,{"$f":"IF($Q$31=0,\" \",(IF(Q21=0,R20,ROUND(100-(SUM($Q$16:Q21)/$Q$31)*100,setup!$M$68))))","v":" "},"SSD",null,null,null,null,null,null,0.65,0.56999999999999995,0.55000000000000004,0.53,0.51,0.51,69]
["#4      4.75",null,null,{"$f":"IF($C$31=0,\" \",(IF(C22=0,D21,ROUND(100-(SUM($C$16:C22)/$C$31)*100,setup!M68))))","v":" "},"Ht@Ni",null,null,"#4      4.75",null,null,{"$f":"IF($J$31=0,\" \",(IF(J22=0,K21,ROUND(100-(SUM($J$16:J22)/$J$31)*100,setup!$M$68))))","v":" "},"Ht@Ni",null,null,"#4      4.75",null,null,{"$f":"IF($Q$31=0,\" \",(IF(Q22=0,R21,ROUND(100-(SUM($Q$16:Q22)/$Q$31)*100,setup!$M$68))))","v":" "},"Ht@Ni",null,null,null,null,null,null,0.68,0.6,0.57999999999999996,0.55000000000000004,0.54,0.54,70]
["#8      2.36",null,null,{"$f":"IF($C$31=0,\" \",(IF(C23=0,D22,ROUND(100-(SUM($C$16:C23)/$C$31)*100,setup!M68))))","v":" "},"Ht@Nd",null,null,"#8      2.36",null,null,{"$f":"IF($J$31=0,\" \",(IF(J23=0,K22,ROUND(100-(SUM($J$16:J23)/$J$31)*100,setup!$M$68))))","v":" "},"Ht@Nd",null,null,"#8      2.36",null,null,{"$f":"IF($Q$31=0,\" \",(IF(Q23=0,R22,ROUND(100-(SUM($Q$16:Q23)/$Q$31)*100,setup!$M$68))))","v":" "},"Ht@Nd",null,null,null,null,null,null,0.71,0.63,0.6,0.57999999999999996,0.56999999999999995,0.56000000000000005,71]
["#16     1.18",null,null,{"$f":"IF($C$31=0,\" \",(IF(C24=0,D23,ROUND(100-(SUM($C$16:C24)/$C$31)*100,setup!M68))))","v":" "},"Ht@Nmax",null,null,"#16     1.18",null,null,{"$f":"IF($J$31=0,\" \",(IF(J24=0,K23,ROUND(100-(SUM($J$16:J24)/$J$31)*100,setup!$M$68))))","v":" "},"Ht@Nmax",null,null,"#16     1.18",null,null,{"$f":"IF($Q$31=0,\" \",(IF(Q24=0,R23,ROUND(100-(SUM($Q$16:Q24)/$Q$31)*100,setup!$M$68))))","v":" "},"Ht@Nmax",null,null,null,null,null,null,0.74,0.66,0.64,0.61,0.6,0.59,72]
["#30      0.6",null,null,{"$f":"IF($C$31=0,\" \",(IF(C25=0,D24,ROUND(100-(SUM($C$16:C25)/$C$31)*100,setup!M68))))","v":" "},null,null,null,"#30      0.6",null,null,{"$f":"IF($J$31=0,\" \",(IF(J25=0,K24,ROUND(100-(SUM($J$16:J25)/$J$31)*100,setup!$M$68))))","v":" "},null,null,null,"#30      0.6",null,null,{"$f":"IF($Q$31=0,\" \",(IF(Q25=0,R24,ROUND(100-(SUM($Q$16:Q25)/$Q$31)*100,setup!$M$68))))","v":" "},null,null,null,null,null,null,null,0.77,0.69,0.67,0.64,0.63,0.62,73]
["#50      0.3",null,null,{"$f":"IF($C$31=0,\" \",(IF(C26=0,D25,ROUND(100-(SUM($C$16:C26)/$C$31)*100,setup!M68))))","v":" "},null,"Meter AC",null,"#50      0.3",null,null,{"$f":"IF($J$31=0,\" \",(IF(J26=0,K25,ROUND(100-(SUM($J$16:J26)/$J$31)*100,setup!$M$68))))","v":" "},null,"Meter AC",null,"#50      0.3",null,null,{"$f":"IF($Q$31=0,\" \",(IF(Q26=0,R25,ROUND(100-(SUM($Q$16:Q26)/$Q$31)*100,setup!$M$68))))","v":" "},null,"Meter AC",null,null,null,null,null,0.79,0.72,0.7,0.67,0.66,0.66,74]
["#100   0.15",null,null,{"$f":"IF($C$31=0,\" \",(IF(C27=0,D26,ROUND(100-(SUM($C$16:C27)/$C$31)*100,setup!M68))))","v":" "},null,"Comp Temp",null,"#100   0.15",null,null,{"$f":"IF($J$31=0,\" \",(IF(J27=0,K26,ROUND(100-(SUM($J$16:J27)/$J$31)*100,setup!$M$68))))","v":" "},null,"Comp Temp",null,"#100   0.15",null,null,{"$f":"IF($Q$31=0,\" \",(IF(Q27=0,R26,ROUND(100-(SUM($Q$16:Q27)/$Q$31)*100,setup!$M$68))))","v":" "},null,"Comp Temp",null,null,null,null,null,0.82,0.75,0.73,0.71,0.69,0.69,75]
["#200  0.075",null,null,{"$f":"IF($C$31=0,\" \",(IF(C28=0,D27,ROUND(100-(SUM($C$16:C28)/$C$31)*100,setup!M69))))","v":" "},null,"Mix Temp",null,"#200  0.075",null,null,{"$f":"IF($J$31=0,\" \",(IF(J28=0,K27,ROUND(100-(SUM($J$16:J28)/$J$31)*100,setup!$M$69))))","v":" "},null,"Mix Temp",null,"#200  0.075",null,null,{"$f":"IF($Q$31=0,\" \",(IF(Q28=0,R27,ROUND(100-(SUM($Q$16:Q28)/$Q$31)*100,setup!$M$69))))","v":" "},null,"Mix Temp",null,null,null,null,null,0.84,0.78,0.76,0.74,0.72,0.72,76]
["Pass",null,null,null,null,"AntiStrip",null,"Pass",null,null,null,null,"AntiStrip",null,"Pass",null,null,null,null,"AntiStrip",null,null,null,null,null,0.87,0.81,0.79,0.77,0.76,0.75,77]
["Dec Loss",null,{"$f":"IF(G34>0, G34-G35, \"\")","v":""},null,null,null,null,"Dec Loss",null,{"$f":"IF(N34>0, N34-N35, \"\")","v":""},null,null,null,null,"Dec Loss",null,{"$f":"IF(U34>0, U34-U35, \"\")","v":""},null,null,null,null,null,null,null,null,0.89,0.84,0.82,0.8,0.79,0.78,78]
["Cum. Total",null,{"$f":"SUM(C16:C30)","v":0},null,null,"Sample Taken-Tons",null,"Cum. Total",null,{"$f":"SUM(J16:J30)","v":0},null,null,"Sample Taken-Tons",null,"Cum. Total",null,{"$f":"SUM(Q16:Q30)","v":0},null,null,"Sample Taken-Tons",null,null,null,null,null,0.92,0.87,0.85,0.83,0.82,0.82,79]
["%AC",null,{"$f":"IF(E37<>\"\", ROUND(E37-M6,setup!M71), \"\")","v":""},null,null,null,null,"%AC",null,{"$f":"IF(L37<>\"\", ROUND(L37-U6,setup!M71), \"\")","v":""},null,null,null,null,"%AC",null,{"$f":"IF(S37<>\"\", ROUND(S37-AB6,setup!M71), \"\")","v":""},null,null,null,null,null,null,null,null,0.94,0.9,0.88,0.87,0.85,0.85,80]
["%Crushed",null,{"$f":"IF(SUM(C16:C22)>0, ROUND(G37/SUM(C16:C22)*100,0), \"\")","v":""},null,null,null,null,"%Crushed",null,{"$f":"IF(SUM(J16:J22)>0, ROUND(N37/SUM(J16:J22)*100,0), \"\")","v":""},null,null,null,null,"%Crushed",null,{"$f":"IF(SUM(Q16:Q22)>0, ROUND(U37/SUM(Q16:Q22)*100,0), \"\")","v":""},null,null,null,null,null,null,null,null,0.96,0.93,0.92,0.9,0.89,0.89,81]
["MC Pan Wt",null,null,{"$f":"IF($R$5=\"No Oven Temp Corr.\",\"Tr. Bskt\", \"Wt of Mix\")","v":"Wt of Mix"},null,"Int.DryWt",null,"MC Pan Wt",null,null,{"$f":"IF($R$5=\"No Oven Temp Corr.\",\"Tr. Bskt\", \"Wt of Mix\")","v":"Wt of Mix"},null,"Int.DryWt",null,"MC Pan Wt",null,null,{"$f":"IF($R$5=\"No Oven Temp Corr.\",\"Tr. Bskt\", \"Wt of Mix\")","v":"Wt of Mix"},null,"Int.DryWt",null,null,null,null,null,0.98,0.96,0.95,0.94,0.93,0.92,82]
["MC Initial Wt",null,null,{"$f":"IF($R$5=\"No Oven Temp Corr.\",\"Bskt+Mix w/AC\", \"Wt. Loss\")","v":"Wt. Loss"},null,"AfterWash",null,"MC Initial Wt",null,null,{"$f":"IF($R$5=\"No Oven Temp Corr.\",\"Bskt+Mix w/AC\", \"Wt. Loss\")","v":"Wt. Loss"},null,"AfterWash",null,"MC Initial Wt",null,null,{"$f":"IF($R$5=\"No Oven Temp Corr.\",\"Bskt+Mix w/AC\", \"Wt. Loss\")","v":"Wt. Loss"},null,"AfterWash",null,null,null,null,null,1,0.99,0.98,0.97,0.96,0.96,83]
["MC Final Wt",null,null,{"$f":"IF($R$5=\"No Oven Temp Corr.\",\"Bskt minus AC\", \"Temp. Corr.\")","v":"Temp. Corr."},null,"% Diff",{"$f":"IF(G34>0, ROUND((G34-C31)/G34*100,1),\"\")","v":""},"MC Final Wt",null,null,{"$f":"IF($R$5=\"No Oven Temp Corr.\",\"Bskt minus AC\", \"Temp. Corr.\")","v":"Temp. Corr."},null,"% Diff",{"$f":"IF(N34>0, ROUND((N34-J31)/N34*100,1),\"\")","v":""},"MC Final Wt",null,null,{"$f":"IF($R$5=\"No Oven Temp Corr.\",\"Bskt minus AC\", \"Temp. Corr.\")","v":"Temp. Corr."},null,"% Diff",{"$f":"IF(U34>0, ROUND((U34-Q31)/U34*100,1),\"\")","v":""},null,null,null,null,1.02,1.02,1.02,1.01,1,1,84]
["%MC",{"$f":"IF(B36>0,((B35-B34)-(B36-B34))/(B36-B34)*100,0)","v":0},null,{"$f":"IF($R$5=\"No Oven Temp Corr.\",\"% LOSS\", \"% LOSS-Tmp. Cor.\")","v":"% LOSS-Tmp. Cor."},{"$f":"IF($R$5=\"No Oven Temp Corr.\", IF(E35>0,((E35-E36)/(E35-E34))*100, \"\"), IF(E34>0, E35/E34*100-E36,\"\"))","v":""},"Wt. Crush",null,"%MC",{"$f":"IF(I36>0,((I35-I34)-(I36-I34))/(I36-I34)*100,0)","v":0},null,{"$f":"IF($R$5=\"No Oven Temp Corr.\",\"% LOSS\", \"% LOSS-Tmp. Cor.\")","v":"% LOSS-Tmp. Cor."},{"$f":"IF($R$5=\"No Oven Temp Corr.\", IF(L35>0,((L35-L36)/(L35-L34))*100, \"\"), IF(L34>0, L35/L34*100-L36,\"\"))","v":""},"Wt. Crush",null,"%MC",{"$f":"IF(P36>0,((P35-P34)-(P36-P34))/(P36-P34)*100,0)","v":0},null,{"$f":"IF($R$5=\"No Oven Temp Corr.\",\"% LOSS\", \"% LOSS-Tmp. Cor.\")","v":"% LOSS-Tmp. Cor."},{"$f":"IF($R$5=\"No Oven Temp Corr.\", IF(S35>0,((S35-S36)/(S35-S34))*100, \"\"), IF(S34>0, S35/S34*100-S36,\"\"))","v":""},"Wt. Crush",null,null,null,null,null,1.03,1.05,1.05,1.05,1.04,1.04,85]
[null,null,null,"%Loss - Moisture",{"$f":"IF(E37<>\"\",E37-B37,\"\")","v":""},null,null,null,null,null,"%Loss - Moisture",{"$f":"IF(L37<>\"\",L37-I37,\"\")","v":""},null,null,null,null,null,"%Loss - Moisture",{"$f":"IF(S37<>\"\",S37-P37,\"\")","v":""},null,null,null,null,null,null,1.05,1.08,1.08,1.08,1.08,1.08,86]
[null,null,null,null,null,null,null,null,null,null,null,null,null,null,null,null,null,null,null,null,null,null,null,null,null,1.06,1.1100000000000001,1.1200000000000001,1.1200000000000001,1.1299999999999999,1.1299999999999999,87]
["Sublot # ",4,null,null,"Tons ",null,null,"Sublot # ",5,null,null,"Tons ",null,null,{"$f":"IF(T40>0,\"Sublot # \",\"\")","v":""},{"$f":"IF(T40>0,6,\"\")","v":""},null,null,"Tons ",null,null,null,null,null,null,1.07,1.1399999999999999,1.1599999999999999,1.17,1.17,1.17,88]
[null,"Gradation",null,"% Pass",null,"Volumetrics",null,null,"Gradation",null,"% Pass",null,"Volumetrics",null,null,{"$f":"IF(T40>0,\"Gradation\",\"\")","v":""},null,{"$f":"IF(T40>0,\"% Pass\",\"\")","v":""},null,{"$f":"IF(T40>0,\"Volumetrics\",\"\")","v":""},null,null,null,null,null,1.08,1.17,1.2,1.21,1.21,1.22,89]
["2\"         50",null,null,{"$f":"IF($C$57=0,\" \",ROUND(100-(C42/$C$57)*100,setup!M68))","v":" "},null,"Rice 1",{"$f":"IF(G11>0, ROUND(G10/(G10+G11-G12),setup!M65), \"\")","v":""},"2\"         50",null,null,{"$f":"IF($J$57=0,\" \",ROUND(100-(J42/$J$57)*100,setup!M68))","v":" "},null,"Rice 1",{"$f":"IF(H11>0, ROUND(H10/(H10+H11-H12),setup!M65), \"\")","v":""},{"$f":"IF(T40>0,\"2\"\"         50\",\"\")","v":""},null,null,{"$f":"IF($Q$57=0,\" \",ROUND(100-(Q42/$Q$57)*100,setup!M68))","v":" "},null,{"$f":"IF(T40>0,\"Rice 1\",\"\")","v":""},{"$f":"IF(I11>0, ROUND(I10/(I10+I11-I12),setup!M65), \"\")","v":""},null,null,null,null,1.0900000000000001,1.2,1.23,1.25,1.26,1.27,90]
["1.5\"    37.5",null,null,{"$f":"IF($C$57=0,\" \",(IF(C43=0,D42,ROUND(100-(SUM($C$42:C43)/$C$57)*100,setup!$M$68))))","v":" "},null,"Rice 2",{"$f":"IF(Q11>0, ROUND(Q10/(Q10+Q11-Q12),setup!M65), \"\")","v":""},"1.5\"    37.5",null,null,{"$f":"IF($J$57=0,\" \",(IF(J43=0,K42,ROUND(100-(SUM($J$42:J43)/$J$57)*100,setup!$M$68))))","v":" "},null,"Rice 2",{"$f":"IF(R11>0, ROUND(R10/(R10+R11-R12),setup!M65), \"\")","v":""},{"$f":"IF(T40>0,\"1.5\"\"    37.5\",\"\")","v":""},null,null,{"$f":"IF($Q$57=0,\" \",(IF(Q43=0,R42,ROUND(100-(SUM($Q$42:Q43)/$Q$57)*100,setup!$M$68))))","v":" "},null,{"$f":"IF(T40>0,\"Rice 2\",\"\")","v":""},{"$f":"IF(S11>0, ROUND(S10/(S10+S11-S12),setup!M65), \"\")","v":""},null,null,null,null,1.1000000000000001,1.23,1.27,1.3,1.32,1.32,91]
["1\"         25",null,null,{"$f":"IF($C$57=0,\" \",(IF(C44=0,D43,ROUND(100-(SUM($C$42:C44)/$C$57)*100,setup!$M$68))))","v":" "},null,null,null,"1\"         25",null,null,{"$f":"IF($J$57=0,\" \",(IF(J44=0,K43,ROUND(100-(SUM($J$42:J44)/$J$57)*100,setup!$M$68))))","v":" "},null,null,null,{"$f":"IF(T40>0,\"1\"\"         25\",\"\")","v":""},null,null,{"$f":"IF($Q$57=0,\" \",(IF(Q44=0,R43,ROUND(100-(SUM($Q$42:Q44)/$Q$57)*100,setup!$M$68))))","v":" "},null,null,null,null,null,null,null,1.1100000000000001,1.26,1.31,1.35,1.37,1.38,92]
["3/4\"       19",null,null,{"$f":"IF($C$57=0,\" \",(IF(C45=0,D44,ROUND(100-(SUM($C$42:C45)/$C$57)*100,setup!$M$68))))","v":" "},"Air ",null,null,"3/4\"       19",null,null,{"$f":"IF($J$57=0,\" \",(IF(J45=0,K44,ROUND(100-(SUM($J$42:J45)/$J$57)*100,setup!$M$68))))","v":" "},"Air ",null,null,{"$f":"IF(T40>0,\"3/4\"\"       19\",\"\")","v":""},null,null,{"$f":"IF($Q$57=0,\" \",(IF(Q45=0,R44,ROUND(100-(SUM($Q$42:Q45)/$Q$57)*100,setup!$M$68))))","v":" "},{"$f":"IF(T40>0,\"Air \",\"\")","v":""},null,null,null,null,null,null,1.1200000000000001,1.29,1.36,1.4,1.43,1.44,93]
["1/2\"    12.5",null,null,{"$f":"IF($C$57=0,\" \",(IF(C46=0,D45,ROUND(100-(SUM($C$42:C46)/$C$57)*100,setup!$M$68))))","v":" "},"Water",null,null,"1/2\"    12.5",null,null,{"$f":"IF($J$57=0,\" \",(IF(J46=0,K45,ROUND(100-(SUM($J$42:J46)/$J$57)*100,setup!$M$68))))","v":" "},"Water",null,null,{"$f":"IF(T40>0,\"1/2\"\"    12.5\",\"\")","v":""},null,null,{"$f":"IF($Q$57=0,\" \",(IF(Q46=0,R45,ROUND(100-(SUM($Q$42:Q46)/$Q$57)*100,setup!$M$68))))","v":" "},{"$f":"IF(T40>0,\"Water\",\"\")","v":""},null,null,null,null,null,null,1.1299999999999999,1.32,1.4,1.46,1.49,1.51,94]
["3/8\"     9.5",null,null,{"$f":"IF($C$57=0,\" \",(IF(C47=0,D46,ROUND(100-(SUM($C$42:C47)/$C$57)*100,setup!$M$68))))","v":" "},"SSD",null,null,"3/8\"     9.5",null,null,{"$f":"IF($J$57=0,\" \",(IF(J47=0,K46,ROUND(100-(SUM($J$42:J47)/$J$57)*100,setup!$M$68))))","v":" "},"SSD",null,null,{"$f":"IF(T40>0,\"3/8\"\"     9.5\",\"\")","v":""},null,null,{"$f":"IF($Q$57=0,\" \",(IF(Q47=0,R46,ROUND(100-(SUM($Q$42:Q47)/$Q$57)*100,setup!$M$68))))","v":" "},{"$f":"IF(T40>0,\"SSD\",\"\")","v":""},null,null,null,null,null,null,1.1399999999999999,1.35,1.45,1.52,1.56,1.59,{"$f":"AF46+1","v":95}]
["#4      4.75",null,null,{"$f":"IF($C$57=0,\" \",(IF(C48=0,D47,ROUND(100-(SUM($C$42:C48)/$C$57)*100,setup!$M$68))))","v":" "},"Ht@Ni",null,null,"#4      4.75",null,null,{"$f":"IF($J$57=0,\" \",(IF(J48=0,K47,ROUND(100-(SUM($J$42:J48)/$J$57)*100,setup!$M$68))))","v":" "},"Ht@Ni",null,null,{"$f":"IF(T40>0,\"#4      4.75\",\"\")","v":""},null,null,{"$f":"IF($Q$57=0,\" \",(IF(Q48=0,R47,ROUND(100-(SUM($Q$42:Q48)/$Q$57)*100,setup!$M$68))))","v":" "},{"$f":"IF(T40>0,\"Ht@Ni\",\"\")","v":""},null,null,null,null,null,null,1.1499999999999999,1.38,1.49,1.59,1.64,1.69,96]
["#8      2.36",null,null,{"$f":"IF($C$57=0,\" \",(IF(C49=0,D48,ROUND(100-(SUM($C$42:C49)/$C$57)*100,setup!$M$68))))","v":" "},"Ht@Nd",null,null,"#8      2.36",null,null,{"$f":"IF($J$57=0,\" \",(IF(J49=0,K48,ROUND(100-(SUM($J$42:J49)/$J$57)*100,setup!$M$68))))","v":" "},"Ht@Nd",null,null,{"$f":"IF(T40>0,\"#8      2.36\",\"\")","v":""},null,null,{"$f":"IF($Q$57=0,\" \",(IF(Q49=0,R48,ROUND(100-(SUM($Q$42:Q49)/$Q$57)*100,setup!$M$68))))","v":" "},{"$f":"IF(T40>0,\"Ht@Nd\",\"\")","v":""},null,null,null,null,null,null,1.1499999999999999,1.41,1.55,1.67,1.74,1.8,97]
["#16     1.18",null,null,{"$f":"IF($C$57=0,\" \",(IF(C50=0,D49,ROUND(100-(SUM($C$42:C50)/$C$57)*100,setup!$M$68))))","v":" "},"Ht@Nmax",null,null,"#16     1.18",null,null,{"$f":"IF($J$57=0,\" \",(IF(J50=0,K49,ROUND(100-(SUM($J$42:J50)/$J$57)*100,setup!$M$68))))","v":" "},"Ht@Nmax",null,null,{"$f":"IF(T40>0,\"#16     1.18\",\"\")","v":""},null,null,{"$f":"IF($Q$57=0,\" \",(IF(Q50=0,R49,ROUND(100-(SUM($Q$42:Q50)/$Q$57)*100,setup!$M$68))))","v":" "},{"$f":"IF(T40>0,\"Ht@Nmax\",\"\")","v":""},null,null,null,null,null,null,1.1499999999999999,1.44,1.61,1.77,1.86,1.93,98]
["#30      0.6",null,null,{"$f":"IF($C$57=0,\" \",(IF(C51=0,D50,ROUND(100-(SUM($C$42:C51)/$C$57)*100,setup!$M$68))))","v":" "},null,null,null,"#30      0.6",null,null,{"$f":"IF($J$57=0,\" \",(IF(J51=0,K50,ROUND(100-(SUM($J$42:J51)/$J$57)*100,setup!$M$68))))","v":" "},null,null,null,{"$f":"IF(T40>0,\"#30      0.6\",\"\")","v":""},null,null,{"$f":"IF($Q$57=0,\" \",(IF(Q51=0,R50,ROUND(100-(SUM($Q$42:Q51)/$Q$57)*100,setup!$M$68))))","v":" "},null,null,null,null,null,null,null,1.1599999999999999,1.47,1.68,1.89,2.04,2.14,99]
["#50      0.3",null,null,{"$f":"IF($C$57=0,\" \",(IF(C52=0,D51,ROUND(100-(SUM($C$42:C52)/$C$57)*100,setup!$M$68))))","v":" "},null,"Meter AC",null,"#50      0.3",null,null,{"$f":"IF($J$57=0,\" \",(IF(J52=0,K51,ROUND(100-(SUM($J$42:J52)/$J$57)*100,setup!$M$68))))","v":" "},null,"Meter AC",null,{"$f":"IF(T40>0,\"#50      0.3\",\"\")","v":""},null,null,{"$f":"IF($Q$57=0,\" \",(IF(Q52=0,R51,ROUND(100-(SUM($Q$42:Q52)/$Q$57)*100,setup!$M$68))))","v":" "},null,{"$f":"IF(T40>0,\"Meter AC\",\"\")","v":""}]
["#100   0.15",null,null,{"$f":"IF($C$57=0,\" \",(IF(C53=0,D52,ROUND(100-(SUM($C$42:C53)/$C$57)*100,setup!$M$68))))","v":" "},null,"Comp Temp",null,"#100   0.15",null,null,{"$f":"IF($J$57=0,\" \",(IF(J53=0,K52,ROUND(100-(SUM($J$42:J53)/$J$57)*100,setup!$M$68))))","v":" "},null,"Comp Temp",null,{"$f":"IF(T40>0,\"#100   0.15\",\"\")","v":""},null,null,{"$f":"IF($Q$57=0,\" \",(IF(Q53=0,R52,ROUND(100-(SUM($Q$42:Q53)/$Q$57)*100,setup!$M$68))))","v":" "},null,{"$f":"IF(T40>0,\"Comp Temp\",\"\")","v":""}]
["#200  0.075",null,null,{"$f":"IF($C$57=0,\" \",(IF(C54=0,D53,ROUND(100-(SUM($C$42:C54)/$C$57)*100,setup!$M$69))))","v":" "},null,"Mix Temp",null,"#200  0.075",null,null,{"$f":"IF($J$57=0,\" \",(IF(J54=0,K53,ROUND(100-(SUM($J$42:J54)/$J$57)*100,setup!$M$69))))","v":" "},null,"Mix Temp",null,{"$f":"IF(T40>0,\"#200  0.075\",\"\")","v":""},null,null,{"$f":"IF($Q$57=0,\" \",(IF(Q54=0,R53,ROUND(100-(SUM($Q$42:Q54)/$Q$57)*100,setup!$M$69))))","v":" "},null,{"$f":"IF(T40>0,\"Mix Temp\",\"\")","v":""}]
["Pass",null,null,null,null,"AntiStrip",null,"Pass",null,null,null,null,"AntiStrip",null,{"$f":"IF(T40>0,\"Pass\",\"\")","v":""},null,null,null,null,{"$f":"IF(T40>0,\"AntiStrip\",\"\")","v":""}]
["Dec Loss",null,{"$f":"IF(G60>0, G60-G61, \"\")","v":""},null,null,null,null,"Dec Loss",null,{"$f":"IF(N60>0, N60-N61, \"\")","v":""},null,null,null,null,{"$f":"IF(T40>0,\"Dec Loss\",\"\")","v":""},null,{"$f":"IF(U60>0, U60-U61, \"\")","v":""}]
["Cum. Total",null,{"$f":"SUM(C42:C56)","v":0},null,null,"Sample Taken-Tons",null,"Cum. Total",null,{"$f":"SUM(J42:J56)","v":0},null,null,"Sample Taken-Tons",null,{"$f":"IF(T40>0,\"Cum. Total\",\"\")","v":""},null,null,null,null,{"$f":"IF(T40>0,\"Sample Taken-Tons\",\"\")","v":""}]
["%AC",null,{"$f":"IF(E63<>\"\", ROUND(E63-N32,setup!M71), \"\")","v":""},null,null,null,null,"%AC",null,{"$f":"IF(L63<>\"\", ROUND(L63-U32,setup!M71), \"\")","v":""},null,null,null,null,{"$f":"IF(T40>0,\"%AC\",\"\")","v":""},null,{"$f":"IF(S63<>\"\", ROUND(S63-AB32,setup!M71), \"\")","v":""}]
["%Crushed",null,{"$f":"IF(SUM(C42:C48)>0, ROUND(G63/SUM(C42:C48)*100,0), \"\")","v":""},null,null,null,null,"%Crushed",null,{"$f":"IF(SUM(J42:J48)>0, ROUND(N63/SUM(J42:J48)*100,0), \"\")","v":""},null,null,null,null,{"$f":"IF(T40>0,\"%Crushed\",\"\")","v":""},null,{"$f":"IF(SUM(Q42:Q48)>0, ROUND(U63/SUM(Q42:Q48)*100,0), \"\")","v":""}]
["MC Pan Wt",null,null,{"$f":"IF($R$5=\"No Oven Temp Corr.\",\"Tr. Bskt\", \"Wt of Mix\")","v":"Wt of Mix"},null,"Int.DryWt",null,"MC Pan Wt",null,null,{"$f":"IF($R$5=\"No Oven Temp Corr.\",\"Tr. Bskt\", \"Wt of Mix\")","v":"Wt of Mix"},null,"Int.DryWt",null,{"$f":"IF(T40>0,\"MC Pan Wt\",\"\")","v":""},null,null,{"$f":"IF(T40>0,IF($R$5=\"No Oven Temp Corr.\",\"Tr. Bskt\", \"Wt of Mix\"),\"\")","v":""},null,{"$f":"IF(T40>0,\"Int.DryWt\",\"\")","v":""}]
["MC Initial Wt",null,null,{"$f":"IF($R$5=\"No Oven Temp Corr.\",\"Bskt+Mix w/AC\", \"Wt. Loss\")","v":"Wt. Loss"},null,"AfterWash",null,"MC Initial Wt",null,null,{"$f":"IF($R$5=\"No Oven Temp Corr.\",\"Bskt+Mix w/AC\", \"Wt. Loss\")","v":"Wt. Loss"},null,"AfterWash",null,{"$f":"IF(T40>0,\"MC Initial Wt\",\"\")","v":""},null,null,{"$f":"IF(T40>0,IF($R$5=\"No Oven Temp Corr.\",\"Bskt+Mix w/AC\", \"Wt. Loss\"),\"\")","v":""},null,{"$f":"IF(T40>0,\"AfterWash\",\"\")","v":""}]
["MC Final Wt",null,null,{"$f":"IF($R$5=\"No Oven Temp Corr.\",\"Bskt minus AC\", \"Temp. Corr.\")","v":"Temp. Corr."},null,"% Diff",{"$f":"IF(G60>0, ROUND((G60-C57)/G60*100,1),\"\")","v":""},"MC Final Wt",null,null,{"$f":"IF($R$5=\"No Oven Temp Corr.\",\"Bskt minus AC\", \"Temp. Corr.\")","v":"Temp. Corr."},null,"% Diff",{"$f":"IF(N60>0, ROUND((N60-J57)/N60*100,1),\"\")","v":""},{"$f":"IF(T40>0,\"MC Final Wt\",\"\")","v":""},null,null,{"$f":"IF(T40>0,IF($R$5=\"No Oven Temp Corr.\",\"Bskt minus AC\", \"Temp. Corr.\"),\"\")","v":""},null,{"$f":"IF(T40>0,\"% Diff\",\"\")","v":""},{"$f":"IF(U60>0, ROUND((U60-Q57)/U60*100,1),\"\")","v":""}]
["%MC",{"$f":"IF(B62>0,((B61-B60)-(B62-B60))/(B62-B60)*100,0)","v":0},null,{"$f":"IF($R$5=\"No Oven Temp Corr.\",\"% LOSS\", \"% LOSS-Tmp. Cor.\")","v":"% LOSS-Tmp. Cor."},{"$f":"IF($R$5=\"No Oven Temp Corr.\", IF(E61>0,((E61-E62)/(E61-E60))*100, \"\"), IF(E60>0, E61/E60*100-E62,\"\"))","v":""},"Wt. Crush",null,"%MC",{"$f":"IF(I62>0,((I61-I60)-(I62-I60))/(I62-I60)*100,0)","v":0},null,{"$f":"IF($R$5=\"No Oven Temp Corr.\",\"% LOSS\", \"% LOSS-Tmp. Cor.\")","v":"% LOSS-Tmp. Cor."},{"$f":"IF($R$5=\"No Oven Temp Corr.\", IF(L61>0,((L61-L62)/(L61-L60))*100, \"\"), IF(L60>0, L61/L60*100-L62,\"\"))","v":""},"Wt. Crush",null,{"$f":"IF(T40>0,\"%MC\",\"\")","v":""},{"$f":"IF(P62>0,((P61-P60)-(P62-P60))/(P62-P60)*100,0)","v":0},null,{"$f":"IF(T40>0,IF($R$5=\"No Oven Temp Corr.\",\"% LOSS\", \"% LOSS-Tmp. Cor.\"),\"\")","v":""},{"$f":"IF($R$5=\"No Oven Temp Corr.\", IF(S61>0,((S61-S62)/(S61-S60))*100, \"\"), IF(S60>0, S61/S60*100-S62,\"\"))","v":""},{"$f":"IF(T40>0,\"Wt. Crush\",\"\")","v":""}]
[null,null,null,"%Loss - Moisture",{"$f":"IF(E63<>\"\",E63-B63,\"\")","v":""},null,null,null,null,null,"%Loss - Moisture",{"$f":"IF(L63<>\"\",L63-I63,\"\")","v":""},null,null,null,null,null,{"$f":"IF(T40>0,\"%Loss - Moisture\",\"\")","v":""},{"$f":"IF(S63<>\"\",S63-P63,\"\")","v":""}]
[]
[{"$f":"setup!S2","v":"LaPave 502 v18.05.02"},null,null,null,null,null,null,null,null,null,null,null,null,null,null,null,null,null,null,{"$f":"TODAY()","v":"2023-03-31"}]
[]
["LWT (one per JMF, project, or every 20,000 tons)",null,null,null,null,null,"Sublot",null,null,null,"Drain Down (AASHTO T 305)",null,null,null,"Sublot"]
[null,null,1,2,3,4]
["A Wt in air (dry)",null,null,null,null,null,"Left",null,null,null,"Wt. of Mix Before"]
["B Wt in water",null,null,null,null,null,"Bricks:",null,null,null,"Wt. of Mix After"]
["C Wt in air (SSD)",null,null,null,null,null,"Avg AV",{"$f":"IF(H71=\"1 & 2\", ROUND(AVERAGE(C76,D76),setup!M75), IF(H71=\"1 & 3\", ROUND(AVERAGE(C76,E76),setup!M75),IF(H71=\"1 & 4\", ROUND(AVERAGE(C76,F76),setup!M75),IF(H71=\"2 & 3\", ROUND(AVERAGE(D76,E76),setup!M75),IF(H71=\"2 & 4\", ROUND(AVERAGE(D76,F76),setup!M75),IF(H71=\"3 & 4\", ROUND(AVERAGE(E76,F76),setup!M75),\"\"))))))","v":""},null,null,"Wt. of Plate"]
["v Volume (C-B)",null,{"$f":"IF(C70>0,C72-C71,\"\")","v":""},{"$f":"IF(D70>0,D72-D71,\"\")","v":""},{"$f":"IF(E70>0,E72-E71,\"\")","v":""},{"$f":"IF(F70>0,F72-F71,\"\")","v":""},null,null,null,null,"Wt. of Plate+Mix After"]
["D Bk SpGr (A/v)",null,{"$f":"IF(C70>0,ROUND(C70/C73,setup!$M$66),\"\")","v":""},{"$f":"IF(D70>0,ROUND(D70/D73,setup!$M$66),\"\")","v":""},{"$f":"IF(E70>0,ROUND(E70/E73,setup!$M$66),\"\")","v":""},{"$f":"IF(F70>0,ROUND(F70/F73,setup!$M$66),\"\")","v":""},"Right",null,null,null,"Wt. of Drained Mix",null,null,{"$f":"IF(N73>0, N73-N72, IF(N71>0, N70-N71, \"\"))","v":""},{"$f":"IF(O73>0, O73-O72, IF(O71>0, O70-O71, \"\"))","v":""},"Avg % Draindown"]
["F %MxThGr 100D/E",null,{"$f":"IF(C70>0,ROUND((C74/AVERAGE($G$16:$G$17))*100,setup!$M$67),\"\")","v":""},{"$f":"IF(D70>0,ROUND((D74/AVERAGE($G$16:$G$17))*100,setup!$M$67),\"\")","v":""},{"$f":"IF(E70>0,ROUND((E74/AVERAGE($G$16:$G$17))*100,setup!$M$67),\"\")","v":""},{"$f":"IF(F70>0,ROUND((F74/AVERAGE($G$16:$G$17))*100,setup!$M$67),\"\")","v":""},"Bricks:",{"$f":"IF(H71=\"1 & 2\", \"3 & 4\", IF(H71=\"1 & 3\", \"2 & 4\",IF(H71=\"1 & 4\", \"2 & 3\",IF(H71=\"2 & 3\", \"1 & 4\",IF(H71=\"2 & 4\", \"1 & 3\",IF(H71=\"3 & 4\", \"1 & 2\",\"\"))))))","v":""},null,null,"% Draindown",null,null,{"$f":"IF(N74<>\"\", ROUND(N74/N70*100,1), \"\")","v":""},{"$f":"IF(O74<>\"\", ROUND(O74/O70*100,1), \"\")","v":""},{"$f":"IF(N75<>\"\", AVERAGE(N75:O75), \"\")","v":""}]
["H % Voids  (100-F)",null,{"$f":"IF(C70>0,ROUND(100-C75,setup!$M$75),\"\")","v":""},{"$f":"IF(D70>0,ROUND(100-D75,setup!$M$75),\"\")","v":""},{"$f":"IF(E70>0,ROUND(100-E75,setup!$M$75),\"\")","v":""},{"$f":"IF(F70>0,ROUND(100-F75,setup!$M$75),\"\")","v":""},"Avg AV",{"$f":"IF(H75=\"1 & 2\", ROUND(AVERAGE(C76,D76),setup!M75), IF(H75=\"1 & 3\", ROUND(AVERAGE(C76,E76),setup!M75),IF(H75=\"1 & 4\", ROUND(AVERAGE(C76,F76),setup!M75),IF(H75=\"2 & 3\", ROUND(AVERAGE(D76,E76),setup!M75),IF(H75=\"2 & 4\", ROUND(AVERAGE(D76,F76),setup!M75),IF(H75=\"3 & 4\", ROUND(AVERAGE(E76,F76),setup!M75),\"\"))))))","v":""}]
[]
["Temp(°C):",null,null,null,"Pass","Left","Right"]
["Avg Rut (mm):",null,{"$f":"IF(C80=7500, ROUND(AVERAGE(F80,G80),setup!M77), IF(C80 = 10000, ROUND(AVERAGE(F81,G81),setup!M77),IF(C80 = 20000, ROUND(AVERAGE(F83,G83),setup!M77),\"\")))","v":""},null,5000]
["At Pass:",null,null,null,7500]
["(Pass/Fail):",null,null,null,10000]
[null,null,null,null,15000]
["Date Tested:",null,null,null,20000]
[]
["Remarks"," Plant Acceptance Comment"]
[]
[{"$f":"setup!S2","v":"LaPave 502 v18.05.02"},null,null,null,null,null,null,null,null,null,null,null,null,null,null,{"$f":"TODAY()","v":"2023-03-31"}]
[]
[]
["Averages for Lot"]
[null,null,"Sublots",null,null,null,null,null,null,"JMF","MEAN","StDev","QL","QU","PWL"]
["Sublot No.",null,{"$f":"IF(B14<>\"\",B14,\"\")","v":1},{"$f":"IF(I14<>\"\",I14,\"\")","v":2},{"$f":"IF(P14<>\"\",P14,\"\")","v":3},{"$f":"IF(B40<>\"\",B40,\"\")","v":4},{"$f":"IF(I40<>\"\",I40,\"\")","v":5},{"$f":"IF(P40<>\"\",P40,\"\")","v":""}]
["Sublot Ton",null,{"$f":"IF(F14>0,F14,\"\")","v":""},{"$f":"IF(M14>0,M14,\"\")","v":""},{"$f":"IF(T14>0,T14,\"\")","v":""},{"$f":"IF(F40>0,F40,\"\")","v":""},{"$f":"IF(M40>0,M40,\"\")","v":""},{"$f":"IF(T40>0,T40,\"\")","v":""}]
["Gmm",null,{"$f":"IF(G16<>\"\", ROUND(AVERAGE(G16:G17),setup!M65), \"\")","v":""},{"$f":"IF(N16<>\"\", ROUND(AVERAGE(N16:N17),setup!M65), \"\")","v":""},{"$f":"IF(U16<>\"\", ROUND(AVERAGE(U16:U17),setup!M65), \"\")","v":""},{"$f":"IF(G42<>\"\", ROUND(AVERAGE(G42:G43),setup!M65), \"\")","v":""},{"$f":"IF(N42<>\"\", ROUND(AVERAGE(N42:N43),setup!M65), \"\")","v":""},{"$f":"IF(U42<>\"\", ROUND(AVERAGE(U42:U43),setup!M65), \"\")","v":""},null,{"$f":"Validation!H7","v":""},{"$f":"IF(SUM(C94:H94)>0, ROUND(AVERAGE(C94:H94),setup!M65+1),\"\")","v":""},{"$f":"IF(COUNT(C94:H94)>1, ROUND(STDEV(C94:H94),setup!M65+3),\"\")","v":""},{"$f":"IF(COUNT(C94:H94)>=3, IF(L94>0, ROUND(setup!D8/L94,2),\"--\"), \"--\")","v":"--"},{"$f":"IF(COUNT(C94:H94)>=3,IF(L94>0, ROUND(setup!D8/L94,2),\"--\"),\"--\")","v":"--"},{"$f":"IF(AND(M94=\"--\", N94=\"--\"), \"--\", IF(M94=\"--\", 100, IF(M94<0, 100, 0)+IF(M94<0, -1, 1)* IF(COUNT(C94:H94)>=5, VLOOKUP(ABS(M94),$AB$2:$AF$53,5,TRUE)+IF(LOOKUP(ABS(M94),$AB$2:$AB$53)<ABS(M94),1,0), IF(COUNT(C94:H94)=4, VLOOKUP(ABS(M94),$AA$2:$AF$53,6,TRUE)+IF(LOOKUP(ABS(M94),$AA$2:$AA$53)<ABS(M94),1,0), IF(COUNT(C94:H94)=3, VLOOKUP(ABS(M94),$Z$2:$AF$53,7,TRUE)+IF(LOOKUP(ABS(M94),$Z$2:$Z$53)<ABS(M94),1,0),\"--\"))))+IF(N94=\"--\",100, IF(N94<0, 100, 0)+IF(N94<0, -1, 1)* IF(COUNT(C94:H94)>=5, VLOOKUP(ABS(N94),$AB$2:$AF$53,5,TRUE)+IF(LOOKUP(ABS(N94),$AB$2:$AB$53)<ABS(N94),1,0), IF(COUNT(C94:H94)=4, VLOOKUP(ABS(N94),$AA$2:$AF$53,6,TRUE)+IF(LOOKUP(ABS(N94),$AA$2:$AA$53)<ABS(N94),1,0), IF(COUNT(C94:H94)=3, VLOOKUP(ABS(N94),$Z$2:$AF$53,7,TRUE)+IF(LOOKUP(ABS(N94),$Z$2:$Z$53)<ABS(N94),1,0),\"--\"))))-100)","v":"--"},{"$f":"IF(K94<>\"\", IF(K94>MIN(JMF!Q35,100), \"Over JMF Limit\", IF(K94<MAX(JMF!N35,0), \"Under JFM Limit\", IF(O94<>\"--\", IF(O94<71, \"<71 PWL\", \"OK\"), \"OK\"))),\"\")","v":""}]
["Gmb,ND",null,{"$f":"IF(F21>0,ROUND(F19/(F21-F20),setup!M66),\"\")","v":""},{"$f":"IF(M21>0,ROUND(M19/(M21-M20),setup!M66),\"\")","v":""},{"$f":"IF(T21>0,ROUND(T19/(T21-T20),setup!M66),\"\")","v":""},{"$f":"IF(F47>0,ROUND(F45/(F47-F46),setup!M66),\"\")","v":""},{"$f":"IF(M47>0,ROUND(M45/(M47-M46),setup!M66),\"\")","v":""},{"$f":"IF(T47>0,ROUND(T45/(T47-T46),setup!M66),\"\")","v":""},null,{"$f":"Validation!H8","v":""},{"$f":"IF(SUM(C95:H95)>0, ROUND(AVERAGE(C95:H95),setup!M66+1),\"\")","v":""},{"$f":"IF(COUNT(C95:H95)>1, ROUND(STDEV(C95:H95),setup!M66+3),\"\")","v":""},{"$f":"IF(COUNT(C95:H95)>=3, IF(L95>0, ROUND(setup!D12/L95,2),\"--\"), \"--\")","v":"--"},{"$f":"IF(COUNT(C95:H95)>=3,IF(L95>0, ROUND(setup!D12/L95,2),\"--\"),\"--\")","v":"--"},{"$f":"IF(AND(M95=\"--\", N95=\"--\"), \"--\", IF(M95=\"--\", 100, IF(M95<0, 100, 0)+IF(M95<0, -1, 1)* IF(COUNT(C95:H95)>=5, VLOOKUP(ABS(M95),$AB$2:$AF$53,5,TRUE)+IF(LOOKUP(ABS(M95),$AB$2:$AB$53)<ABS(M95),1,0), IF(COUNT(C95:H95)=4, VLOOKUP(ABS(M95),$AA$2:$AF$53,6,TRUE)+IF(LOOKUP(ABS(M95),$AA$2:$AA$53)<ABS(M95),1,0), IF(COUNT(C95:H95)=3, VLOOKUP(ABS(M95),$Z$2:$AF$53,7,TRUE)+IF(LOOKUP(ABS(M95),$Z$2:$Z$53)<ABS(M95),1,0),\"--\"))))+IF(N95=\"--\",100, IF(N95<0, 100, 0)+IF(N95<0, -1, 1)* IF(COUNT(C95:H95)>=5, VLOOKUP(ABS(N95),$AB$2:$AF$53,5,TRUE)+IF(LOOKUP(ABS(N95),$AB$2:$AB$53)<ABS(N95),1,0), IF(COUNT(C95:H95)=4, VLOOKUP(ABS(N95),$AA$2:$AF$53,6,TRUE)+IF(LOOKUP(ABS(N95),$AA$2:$AA$53)<ABS(N95),1,0), IF(COUNT(C95:H95)=3, VLOOKUP(ABS(N95),$Z$2:$AF$53,7,TRUE)+IF(LOOKUP(ABS(N95),$Z$2:$Z$53)<ABS(N95),1,0),\"--\"))))-100)","v":"--"}]
["%Gmm,NI",null,{"$f":"IF(C95<>\"\",  IF(F22>0, ROUND(100*(ROUND(ROUND(F19/(((3.1416*150*150*F22)/4)*0.001),setup!$M$66)*(C95/ROUND(F19/(((3.1416*150*150*F23)/4)*0.001),setup!$M$66)),setup!$M$66)/C94),setup!$M$67), \"\"), \"\")","v":""},{"$f":"IF(D95<>\"\",  IF(M22>0, ROUND(100*(ROUND(ROUND(M19/(((3.1416*150*150*M22)/4)*0.001),setup!$M$66)*(D95/ROUND(M19/(((3.1416*150*150*M23)/4)*0.001),setup!$M$66)),setup!$M$66)/D94),setup!$M$67), \"\"), \"\")","v":""},{"$f":"IF(E95<>\"\",  IF(T22>0, ROUND(100*(ROUND(ROUND(T19/(((3.1416*150*150*T22)/4)*0.001),setup!$M$66)*(E95/ROUND(T19/(((3.1416*150*150*T23)/4)*0.001),setup!$M$66)),setup!$M$66)/E94),setup!$M$67), \"\"), \"\")","v":""},{"$f":"IF(F95<>\"\",  IF(F48>0, ROUND(100*(ROUND(ROUND(F45/(((3.1416*150*150*F48)/4)*0.001),setup!$M$66)*(F95/ROUND(F45/(((3.1416*150*150*F49)/4)*0.001),setup!$M$66)),setup!$M$66)/F94),setup!$M$67), \"\"), \"\")","v":""},{"$f":"IF(G95<>\"\",  IF(M48>0, ROUND(100*(ROUND(ROUND(M45/(((3.1416*150*150*M48)/4)*0.001),setup!$M$66)*(G95/ROUND(M45/(((3.1416*150*150*M49)/4)*0.001),setup!$M$66)),setup!$M$66)/G94),setup!$M$67), \"\"), \"\")","v":""},{"$f":"IF(H95<>\"\",  IF(T48>0, ROUND(100*(ROUND(ROUND(T45/(((3.1416*150*150*T48)/4)*0.001),setup!$M$66)*(H95/ROUND(T45/(((3.1416*150*150*T49)/4)*0.001),setup!$M$66)),setup!$M$66)/H94),setup!$M$67), \"\"), \"\")","v":""},null,{"$f":"Validation!H9","v":""},{"$f":"IF(SUM(C96:H96)>0, ROUND(AVERAGE(C96:H96),setup!M67+1),\"\")","v":""},{"$f":"IF(COUNT(C96:H96)>1, ROUND(STDEV(C96:H96),setup!M67+3),\"\")","v":""},"--",{"$f":"IF(COUNT(C96:H96)>=3,IF(L96>0, ROUND((setup!C9-K96)/L96,2),\"--\"),\"--\")","v":"--"},{"$f":"IF(AND(M96=\"--\", N96=\"--\"), \"--\", IF(M96=\"--\", 100, IF(M96<0, 100, 0)+IF(M96<0, -1, 1)* IF(COUNT(C96:H96)>=5, VLOOKUP(ABS(M96),$AB$2:$AF$53,5,TRUE)+IF(LOOKUP(ABS(M96),$AB$2:$AB$53)<ABS(M96),1,0), IF(COUNT(C96:H96)=4, VLOOKUP(ABS(M96),$AA$2:$AF$53,6,TRUE)+IF(LOOKUP(ABS(M96),$AA$2:$AA$53)<ABS(M96),1,0), IF(COUNT(C96:H96)=3, VLOOKUP(ABS(M96),$Z$2:$AF$53,7,TRUE)+IF(LOOKUP(ABS(M96),$Z$2:$Z$53)<ABS(M96),1,0),\"--\"))))+IF(N96=\"--\",100, IF(N96<0, 100, 0)+IF(N96<0, -1, 1)* IF(COUNT(C96:H96)>=5, VLOOKUP(ABS(N96),$AB$2:$AF$53,5,TRUE)+IF(LOOKUP(ABS(N96),$AB$2:$AB$53)<ABS(N96),1,0), IF(COUNT(C96:H96)=4, VLOOKUP(ABS(N96),$AA$2:$AF$53,6,TRUE)+IF(LOOKUP(ABS(N96),$AA$2:$AA$53)<ABS(N96),1,0), IF(COUNT(C96:H96)=3, VLOOKUP(ABS(N96),$Z$2:$AF$53,7,TRUE)+IF(LOOKUP(ABS(N96),$Z$2:$Z$53)<ABS(N96),1,0),\"--\"))))-100)","v":"--"},{"$f":"IF(K96<>\"\", IF(K96>setup!C9, \"Over JMF Limit\", \"OK\"), \"\")","v":""}]
["%Gmm,ND",null,{"$f":"IF(C100<>\"\", 100-C100, \"\")","v":""},{"$f":"IF(D100<>\"\", 100-D100, \"\")","v":""},"","","","",null,{"$f":"Validation!H10","v":""},{"$f":"IF(SUM(C97:H97)>0, ROUND(AVERAGE(C97:H97),setup!M67+1),\"\")","v":""},{"$f":"IF(COUNT(C97:H97)>1, ROUND(STDEV(C97:H97),setup!M67+3),\"\")","v":""},{"$f":"IF(COUNT(C97:H97)>=3, IF(L97>0, ROUND((K97-setup!B10)/L97,2),\"--\"), \"--\")","v":"--"},{"$f":"IF(COUNT(C97:H97)>=3,IF(L97>0, ROUND((setup!C10-K97)/L97,2),\"--\"),\"--\")","v":"--"},{"$f":"IF(AND(M97=\"--\", N97=\"--\"), \"--\", IF(M97=\"--\", 100, IF(M97<0, 100, 0)+IF(M97<0, -1, 1)* IF(COUNT(C97:H97)>=5, VLOOKUP(ABS(M97),$AB$2:$AF$53,5,TRUE)+IF(LOOKUP(ABS(M97),$AB$2:$AB$53)<ABS(M97),1,0), IF(COUNT(C97:H97)=4, VLOOKUP(ABS(M97),$AA$2:$AF$53,6,TRUE)+IF(LOOKUP(ABS(M97),$AA$2:$AA$53)<ABS(M97),1,0), IF(COUNT(C97:H97)=3, VLOOKUP(ABS(M97),$Z$2:$AF$53,7,TRUE)+IF(LOOKUP(ABS(M97),$Z$2:$Z$53)<ABS(M97),1,0),\"--\"))))+IF(N97=\"--\",100, IF(N97<0, 100, 0)+IF(N97<0, -1, 1)* IF(COUNT(C97:H97)>=5, VLOOKUP(ABS(N97),$AB$2:$AF$53,5,TRUE)+IF(LOOKUP(ABS(N97),$AB$2:$AB$53)<ABS(N97),1,0), IF(COUNT(C97:H97)=4, VLOOKUP(ABS(N97),$AA$2:$AF$53,6,TRUE)+IF(LOOKUP(ABS(N97),$AA$2:$AA$53)<ABS(N97),1,0), IF(COUNT(C97:H97)=3, VLOOKUP(ABS(N97),$Z$2:$AF$53,7,TRUE)+IF(LOOKUP(ABS(N97),$Z$2:$Z$53)<ABS(N97),1,0),\"--\"))))-100)","v":"--"}]
["VFA",null,{"$f":"IF(C99<>\"\", ROUND(100*(C99-C100)/C99,setup!$M$76), \"\")","v":""},{"$f":"IF(D99<>\"\", ROUND(100*(D99-D100)/D99,setup!$M$76), \"\")","v":""},{"$f":"IF(E99<>\"\", ROUND(100*(E99-E100)/E99,setup!$M$76), \"\")","v":""},{"$f":"IF(F99<>\"\", ROUND(100*(F99-F100)/F99,setup!$M$76), \"\")","v":""},{"$f":"IF(G99<>\"\", ROUND(100*(G99-G100)/G99,setup!$M$76), \"\")","v":""},{"$f":"IF(H99<>\"\", ROUND(100*(H99-H100)/H99,setup!$M$76), \"\")","v":""},null,{"$f":"Validation!H13","v":""},{"$f":"IF(SUM(C98:H98)>0, ROUND(AVERAGE(C98:H98),setup!M76+1),\"\")","v":""},{"$f":"IF(COUNT(C98:H98)>1, ROUND(STDEV(C98:H98),setup!M76+3),\"\")","v":""},{"$f":"IF(COUNT(C98:H98)>=3, IF(L98>0, ROUND((K98-setup!B14)/L98,2),\"--\"), \"--\")","v":"--"},{"$f":"IF(COUNT(C98:H98)>=3,IF(L98>0, ROUND((setup!C14-K98)/L98,2),\"--\"),\"--\")","v":"--"},"--",{"$f":"IF(K98<>\"\", IF(K98>setup!C14, \"Over JMF Limit\", IF(K98<setup!B14, \"Under JMF Limit\", \"OK\")), \"\")","v":""}]
["VMA",null,{"$f":"IF(C95<>\"\", ROUND(100-((C95*$J$6)/$M$5),setup!$M$74), \"\")","v":""},{"$f":"IF(D95<>\"\", ROUND(100-((D95*$J$6)/$M$5),setup!$M$74), \"\")","v":""},{"$f":"IF(E95<>\"\", ROUND(100-((E95*$J$6)/$M$5),setup!$M$74), \"\")","v":""},{"$f":"IF(F95<>\"\", ROUND(100-((F95*$J$6)/$M$5),setup!$M$74), \"\")","v":""},{"$f":"IF(G95<>\"\", ROUND(100-((G95*$J$6)/$M$5),setup!$M$74), \"\")","v":""},{"$f":"IF(H95<>\"\", ROUND(100-((H95*$J$6)/$M$5),setup!$M$74), \"\")","v":""},null,{"$f":"Validation!H12","v":""},{"$f":"IF(SUM(C99:H99)>0, ROUND(AVERAGE(C99:H99),setup!M74+1),\"\")","v":""},{"$f":"IF(COUNT(C99:H99)>1, ROUND(STDEV(C99:H99),setup!M74+3),\"\")","v":""},{"$f":"IF(COUNT(C99:H99)>=3,IF(L99>0, ROUND((K99-setup!B13)/L99,2),\"--\"),\"--\")","v":"--"},"--","--",{"$f":"IF(K99<>\"\", IF(K99<setup!B13, \"Under JMF Limit\", \"OK\"), \"\")","v":""}]
["%Voids",null,{"$f":"IF(C95<>\"\", ROUND(100*((C94-C95)/C94),setup!$M$75), \"\")","v":""},{"$f":"IF(D95<>\"\", ROUND(100*((D94-D95)/D94),setup!$M$75), \"\")","v":""},{"$f":"IF(E95<>\"\", ROUND(100*((E94-E95)/E94),setup!$M$75), \"\")","v":""},{"$f":"IF(F95<>\"\", ROUND(100*((F94-F95)/F94),setup!$M$75), \"\")","v":""},{"$f":"IF(G95<>\"\", ROUND(100*((G94-G95)/G94),setup!$M$75), \"\")","v":""},{"$f":"IF(H95<>\"\", ROUND(100*((H94-H95)/H94),setup!$M$75), \"\")","v":""},null,{"$f":"Validation!H11","v":""},{"$f":"IF(SUM(C100:H100)>0, ROUND(AVERAGE(C100:H100),setup!M75+1),\"\")","v":""},{"$f":"IF(COUNT(C100:H100)>1, ROUND(STDEV(C100:H100),setup!M75+3),\"\")","v":""},{"$f":"IF(COUNT(C100:H100)>=3,IF(L100>0, ROUND((K100-setup!B15)/L100,2),\"--\"),\"--\")","v":"--"},{"$f":"IF(COUNT(C100:H100)>=3,IF(L100>0, ROUND((setup!C15-K100)/L100,2),\"--\"),\"--\")","v":"--"},"--",{"$f":"IF(K100<>\"\", IF(K100>setup!C15, \"Over JMF Limit\", IF(K100<setup!B15, \"Under JMF Limit\", IF(O100<>\"--\", IF(O100<71, \"<71 PWL\", \"OK\"), \"OK\"))), \"\")","v":""}]
["Extracted AC",null,{"$f":"IF(C32>0, C32, \"\")","v":""},{"$f":"IF(J32>0, J32, \"\")","v":""},{"$f":"IF(Q32>0, Q32, \"\")","v":""},{"$f":"IF(C58>0, C58, \"\")","v":""},{"$f":"IF(J58>0, J58, \"\")","v":""},{"$f":"IF(Q58>0, Q58, \"\")","v":""},null,{"$f":"JMF!H56","v":""},{"$f":"IF(SUM(C101:H101)>0, ROUND(AVERAGE(C101:H101),setup!M71+1),\"\")","v":""},{"$f":"IF(COUNT(C101:H101)>1, ROUND(STDEV(C101:H101),setup!M71+3),\"\")","v":""},{"$f":"IF(COUNT(C101:H101)>=3,IF(L101>0, ROUND(setup!D31/L101,2),\"--\"),\"--\")","v":"--"},{"$f":"IF(COUNT(C101:H101)>=3,IF(L101>0, ROUND(setup!D31/L101,2),\"--\"),\"--\")","v":"--"},{"$f":"IF(AND(M101=\"--\", N101=\"--\"), \"--\", IF(M101=\"--\", 100, IF(M101<0, 100, 0)+IF(M101<0, -1, 1)* IF(COUNT(C101:H101)>=5, VLOOKUP(ABS(M101),$AB$2:$AF$53,5,TRUE)+IF(LOOKUP(ABS(M101),$AB$2:$AB$53)<ABS(M101),1,0), IF(COUNT(C101:H101)=4, VLOOKUP(ABS(M101),$AA$2:$AF$53,6,TRUE)+IF(LOOKUP(ABS(M101),$AA$2:$AA$53)<ABS(M101),1,0), IF(COUNT(C101:H101)=3, VLOOKUP(ABS(M101),$Z$2:$AF$53,7,TRUE)+IF(LOOKUP(ABS(M101),$Z$2:$Z$53)<ABS(M101),1,0),\"--\"))))+IF(N101=\"--\",100, IF(N101<0, 100, 0)+IF(N101<0, -1, 1)* IF(COUNT(C101:H101)>=5, VLOOKUP(ABS(N101),$AB$2:$AF$53,5,TRUE)+IF(LOOKUP(ABS(N101),$AB$2:$AB$53)<ABS(N101),1,0), IF(COUNT(C101:H101)=4, VLOOKUP(ABS(N101),$AA$2:$AF$53,6,TRUE)+IF(LOOKUP(ABS(N101),$AA$2:$AA$53)<ABS(N101),1,0), IF(COUNT(C101:H101)=3, VLOOKUP(ABS(N101),$Z$2:$AF$53,7,TRUE)+IF(LOOKUP(ABS(N101),$Z$2:$Z$53)<ABS(N101),1,0),\"--\"))))-100)","v":"--"},{"$f":"IF(K101<>\"\", IF(K101>MIN(JMF!Q56,100), \"Over JMF Limit\", IF(K101<MAX(JMF!N56,0), \"Under JMF Limit\",\"OK\")), \"\")","v":""}]
["Comp Temp",null,{"$f":"IF(G27>0, G27, \"\")","v":""},{"$f":"IF(N27>0, N27, \"\")","v":""},{"$f":"IF(U27>0, U27, \"\")","v":""},{"$f":"IF(G53>0, G53, \"\")","v":""},{"$f":"IF(N53>0, N53, \"\")","v":""},{"$f":"IF(U53>0, U53, \"\")","v":""},null,{"$f":"Validation!H39","v":""},{"$f":"IF(SUM(C102:H102)>0, ROUND(AVERAGE(C102:H102),1),\"\")","v":""},{"$f":"IF(COUNT(C102:H102)>1, ROUND(STDEV(C102:H102),1),\"\")","v":""},"--","--","--"]
[]
["Gradation",null,null,null,null,null,null,null,null,"JMF","MEAN","StDev","QL","QU","PWL"]
["2\"         50",null,{"$f":"IF(D16<>\"\", D16, \"\")","v":" "},{"$f":"IF(K16<>\"\", K16, \"\")","v":" "},{"$f":"IF(R16<>\"\", R16, \"\")","v":" "},{"$f":"IF(D42<>\"\", D42, \"\")","v":" "},{"$f":"IF(K42<>\"\", K42, \"\")","v":" "},{"$f":"IF(R42<>\"\", R42, \"\")","v":" "},null,{"$f":"Validation!H19","v":""},{"$f":"IF(SUM(C105:H105)>0, ROUND(AVERAGE(C105:H105),setup!$M$68+1),\"\")","v":""},{"$f":"IF(COUNT(C105:H105)>1, ROUND(STDEV(C105:H105),setup!$M$68+3),\"\")","v":""},{"$f":"IF(COUNT(C105:H105)>=3,IF(L105>0, ROUND(setup!D18/L105,2),\"--\"),\"--\")","v":"--"},{"$f":"IF(COUNT(C105:H105)>=3,IF(L105>0, ROUND((IF(K105+setup!D18>100,100,K105+setup!D18)-K105)/L105,2),\"--\"),\"--\")","v":"--"},{"$f":"IF(AND(M105=\"--\", N105=\"--\"), \"--\", IF(M105=\"--\", 100, IF(M105<0, 100, 0)+IF(M105<0, -1, 1)* IF(COUNT(C105:H105)>=5, VLOOKUP(ABS(M105),$AB$2:$AF$53,5,TRUE)+IF(LOOKUP(ABS(M105),$AB$2:$AB$53)<ABS(M105),1,0), IF(COUNT(C105:H105)=4, VLOOKUP(ABS(M105),$AA$2:$AF$53,6,TRUE)+IF(LOOKUP(ABS(M105),$AA$2:$AA$53)<ABS(M105),1,0), IF(COUNT(C105:H105)=3, VLOOKUP(ABS(M105),$Z$2:$AF$53,7,TRUE)+IF(LOOKUP(ABS(M105),$Z$2:$Z$53)<ABS(M105),1,0),\"--\"))))+IF(N105=\"--\",100, IF(N105<0, 100, 0)+IF(N105<0, -1, 1)* IF(COUNT(C105:H105)>=5, VLOOKUP(ABS(N105),$AB$2:$AF$53,5,TRUE)+IF(LOOKUP(ABS(N105),$AB$2:$AB$53)<ABS(N105),1,0), IF(COUNT(C105:H105)=4, VLOOKUP(ABS(N105),$AA$2:$AF$53,6,TRUE)+IF(LOOKUP(ABS(N105),$AA$2:$AA$53)<ABS(N105),1,0), IF(COUNT(C105:H105)=3, VLOOKUP(ABS(N105),$Z$2:$AF$53,7,TRUE)+IF(LOOKUP(ABS(N105),$Z$2:$Z$53)<ABS(N105),1,0),\"--\"))))-100)","v":"--"}]
["1.5\"    37.5",null," "," "," "," "," "," ",null,{"$f":"Validation!H20","v":""},{"$f":"IF(SUM(C106:H106)>0, ROUND(AVERAGE(C106:H106),setup!$M$68+1),\"\")","v":""},{"$f":"IF(COUNT(C106:H106)>1, ROUND(STDEV(C106:H106),setup!$M$68+3),\"\")","v":""},{"$f":"IF(COUNT(C106:H106)>=3,IF(L106>0, ROUND(setup!D19/L106,2),\"--\"),\"--\")","v":"--"},{"$f":"IF(COUNT(C106:H106)>=3,IF(L106>0, ROUND((IF(K106+setup!D19>100,100,K106+setup!D19)-K106)/L106,2),\"--\"),\"--\")","v":"--"},{"$f":"IF(AND(M106=\"--\", N106=\"--\"), \"--\", IF(M106=\"--\", 100, IF(M106<0, 100, 0)+IF(M106<0, -1, 1)* IF(COUNT(C106:H106)>=5, VLOOKUP(ABS(M106),$AB$2:$AF$53,5,TRUE)+IF(LOOKUP(ABS(M106),$AB$2:$AB$53)<ABS(M106),1,0), IF(COUNT(C106:H106)=4, VLOOKUP(ABS(M106),$AA$2:$AF$53,6,TRUE)+IF(LOOKUP(ABS(M106),$AA$2:$AA$53)<ABS(M106),1,0), IF(COUNT(C106:H106)=3, VLOOKUP(ABS(M106),$Z$2:$AF$53,7,TRUE)+IF(LOOKUP(ABS(M106),$Z$2:$Z$53)<ABS(M106),1,0),\"--\"))))+IF(N106=\"--\",100, IF(N106<0, 100, 0)+IF(N106<0, -1, 1)* IF(COUNT(C106:H106)>=5, VLOOKUP(ABS(N106),$AB$2:$AF$53,5,TRUE)+IF(LOOKUP(ABS(N106),$AB$2:$AB$53)<ABS(N106),1,0), IF(COUNT(C106:H106)=4, VLOOKUP(ABS(N106),$AA$2:$AF$53,6,TRUE)+IF(LOOKUP(ABS(N106),$AA$2:$AA$53)<ABS(N106),1,0), IF(COUNT(C106:H106)=3, VLOOKUP(ABS(N106),$Z$2:$AF$53,7,TRUE)+IF(LOOKUP(ABS(N106),$Z$2:$Z$53)<ABS(N106),1,0),\"--\"))))-100)","v":"--"},{"$f":"IF(OR(setup!B19<>\"\", setup!C19<>\"\"),IF(K106<>\"\", IF(K106>JMF!Q44, \"Over JMF Limit\", IF(K106<JMF!N44, \"Under JMF Limit\",\"OK\")), \"\"),\"\")","v":""}]
["1\"         25",null," "," "," "," "," "," ",null,{"$f":"Validation!H21","v":""},{"$f":"IF(SUM(C107:H107)>0, ROUND(AVERAGE(C107:H107),setup!$M$68+1),\"\")","v":""},{"$f":"IF(COUNT(C107:H107)>1, ROUND(STDEV(C107:H107),setup!$M$68+3),\"\")","v":""},{"$f":"IF(COUNT(C107:H107)>=3,IF(L107>0, ROUND(setup!D20/L107,2),\"--\"),\"--\")","v":"--"},{"$f":"IF(COUNT(C107:H107)>=3,IF(L107>0, ROUND((IF(K107+setup!D20>100,100,K107+setup!D20)-K107)/L107,2),\"--\"),\"--\")","v":"--"},"--"]
["3/4\"       19",null," "," "," "," "," "," ",null,{"$f":"Validation!H22","v":""},{"$f":"IF(SUM(C108:H108)>0, ROUND(AVERAGE(C108:H108),setup!$M$68+1),\"\")","v":""},{"$f":"IF(COUNT(C108:H108)>1, ROUND(STDEV(C108:H108),setup!$M$68+3),\"\")","v":""},{"$f":"IF(COUNT(C108:H108)>=3,IF(L108>0, ROUND(setup!D21/L108,2),\"--\"),\"--\")","v":"--"},{"$f":"IF(COUNT(C108:H108)>=3,IF(L108>0, ROUND((IF(K108+setup!D21>100,100,K108+setup!D21)-K108)/L108,2),\"--\"),\"--\")","v":"--"},"--",{"$f":"IF(OR(setup!B21<>\"\", setup!C21<>\"\"),IF(K108<>\"\", IF(K108>MIN(JMF!Q46,100), \"Over JMF Limit\", IF(K108<MAX(JMF!N46,0), \"Under JMF Limit\",\"OK\")), \"\"),\"\")","v":""}]
["1/2\"    12.5",null," "," "," "," "," "," ",null,{"$f":"Validation!H23","v":""},{"$f":"IF(SUM(C109:H109)>0, ROUND(AVERAGE(C109:H109),setup!$M$68+1),\"\")","v":""},{"$f":"IF(COUNT(C109:H109)>1, ROUND(STDEV(C109:H109),setup!$M$68+3),\"\")","v":""},{"$f":"IF(COUNT(C109:H109)>=3,IF(L109>0, ROUND(setup!D22/L109,2),\"--\"),\"--\")","v":"--"},{"$f":"IF(COUNT(C109:H109)>=3,IF(L109>0, ROUND((IF(K109+setup!D22>100,100,K109+setup!D22)-K109)/L109,2),\"--\"),\"--\")","v":"--"},"--",{"$f":"IF(OR(setup!B22<>\"\", setup!C22<>\"\"),IF(K109<>\"\", IF(K109>JMF!Q47, \"Over JMF Limit\", IF(K109<JMF!N47, \"Under JMF Limit\",\"OK\")), \"\"),\"\")","v":""}]
["3/8\"     9.5",null," "," "," "," "," "," ",null,{"$f":"Validation!H24","v":""},{"$f":"IF(SUM(C110:H110)>0, ROUND(AVERAGE(C110:H110),setup!$M$68+1),\"\")","v":""},{"$f":"IF(COUNT(C110:H110)>1, ROUND(STDEV(C110:H110),setup!$M$68+3),\"\")","v":""},{"$f":"IF(COUNT(C110:H110)>=3,IF(L110>0, ROUND(setup!D23/L110,2),\"--\"),\"--\")","v":"--"},{"$f":"IF(COUNT(C110:H110)>=3,IF(L110>0, ROUND((IF(K110+setup!D23>100,100,K110+setup!D23)-K110)/L110,2),\"--\"),\"--\")","v":"--"},"--",{"$f":"IF(OR(setup!B23<>\"\", setup!C23<>\"\"),IF(K110<>\"\", IF(K110>JMF!Q48, \"Over JMF Limit\", IF(K110<JMF!N48, \"Under JMF Limit\",\"OK\")), \"\"),\"\")","v":""}]
["#4      4.75",null," "," "," "," "," "," ",null,{"$f":"Validation!H25","v":""},{"$f":"IF(SUM(C111:H111)>0, ROUND(AVERAGE(C111:H111),setup!$M$68+1),\"\")","v":""},{"$f":"IF(COUNT(C111:H111)>1, ROUND(STDEV(C111:H111),setup!$M$68+3),\"\")","v":""},{"$f":"IF(COUNT(C111:H111)>=3,IF(L111>0, ROUND(setup!D24/L111,2),\"--\"),\"--\")","v":"--"},{"$f":"IF(COUNT(C111:H111)>=3,IF(L111>0, ROUND((IF(K111+setup!D24>100,100,K111+setup!D24)-K111)/L111,2),\"--\"),\"--\")","v":"--"},"--",{"$f":"IF(OR(setup!B24<>\"\", setup!C24<>\"\"),IF(K111<>\"\", IF(K111>JMF!Q49, \"Over JMF Limit\", IF(K111<JMF!N49, \"Under JMF Limit\",\"OK\")), \"\"),\"\")","v":""}]
["#8      2.36",null," "," "," "," "," "," ",null,{"$f":"Validation!H26","v":""},{"$f":"IF(SUM(C112:H112)>0, ROUND(AVERAGE(C112:H112),setup!$M$68+1),\"\")","v":""},{"$f":"IF(COUNT(C112:H112)>1, ROUND(STDEV(C112:H112),setup!$M$68+3),\"\")","v":""},{"$f":"IF(COUNT(C112:H112)>=3,IF(L112>0, ROUND(setup!D25/L112,2),\"--\"),\"--\")","v":"--"},{"$f":"IF(COUNT(C112:H112)>=3,IF(L112>0, ROUND((IF(K112+setup!D25>100,100,K112+setup!D25)-K112)/L112,2),\"--\"),\"--\")","v":"--"},"--",{"$f":"IF(OR(setup!B25<>\"\", setup!C25<>\"\"),IF(K112<>\"\", IF(K112>MIN(JMF!Q50,100), \"Over JMF Limit\", IF(K112<MAX(JMF!N50,0), \"Under JMF Limit\",IF(O112<>\"--\", IF(O112<71, \"PWL <71\", \"OK\"),\"OK\"))), \"\"),\"\")","v":""}]
["#16     1.18",null," "," "," "," "," "," ",null,{"$f":"Validation!H27","v":""},{"$f":"IF(SUM(C113:H113)>0, ROUND(AVERAGE(C113:H113),setup!$M$68+1),\"\")","v":""},{"$f":"IF(COUNT(C113:H113)>1, ROUND(STDEV(C113:H113),setup!$M$68+3),\"\")","v":""},{"$f":"IF(COUNT(C113:H113)>=3,IF(L113>0, ROUND(setup!D26/L113,2),\"--\"),\"--\")","v":"--"},{"$f":"IF(COUNT(C113:H113)>=3,IF(L113>0, ROUND((IF(K113+setup!D26>100,100,K113+setup!D26)-K113)/L113,2),\"--\"),\"--\")","v":"--"},"--",{"$f":"IF(OR(setup!B26<>\"\", setup!C26<>\"\"),IF(K113<>\"\", IF(K113>JMF!Q51, \"Over JMF Limit\", IF(K113<JMF!N51, \"Under JMF Limit\",\"OK\")), \"\"),\"\")","v":""}]
["#30      0.6",null," "," "," "," "," "," ",null,{"$f":"Validation!H28","v":""},{"$f":"IF(SUM(C114:H114)>0, ROUND(AVERAGE(C114:H114),setup!$M$68+1),\"\")","v":""},{"$f":"IF(COUNT(C114:H114)>1, ROUND(STDEV(C114:H114),setup!$M$68+3),\"\")","v":""},{"$f":"IF(COUNT(C114:H114)>=3,IF(L114>0, ROUND(setup!D27/L114,2),\"--\"),\"--\")","v":"--"},{"$f":"IF(COUNT(C114:H114)>=3,IF(L114>0, ROUND((IF(K114+setup!D27>100,100,K114+setup!D27)-K114)/L114,2),\"--\"),\"--\")","v":"--"},"--",{"$f":"IF(OR(setup!B27<>\"\", setup!C27<>\"\"),IF(K114<>\"\", IF(K114>JMF!Q52, \"Over JMF Limit\", IF(K114<JMF!N52, \"Under JMF Limit\",\"OK\")), \"\"),\"\")","v":""}]
["#50      0.3",null," "," "," "," "," "," ",null,{"$f":"Validation!H29","v":""},{"$f":"IF(SUM(C115:H115)>0, ROUND(AVERAGE(C115:H115),setup!$M$68+1),\"\")","v":""},{"$f":"IF(COUNT(C115:H115)>1, ROUND(STDEV(C115:H115),setup!$M$68+3),\"\")","v":""},{"$f":"IF(COUNT(C115:H115)>=3,IF(L115>0, ROUND(setup!D28/L115,2),\"--\"),\"--\")","v":"--"},{"$f":"IF(COUNT(C115:H115)>=3,IF(L115>0, ROUND((IF(K115+setup!D28>100,100,K115+setup!D28)-K115)/L115,2),\"--\"),\"--\")","v":"--"},"--",{"$f":"IF(OR(setup!B28<>\"\", setup!C28<>\"\"),IF(K115<>\"\", IF(K115>JMF!Q53, \"Over JMF Limit\", IF(K115<JMF!N53, \"Under JMF Limit\",\"OK\")), \"\"),\"\")","v":""}]
["#100   0.15",null," "," "," "," "," "," ",null,{"$f":"Validation!H30","v":""},{"$f":"IF(SUM(C116:H116)>0, ROUND(AVERAGE(C116:H116),setup!$M$68+1),\"\")","v":""},{"$f":"IF(COUNT(C116:H116)>1, ROUND(STDEV(C116:H116),setup!$M$68+3),\"\")","v":""},{"$f":"IF(COUNT(C116:H116)>=3,IF(L116>0, ROUND(setup!D29/L116,2),\"--\"),\"--\")","v":"--"},{"$f":"IF(COUNT(C116:H116)>=3,IF(L116>0, ROUND((IF(K116+setup!D29>100,100,K116+setup!D29)-K116)/L116,2),\"--\"),\"--\")","v":"--"},"--",{"$f":"IF(OR(setup!B29<>\"\", setup!C29<>\"\"),IF(K116<>\"\", IF(K116>JMF!Q54, \"Over JMF Limit\", IF(K116<JMF!N54, \"Under JMF Limit\",\"OK\")), \"\"),\"\")","v":""}]
["#200  0.075",null," "," "," "," "," "," ",null,{"$f":"Validation!H31","v":""},{"$f":"IF(SUM(C117:H117)>0, ROUND(AVERAGE(C117:H117),setup!M69+1),\"\")","v":""},{"$f":"IF(COUNT(C117:H117)>1, ROUND(STDEV(C117:H117),setup!M69+3),\"\")","v":""},{"$f":"IF(COUNT(C117:H117)>=3,IF(L117>0, ROUND(setup!D30/L117,2),\"--\"),\"--\")","v":"--"},{"$f":"IF(COUNT(C117:H117)>=3,IF(L117>0, ROUND((IF(K117+setup!D30>100,100,K117+setup!D30)-K117)/L117,2),\"--\"),\"--\")","v":"--"},"--",{"$f":"IF(OR(setup!B30<>\"\",setup!C30<>\"\"),IF(K117<>\"\", IF(K117>MIN(JMF!Q55,100), \"Over JMF Limit\", IF(K117<MAX(JMF!N55,0), \"Under JMF Limit\",IF(O117<>\"--\", IF(O117<71, \"PWL <71\", \"OK\"),\"OK\"))), \"\"),\"\")","v":""}]
[]
["Other Factors (Informational Tools Only)",null,null,null,null,null,null,null,null,"JMF","MEAN","StDev","QL","QU","PWL"]
["GmbEst,ND",null,{"$f":"IF(C95<>\"\", IF(F23>0,ROUND(F19/(((3.1416*150*150*F23)/4)*0.001),setup!M66),\"\"),\"\")","v":""},{"$f":"IF(D95<>\"\", IF(M23>0,ROUND(M19/(((3.1416*150*150*M23)/4)*0.001),setup!M66),\"\"),\"\")","v":""},{"$f":"IF(E95<>\"\", IF(T23>0,ROUND(T19/(((3.1416*150*150*T23)/4)*0.001),setup!M66),\"\"),\"\")","v":""},{"$f":"IF(F95<>\"\", IF(F49>0,ROUND(F45/(((3.1416*150*150*F49)/4)*0.001),setup!M66),\"\"),\"\")","v":""},{"$f":"IF(G95<>\"\", IF(M49>0,ROUND(M45/(((3.1416*150*150*M49)/4)*0.001),setup!M66),\"\"),\"\")","v":""},{"$f":"IF(H95<>\"\", IF(T49>0,ROUND(T45/(((3.1416*150*150*T49)/4)*0.001),setup!M66),\"\"),\"\")","v":""},null,"--",{"$f":"IF(SUM(C120:H120)>0, ROUND(AVERAGE(C120:H120),setup!M66+1),\"\")","v":""},{"$f":"IF(COUNT(C120:H120)>1, ROUND(STDEV(C120:H120),setup!M66+3),\"\")","v":""},"--","--","--"]
["Gmb,Nmax",null,{"$f":"IF(G21>0,ROUND(G19/(G21-G20),setup!M66),\"\")","v":""},{"$f":"IF(N21>0,ROUND(N19/(N21-N20),setup!N66),\"\")","v":""},{"$f":"IF(U21>0,ROUND(U19/(U21-U20),setup!O66),\"\")","v":""},{"$f":"IF(G47>0,ROUND(G45/(G47-G46),setup!P66),\"\")","v":""},{"$f":"IF(N47>0,ROUND(N45/(N47-N46),setup!Q66),\"\")","v":""},{"$f":"IF(U47>0,ROUND(U45/(U47-U46),setup!R66),\"\")","v":""},null,{"$f":"Validation!H14","v":""},{"$f":"IF(SUM(C121:H121)>0, ROUND(AVERAGE(C121:H121),setup!M66+1),\"\")","v":""},{"$f":"IF(COUNT(C121:H121)>1, ROUND(STDEV(C121:H121),setup!M66+3),\"\")","v":""},"--","--","--"]
["%Gmm,Nmax",null,{"$f":"IF(C121<>\"\", IF(G24>0, ROUND(100*(ROUND(ROUND(F19/(((3.1416*150*150*G24)/4)*0.001),setup!$M$66)*(C121/ROUND(F19/(((3.1416*150*150*F23)/4)*0.001),setup!$M$66)),setup!$M$66)/C94),setup!$M$67), \"\"), \"\")","v":""},{"$f":"IF(D121<>\"\", IF(H24>0, ROUND(100*(ROUND(ROUND(G19/(((3.1416*150*150*H24)/4)*0.001),setup!$M$66)*(D121/ROUND(G19/(((3.1416*150*150*G23)/4)*0.001),setup!$M$66)),setup!$M$66)/D94),setup!$M$67), \"\"), \"\")","v":""},{"$f":"IF(E121<>\"\", IF(I24>0, ROUND(100*(ROUND(ROUND(H19/(((3.1416*150*150*I24)/4)*0.001),setup!$M$66)*(E121/ROUND(H19/(((3.1416*150*150*H23)/4)*0.001),setup!$M$66)),setup!$M$66)/E94),setup!$M$67), \"\"), \"\")","v":""},{"$f":"IF(F121<>\"\", IF(J24>0, ROUND(100*(ROUND(ROUND(I19/(((3.1416*150*150*J24)/4)*0.001),setup!$M$66)*(F121/ROUND(I19/(((3.1416*150*150*I23)/4)*0.001),setup!$M$66)),setup!$M$66)/F94),setup!$M$67), \"\"), \"\")","v":""},{"$f":"IF(G121<>\"\", IF(K24>0, ROUND(100*(ROUND(ROUND(J19/(((3.1416*150*150*K24)/4)*0.001),setup!$M$66)*(G121/ROUND(J19/(((3.1416*150*150*J23)/4)*0.001),setup!$M$66)),setup!$M$66)/G94),setup!$M$67), \"\"), \"\")","v":""},{"$f":"IF(H121<>\"\", IF(L24>0, ROUND(100*(ROUND(ROUND(K19/(((3.1416*150*150*L24)/4)*0.001),setup!$M$66)*(H121/ROUND(K19/(((3.1416*150*150*K23)/4)*0.001),setup!$M$66)),setup!$M$66)/H94),setup!$M$67), \"\"), \"\")","v":""},null,{"$f":"Validation!H15","v":""},{"$f":"IF(SUM(C122:H122)>0, ROUND(AVERAGE(C122:H122),setup!M67+1),\"\")","v":""},{"$f":"IF(COUNT(C122:H122)>1, ROUND(STDEV(C122:H122),setup!M67+3),\"\")","v":""},"--","--","--"]
["Design AC",null,{"$f":"IF(C93<>\"\",IF($J$5<>\"\", $J$5, \"\"),\"\")","v":""},"","","",{"$f":"IF(G93<>\"\",IF($J$5<>\"\", $J$5, \"\"),\"\")","v":""},"",null,"--",{"$f":"IF(SUM(C123:H123)>0, ROUND(AVERAGE(C123:H123),setup!M71+1),\"\")","v":""},{"$f":"IF(COUNT(C123:H123)>1, ROUND(STDEV(C123:H123),setup!M71+3),\"\")","v":""},"--","--","--"]
["%Antistrip",null,{"$f":"IF(G29<>\"\", G29, \"\")","v":""},{"$f":"IF(N29<>\"\", N29, \"\")","v":""},{"$f":"IF(U29<>\"\", U29, \"\")","v":""},{"$f":"IF(G55<>\"\", G55, \"\")","v":""},{"$f":"IF(N55<>\"\", N55, \"\")","v":""},{"$f":"IF(U55<>\"\", U55, \"\")","v":""},null,{"$f":"Validation!H37","v":""},{"$f":"IF(SUM(C124:H124)>0, ROUND(AVERAGE(C124:H124),2),\"\")","v":""},{"$f":"IF(COUNT(C124:H124)>1, ROUND(STDEV(C124:H124),4),\"\")","v":""},"--","--","--"]
["Meter AC",null,{"$f":"IF(G26<>\"\", G26, \"\")","v":""},{"$f":"IF(N26<>\"\", N26,\"\")","v":""},{"$f":"IF(U26<>\"\", U26, \"\")","v":""},{"$f":"IF(G52<>\"\", G52, \"\")","v":""},{"$f":"IF(N52<>\"\", N52, \"\")","v":""},{"$f":"IF(U52<>\"\", U52, \"\")","v":""},null,"--",{"$f":"IF(SUM(C125:H125)>0, ROUND(AVERAGE(C125:H125),setup!M71+1),\"\")","v":""},{"$f":"IF(COUNT(C125:H125)>1, ROUND(STDEV(C125:H125),setup!M71+3),\"\")","v":""},"--","--","--"]
["%Crushed",null,{"$f":"IF(C33<>\"\", C33, \"\")","v":""},{"$f":"IF(J33<>\"\", J33, \"\")","v":""},{"$f":"IF(Q33<>\"\", Q33, \"\")","v":""},{"$f":"IF(C59<>\"\", C59, \"\")","v":""},{"$f":"IF(J59<>\"\", J59, \"\")","v":""},{"$f":"IF(Q59<>\"\", Q59, \"\")","v":""},null,{"$f":"Validation!H38","v":""},{"$f":"IF(SUM(C126:H126)>0, ROUND(AVERAGE(C126:H126),1),\"\")","v":""},{"$f":"IF(COUNT(C126:H126)>1, ROUND(STDEV(C126:H126),3),\"\")","v":""},"--","--","--"]
["Mix Temp",null,{"$f":"IF(G28>0, G28, \"\")","v":""},{"$f":"IF(N28>0, N28, \"\")","v":""},{"$f":"IF(U28>0, U28, \"\")","v":""},{"$f":"IF(G54>0, G54, \"\")","v":""},{"$f":"IF(N54>0, N54, \"\")","v":""},{"$f":"IF(U54>0, U54, \"\")","v":""},null,{"$f":"Validation!H39","v":""},{"$f":"IF(SUM(C127:H127)>0, ROUND(AVERAGE(C127:H127),1),\"\")","v":""},{"$f":"IF(COUNT(C127:H127)>1, ROUND(STDEV(C127:H127),1),\"\")","v":""},"--","--","--"]
["Gse",null,{"$f":"IF(C94<>\"\", ROUND($J$6/((100/C94)-$J$5/1.03), setup!$M$66), \"\")","v":""},{"$f":"IF(D94<>\"\", ROUND($J$6/((100/D94)-$J$5/1.03), setup!$M$66), \"\")","v":""},{"$f":"IF(E94<>\"\", ROUND($J$6/((100/E94)-$J$5/1.03), setup!$M$66), \"\")","v":""},{"$f":"IF(F94<>\"\", ROUND($J$6/((100/F94)-$J$5/1.03), setup!$M$66), \"\")","v":""},{"$f":"IF(G94<>\"\", ROUND($J$6/((100/G94)-$J$5/1.03), setup!$M$66), \"\")","v":""},{"$f":"IF(H94<>\"\", ROUND($J$6/((100/H94)-$J$5/1.03), setup!$M$66), \"\")","v":""},null,{"$f":"Validation!H34","v":""},{"$f":"IF(SUM(C128:H128)>0, ROUND(AVERAGE(C128:H128),setup!M66),\"\")","v":""},{"$f":"IF(COUNT(C128:H128)>1, ROUND(STDEV(C128:H128),setup!M66+3),\"\")","v":""},"--","--","--"]
["Pba",null,{"$f":"IF(C128<>\"\", ROUND(103*(C128-$M$5)/($M$5*C128), 1), \"\")","v":""},{"$f":"IF(D128<>\"\", ROUND(103*(D128-$M$5)/($M$5*D128), 1), \"\")","v":""},"","","","",null,{"$f":"Validation!H35","v":""},{"$f":"IF(SUM(C129:H129)>0, ROUND(AVERAGE(C129:H129),1),\"\")","v":""},{"$f":"IF(COUNT(C129:H129)>1, ROUND(STDEV(C129:H129),3),\"\")","v":""},"--","--","--"]
["Pbe",null,{"$f":"IF(C129<>\"\", ROUND($J$5-(C129*$J$6)/100,1), \"\")","v":""},{"$f":"IF(D129<>\"\", ROUND($J$5-(D129*$J$6)/100,1), \"\")","v":""},"","","","",null,{"$f":"Validation!H36","v":""},{"$f":"IF(SUM(C130:H130)>0, ROUND(AVERAGE(C130:H130),1),\"\")","v":""},{"$f":"IF(COUNT(C130:H130)>1, ROUND(STDEV(C130:H130),3),\"\")","v":""},"--","--","--"]
["dust/Peff",null,{"$f":"IF(C130<>\"\", ROUND(C117/C130,setup!$M$72), \"\")","v":""},{"$f":"IF(D130<>\"\", ROUND(D117/D130,setup!$M$72), \"\")","v":""},{"$f":"IF(E130<>\"\", ROUND(E117/E130,setup!$M$72), \"\")","v":""},{"$f":"IF(F130<>\"\", ROUND(F117/F130,setup!$M$72), \"\")","v":""},{"$f":"IF(G130<>\"\", ROUND(G117/G130,setup!$M$72), \"\")","v":""},{"$f":"IF(H130<>\"\", ROUND(H117/H130,setup!$M$72), \"\")","v":""},null,{"$f":"Validation!H33","v":""},{"$f":"IF(SUM(C131:H131)>0, ROUND(AVERAGE(C131:H131),setup!M72),\"\")","v":""},{"$f":"IF(COUNT(C131:H131)>1, ROUND(STDEV(C131:H131),4),\"\")","v":""},"--","--","--"]
["slope",null,{"$f":"IF(C97<>\"\", ROUND((C97-C96)/(LOG($P$5)-LOG($P$4)),2), \"\")","v":""},{"$f":"IF(D97<>\"\", ROUND((D97-D96)/(LOG($P$5)-LOG($P$4)),2), \"\")","v":""},"","","","",null,null,{"$f":"IF(SUM(C132:H132)>0, ROUND(AVERAGE(C132:H132),2),\"\")","v":""},{"$f":"IF(COUNT(C132:H132)>1, ROUND(STDEV(C132:H132),3),\"\")","v":""},"--","--","--"]
["corrctn factor",null,{"$f":"IF(C120<>\"\", ROUND(C95/C120, 4), \"\")","v":""},{"$f":"IF(D120<>\"\", ROUND(D95/D120, 4), \"\")","v":""},"","","","",null,{"$f":"IF('Optimum AC Test Results'!D84<>\"\", 'Optimum AC Test Results'!D84, \"\")","v":""},{"$f":"IF(SUM(C133:H133)>0, ROUND(AVERAGE(C133:H133),4),\"\")","v":""},{"$f":"IF(COUNT(C133:H133)>1, ROUND(STDEV(C133:H133),5),\"\")","v":""},"--","--","--"]
[]
[]
[{"$f":"setup!S2","v":"LaPave 502 v18.05.02"},null,null,null,null,null,null,null,null,null,null,null,null,null,null,{"$f":"TODAY()","v":"2023-03-31"}]

{"sheet":"Plant Report-Acc","index":13,"n_rows":48,"n_cols":25,"rows_kept":48,"cut":false,"hidden":false,"merged":[[0,0,0,21],[2,1,2,2],[7,4,7,5],[2,11,2,12],[2,13,2,14],[2,18,2,21],[7,6,7,15],[3,6,3,9],[3,1,3,2],[2,6,2,7],[3,11,3,12],[3,13,3,14],[3,18,3,21],[4,4,4,5],[4,6,4,7],[4,11,4,12],[4,13,4,14],[4,18,4,19],[10,2,10,5],[10,6,10,9],[10,10,10,13],[10,14,10,17],[10,18,10,21],[6,16,6,17],[5,11,5,12],[5,13,5,14],[5,18,5,19],[13,0,13,1],[13,2,13,3],[13,4,13,5],[13,6,13,7],[13,8,13,9],[11,14,11,15],[11,16,11,17],[11,18,11,19],[11,20,11,21],[12,0,12,1],[12,2,12,3],[12,4,12,5],[12,6,12,7],[12,8,12,9],[12,10,12,11],[11,2,11,3],[11,4,11,5],[11,6,11,7],[11,8,11,9],[11,10,11,11],[11,12,11,13],[13,10,13,11],[13,12,13,13],[13,14,13,15],[13,16,13,17],[13,18,13,19],[13,20,13,21],[12,12,12,13],[12,14,12,15],[12,16,12,17],[12,18,12,19],[12,20,12,21],[15,0,15,1],[15,2,15,3],[15,4,15,5],[15,6,15,7],[15,8,15,9],[14,0,14,1],[14,2,14,3],[14,4,14,5],[14,6,14,7],[14,8,14,9],[15,10,15,11],[15,12,15,13],[15,14,15,15],[15,16,15,17],[15,18,15,19],[15,20,15,21],[14,12,14,13],[14,14,14,15],[14,16,14,17],[14,18,14,19],[14,20,14,21],[14,10,14,11],[16,12,16,13],[16,14,16,15],[16,16,16,17],[16,18,16,19],[16,20,16,21],[16,0,16,1],[16,2,16,3],[16,4,16,5],[16,6,16,7],[16,8,16,9],[16,10,16,11],[19,0,19,1],[19,2,19,5],[19,6,19,9],[19,10,19,13],[19,14,19,17],[19,18,19,21],[18,0,18,1],[18,2,18,5],[18,6,18,9],[18,10,18,13],[18,14,18,17],[18,18,18,21],[21,0,21,1],[21,2,21,5],[21,6,21,9],[21,10,21,13],[21,14,21,17],[21,18,21,21],[20,0,20,1],[20,2,20,5],[20,6,20,9],[20,10,20,13],[20,14,20,17],[20,18,20,21],[23,0,23,1],[23,2,23,5],[23,6,23,9],[23,10,23,13],[23,14,23,17],[23,18,23,21],[22,0,22,1],[22,2,22,5],[22,6,22,9],[22,10,22,13],[22,14,22,17],[22,18,22,21],[25,0,25,1],[25,2,25,5],[25,6,25,9],[25,10,25,13],[25,14,25,17],[25,18,25,21],[24,0,24,1],[24,2,24,5],[24,6,24,9],[24,10,24,13],[24,14,24,17],[24,18,24,21],[27,0,27,1],[27,2,27,5],[27,6,27,9],[27,10,27,13],[27,14,27,17],[27,18,27,21],[26,0,26,1],[26,2,26,5],[26,6,26,9],[26,10,26,13],[26,14,26,17],[26,18,26,21],[29,0,29,1],[29,2,29,5],[29,6,29,9],[29,10,29,13],[29,14,29,17],[29,18,29,21],[28,0,28,1],[28,2,28,5],[28,6,28,9],[28,10,28,13],[28,14,28,17],[28,18,28,21],[31,0,31,1],[31,2,31,5],[31,6,31,9],[31,10,31,13],[31,14,31,17],[31,18,31,21],[30,0,30,1],[30,2,30,5],[30,6,30,9],[30,10,30,13],[30,14,30,17],[30,18,30,21],[32,14,32,17],[32,18,32,21],[33,0,33,1],[33,2,33,5],[33,6,33,9],[33,10,33,13],[33,14,33,17],[33,18,33,21],[32,0,32,1],[32,2,32,5],[32,6,32,9],[32,10,32,13],[35,0,35,1],[35,2,35,5],[35,6,35,9],[35,10,35,13],[35,14,35,17],[35,18,35,21],[34,0,34,1],[34,2,34,5],[34,6,34,9],[34,10,34,13],[34,14,34,17],[34,18,34,21],[37,0,37,1],[37,2,37,5],[37,6,37,9],[37,10,37,13],[37,14,37,17],[37,18,37,21],[36,0,36,1],[36,2,36,5],[36,6,36,9],[36,10,36,13],[36,14,36,17],[36,18,36,21],[39,0,39,1],[39,2,39,5],[39,6,39,9],[39,10,39,13],[39,14,39,17],[39,18,39,21],[38,0,38,1],[38,2,38,5],[38,6,38,9],[38,10,38,13],[38,14,38,17],[38,18,38,21],[45,0,45,2],[45,5,45,12],[45,15,45,21],[47,0,47,1],[47,23,47,25],[41,1,41,25],[40,0,40,1],[40,2,40,5],[40,6,40,9],[40,10,40,13],[40,14,40,17],[40,18,40,21],[14,24,14,25],[15,22,15,23],[15,24,15,25],[16,22,16,23],[16,24,16,25],[18,22,18,25],[10,22,10,25],[11,22,11,23],[11,24,11,25],[12,22,12,23],[12,24,12,25],[13,22,13,23],[13,24,13,25],[14,22,14,23],[37,22,37,25],[38,22,38,25],[39,22,39,25],[40,22,40,25],[9,0,9,25],[17,0,17,25],[31,22,31,25],[32,22,32,25],[33,22,33,25],[34,22,34,25],[35,22,35,25],[36,22,36,25],[25,22,25,25],[26,22,26,25],[27,22,27,25],[28,22,28,25],[29,22,29,25],[30,22,30,25],[19,22,19,25],[20,22,20,25],[21,22,21,25],[22,22,22,25],[23,22,23,25],[24,22,24,25]]}
["Superpave Asphalt Concrete Plant Report"]
[]
["Proj. No.",{"$f":"'Validation Input'!B2","v":0},null,null,null,"JMF No.",{"$f":"'JMF Input'!F3","v":0},null,null,null,null,"Design Level",null,{"$f":"'JMF Input'!F4","v":1},null,null,null,"Mix Type",{"$f":"'JMF Input'!E5","v":"Base Course"}]
["Proj. No.",{"$f":"'Validation Input'!B3","v":0},null,null,null,"SMM No.",{"$f":"'JMF Input'!J7","v":0},null,null,null,null,"Lot No.",null,{"$f":"'Validation Input'!G3","v":0},null,null,null,"Mix Use",{"$f":"'JMF Input'!E6","v":"Min - Patching"}]
[null,null,null,null,"Start Date",null,{"$f":"'Validation Input'!E4","v":"00:00:00"},null,null,null,null,"End Date",null,{"$f":"'Validation Input'!H4","v":"00:00:00"},null,null,null,"Purpose Code",{"$f":"'Validation Input'!M2","v":0}]
["Lot #",{"$f":"'Plant Acceptance'!F5","v":0},null,null,null,null,null,null,null,null,null,"Gsb",null,{"$f":"'Validation Input'!G5","v":0},null,null,null,"Ps",{"$f":"'Validation Input'!J5","v":100}]
["Lot Size",{"$f":"SUM('Plant Acceptance'!F14,'Plant Acceptance'!M14,'Plant Acceptance'!T14,'Plant Acceptance'!F40,'Plant Acceptance'!M40,'Plant Acceptance'!T40)","v":0},null,null,null,null,null,null,null,null,null,null,null,null,null,null,"%AC",null,{"$f":"'Validation Input'!D5","v":0}]
["No. Sublots",{"$f":"COUNT('Plant Acceptance'!B14,'Plant Acceptance'!I14,'Plant Acceptance'!P14,'Plant Acceptance'!B40,'Plant Acceptance'!I40,'Plant Acceptance'!P40)","v":5},null,null,"Plant",null,{"$f":"'JMF Input'!D7","v":0}]
[]
["Theoretical Maximum Specific Gravity, Gmm \"Rice\"  (AASHTO T209 or DOTD TR327)"]
[null,null,"Gmm1",null,null,null,"Gmm2",null,null,null,"Gmm3",null,null,null,"Gmm4",null,null,null,"Gmm5",null,null,null,"Gmm6"]
[null,null,"A",null,"B",null,"A",null,"B",null,"A",null,"B",null,"A",null,"B",null,"A",null,"B",null,"A",null,"B"]
["Wt of Mix",null,{"$f":"IF('Plant Acceptance'!D10 <> \"\",'Plant Acceptance'!D10,\"\")","v":""},null,{"$f":"IF('Plant Acceptance'!N10 <> \"\",'Plant Acceptance'!N10,\"\")","v":""},null,{"$f":"IF('Plant Acceptance'!E10 <> \"\",'Plant Acceptance'!E10,\"\")","v":""},null,{"$f":"IF('Plant Acceptance'!O10 <> \"\",'Plant Acceptance'!O10,\"\")","v":""},null,{"$f":"IF('Plant Acceptance'!F10 <> \"\",'Plant Acceptance'!F10,\"\")","v":""},null,{"$f":"IF('Plant Acceptance'!P10 <> \"\",'Plant Acceptance'!P10,\"\")","v":""},null,{"$f":"IF('Plant Acceptance'!G10 <> \"\",'Plant Acceptance'!G10,\"\")","v":""},null,{"$f":"IF('Plant Acceptance'!Q10 <> \"\",'Plant Acceptance'!Q10,\"\")","v":""},null,{"$f":"IF('Plant Acceptance'!H10 <> \"\",'Plant Acceptance'!H10,\"\")","v":""},null,{"$f":"IF('Plant Acceptance'!R10 <> \"\",'Plant Acceptance'!R10,\"\")","v":""},null,{"$f":"IF('Plant Acceptance'!I10 <> \"\",'Plant Acceptance'!I10,\"\")","v":""},null,{"$f":"IF('Plant Acceptance'!S10 <> \"\",'Plant Acceptance'!S10,\"\")","v":""}]
["Wt of Pyc & H2O",null,{"$f":"IF('Plant Acceptance'!D11 <> \"\",'Plant Acceptance'!D11,\"\")","v":""},null,{"$f":"IF('Plant Acceptance'!N11 <> \"\",'Plant Acceptance'!N11,\"\")","v":""},null,{"$f":"IF('Plant Acceptance'!E11 <> \"\",'Plant Acceptance'!E11,\"\")","v":""},null,{"$f":"IF('Plant Acceptance'!O11 <> \"\",'Plant Acceptance'!O11,\"\")","v":""},null,{"$f":"IF('Plant Acceptance'!F11 <> \"\",'Plant Acceptance'!F11,\"\")","v":""},null,{"$f":"IF('Plant Acceptance'!P11 <> \"\",'Plant Acceptance'!P11,\"\")","v":""},null,{"$f":"IF('Plant Acceptance'!G11 <> \"\",'Plant Acceptance'!G11,\"\")","v":""},null,{"$f":"IF('Plant Acceptance'!Q11 <> \"\",'Plant Acceptance'!Q11,\"\")","v":""},null,{"$f":"IF('Plant Acceptance'!H11 <> \"\",'Plant Acceptance'!H11,\"\")","v":""},null,{"$f":"IF('Plant Acceptance'!R11 <> \"\",'Plant Acceptance'!R11,\"\")","v":""},null,{"$f":"IF('Plant Acceptance'!I11 <> \"\",'Plant Acceptance'!I11,\"\")","v":""},null,{"$f":"IF('Plant Acceptance'!S11 <> \"\",'Plant Acceptance'!S11,\"\")","v":""}]
["Wt of Pyc, H2O & Mix",null,{"$f":"IF('Plant Acceptance'!D12 <> \"\",'Plant Acceptance'!D12,\"\")","v":""},null,{"$f":"IF('Plant Acceptance'!N12 <> \"\",'Plant Acceptance'!N12,\"\")","v":""},null,{"$f":"IF('Plant Acceptance'!E12 <> \"\",'Plant Acceptance'!E12,\"\")","v":""},null,{"$f":"IF('Plant Acceptance'!O12 <> \"\",'Plant Acceptance'!O12,\"\")","v":""},null,{"$f":"IF('Plant Acceptance'!F12 <> \"\",'Plant Acceptance'!F12,\"\")","v":""},null,{"$f":"IF('Plant Acceptance'!P12 <> \"\",'Plant Acceptance'!P12,\"\")","v":""},null,{"$f":"IF('Plant Acceptance'!G12 <> \"\",'Plant Acceptance'!G12,\"\")","v":""},null,{"$f":"IF('Plant Acceptance'!Q12 <> \"\",'Plant Acceptance'!Q12,\"\")","v":""},null,{"$f":"IF('Plant Acceptance'!H12 <> \"\",'Plant Acceptance'!H12,\"\")","v":""},null,{"$f":"IF('Plant Acceptance'!R12 <> \"\",'Plant Acceptance'!R12,\"\")","v":""},null,{"$f":"IF('Plant Acceptance'!I12 <> \"\",'Plant Acceptance'!I12,\"\")","v":""},null,{"$f":"IF('Plant Acceptance'!S12 <> \"\",'Plant Acceptance'!S12,\"\")","v":""}]
["Gmm, Rice Gravity",null,{"$f":"IF('Plant Acceptance'!G16<>\"\",'Plant Acceptance'!G16,\"\")","v":""},null,{"$f":"IF('Plant Acceptance'!G17<>\"\",'Plant Acceptance'!G17,\"\")","v":""},null,{"$f":"IF('Plant Acceptance'!N16<>\"\",'Plant Acceptance'!N16,\"\")","v":""},null,{"$f":"IF('Plant Acceptance'!N17<>\"\",'Plant Acceptance'!N17,\"\")","v":""},null,{"$f":"IF('Plant Acceptance'!U16<>\"\",'Plant Acceptance'!U16,\"\")","v":""},null,{"$f":"IF('Plant Acceptance'!U17<>\"\",'Plant Acceptance'!U17,\"\")","v":""},null,{"$f":"IF('Plant Acceptance'!G42<>\"\",'Plant Acceptance'!G42,\"\")","v":""},null,{"$f":"IF('Plant Acceptance'!G43<>\"\",'Plant Acceptance'!G43,\"\")","v":""},null,{"$f":"IF('Plant Acceptance'!N42<>\"\",'Plant Acceptance'!N42,\"\")","v":""},null,{"$f":"IF('Plant Acceptance'!N43<>\"\",'Plant Acceptance'!N43,\"\")","v":""},null,{"$f":"IF('Plant Acceptance'!U42<>\"\",'Plant Acceptance'!U42,\"\")","v":""},null,{"$f":"IF('Plant Acceptance'!U43<>\"\",'Plant Acceptance'!U43,\"\")","v":""}]
["Average Gmm",null,"Gmm1=",null,{"$f":"'Plant Acceptance'!C94","v":""},null,"Gmm2=",null,{"$f":"'Plant Acceptance'!D94","v":""},null,"Gmm3=",null,{"$f":"'Plant Acceptance'!E94","v":""},null,"Gmm4=",null,{"$f":"'Plant Acceptance'!F94","v":""},null,"Gmm5=",null,{"$f":"'Plant Acceptance'!G94","v":""},null,"Gmm6=",null,{"$f":"'Plant Acceptance'!H94","v":""}]
["Plant Test Properties (AASHTO T166, T209, T245/DOTD TR 304, 305, &327)"]
["Sublot No. ",null,1,null,null,null,2,null,null,null,3,null,null,null,4,null,null,null,5,null,null,null,6]
["Gmm",null,{"$f":"E17","v":""},null,null,null,{"$f":"I17","v":""},null,null,null,{"$f":"M17","v":""},null,null,null,{"$f":"Q17","v":""},null,null,null,{"$f":"U17","v":""},null,null,null,{"$f":"Y17","v":""}]
["Wt (Mass) in Air",null,{"$f":"IF('Plant Acceptance'!F19>0,'Plant Acceptance'!F19, \"\")","v":""},null,null,null,{"$f":"IF('Plant Acceptance'!M19>0,'Plant Acceptance'!M19, \"\")","v":""},null,null,null,{"$f":"IF('Plant Acceptance'!T19>0,'Plant Acceptance'!T19, \"\")","v":""},null,null,null,{"$f":"IF('Plant Acceptance'!F45>0,'Plant Acceptance'!F45, \"\")","v":""},null,null,null,{"$f":"IF('Plant Acceptance'!M45>0,'Plant Acceptance'!M45, \"\")","v":""},null,null,null,{"$f":"IF('Plant Acceptance'!T45>0,'Plant Acceptance'!T45, \"\")","v":""}]
["Wt (Mass) in Water",null,{"$f":"IF('Plant Acceptance'!F20>0,'Plant Acceptance'!F20, \"\")","v":""},null,null,null,{"$f":"IF('Plant Acceptance'!M20>0,'Plant Acceptance'!M20, \"\")","v":""},null,null,null,{"$f":"IF('Plant Acceptance'!T20>0,'Plant Acceptance'!T20, \"\")","v":""},null,null,null,{"$f":"IF('Plant Acceptance'!F46>0,'Plant Acceptance'!F46, \"\")","v":""},null,null,null,{"$f":"IF('Plant Acceptance'!M46>0,'Plant Acceptance'!M46, \"\")","v":""},null,null,null,{"$f":"IF('Plant Acceptance'!T46>0,'Plant Acceptance'!T46, \"\")","v":""}]
["SSD Wt (Mass)",null,{"$f":"IF('Plant Acceptance'!F21>0,'Plant Acceptance'!F21, \"\")","v":""},null,null,null,{"$f":"IF('Plant Acceptance'!M21>0,'Plant Acceptance'!M21, \"\")","v":""},null,null,null,{"$f":"IF('Plant Acceptance'!T21>0,'Plant Acceptance'!T21, \"\")","v":""},null,null,null,{"$f":"IF('Plant Acceptance'!F47>0,'Plant Acceptance'!F47, \"\")","v":""},null,null,null,{"$f":"IF('Plant Acceptance'!M47>0,'Plant Acceptance'!M47, \"\")","v":""},null,null,null,{"$f":"IF('Plant Acceptance'!T47>0,'Plant Acceptance'!T47, \"\")","v":""}]
["Gmb, ND",null,{"$f":"'Plant Acceptance'!C95","v":""},null,null,null,{"$f":"'Plant Acceptance'!D95","v":""},null,null,null,{"$f":"'Plant Acceptance'!E95","v":""},null,null,null,{"$f":"'Plant Acceptance'!F95","v":""},null,null,null,{"$f":"'Plant Acceptance'!G95","v":""},null,null,null,{"$f":"'Plant Acceptance'!H95","v":""}]
["Density",null,{"$f":"IF(C24<>\"\", ROUND(C24*62.4,1), \"\")","v":""},null,null,null,{"$f":"IF(G24<>\"\", ROUND(G24*62.4,1), \"\")","v":""},null,null,null,{"$f":"IF(K24<>\"\", ROUND(K24*62.4,1), \"\")","v":""},null,null,null,{"$f":"IF(O24<>\"\", ROUND(O24*62.4,1), \"\")","v":""},null,null,null,{"$f":"IF(S24<>\"\", ROUND(S24*62.4,1), \"\")","v":""},null,null,null,{"$f":"IF(W24<>\"\", ROUND(W24*62.4,1), \"\")","v":""}]
["% Gmm, ND",null,{"$f":"'Plant Acceptance'!C97","v":""},null,null,null,{"$f":"'Plant Acceptance'!D97","v":""},null,null,null,{"$f":"'Plant Acceptance'!E97","v":""},null,null,null,{"$f":"'Plant Acceptance'!F97","v":""},null,null,null,{"$f":"'Plant Acceptance'!G97","v":""},null,null,null,{"$f":"'Plant Acceptance'!H97","v":""}]
["Ht. @ NI (mm)",null,{"$f":"IF('Plant Acceptance'!F22>0,'Plant Acceptance'!F22, \"\")","v":""},null,null,null,{"$f":"IF('Plant Acceptance'!M22>0,'Plant Acceptance'!M22, \"\")","v":""},null,null,null,{"$f":"IF('Plant Acceptance'!T22>0,'Plant Acceptance'!T22, \"\")","v":""},null,null,null,{"$f":"IF('Plant Acceptance'!F48>0,'Plant Acceptance'!F48, \"\")","v":""},null,null,null,{"$f":"IF('Plant Acceptance'!M48>0,'Plant Acceptance'!M48, \"\")","v":""},null,null,null,{"$f":"IF('Plant Acceptance'!T48>0,'Plant Acceptance'!T48, \"\")","v":""}]
["Ht. @ ND (mm)",null,{"$f":"IF('Plant Acceptance'!F23>0,'Plant Acceptance'!F23, \"\")","v":""},null,null,null,{"$f":"IF('Plant Acceptance'!M23>0,'Plant Acceptance'!M23, \"\")","v":""},null,null,null,{"$f":"IF('Plant Acceptance'!T23>0,'Plant Acceptance'!T23, \"\")","v":""},null,null,null,{"$f":"IF('Plant Acceptance'!F49>0,'Plant Acceptance'!F49, \"\")","v":""},null,null,null,{"$f":"IF('Plant Acceptance'!M49>0,'Plant Acceptance'!M49, \"\")","v":""},null,null,null,{"$f":"IF('Plant Acceptance'!T49>0,'Plant Acceptance'!T49, \"\")","v":""}]
["% Gmm, NI",null,{"$f":"'Plant Acceptance'!C96","v":""},null,null,null,{"$f":"'Plant Acceptance'!D96","v":""},null,null,null,{"$f":"'Plant Acceptance'!E96","v":""},null,null,null,{"$f":"'Plant Acceptance'!F96","v":""},null,null,null,{"$f":"'Plant Acceptance'!G96","v":""},null,null,null,{"$f":"'Plant Acceptance'!H96","v":""}]
["% Voids, Va",null,{"$f":"'Plant Acceptance'!C100","v":""},null,null,null,{"$f":"'Plant Acceptance'!D100","v":""},null,null,null,{"$f":"'Plant Acceptance'!E100","v":""},null,null,null,{"$f":"'Plant Acceptance'!F100","v":""},null,null,null,{"$f":"'Plant Acceptance'!G100","v":""},null,null,null,{"$f":"'Plant Acceptance'!H100","v":""}]
["% VMA",null,{"$f":"'Plant Acceptance'!C99","v":""},null,null,null,{"$f":"'Plant Acceptance'!D99","v":""},null,null,null,{"$f":"'Plant Acceptance'!E99","v":""},null,null,null,{"$f":"'Plant Acceptance'!F99","v":""},null,null,null,{"$f":"'Plant Acceptance'!G99","v":""},null,null,null,{"$f":"'Plant Acceptance'!H99","v":""}]
["% VFA",null,{"$f":"'Plant Acceptance'!C98","v":""},null,null,null,{"$f":"'Plant Acceptance'!D98","v":""},null,null,null,{"$f":"'Plant Acceptance'!E98","v":""},null,null,null,{"$f":"'Plant Acceptance'!F98","v":""},null,null,null,{"$f":"'Plant Acceptance'!G98","v":""},null,null,null,{"$f":"'Plant Acceptance'!H98","v":""}]
["% AC Meter",null,{"$f":"'Plant Acceptance'!C125","v":""},null,null,null,{"$f":"'Plant Acceptance'!D125","v":""},null,null,null,{"$f":"'Plant Acceptance'!E125","v":""},null,null,null,{"$f":"'Plant Acceptance'!F125","v":""},null,null,null,{"$f":"'Plant Acceptance'!G125","v":""},null,null,null,{"$f":"'Plant Acceptance'!H125","v":""}]
["Comp. Temp.",null,{"$f":"'Plant Acceptance'!C102","v":""},null,null,null,{"$f":"'Plant Acceptance'!D102","v":""},null,null,null,{"$f":"'Plant Acceptance'!E102","v":""},null,null,null,{"$f":"'Plant Acceptance'!F102","v":""},null,null,null,{"$f":"'Plant Acceptance'!G102","v":""},null,null,null,{"$f":"'Plant Acceptance'!H102","v":""}]
["Dust/Peff",null,{"$f":"'Plant Acceptance'!C131","v":""},null,null,null,{"$f":"'Plant Acceptance'!D131","v":""},null,null,null,{"$f":"'Plant Acceptance'!E131","v":""},null,null,null,{"$f":"'Plant Acceptance'!F131","v":""},null,null,null,{"$f":"'Plant Acceptance'!G131","v":""},null,null,null,{"$f":"'Plant Acceptance'!H131","v":""}]
["Gse",null,{"$f":"'Plant Acceptance'!C128","v":""},null,null,null,{"$f":"'Plant Acceptance'!D128","v":""},null,null,null,{"$f":"'Plant Acceptance'!E128","v":""},null,null,null,{"$f":"'Plant Acceptance'!F128","v":""},null,null,null,{"$f":"'Plant Acceptance'!G128","v":""},null,null,null,{"$f":"'Plant Acceptance'!H128","v":""}]
["Pba",null,{"$f":"'Plant Acceptance'!C129","v":""},null,null,null,{"$f":"'Plant Acceptance'!D129","v":""},null,null,null,{"$f":"'Plant Acceptance'!E129","v":""},null,null,null,{"$f":"'Plant Acceptance'!F129","v":""},null,null,null,{"$f":"'Plant Acceptance'!G129","v":""},null,null,null,{"$f":"'Plant Acceptance'!H129","v":""}]
["Pbe",null,{"$f":"'Plant Acceptance'!C130","v":""},null,null,null,{"$f":"'Plant Acceptance'!D130","v":""},null,null,null,{"$f":"'Plant Acceptance'!E130","v":""},null,null,null,{"$f":"'Plant Acceptance'!F130","v":""},null,null,null,{"$f":"'Plant Acceptance'!G130","v":""},null,null,null,{"$f":"'Plant Acceptance'!H130","v":""}]
["Total Sublot Tons",null,{"$f":"'Plant Acceptance'!C93","v":""},null,null,null,{"$f":"'Plant Acceptance'!D93","v":""},null,null,null,{"$f":"'Plant Acceptance'!E93","v":""},null,null,null,{"$f":"'Plant Acceptance'!F93","v":""},null,null,null,{"$f":"'Plant Acceptance'!G93","v":""},null,null,null,{"$f":"'Plant Acceptance'!H93","v":""}]
["Sample Taken, Tons Accum.",null,{"$f":"IF('Plant Acceptance'!G31>0,'Plant Acceptance'!G31, \"\")","v":""},null,null,null,{"$f":"IF('Plant Acceptance'!N31>0,'Plant Acceptance'!N31, \"\")","v":""},null,null,null,{"$f":"IF('Plant Acceptance'!U31>0,'Plant Acceptance'!U31, \"\")","v":""},null,null,null,{"$f":"IF('Plant Acceptance'!G57>0,'Plant Acceptance'!G57, \"\")","v":""},null,null,null,{"$f":"IF('Plant Acceptance'!N57>0,'Plant Acceptance'!N57, \"\")","v":""},null,null,null,{"$f":"IF('Plant Acceptance'!U57>0,'Plant Acceptance'!U57, \"\")","v":""}]
["Mix Temperature",null,{"$f":"'Plant Acceptance'!C127","v":""},null,null,null,{"$f":"'Plant Acceptance'!D127","v":""},null,null,null,{"$f":"'Plant Acceptance'!E127","v":""},null,null,null,{"$f":"'Plant Acceptance'!F127","v":""},null,null,null,{"$f":"'Plant Acceptance'!G127","v":""},null,null,null,{"$f":"'Plant Acceptance'!H127","v":""}]
["Remarks:",{"$f":"IF('Plant Acceptance'!B85<>\"\",'Plant Acceptance'!B85,\"\")","v":" Plant Acceptance Comment"}]
[]
[]
[]
["DOTD Cert. Asphaltic Concrete Plant Tech.",null,null,null,null,"QC Cert. Asphaltic Concrete Plant Tech.",null,null,null,null,null,null,null,null,null,"APPROVED BY: District Laboratory Engineer"]
[]
[{"$f":"setup!S2","v":"LaPave 502 v18.05.02"},null,null,null,null,null,null,null,null,null,null,null,null,null,null,null,null,null,null,null,null,null,null,{"$f":"TODAY()","v":"2023-03-31"}]

{"sheet":"Plant QC","index":14,"n_rows":136,"n_cols":34,"rows_kept":136,"cut":false,"hidden":false,"merged":[[0,0,0,20],[2,1,2,2],[2,12,2,13],[2,14,2,15],[3,5,3,6],[9,0,9,2],[9,10,9,12],[10,0,10,2],[10,10,10,12],[2,5,2,10],[11,0,11,2],[11,10,11,12],[4,1,4,2],[4,17,5,20],[5,1,5,2],[5,5,5,6],[8,0,8,2],[8,10,8,12],[15,0,15,1],[15,7,15,8],[15,14,15,15],[16,0,16,1],[16,7,16,8],[16,14,16,15],[13,1,13,2],[13,8,13,9],[13,15,13,16],[14,1,14,2],[14,8,14,9],[14,15,14,16],[19,0,19,1],[19,7,19,8],[19,14,19,15],[20,0,20,1],[20,7,20,8],[20,14,20,15],[17,0,17,1],[17,7,17,8],[17,14,17,15],[18,0,18,1],[18,7,18,8],[18,14,18,15],[23,0,23,1],[23,7,23,8],[23,14,23,15],[24,0,24,1],[24,7,24,8],[24,14,24,15],[21,0,21,1],[21,7,21,8],[21,14,21,15],[22,0,22,1],[22,7,22,8],[22,14,22,15],[27,0,27,1],[27,7,27,8],[27,14,27,15],[28,0,28,1],[28,7,28,8],[28,14,28,15],[25,0,25,1],[25,7,25,8],[25,14,25,15],[26,0,26,1],[26,7,26,8],[26,14,26,15],[31,0,31,1],[31,7,31,8],[31,14,31,15],[32,0,32,1],[32,7,32,8],[32,14,32,15],[29,0,29,1],[29,7,29,8],[29,14,29,15],[30,0,30,1],[30,7,30,8],[30,14,30,15],[41,0,41,1],[41,7,41,8],[41,14,41,15],[42,0,42,1],[42,7,42,8],[42,14,42,15],[39,1,39,2],[39,8,39,9],[39,15,39,16],[40,1,40,2],[40,8,40,9],[40,15,40,16],[45,0,45,1],[45,7,45,8],[45,14,45,15],[46,0,46,1],[46,7,46,8],[46,14,46,15],[43,0,43,1],[43,7,43,8],[43,14,43,15],[44,0,44,1],[44,7,44,8],[44,14,44,15],[49,0,49,1],[49,7,49,8],[49,14,49,15],[50,0,50,1],[50,7,50,8],[50,14,50,15],[47,0,47,1],[47,7,47,8],[47,14,47,15],[48,0,48,1],[48,7,48,8],[48,14,48,15],[53,0,53,1],[53,7,53,8],[53,14,53,15],[54,0,54,1],[54,7,54,8],[54,14,54,15],[51,0,51,1],[51,7,51,8],[51,14,51,15],[52,0,52,1],[52,7,52,8],[52,14,52,15],[57,0,57,1],[57,7,57,8],[57,14,57,15],[58,0,58,1],[58,7,58,8],[58,14,58,15],[55,0,55,1],[55,7,55,8],[55,14,55,15],[56,0,56,1],[56,7,56,8],[56,14,56,15],[65,19,65,20],[68,0,68,1],[69,0,69,1],[70,0,70,1],[71,0,71,1],[72,0,72,1],[73,0,73,1],[74,0,74,1],[67,15,67,16],[69,10,69,12],[70,10,70,12],[71,10,71,12],[72,10,72,12],[73,10,73,12],[74,10,74,12],[89,0,89,17],[91,15,91,17],[92,15,92,17],[93,15,93,17],[94,15,94,17],[95,15,95,17],[75,0,75,1],[77,0,77,1],[78,0,78,1],[79,0,79,1],[80,0,80,1],[82,0,82,1],[86,15,86,16],[84,1,84,17],[104,15,104,17],[105,15,105,17],[106,15,106,17],[107,15,107,17],[108,15,108,17],[109,15,109,17],[96,15,96,17],[97,15,97,17],[98,15,98,17],[99,15,99,17],[100,15,100,17],[101,15,101,17],[130,15,130,17],[131,15,131,17],[132,15,132,17],[135,15,135,16],[67,0,67,5],[67,7,67,8],[124,15,124,17],[125,15,125,17],[126,15,126,17],[127,15,127,17],[128,15,128,17],[129,15,129,17],[116,15,116,17],[119,15,119,17],[120,15,120,17],[121,15,121,17],[122,15,122,17],[123,15,123,17],[110,15,110,17],[111,15,111,17],[112,15,112,17],[113,15,113,17],[114,15,114,17],[115,15,115,17]]}
["Data for Plant QC",null,null,null,null,null,null,null,null,null,null,null,null,null,null,null,null,null,null,null,null,null,null,null,null,"n=3","n=4","n=5 - 6","n=7 - 9","n=10 - 12","n=13 - 15","PWL"]
[null,null,null,null,null,null,null,null,null,null,null,null,null,null,null,null,null,null,null,null,null,null,null,null,null,0,0,0,0,0,0,50]
["DATE",null,null,null,"Plant",{"$f":"'JMF Input'!D7","v":0},null,null,null,null,null,"Mix Type",{"$f":"'JMF Input'!E5","v":"Base Course"},null,"Gyr. Rev",null,null,null,null,null,null,null,null,null,null,0.03,0.03,0.03,0.03,0.03,0.03,{"$f":"AF2+1","v":51}]
[null,null,null,null,"JMF No.",{"$f":"'JMF Input'!F3","v":0},null,null,null,null,null,"Design level",{"$f":"'JMF Input'!F4","v":1},null,"Nini ",{"$f":"'JMF Input'!N23","v":7},null,null,null,null,null,null,null,null,null,7.0000000000000007E-2,0.06,0.06,0.05,0.05,0.05,{"$f":"AF3+1","v":52}]
["Start Date",{"$f":"'Plant Acceptance'!B5","v":"00:00:00"},null,null,null,null,null,null,"%AC",{"$f":"'JMF Input'!J37","v":0},null,"Gsb",{"$f":"'JMF Input'!J39","v":0},null,"Ndes ",{"$f":"'JMF Input'!N24","v":55},null,"With Oven Temp Corr.",null,null,null,null,null,null,null,0.11,0.09,0.08,0.08,0.08,0.08,53]
["End Date",{"$f":"'Plant Acceptance'!B6","v":"00:00:00"},null,null,"LOT",{"$f":"'Plant Acceptance'!F5","v":0},null,null,"Ps",{"$f":"100-'JMF Input'!J37","v":100},null,"AC Corr Factor",{"$f":"'JMF Input'!K6","v":4.1376058339801904},null,"Nmax ",{"$f":"'JMF Input'!N25","v":90},null,null,null,null,null,null,null,null,null,0.14000000000000001,0.12,0.11,0.11,0.1,0.1,54]
[null,null,null,null,null,null,null,null,null,null,null,null,null,null,null,null,null,null,null,null,null,null,null,null,null,0.18,0.15,0.14000000000000001,0.13,0.13,0.13,55]
["Theoretical Maximum Specific Gravity, Gmm \"Rice\" 1",null,null,null,null,null,null,null,null,null,"Theoretical Maximum Specific Gravity, Gmm \"Rice\" 2",null,null,null,null,null,null,null,null,null,null,null,null,null,null,0.22,0.18,0.17,0.16,0.16,0.15,56]
[null,null,null,{"$f":"IF(B14<>\"\",B14,\"\")","v":1},{"$f":"IF(I14<>\"\",I14,\"\")","v":2},{"$f":"IF(P14<>\"\",P14,\"\")","v":3},{"$f":"IF(B40<>\"\",B40,\"\")","v":4},{"$f":"IF(I40<>\"\",I40,\"\")","v":5},{"$f":"IF(P40<>\"\",P40,\"\")","v":""},null,null,null,null,{"$f":"IF(B14<>\"\",B14,\"\")","v":1},{"$f":"IF(I14<>\"\",I14,\"\")","v":2},{"$f":"IF(P14<>\"\",P14,\"\")","v":3},{"$f":"IF(B40<>\"\",B40,\"\")","v":4},{"$f":"IF(I40<>\"\",I40,\"\")","v":5},{"$f":"IF(P40<>\"\",P40,\"\")","v":""},null,null,null,null,null,null,0.25,0.21,0.2,0.19,0.18,0.18,57]
["Wt of Mix",null,null,null,null,null,null,null,null,null,"Wt of Mix",null,null,null,null,null,null,null,null,null,null,null,null,null,null,0.28999999999999998,0.24,0.23,0.21,0.21,0.21,58]
["Wt of Pyc & Water",null,null,null,null,null,null,null,null,null,"Wt of Pyc & Water",null,null,null,null,null,null,null,null,null,null,null,null,null,null,0.32,0.27,0.25,0.24,0.24,0.23,59]
["Wt of Pyc, Water & Mix",null,null,null,null,null,null,null,null,null,"Wt of Pyc, Water & Mix",null,null,null,null,null,null,null,null,null,null,null,null,null,null,0.36,0.3,0.28000000000000003,0.27,0.26,0.26,60]
[null,null,null,null,null,null,null,null,null,null,null,null,null,null,null,null,null,null,null,null,null,null,null,null,null,0.39,0.33,0.31,0.3,0.3,0.28999999999999998,61]
["Sublot # ",{"$f":"'Plant Acceptance'!B14:C14","v":1},null,null,null,null,null,"Sublot # ",{"$f":"'Plant Acceptance'!I14:J14","v":2},null,null,null,null,null,"Sublot # ",{"$f":"'Plant Acceptance'!P14:Q14","v":3},null,null,null,null,null,null,null,null,null,0.43,0.36,0.34,0.33,0.32,0.31,62,null,"Luanna recommended all gradations to one decimal to avoid standard deviation = 0."]
[null,"Gradation",null,"% Pass",null,"Volumetrics",null,null,"Gradation",null,"% Pass",null,"Volumetrics",null,null,"Gradation",null,"% Pass",null,"Volumetrics",null,null,null,null,null,0.46,0.39,0.37,0.35,0.35,0.34,63]
["2\"         50",null,null,{"$f":"IF($C$31=0,\" \",ROUND(100-(C16/$C$31)*100,setup!M68))","v":" "},null,"Rice 1",{"$f":"IF(D11>0, ROUND(D10/(D10+D11-D12),setup!M65), \"\")","v":""},"2\"         50",null,null,{"$f":"IF($J$31=0,\" \",ROUND(100-(J16/$J$31)*100,setup!$M$68))","v":" "},null,"Rice 1",{"$f":"IF(E11>0, ROUND(E10/(E10+E11-E12),setup!M65), \"\")","v":""},"2\"         50",null,null,{"$f":"IF($Q$31=0,\" \",ROUND(100-(Q16/$Q$31)*100,setup!M68))","v":" "},null,"Rice 1",{"$f":"IF(F11>0, ROUND(F10/(F10+F11-F12),setup!M65), \"\")","v":""},null,null,null,null,0.49,0.42,0.4,0.38,0.37,0.37,64]
["1.5\"    37.5",null,null,{"$f":"IF($C$31=0,\" \",(IF(C17=0,D16,ROUND(100-(SUM($C$16:C17)/$C$31)*100,setup!M68))))","v":" "},null,"Rice 2",{"$f":"IF(N11>0, ROUND(N10/(N10+N11-N12),setup!M65), \"\")","v":""},"1.5\"    37.5",null,null,{"$f":"IF($J$31=0,\" \",(IF(J17=0,K16,ROUND(100-(SUM($J$16:J17)/$J$31)*100,setup!$M$68))))","v":" "},null,"Rice 2",{"$f":"IF(O11>0, ROUND(O10/(O10+O11-O12),setup!M65), \"\")","v":""},"1.5\"    37.5",null,null,{"$f":"IF($Q$31=0,\" \",(IF(Q17=0,R16,ROUND(100-(SUM($Q$16:Q17)/$Q$31)*100,setup!$M$68))))","v":" "},null,"Rice 2",{"$f":"IF(P11>0, ROUND(P10/(P10+P11-P12),setup!M65), \"\")","v":""},null,null,null,null,0.53,0.45,0.43,0.41,0.4,0.4,{"$f":"AF16+1","v":65}]
["1\"         25",null,null,{"$f":"IF($C$31=0,\" \",(IF(C18=0,D17,ROUND(100-(SUM($C$16:C18)/$C$31)*100,setup!M68))))","v":" "},null,null,null,"1\"         25",null,null,{"$f":"IF($J$31=0,\" \",(IF(J18=0,K17,ROUND(100-(SUM($J$16:J18)/$J$31)*100,setup!$M$68))))","v":" "},null,null,null,"1\"         25",null,null,{"$f":"IF($Q$31=0,\" \",(IF(Q18=0,R17,ROUND(100-(SUM($Q$16:Q18)/$Q$31)*100,setup!$M$68))))","v":" "},null,null,null,null,null,null,null,0.56000000000000005,0.48,0.46,0.44,0.43,0.42,66]
["3/4\"       19",null,null,{"$f":"IF($C$31=0,\" \",(IF(C19=0,D18,ROUND(100-(SUM($C$16:C19)/$C$31)*100,setup!M68))))","v":" "},"Air ",null,null,"3/4\"       19",null,null,{"$f":"IF($J$31=0,\" \",(IF(J19=0,K18,ROUND(100-(SUM($J$16:J19)/$J$31)*100,setup!$M$68))))","v":" "},"Air ",null,null,"3/4\"       19",null,null,{"$f":"IF($Q$31=0,\" \",(IF(Q19=0,R18,ROUND(100-(SUM($Q$16:Q19)/$Q$31)*100,setup!$M$68))))","v":" "},"Air ",null,null,null,null,null,null,0.59,0.51,0.49,0.47,0.46,0.45,67]
["1/2\"    12.5",null,null,{"$f":"IF($C$31=0,\" \",(IF(C20=0,D19,ROUND(100-(SUM($C$16:C20)/$C$31)*100,setup!M68))))","v":" "},"Water",null,null,"1/2\"    12.5",null,null,{"$f":"IF($J$31=0,\" \",(IF(J20=0,K19,ROUND(100-(SUM($J$16:J20)/$J$31)*100,setup!$M$68))))","v":" "},"Water",null,null,"1/2\"    12.5",null,null,{"$f":"IF($Q$31=0,\" \",(IF(Q20=0,R19,ROUND(100-(SUM($Q$16:Q20)/$Q$31)*100,setup!$M$68))))","v":" "},"Water",null,null,null,null,null,null,0.62,0.54,0.52,0.5,0.48,0.48,68]
["3/8\"     9.5",null,null,{"$f":"IF($C$31=0,\" \",(IF(C21=0,D20,ROUND(100-(SUM($C$16:C21)/$C$31)*100,setup!M68))))","v":" "},"SSD",null,null,"3/8\"     9.5",null,null,{"$f":"IF($J$31=0,\" \",(IF(J21=0,K20,ROUND(100-(SUM($J$16:J21)/$J$31)*100,setup!$M$68))))","v":" "},"SSD",null,null,"3/8\"     9.5",null,null,{"$f":"IF($Q$31=0,\" \",(IF(Q21=0,R20,ROUND(100-(SUM($Q$16:Q21)/$Q$31)*100,setup!$M$68))))","v":" "},"SSD",null,null,null,null,null,null,0.65,0.56999999999999995,0.55000000000000004,0.53,0.51,0.51,69]
["#4      4.75",null,null,{"$f":"IF($C$31=0,\" \",(IF(C22=0,D21,ROUND(100-(SUM($C$16:C22)/$C$31)*100,setup!M68))))","v":" "},"Ht@Ni",null,null,"#4      4.75",null,null,{"$f":"IF($J$31=0,\" \",(IF(J22=0,K21,ROUND(100-(SUM($J$16:J22)/$J$31)*100,setup!$M$68))))","v":" "},"Ht@Ni",null,null,"#4      4.75",null,null,{"$f":"IF($Q$31=0,\" \",(IF(Q22=0,R21,ROUND(100-(SUM($Q$16:Q22)/$Q$31)*100,setup!$M$68))))","v":" "},"Ht@Ni",null,null,null,null,null,null,0.68,0.6,0.57999999999999996,0.55000000000000004,0.54,0.54,70]
["#8      2.36",null,null,{"$f":"IF($C$31=0,\" \",(IF(C23=0,D22,ROUND(100-(SUM($C$16:C23)/$C$31)*100,setup!M68))))","v":" "},"Ht@Nd",null,null,"#8      2.36",null,null,{"$f":"IF($J$31=0,\" \",(IF(J23=0,K22,ROUND(100-(SUM($J$16:J23)/$J$31)*100,setup!$M$68))))","v":" "},"Ht@Nd",null,null,"#8      2.36",null,null,{"$f":"IF($Q$31=0,\" \",(IF(Q23=0,R22,ROUND(100-(SUM($Q$16:Q23)/$Q$31)*100,setup!$M$68))))","v":" "},"Ht@Nd",null,null,null,null,null,null,0.71,0.63,0.6,0.57999999999999996,0.56999999999999995,0.56000000000000005,71]
["#16     1.18",null,null,{"$f":"IF($C$31=0,\" \",(IF(C24=0,D23,ROUND(100-(SUM($C$16:C24)/$C$31)*100,setup!M68))))","v":" "},"Ht@Nmax",null,null,"#16     1.18",null,null,{"$f":"IF($J$31=0,\" \",(IF(J24=0,K23,ROUND(100-(SUM($J$16:J24)/$J$31)*100,setup!$M$68))))","v":" "},"Ht@Nmax",null,null,"#16     1.18",null,null,{"$f":"IF($Q$31=0,\" \",(IF(Q24=0,R23,ROUND(100-(SUM($Q$16:Q24)/$Q$31)*100,setup!$M$68))))","v":" "},"Ht@Nmax",null,null,null,null,null,null,0.74,0.66,0.64,0.61,0.6,0.59,72]
["#30      0.6",null,null,{"$f":"IF($C$31=0,\" \",(IF(C25=0,D24,ROUND(100-(SUM($C$16:C25)/$C$31)*100,setup!M68))))","v":" "},null,null,null,"#30      0.6",null,null,{"$f":"IF($J$31=0,\" \",(IF(J25=0,K24,ROUND(100-(SUM($J$16:J25)/$J$31)*100,setup!$M$68))))","v":" "},null,null,null,"#30      0.6",null,null,{"$f":"IF($Q$31=0,\" \",(IF(Q25=0,R24,ROUND(100-(SUM($Q$16:Q25)/$Q$31)*100,setup!$M$68))))","v":" "},null,null,null,null,null,null,null,0.77,0.69,0.67,0.64,0.63,0.62,73]
["#50      0.3",null,null,{"$f":"IF($C$31=0,\" \",(IF(C26=0,D25,ROUND(100-(SUM($C$16:C26)/$C$31)*100,setup!M68))))","v":" "},null,"Meter AC",null,"#50      0.3",null,null,{"$f":"IF($J$31=0,\" \",(IF(J26=0,K25,ROUND(100-(SUM($J$16:J26)/$J$31)*100,setup!$M$68))))","v":" "},null,"Meter AC",null,"#50      0.3",null,null,{"$f":"IF($Q$31=0,\" \",(IF(Q26=0,R25,ROUND(100-(SUM($Q$16:Q26)/$Q$31)*100,setup!$M$68))))","v":" "},null,"Meter AC",null,null,null,null,null,0.79,0.72,0.7,0.67,0.66,0.66,74]
["#100   0.15",null,null,{"$f":"IF($C$31=0,\" \",(IF(C27=0,D26,ROUND(100-(SUM($C$16:C27)/$C$31)*100,setup!M68))))","v":" "},null,"Comp Temp",null,"#100   0.15",null,null,{"$f":"IF($J$31=0,\" \",(IF(J27=0,K26,ROUND(100-(SUM($J$16:J27)/$J$31)*100,setup!$M$68))))","v":" "},null,"Comp Temp",null,"#100   0.15",null,null,{"$f":"IF($Q$31=0,\" \",(IF(Q27=0,R26,ROUND(100-(SUM($Q$16:Q27)/$Q$31)*100,setup!$M$68))))","v":" "},null,"Comp Temp",null,null,null,null,null,0.82,0.75,0.73,0.71,0.69,0.69,75]
["#200  0.075",null,null,{"$f":"IF($C$31=0,\" \",(IF(C28=0,D27,ROUND(100-(SUM($C$16:C28)/$C$31)*100,setup!M69))))","v":" "},null,"Mix Temp",null,"#200  0.075",null,null,{"$f":"IF($J$31=0,\" \",(IF(J28=0,K27,ROUND(100-(SUM($J$16:J28)/$J$31)*100,setup!$M$69))))","v":" "},null,"Mix Temp",null,"#200  0.075",null,null,{"$f":"IF($Q$31=0,\" \",(IF(Q28=0,R27,ROUND(100-(SUM($Q$16:Q28)/$Q$31)*100,setup!$M$69))))","v":" "},null,"Mix Temp",null,null,null,null,null,0.84,0.78,0.76,0.74,0.72,0.72,76]
["Pass",null,null,null,null,"AntiStrip",null,"Pass",null,null,null,null,"AntiStrip",null,"Pass",null,null,null,null,"AntiStrip",null,null,null,null,null,0.87,0.81,0.79,0.77,0.76,0.75,77]
["Dec Loss",null,{"$f":"IF(G34>0, G34-G35, \"\")","v":""},null,null,null,null,"Dec Loss",null,{"$f":"IF(N34>0, N34-N35, \"\")","v":""},null,null,null,null,"Dec Loss",null,{"$f":"IF(U34>0, U34-U35, \"\")","v":""},null,null,null,null,null,null,null,null,0.89,0.84,0.82,0.8,0.79,0.78,78]
["Cum. Total",null,{"$f":"SUM(C16:C30)","v":0},null,null,"Sample Taken-Tons",null,"Cum. Total",null,{"$f":"SUM(J16:J30)","v":0},null,null,"Sample Taken-Tons",null,"Cum. Total",null,{"$f":"SUM(Q16:Q30)","v":0},null,null,"Sample Taken-Tons",null,null,null,null,null,0.92,0.87,0.85,0.83,0.82,0.82,79]
["%AC",null,{"$f":"IF(E37<>\"\", ROUND(E37-M6,setup!M71), \"\")","v":""},null,null,null,null,"%AC",null,{"$f":"IF(L37<>\"\", ROUND(L37-U6,setup!M71), \"\")","v":""},null,null,null,null,"%AC",null,{"$f":"IF(S37<>\"\", ROUND(S37-AB6,setup!M71), \"\")","v":""},null,null,null,null,null,null,null,null,0.94,0.9,0.88,0.87,0.85,0.85,80]
["%Crushed",null,{"$f":"IF(SUM(C16:C22)>0, ROUND(G37/SUM(C16:C22)*100,0), \"\")","v":""},null,null,null,null,"%Crushed",null,{"$f":"IF(SUM(J16:J22)>0, ROUND(N37/SUM(J16:J22)*100,0), \"\")","v":""},null,null,null,null,"%Crushed",null,{"$f":"IF(SUM(Q16:Q22)>0, ROUND(U37/SUM(Q16:Q22)*100,0), \"\")","v":""},null,null,null,null,null,null,null,null,0.96,0.93,0.92,0.9,0.89,0.89,81]
["MC Pan Wt",null,null,{"$f":"IF($R$5=\"No Oven Temp Corr.\",\"Tr. Bskt\", \"Wt of Mix\")","v":"Wt of Mix"},null,"Int.DryWt",null,"MC Pan Wt",null,null,{"$f":"IF($R$5=\"No Oven Temp Corr.\",\"Tr. Bskt\", \"Wt of Mix\")","v":"Wt of Mix"},null,"Int.DryWt",null,"MC Pan Wt",null,null,{"$f":"IF($R$5=\"No Oven Temp Corr.\",\"Tr. Bskt\", \"Wt of Mix\")","v":"Wt of Mix"},null,"Int.DryWt",null,null,null,null,null,0.98,0.96,0.95,0.94,0.93,0.92,82]
["MC Initial Wt",null,null,{"$f":"IF($R$5=\"No Oven Temp Corr.\",\"Bskt+Mix w/AC\", \"Wt. Loss\")","v":"Wt. Loss"},null,"AfterWash",null,"MC Initial Wt",null,null,{"$f":"IF($R$5=\"No Oven Temp Corr.\",\"Bskt+Mix w/AC\", \"Wt. Loss\")","v":"Wt. Loss"},null,"AfterWash",null,"MC Initial Wt",null,null,{"$f":"IF($R$5=\"No Oven Temp Corr.\",\"Bskt+Mix w/AC\", \"Wt. Loss\")","v":"Wt. Loss"},null,"AfterWash",null,null,null,null,null,1,0.99,0.98,0.97,0.96,0.96,83]
["MC Final Wt",null,null,{"$f":"IF($R$5=\"No Oven Temp Corr.\",\"Bskt minus AC\", \"Temp. Corr.\")","v":"Temp. Corr."},null,"% Diff",{"$f":"IF(G34>0, ROUND((G34-C31)/G34*100,1),\"\")","v":""},"MC Final Wt",null,null,{"$f":"IF($R$5=\"No Oven Temp Corr.\",\"Bskt minus AC\", \"Temp. Corr.\")","v":"Temp. Corr."},null,"% Diff",{"$f":"IF(N34>0, ROUND((N34-J31)/N34*100,1),\"\")","v":""},"MC Final Wt",null,null,{"$f":"IF($R$5=\"No Oven Temp Corr.\",\"Bskt minus AC\", \"Temp. Corr.\")","v":"Temp. Corr."},null,"% Diff",{"$f":"IF(U34>0, ROUND((U34-Q31)/U34*100,1),\"\")","v":""},null,null,null,null,1.02,1.02,1.02,1.01,1,1,84]
["%MC",{"$f":"IF(B36>0,((B35-B34)-(B36-B34))/(B36-B34)*100,0)","v":0},null,{"$f":"IF($R$5=\"No Oven Temp Corr.\",\"% LOSS\", \"% LOSS-Tmp. Cor.\")","v":"% LOSS-Tmp. Cor."},{"$f":"IF($R$5=\"No Oven Temp Corr.\", IF(E35>0,((E35-E36)/(E35-E34))*100, \"\"), IF(E34>0, E35/E34*100-E36,\"\"))","v":""},"Wt. Crush",null,"%MC",{"$f":"IF(I36>0,((I35-I34)-(I36-I34))/(I36-I34)*100,0)","v":0},null,{"$f":"IF($R$5=\"No Oven Temp Corr.\",\"% LOSS\", \"% LOSS-Tmp. Cor.\")","v":"% LOSS-Tmp. Cor."},{"$f":"IF($R$5=\"No Oven Temp Corr.\", IF(L35>0,((L35-L36)/(L35-L34))*100, \"\"), IF(L34>0, L35/L34*100-L36,\"\"))","v":""},"Wt. Crush",null,"%MC",{"$f":"IF(P36>0,((P35-P34)-(P36-P34))/(P36-P34)*100,0)","v":0},null,{"$f":"IF($R$5=\"No Oven Temp Corr.\",\"% LOSS\", \"% LOSS-Tmp. Cor.\")","v":"% LOSS-Tmp. Cor."},{"$f":"IF($R$5=\"No Oven Temp Corr.\", IF(S35>0,((S35-S36)/(S35-S34))*100, \"\"), IF(S34>0, S35/S34*100-S36,\"\"))","v":""},"Wt. Crush",null,null,null,null,null,1.03,1.05,1.05,1.05,1.04,1.04,85]
[null,null,null,"%Loss - Moisture",{"$f":"IF(E37<>\"\",E37-B37,\"\")","v":""},null,null,null,null,null,"%Loss - Moisture",{"$f":"IF(L37<>\"\",L37-I37,\"\")","v":""},null,null,null,null,null,"%Loss - Moisture",{"$f":"IF(S37<>\"\",S37-P37,\"\")","v":""},null,null,null,null,null,null,1.05,1.08,1.08,1.08,1.08,1.08,86]
[null,null,null,null,null,null,null,null,null,null,null,null,null,null,null,null,null,null,null,null,null,null,null,null,null,1.06,1.1100000000000001,1.1200000000000001,1.1200000000000001,1.1299999999999999,1.1299999999999999,87]
["Sublot # ",{"$f":"'Plant Acceptance'!B40:C40","v":4},null,null,null,null,null,"Sublot # ",{"$f":"'Plant Acceptance'!I40:J40","v":5},null,null,null,null,null,"Sublot # ",{"$f":"'Plant Acceptance'!P40:Q40","v":""},null,null,null,{"$f":"'Plant Acceptance'!T40","v":0},null,null,null,null,null,1.07,1.1399999999999999,1.1599999999999999,1.17,1.17,1.17,88]
[null,"Gradation",null,"% Pass",null,"Volumetrics",null,null,"Gradation",null,"% Pass",null,"Volumetrics",null,null,{"$f":"IF(T40>0,\"Gradation\",\"\")","v":""},null,{"$f":"IF(T40>0,\"% Pass\",\"\")","v":""},null,{"$f":"IF(T40>0,\"Volumetrics\",\"\")","v":""},null,null,null,null,null,1.08,1.17,1.2,1.21,1.21,1.22,89]
["2\"         50",null,null,{"$f":"IF($C$57=0,\" \",ROUND(100-(C42/$C$57)*100,setup!M68))","v":" "},null,"Rice 1",{"$f":"IF(G11>0, ROUND(G10/(G10+G11-G12),setup!M65), \"\")","v":""},"2\"         50",null,null,{"$f":"IF($J$57=0,\" \",ROUND(100-(J42/$J$57)*100,setup!M68))","v":" "},null,"Rice 1",{"$f":"IF(H11>0, ROUND(H10/(H10+H11-H12),setup!M65), \"\")","v":""},{"$f":"IF(T40>0,\"2\"\"         50\",\"\")","v":""},null,null,{"$f":"IF($Q$57=0,\" \",ROUND(100-(Q42/$Q$57)*100,setup!M68))","v":" "},null,{"$f":"IF(T40>0,\"Rice 1\",\"\")","v":""},{"$f":"IF(I11>0, ROUND(I10/(I10+I11-I12),setup!M65), \"\")","v":""},null,null,null,null,1.0900000000000001,1.2,1.23,1.25,1.26,1.27,90]
["1.5\"    37.5",null,null,{"$f":"IF($C$57=0,\" \",(IF(C43=0,D42,ROUND(100-(SUM($C$42:C43)/$C$57)*100,setup!$M$68))))","v":" "},null,"Rice 2",{"$f":"IF(Q11>0, ROUND(Q10/(Q10+Q11-Q12),setup!M65), \"\")","v":""},"1.5\"    37.5",null,null,{"$f":"IF($J$57=0,\" \",(IF(J43=0,K42,ROUND(100-(SUM($J$42:J43)/$J$57)*100,setup!$M$68))))","v":" "},null,"Rice 2",{"$f":"IF(R11>0, ROUND(R10/(R10+R11-R12),setup!M65), \"\")","v":""},{"$f":"IF(T40>0,\"1.5\"\"    37.5\",\"\")","v":""},null,null,{"$f":"IF($Q$57=0,\" \",(IF(Q43=0,R42,ROUND(100-(SUM($Q$42:Q43)/$Q$57)*100,setup!$M$68))))","v":" "},null,{"$f":"IF(T40>0,\"Rice 2\",\"\")","v":""},{"$f":"IF(S11>0, ROUND(S10/(S10+S11-S12),setup!M65), \"\")","v":""},null,null,null,null,1.1000000000000001,1.23,1.27,1.3,1.32,1.32,91]
["1\"         25",null,null,{"$f":"IF($C$57=0,\" \",(IF(C44=0,D43,ROUND(100-(SUM($C$42:C44)/$C$57)*100,setup!$M$68))))","v":" "},null,null,null,"1\"         25",null,null,{"$f":"IF($J$57=0,\" \",(IF(J44=0,K43,ROUND(100-(SUM($J$42:J44)/$J$57)*100,setup!$M$68))))","v":" "},null,null,null,{"$f":"IF(T40>0,\"1\"\"         25\",\"\")","v":""},null,null,{"$f":"IF($Q$57=0,\" \",(IF(Q44=0,R43,ROUND(100-(SUM($Q$42:Q44)/$Q$57)*100,setup!$M$68))))","v":" "},null,null,null,null,null,null,null,1.1100000000000001,1.26,1.31,1.35,1.37,1.38,92]
["3/4\"       19",null,null,{"$f":"IF($C$57=0,\" \",(IF(C45=0,D44,ROUND(100-(SUM($C$42:C45)/$C$57)*100,setup!$M$68))))","v":" "},"Air ",null,null,"3/4\"       19",null,null,{"$f":"IF($J$57=0,\" \",(IF(J45=0,K44,ROUND(100-(SUM($J$42:J45)/$J$57)*100,setup!$M$68))))","v":" "},"Air ",null,null,{"$f":"IF(T40>0,\"3/4\"\"       19\",\"\")","v":""},null,null,{"$f":"IF($Q$57=0,\" \",(IF(Q45=0,R44,ROUND(100-(SUM($Q$42:Q45)/$Q$57)*100,setup!$M$68))))","v":" "},{"$f":"IF(T40>0,\"Air \",\"\")","v":""},null,null,null,null,null,null,1.1200000000000001,1.29,1.36,1.4,1.43,1.44,93]
["1/2\"    12.5",null,null,{"$f":"IF($C$57=0,\" \",(IF(C46=0,D45,ROUND(100-(SUM($C$42:C46)/$C$57)*100,setup!$M$68))))","v":" "},"Water",null,null,"1/2\"    12.5",null,null,{"$f":"IF($J$57=0,\" \",(IF(J46=0,K45,ROUND(100-(SUM($J$42:J46)/$J$57)*100,setup!$M$68))))","v":" "},"Water",null,null,{"$f":"IF(T40>0,\"1/2\"\"    12.5\",\"\")","v":""},null,null,{"$f":"IF($Q$57=0,\" \",(IF(Q46=0,R45,ROUND(100-(SUM($Q$42:Q46)/$Q$57)*100,setup!$M$68))))","v":" "},{"$f":"IF(T40>0,\"Water\",\"\")","v":""},null,null,null,null,null,null,1.1299999999999999,1.32,1.4,1.46,1.49,1.51,94]
["3/8\"     9.5",null,null,{"$f":"IF($C$57=0,\" \",(IF(C47=0,D46,ROUND(100-(SUM($C$42:C47)/$C$57)*100,setup!$M$68))))","v":" "},"SSD",null,null,"3/8\"     9.5",null,null,{"$f":"IF($J$57=0,\" \",(IF(J47=0,K46,ROUND(100-(SUM($J$42:J47)/$J$57)*100,setup!$M$68))))","v":" "},"SSD",null,null,{"$f":"IF(T40>0,\"3/8\"\"     9.5\",\"\")","v":""},null,null,{"$f":"IF($Q$57=0,\" \",(IF(Q47=0,R46,ROUND(100-(SUM($Q$42:Q47)/$Q$57)*100,setup!$M$68))))","v":" "},{"$f":"IF(T40>0,\"SSD\",\"\")","v":""},null,null,null,null,null,null,1.1399999999999999,1.35,1.45,1.52,1.56,1.59,{"$f":"AF46+1","v":95}]
["#4      4.75",null,null,{"$f":"IF($C$57=0,\" \",(IF(C48=0,D47,ROUND(100-(SUM($C$42:C48)/$C$57)*100,setup!$M$68))))","v":" "},"Ht@Ni",null,null,"#4      4.75",null,null,{"$f":"IF($J$57=0,\" \",(IF(J48=0,K47,ROUND(100-(SUM($J$42:J48)/$J$57)*100,setup!$M$68))))","v":" "},"Ht@Ni",null,null,{"$f":"IF(T40>0,\"#4      4.75\",\"\")","v":""},null,null,{"$f":"IF($Q$57=0,\" \",(IF(Q48=0,R47,ROUND(100-(SUM($Q$42:Q48)/$Q$57)*100,setup!$M$68))))","v":" "},{"$f":"IF(T40>0,\"Ht@Ni\",\"\")","v":""},null,null,null,null,null,null,1.1499999999999999,1.38,1.49,1.59,1.64,1.69,96]
["#8      2.36",null,null,{"$f":"IF($C$57=0,\" \",(IF(C49=0,D48,ROUND(100-(SUM($C$42:C49)/$C$57)*100,setup!$M$68))))","v":" "},"Ht@Nd",null,null,"#8      2.36",null,null,{"$f":"IF($J$57=0,\" \",(IF(J49=0,K48,ROUND(100-(SUM($J$42:J49)/$J$57)*100,setup!$M$68))))","v":" "},"Ht@Nd",null,null,{"$f":"IF(T40>0,\"#8      2.36\",\"\")","v":""},null,null,{"$f":"IF($Q$57=0,\" \",(IF(Q49=0,R48,ROUND(100-(SUM($Q$42:Q49)/$Q$57)*100,setup!$M$68))))","v":" "},{"$f":"IF(T40>0,\"Ht@Nd\",\"\")","v":""},null,null,null,null,null,null,1.1499999999999999,1.41,1.55,1.67,1.74,1.8,97]
["#16     1.18",null,null,{"$f":"IF($C$57=0,\" \",(IF(C50=0,D49,ROUND(100-(SUM($C$42:C50)/$C$57)*100,setup!$M$68))))","v":" "},"Ht@Nmax",null,null,"#16     1.18",null,null,{"$f":"IF($J$57=0,\" \",(IF(J50=0,K49,ROUND(100-(SUM($J$42:J50)/$J$57)*100,setup!$M$68))))","v":" "},"Ht@Nmax",null,null,{"$f":"IF(T40>0,\"#16     1.18\",\"\")","v":""},null,null,{"$f":"IF($Q$57=0,\" \",(IF(Q50=0,R49,ROUND(100-(SUM($Q$42:Q50)/$Q$57)*100,setup!$M$68))))","v":" "},{"$f":"IF(T40>0,\"Ht@Nmax\",\"\")","v":""},null,null,null,null,null,null,1.1499999999999999,1.44,1.61,1.77,1.86,1.93,98]
["#30      0.6",null,null,{"$f":"IF($C$57=0,\" \",(IF(C51=0,D50,ROUND(100-(SUM($C$42:C51)/$C$57)*100,setup!$M$68))))","v":" "},null,null,null,"#30      0.6",null,null,{"$f":"IF($J$57=0,\" \",(IF(J51=0,K50,ROUND(100-(SUM($J$42:J51)/$J$57)*100,setup!$M$68))))","v":" "},null,null,null,{"$f":"IF(T40>0,\"#30      0.6\",\"\")","v":""},null,null,{"$f":"IF($Q$57=0,\" \",(IF(Q51=0,R50,ROUND(100-(SUM($Q$42:Q51)/$Q$57)*100,setup!$M$68))))","v":" "},null,null,null,null,null,null,null,1.1599999999999999,1.47,1.68,1.89,2.04,2.14,99]
["#50      0.3",null,null,{"$f":"IF($C$57=0,\" \",(IF(C52=0,D51,ROUND(100-(SUM($C$42:C52)/$C$57)*100,setup!$M$68))))","v":" "},null,"Meter AC",null,"#50      0.3",null,null,{"$f":"IF($J$57=0,\" \",(IF(J52=0,K51,ROUND(100-(SUM($J$42:J52)/$J$57)*100,setup!$M$68))))","v":" "},null,"Meter AC",null,{"$f":"IF(T40>0,\"#50      0.3\",\"\")","v":""},null,null,{"$f":"IF($Q$57=0,\" \",(IF(Q52=0,R51,ROUND(100-(SUM($Q$42:Q52)/$Q$57)*100,setup!$M$68))))","v":" "},null,{"$f":"IF(T40>0,\"Meter AC\",\"\")","v":""}]
["#100   0.15",null,null,{"$f":"IF($C$57=0,\" \",(IF(C53=0,D52,ROUND(100-(SUM($C$42:C53)/$C$57)*100,setup!$M$68))))","v":" "},null,"Comp Temp",null,"#100   0.15",null,null,{"$f":"IF($J$57=0,\" \",(IF(J53=0,K52,ROUND(100-(SUM($J$42:J53)/$J$57)*100,setup!$M$68))))","v":" "},null,"Comp Temp",null,{"$f":"IF(T40>0,\"#100   0.15\",\"\")","v":""},null,null,{"$f":"IF($Q$57=0,\" \",(IF(Q53=0,R52,ROUND(100-(SUM($Q$42:Q53)/$Q$57)*100,setup!$M$68))))","v":" "},null,{"$f":"IF(T40>0,\"Comp Temp\",\"\")","v":""}]
["#200  0.075",null,null,{"$f":"IF($C$57=0,\" \",(IF(C54=0,D53,ROUND(100-(SUM($C$42:C54)/$C$57)*100,setup!$M$69))))","v":" "},null,"Mix Temp",null,"#200  0.075",null,null,{"$f":"IF($J$57=0,\" \",(IF(J54=0,K53,ROUND(100-(SUM($J$42:J54)/$J$57)*100,setup!$M$69))))","v":" "},null,"Mix Temp",null,{"$f":"IF(T40>0,\"#200  0.075\",\"\")","v":""},null,null,{"$f":"IF($Q$57=0,\" \",(IF(Q54=0,R53,ROUND(100-(SUM($Q$42:Q54)/$Q$57)*100,setup!$M$69))))","v":" "},null,{"$f":"IF(T40>0,\"Mix Temp\",\"\")","v":""}]
["Pass",null,null,null,null,"AntiStrip",null,"Pass",null,null,null,null,"AntiStrip",null,{"$f":"IF(T40>0,\"Pass\",\"\")","v":""},null,null,null,null,{"$f":"IF(T40>0,\"AntiStrip\",\"\")","v":""}]
["Dec Loss",null,{"$f":"IF(G60>0, G60-G61, \"\")","v":""},null,null,null,null,"Dec Loss",null,{"$f":"IF(N60>0, N60-N61, \"\")","v":""},null,null,null,null,{"$f":"IF(T40>0,\"Dec Loss\",\"\")","v":""},null,{"$f":"IF(U60>0, U60-U61, \"\")","v":""}]
["Cum. Total",null,{"$f":"SUM(C42:C56)","v":0},null,null,"Sample Taken-Tons",null,"Cum. Total",null,{"$f":"SUM(J42:J56)","v":0},null,null,"Sample Taken-Tons",null,{"$f":"IF(T40>0,\"Cum. Total\",\"\")","v":""},null,{"$f":"SUM(Q42:Q56)","v":0},null,null,{"$f":"IF(T40>0,\"Sample Taken-Tons\",\"\")","v":""}]
["%AC",null,{"$f":"IF(E63<>\"\", ROUND(E63-N32,setup!M71), \"\")","v":""},null,null,null,null,"%AC",null,{"$f":"IF(L63<>\"\", ROUND(L63-U32,setup!M71), \"\")","v":""},null,null,null,null,{"$f":"IF(T40>0,\"%AC\",\"\")","v":""},null,{"$f":"IF(S63<>\"\", ROUND(S63-AB32,setup!M71), \"\")","v":""}]
["%Crushed",null,{"$f":"IF(SUM(C42:C48)>0, ROUND(G63/SUM(C42:C48)*100,0), \"\")","v":""},null,null,null,null,"%Crushed",null,{"$f":"IF(SUM(J42:J48)>0, ROUND(N63/SUM(J42:J48)*100,0), \"\")","v":""},null,null,null,null,{"$f":"IF(T40>0,\"%Crushed\",\"\")","v":""},null,{"$f":"IF(SUM(Q42:Q48)>0, ROUND(U63/SUM(Q42:Q48)*100,0), \"\")","v":""}]
["MC Pan Wt",null,null,{"$f":"IF($R$5=\"No Oven Temp Corr.\",\"Tr. Bskt\", \"Wt of Mix\")","v":"Wt of Mix"},null,"Int.DryWt",null,"MC Pan Wt",null,null,{"$f":"IF($R$5=\"No Oven Temp Corr.\",\"Tr. Bskt\", \"Wt of Mix\")","v":"Wt of Mix"},null,"Int.DryWt",null,{"$f":"IF(T40>0,\"MC Pan Wt\",\"\")","v":""},null,null,{"$f":"IF(T40>0,IF($R$5=\"No Oven Temp Corr.\",\"Tr. Bskt\", \"Wt of Mix\"),\"\")","v":""},null,{"$f":"IF(T40>0,\"Int.DryWt\",\"\")","v":""}]
["MC Initial Wt",null,null,{"$f":"IF($R$5=\"No Oven Temp Corr.\",\"Bskt+Mix w/AC\", \"Wt. Loss\")","v":"Wt. Loss"},null,"AfterWash",null,"MC Initial Wt",null,null,{"$f":"IF($R$5=\"No Oven Temp Corr.\",\"Bskt+Mix w/AC\", \"Wt. Loss\")","v":"Wt. Loss"},null,"AfterWash",null,{"$f":"IF(T40>0,\"MC Initial Wt\",\"\")","v":""},null,null,{"$f":"IF(T40>0,IF($R$5=\"No Oven Temp Corr.\",\"Bskt+Mix w/AC\", \"Wt. Loss\"),\"\")","v":""},null,{"$f":"IF(T40>0,\"AfterWash\",\"\")","v":""}]
["MC Final Wt",null,null,{"$f":"IF($R$5=\"No Oven Temp Corr.\",\"Bskt minus AC\", \"Temp. Corr.\")","v":"Temp. Corr."},null,"% Diff",{"$f":"IF(G60>0, ROUND((G60-C57)/G60*100,1),\"\")","v":""},"MC Final Wt",null,null,{"$f":"IF($R$5=\"No Oven Temp Corr.\",\"Bskt minus AC\", \"Temp. Corr.\")","v":"Temp. Corr."},null,"% Diff",{"$f":"IF(N60>0, ROUND((N60-J57)/N60*100,1),\"\")","v":""},{"$f":"IF(T40>0,\"MC Final Wt\",\"\")","v":""},null,null,{"$f":"IF(T40>0,IF($R$5=\"No Oven Temp Corr.\",\"Bskt minus AC\", \"Temp. Corr.\"),\"\")","v":""},null,{"$f":"IF(T40>0,\"% Diff\",\"\")","v":""},{"$f":"IF(U60>0, ROUND((U60-Q57)/U60*100,1),\"\")","v":""}]
["%MC",{"$f":"IF(B62>0,((B61-B60)-(B62-B60))/(B62-B60)*100,0)","v":0},null,{"$f":"IF($R$5=\"No Oven Temp Corr.\",\"% LOSS\", \"% LOSS-Tmp. Cor.\")","v":"% LOSS-Tmp. Cor."},{"$f":"IF($R$5=\"No Oven Temp Corr.\", IF(E61>0,((E61-E62)/(E61-E60))*100, \"\"), IF(E60>0, E61/E60*100-E62,\"\"))","v":""},"Wt. Crush",null,"%MC",{"$f":"IF(I62>0,((I61-I60)-(I62-I60))/(I62-I60)*100,0)","v":0},null,{"$f":"IF($R$5=\"No Oven Temp Corr.\",\"% LOSS\", \"% LOSS-Tmp. Cor.\")","v":"% LOSS-Tmp. Cor."},{"$f":"IF($R$5=\"No Oven Temp Corr.\", IF(L61>0,((L61-L62)/(L61-L60))*100, \"\"), IF(L60>0, L61/L60*100-L62,\"\"))","v":""},"Wt. Crush",null,{"$f":"IF(T40>0,\"%MC\",\"\")","v":""},{"$f":"IF(P62>0,((P61-P60)-(P62-P60))/(P62-P60)*100,0)","v":0},null,{"$f":"IF(T40>0,IF($R$5=\"No Oven Temp Corr.\",\"% LOSS\", \"% LOSS-Tmp. Cor.\"),\"\")","v":""},{"$f":"IF($R$5=\"No Oven Temp Corr.\", IF(S61>0,((S61-S62)/(S61-S60))*100, \"\"), IF(S60>0, S61/S60*100-S62,\"\"))","v":""},{"$f":"IF(T40>0,\"Wt. Crush\",\"\")","v":""}]
[null,null,null,"%Loss - Moisture",{"$f":"IF(E63<>\"\",E63-B63,\"\")","v":""},null,null,null,null,null,"%Loss - Moisture",{"$f":"IF(L63<>\"\",L63-I63,\"\")","v":""},null,null,null,null,null,{"$f":"IF(T40>0,\"%Loss - Moisture\",\"\")","v":""},{"$f":"IF(S63<>\"\",S63-P63,\"\")","v":""}]
[]
[{"$f":"setup!S2","v":"LaPave 502 v18.05.02"},null,null,null,null,null,null,null,null,null,null,null,null,null,null,null,null,null,null,{"$f":"TODAY()","v":"2023-03-31"}]
[]
["LWT (one per JMF, project, or every 20,000 tons)",null,null,null,null,null,"Sublot",null,null,null,"Drain Down (AASHTO T 305)",null,null,null,"Sublot"]
[null,null,1,2,3,4]
["A Wt in air (dry)",null,null,null,null,null,"Left",null,null,null,"Wt. of Mix Before"]
["B Wt in water",null,null,null,null,null,"Bricks:",null,null,null,"Wt. of Mix After"]
["C Wt in air (SSD)",null,null,null,null,null,"Avg AV",{"$f":"IF(H71=\"1 & 2\", ROUND(AVERAGE(C76,D76),setup!M75), IF(H71=\"1 & 3\", ROUND(AVERAGE(C76,E76),setup!M75),IF(H71=\"1 & 4\", ROUND(AVERAGE(C76,F76),setup!M75),IF(H71=\"2 & 3\", ROUND(AVERAGE(D76,E76),setup!M75),IF(H71=\"2 & 4\", ROUND(AVERAGE(D76,F76),setup!M75),IF(H71=\"3 & 4\", ROUND(AVERAGE(E76,F76),setup!M75),\"\"))))))","v":""},null,null,"Wt. of Plate"]
["v Volume (C-B)",null,{"$f":"IF(C70>0,C72-C71,\"\")","v":""},{"$f":"IF(D70>0,D72-D71,\"\")","v":""},{"$f":"IF(E70>0,E72-E71,\"\")","v":""},{"$f":"IF(F70>0,F72-F71,\"\")","v":""},null,null,null,null,"Wt. of Plate+Mix After"]
["D Bk SpGr (A/v)",null,{"$f":"IF(C70>0,ROUND(C70/C73,setup!$M$66),\"\")","v":""},{"$f":"IF(D70>0,ROUND(D70/D73,setup!$M$66),\"\")","v":""},{"$f":"IF(E70>0,ROUND(E70/E73,setup!$M$66),\"\")","v":""},{"$f":"IF(F70>0,ROUND(F70/F73,setup!$M$66),\"\")","v":""},"Right",null,null,null,"Wt. of Drained Mix",null,null,{"$f":"IF(N73>0, N73-N72, IF(N71>0, N70-N71, \"\"))","v":""},{"$f":"IF(O73>0, O73-O72, IF(O71>0, O70-O71, \"\"))","v":""},"Avg % Draindown"]
["F %MxThGr 100D/E",null,{"$f":"IF(C70>0,ROUND((C74/AVERAGE($G$16:$G$17))*100,setup!$M$67),\"\")","v":""},{"$f":"IF(D70>0,ROUND((D74/AVERAGE($G$16:$G$17))*100,setup!$M$67),\"\")","v":""},{"$f":"IF(E70>0,ROUND((E74/AVERAGE($G$16:$G$17))*100,setup!$M$67),\"\")","v":""},{"$f":"IF(F70>0,ROUND((F74/AVERAGE($G$16:$G$17))*100,setup!$M$67),\"\")","v":""},"Bricks:",{"$f":"IF(H71=\"1 & 2\", \"3 & 4\", IF(H71=\"1 & 3\", \"2 & 4\",IF(H71=\"1 & 4\", \"2 & 3\",IF(H71=\"2 & 3\", \"1 & 4\",IF(H71=\"2 & 4\", \"1 & 3\",IF(H71=\"3 & 4\", \"1 & 2\",\"\"))))))","v":""},null,null,"% Draindown",null,null,{"$f":"IF(N74<>\"\", ROUND(N74/N70*100,1), \"\")","v":""},{"$f":"IF(O74<>\"\", ROUND(O74/O70*100,1), \"\")","v":""},{"$f":"IF(N75<>\"\", AVERAGE(N75:O75), \"\")","v":""}]
["H % Voids  (100-F)",null,{"$f":"IF(C70>0,ROUND(100-C75,setup!$M$75),\"\")","v":""},{"$f":"IF(D70>0,ROUND(100-D75,setup!$M$75),\"\")","v":""},{"$f":"IF(E70>0,ROUND(100-E75,setup!$M$75),\"\")","v":""},{"$f":"IF(F70>0,ROUND(100-F75,setup!$M$75),\"\")","v":""},"Avg AV",{"$f":"IF(H75=\"1 & 2\", ROUND(AVERAGE(C76,D76),setup!M75), IF(H75=\"1 & 3\", ROUND(AVERAGE(C76,E76),setup!M75),IF(H75=\"1 & 4\", ROUND(AVERAGE(C76,F76),setup!M75),IF(H75=\"2 & 3\", ROUND(AVERAGE(D76,E76),setup!M75),IF(H75=\"2 & 4\", ROUND(AVERAGE(D76,F76),setup!M75),IF(H75=\"3 & 4\", ROUND(AVERAGE(E76,F76),setup!M75),\"\"))))))","v":""}]
[]
["Temp(°C):",null,null,null,"Pass","Left","Right"]
["Avg Rut (mm):",null,{"$f":"IF(C80=7500, ROUND(AVERAGE(F80,G80),setup!M77), IF(C80 = 10000, ROUND(AVERAGE(F81,G81),setup!M77),IF(C80 = 20000, ROUND(AVERAGE(F83,G83),setup!M77),\"\")))","v":""},null,5000]
["At Pass:",null,null,null,7500]
["(Pass/Fail):",null,null,null,10000]
[null,null,null,null,15000]
["Date Tested:",null,null,null,20000]
[]
["Remarks"]
[]
[{"$f":"setup!S2","v":"LaPave 502 v18.05.02"},null,null,null,null,null,null,null,null,null,null,null,null,null,null,{"$f":"TODAY()","v":"2023-03-31"}]
[]
[]
["Averages for Lot"]
[null,null,1,2,3,4,5,6,null,"JMF","MEAN","StDev","QL","QU","PWL"]
["P-Lot No.",null,{"$f":"IF(B14<>\"\",B14,\"\")","v":1},{"$f":"IF(I14<>\"\",I14,\"\")","v":2},{"$f":"IF(P14<>\"\",P14,\"\")","v":3},{"$f":"IF(B40<>\"\",B40,\"\")","v":4},{"$f":"IF(I40<>\"\",I40,\"\")","v":5},{"$f":"IF(P40<>\"\",P40,\"\")","v":""}]
["P-Lot Ton",null,{"$f":"IF(F14>0,F14,\"\")","v":""},{"$f":"IF(M14>0,M14,\"\")","v":""},{"$f":"IF(T14>0,T14,\"\")","v":""},{"$f":"IF(F40>0,F40,\"\")","v":""},{"$f":"IF(M40>0,M40,\"\")","v":""},{"$f":"IF(T40>0,T40,\"\")","v":""}]
["Gmm",null,{"$f":"IF(G16<>\"\", ROUND(AVERAGE(G16:G17),setup!M65), \"\")","v":""},{"$f":"IF(N16<>\"\", ROUND(AVERAGE(N16:N17),setup!M65), \"\")","v":""},{"$f":"IF(U16<>\"\", ROUND(AVERAGE(U16:U17),setup!M65), \"\")","v":""},{"$f":"IF(G42<>\"\", ROUND(AVERAGE(G42:G43),setup!M65), \"\")","v":""},{"$f":"IF(N42<>\"\", ROUND(AVERAGE(N42:N43),setup!M65), \"\")","v":""},{"$f":"IF(U42<>\"\", ROUND(AVERAGE(U42:U43),setup!M65), \"\")","v":""},null,{"$f":"Validation!H7","v":""},{"$f":"IF(SUM(C94:H94)>0, ROUND(AVERAGE(C94:H94),setup!M65+1),\"\")","v":""},{"$f":"IF(COUNT(C94:H94)>1, ROUND(STDEV(C94:H94),setup!M65+3),\"\")","v":""},{"$f":"IF(COUNT(C94:H94)>=3, IF(L94>0, ROUND(setup!D8/L94,2),\"--\"), \"--\")","v":"--"},{"$f":"IF(COUNT(C94:H94)>=3,IF(L94>0, ROUND(setup!D8/L94,2),\"--\"),\"--\")","v":"--"},{"$f":"IF(AND(M94=\"--\", N94=\"--\"), \"--\", IF(M94=\"--\", 100, IF(M94<0, 100, 0)+IF(M94<0, -1, 1)* IF(COUNT(C94:H94)>=5, VLOOKUP(ABS(M94),$AB$2:$AF$53,5,TRUE)+IF(LOOKUP(ABS(M94),$AB$2:$AB$53)<ABS(M94),1,0), IF(COUNT(C94:H94)=4, VLOOKUP(ABS(M94),$AA$2:$AF$53,6,TRUE)+IF(LOOKUP(ABS(M94),$AA$2:$AA$53)<ABS(M94),1,0), IF(COUNT(C94:H94)=3, VLOOKUP(ABS(M94),$Z$2:$AF$53,7,TRUE)+IF(LOOKUP(ABS(M94),$Z$2:$Z$53)<ABS(M94),1,0),\"--\"))))+IF(N94=\"--\",100, IF(N94<0, 100, 0)+IF(N94<0, -1, 1)* IF(COUNT(C94:H94)>=5, VLOOKUP(ABS(N94),$AB$2:$AF$53,5,TRUE)+IF(LOOKUP(ABS(N94),$AB$2:$AB$53)<ABS(N94),1,0), IF(COUNT(C94:H94)=4, VLOOKUP(ABS(N94),$AA$2:$AF$53,6,TRUE)+IF(LOOKUP(ABS(N94),$AA$2:$AA$53)<ABS(N94),1,0), IF(COUNT(C94:H94)=3, VLOOKUP(ABS(N94),$Z$2:$AF$53,7,TRUE)+IF(LOOKUP(ABS(N94),$Z$2:$Z$53)<ABS(N94),1,0),\"--\"))))-100)","v":"--"},{"$f":"IF(K94<>\"\", IF(K94>JMF!Q35, \"Over JMF Limit\", IF(K94<JMF!N35, \"Under JFM Limit\", IF(O94<>\"--\", IF(O94<71, \"<71 PWL\", \"OK\"), \"OK\"))),\"\")","v":""}]
["Gmb,ND",null,{"$f":"IF(F21>0,ROUND(F19/(F21-F20),setup!M66),\"\")","v":""},{"$f":"IF(M21>0,ROUND(M19/(M21-M20),setup!M66),\"\")","v":""},{"$f":"IF(T21>0,ROUND(T19/(T21-T20),setup!M66),\"\")","v":""},{"$f":"IF(F47>0,ROUND(F45/(F47-F46),setup!M66),\"\")","v":""},{"$f":"IF(M47>0,ROUND(M45/(M47-M46),setup!M66),\"\")","v":""},{"$f":"IF(T47>0,ROUND(T45/(T47-T46),setup!M66),\"\")","v":""},null,{"$f":"Validation!H8","v":""},{"$f":"IF(SUM(C95:H95)>0, ROUND(AVERAGE(C95:H95),setup!M66+1),\"\")","v":""},{"$f":"IF(COUNT(C95:H95)>1, ROUND(STDEV(C95:H95),setup!M66+3),\"\")","v":""},{"$f":"IF(COUNT(C95:H95)>=3, IF(L95>0, ROUND(setup!D12/L95,2),\"--\"), \"--\")","v":"--"},{"$f":"IF(COUNT(C95:H95)>=3,IF(L95>0, ROUND(setup!D12/L95,2),\"--\"),\"--\")","v":"--"},{"$f":"IF(AND(M95=\"--\", N95=\"--\"), \"--\", IF(M95=\"--\", 100, IF(M95<0, 100, 0)+IF(M95<0, -1, 1)* IF(COUNT(C95:H95)>=5, VLOOKUP(ABS(M95),$AB$2:$AF$53,5,TRUE)+IF(LOOKUP(ABS(M95),$AB$2:$AB$53)<ABS(M95),1,0), IF(COUNT(C95:H95)=4, VLOOKUP(ABS(M95),$AA$2:$AF$53,6,TRUE)+IF(LOOKUP(ABS(M95),$AA$2:$AA$53)<ABS(M95),1,0), IF(COUNT(C95:H95)=3, VLOOKUP(ABS(M95),$Z$2:$AF$53,7,TRUE)+IF(LOOKUP(ABS(M95),$Z$2:$Z$53)<ABS(M95),1,0),\"--\"))))+IF(N95=\"--\",100, IF(N95<0, 100, 0)+IF(N95<0, -1, 1)* IF(COUNT(C95:H95)>=5, VLOOKUP(ABS(N95),$AB$2:$AF$53,5,TRUE)+IF(LOOKUP(ABS(N95),$AB$2:$AB$53)<ABS(N95),1,0), IF(COUNT(C95:H95)=4, VLOOKUP(ABS(N95),$AA$2:$AF$53,6,TRUE)+IF(LOOKUP(ABS(N95),$AA$2:$AA$53)<ABS(N95),1,0), IF(COUNT(C95:H95)=3, VLOOKUP(ABS(N95),$Z$2:$AF$53,7,TRUE)+IF(LOOKUP(ABS(N95),$Z$2:$Z$53)<ABS(N95),1,0),\"--\"))))-100)","v":"--"}]
["%Gmm,NI",null,{"$f":"IF(C95<>\"\",  IF(F22>0, ROUND(100*(ROUND(ROUND(F19/(((3.1416*150*150*F22)/4)*0.001),setup!$M$66)*(C95/ROUND(F19/(((3.1416*150*150*F23)/4)*0.001),setup!$M$66)),setup!$M$66)/C94),setup!$M$67), \"\"), \"\")","v":""},{"$f":"IF(D95<>\"\",  IF(M22>0, ROUND(100*(ROUND(ROUND(M19/(((3.1416*150*150*M22)/4)*0.001),setup!$M$66)*(D95/ROUND(M19/(((3.1416*150*150*M23)/4)*0.001),setup!$M$66)),setup!$M$66)/D94),setup!$M$67), \"\"), \"\")","v":""},{"$f":"IF(E95<>\"\",  IF(T22>0, ROUND(100*(ROUND(ROUND(T19/(((3.1416*150*150*T22)/4)*0.001),setup!$M$66)*(E95/ROUND(T19/(((3.1416*150*150*T23)/4)*0.001),setup!$M$66)),setup!$M$66)/E94),setup!$M$67), \"\"), \"\")","v":""},{"$f":"IF(F95<>\"\",  IF(F48>0, ROUND(100*(ROUND(ROUND(F45/(((3.1416*150*150*F48)/4)*0.001),setup!$M$66)*(F95/ROUND(F45/(((3.1416*150*150*F49)/4)*0.001),setup!$M$66)),setup!$M$66)/F94),setup!$M$67), \"\"), \"\")","v":""},{"$f":"IF(G95<>\"\",  IF(M48>0, ROUND(100*(ROUND(ROUND(M45/(((3.1416*150*150*M48)/4)*0.001),setup!$M$66)*(G95/ROUND(M45/(((3.1416*150*150*M49)/4)*0.001),setup!$M$66)),setup!$M$66)/G94),setup!$M$67), \"\"), \"\")","v":""},{"$f":"IF(H95<>\"\",  IF(T48>0, ROUND(100*(ROUND(ROUND(T45/(((3.1416*150*150*T48)/4)*0.001),setup!$M$66)*(H95/ROUND(T45/(((3.1416*150*150*T49)/4)*0.001),setup!$M$66)),setup!$M$66)/H94),setup!$M$67), \"\"), \"\")","v":""},null,{"$f":"Validation!H9","v":""},{"$f":"IF(SUM(C96:H96)>0, ROUND(AVERAGE(C96:H96),setup!M67+1),\"\")","v":""},{"$f":"IF(COUNT(C96:H96)>1, ROUND(STDEV(C96:H96),setup!M67+3),\"\")","v":""},"--",{"$f":"IF(COUNT(C96:H96)>=3,IF(L96>0, ROUND((setup!C9-K96)/L96,2),\"--\"),\"--\")","v":"--"},{"$f":"IF(AND(M96=\"--\", N96=\"--\"), \"--\", IF(M96=\"--\", 100, IF(M96<0, 100, 0)+IF(M96<0, -1, 1)* IF(COUNT(C96:H96)>=5, VLOOKUP(ABS(M96),$AB$2:$AF$53,5,TRUE)+IF(LOOKUP(ABS(M96),$AB$2:$AB$53)<ABS(M96),1,0), IF(COUNT(C96:H96)=4, VLOOKUP(ABS(M96),$AA$2:$AF$53,6,TRUE)+IF(LOOKUP(ABS(M96),$AA$2:$AA$53)<ABS(M96),1,0), IF(COUNT(C96:H96)=3, VLOOKUP(ABS(M96),$Z$2:$AF$53,7,TRUE)+IF(LOOKUP(ABS(M96),$Z$2:$Z$53)<ABS(M96),1,0),\"--\"))))+IF(N96=\"--\",100, IF(N96<0, 100, 0)+IF(N96<0, -1, 1)* IF(COUNT(C96:H96)>=5, VLOOKUP(ABS(N96),$AB$2:$AF$53,5,TRUE)+IF(LOOKUP(ABS(N96),$AB$2:$AB$53)<ABS(N96),1,0), IF(COUNT(C96:H96)=4, VLOOKUP(ABS(N96),$AA$2:$AF$53,6,TRUE)+IF(LOOKUP(ABS(N96),$AA$2:$AA$53)<ABS(N96),1,0), IF(COUNT(C96:H96)=3, VLOOKUP(ABS(N96),$Z$2:$AF$53,7,TRUE)+IF(LOOKUP(ABS(N96),$Z$2:$Z$53)<ABS(N96),1,0),\"--\"))))-100)","v":"--"},{"$f":"IF(K96<>\"\", IF(K96>setup!C9, \"Over JMF Limit\", \"OK\"), \"\")","v":""}]
["%Gmm,ND",null,{"$f":"IF(C100<>\"\", 100-C100, \"\")","v":""},{"$f":"IF(D100<>\"\", 100-D100, \"\")","v":""},"","","","",null,{"$f":"Validation!H10","v":""},{"$f":"IF(SUM(C97:H97)>0, ROUND(AVERAGE(C97:H97),setup!M67+1),\"\")","v":""},{"$f":"IF(COUNT(C97:H97)>1, ROUND(STDEV(C97:H97),setup!M67+3),\"\")","v":""},{"$f":"IF(COUNT(C97:H97)>=3, IF(L97>0, ROUND((K97-setup!B10)/L97,2),\"--\"), \"--\")","v":"--"},{"$f":"IF(COUNT(C97:H97)>=3,IF(L97>0, ROUND((setup!C10-K97)/L97,2),\"--\"),\"--\")","v":"--"},{"$f":"IF(AND(M97=\"--\", N97=\"--\"), \"--\", IF(M97=\"--\", 100, IF(M97<0, 100, 0)+IF(M97<0, -1, 1)* IF(COUNT(C97:H97)>=5, VLOOKUP(ABS(M97),$AB$2:$AF$53,5,TRUE)+IF(LOOKUP(ABS(M97),$AB$2:$AB$53)<ABS(M97),1,0), IF(COUNT(C97:H97)=4, VLOOKUP(ABS(M97),$AA$2:$AF$53,6,TRUE)+IF(LOOKUP(ABS(M97),$AA$2:$AA$53)<ABS(M97),1,0), IF(COUNT(C97:H97)=3, VLOOKUP(ABS(M97),$Z$2:$AF$53,7,TRUE)+IF(LOOKUP(ABS(M97),$Z$2:$Z$53)<ABS(M97),1,0),\"--\"))))+IF(N97=\"--\",100, IF(N97<0, 100, 0)+IF(N97<0, -1, 1)* IF(COUNT(C97:H97)>=5, VLOOKUP(ABS(N97),$AB$2:$AF$53,5,TRUE)+IF(LOOKUP(ABS(N97),$AB$2:$AB$53)<ABS(N97),1,0), IF(COUNT(C97:H97)=4, VLOOKUP(ABS(N97),$AA$2:$AF$53,6,TRUE)+IF(LOOKUP(ABS(N97),$AA$2:$AA$53)<ABS(N97),1,0), IF(COUNT(C97:H97)=3, VLOOKUP(ABS(N97),$Z$2:$AF$53,7,TRUE)+IF(LOOKUP(ABS(N97),$Z$2:$Z$53)<ABS(N97),1,0),\"--\"))))-100)","v":"--"}]
["VFA",null,{"$f":"IF(C99<>\"\", ROUND(100*(C99-C100)/C99,setup!$M$76), \"\")","v":""},{"$f":"IF(D99<>\"\", ROUND(100*(D99-D100)/D99,setup!$M$76), \"\")","v":""},{"$f":"IF(E99<>\"\", ROUND(100*(E99-E100)/E99,setup!$M$76), \"\")","v":""},{"$f":"IF(F99<>\"\", ROUND(100*(F99-F100)/F99,setup!$M$76), \"\")","v":""},{"$f":"IF(G99<>\"\", ROUND(100*(G99-G100)/G99,setup!$M$76), \"\")","v":""},{"$f":"IF(H99<>\"\", ROUND(100*(H99-H100)/H99,setup!$M$76), \"\")","v":""},null,{"$f":"Validation!H13","v":""},{"$f":"IF(SUM(C98:H98)>0, ROUND(AVERAGE(C98:H98),setup!M76+1),\"\")","v":""},{"$f":"IF(COUNT(C98:H98)>1, ROUND(STDEV(C98:H98),setup!M76+3),\"\")","v":""},{"$f":"IF(COUNT(C98:H98)>=3, IF(L98>0, ROUND((K98-setup!B14)/L98,2),\"--\"), \"--\")","v":"--"},{"$f":"IF(COUNT(C98:H98)>=3,IF(L98>0, ROUND((setup!C14-K98)/L98,2),\"--\"),\"--\")","v":"--"},"--",{"$f":"IF(K98<>\"\", IF(K98>setup!C14, \"Over JMF Limit\", IF(K98<setup!B14, \"Under JMF Limit\", \"OK\")), \"\")","v":""}]
["VMA",null,{"$f":"IF(C95<>\"\", ROUND(100-((C95*$J$6)/$M$5),setup!$M$74), \"\")","v":""},{"$f":"IF(D95<>\"\", ROUND(100-((D95*$J$6)/$M$5),setup!$M$74), \"\")","v":""},{"$f":"IF(E95<>\"\", ROUND(100-((E95*$J$6)/$M$5),setup!$M$74), \"\")","v":""},{"$f":"IF(F95<>\"\", ROUND(100-((F95*$J$6)/$M$5),setup!$M$74), \"\")","v":""},{"$f":"IF(G95<>\"\", ROUND(100-((G95*$J$6)/$M$5),setup!$M$74), \"\")","v":""},{"$f":"IF(H95<>\"\", ROUND(100-((H95*$J$6)/$M$5),setup!$M$74), \"\")","v":""},null,{"$f":"Validation!H12","v":""},{"$f":"IF(SUM(C99:H99)>0, ROUND(AVERAGE(C99:H99),setup!M74+1),\"\")","v":""},{"$f":"IF(COUNT(C99:H99)>1, ROUND(STDEV(C99:H99),setup!M74+3),\"\")","v":""},{"$f":"IF(COUNT(C99:H99)>=3,IF(L99>0, ROUND((K99-setup!B13)/L99,2),\"--\"),\"--\")","v":"--"},"--","--",{"$f":"IF(K99<>\"\", IF(K99<setup!B13, \"Under JMF Limit\", \"OK\"), \"\")","v":""}]
["%Voids",null,{"$f":"IF(C95<>\"\", ROUND(100*((C94-C95)/C94),setup!$M$75), \"\")","v":""},{"$f":"IF(D95<>\"\", ROUND(100*((D94-D95)/D94),setup!$M$75), \"\")","v":""},{"$f":"IF(E95<>\"\", ROUND(100*((E94-E95)/E94),setup!$M$75), \"\")","v":""},{"$f":"IF(F95<>\"\", ROUND(100*((F94-F95)/F94),setup!$M$75), \"\")","v":""},{"$f":"IF(G95<>\"\", ROUND(100*((G94-G95)/G94),setup!$M$75), \"\")","v":""},{"$f":"IF(H95<>\"\", ROUND(100*((H94-H95)/H94),setup!$M$75), \"\")","v":""},null,{"$f":"Validation!H11","v":""},{"$f":"IF(SUM(C100:H100)>0, ROUND(AVERAGE(C100:H100),setup!M75+1),\"\")","v":""},{"$f":"IF(COUNT(C100:H100)>1, ROUND(STDEV(C100:H100),setup!M75+3),\"\")","v":""},{"$f":"IF(COUNT(C100:H100)>=3,IF(L100>0, ROUND((K100-setup!B15)/L100,2),\"--\"),\"--\")","v":"--"},{"$f":"IF(COUNT(C100:H100)>=3,IF(L100>0, ROUND((setup!C15-K100)/L100,2),\"--\"),\"--\")","v":"--"},"--",{"$f":"IF(K100<>\"\", IF(K100>setup!C15, \"Over JMF Limit\", IF(K100<setup!B15, \"Under JMF Limit\", IF(O100<>\"--\", IF(O100<71, \"<71 PWL\", \"OK\"), \"OK\"))), \"\")","v":""}]
["Extracted AC",null,{"$f":"IF(C32>0, C32, \"\")","v":""},{"$f":"IF(J32>0, J32, \"\")","v":""},{"$f":"IF(Q32>0, Q32, \"\")","v":""},{"$f":"IF(C58>0, C58, \"\")","v":""},{"$f":"IF(J58>0, J58, \"\")","v":""},{"$f":"IF(Q58>0, Q58, \"\")","v":""},null,{"$f":"JMF!H56","v":""},{"$f":"IF(SUM(C101:H101)>0, ROUND(AVERAGE(C101:H101),setup!M71+1),\"\")","v":""},{"$f":"IF(COUNT(C101:H101)>1, ROUND(STDEV(C101:H101),setup!M71+3),\"\")","v":""},{"$f":"IF(COUNT(C101:H101)>=3,IF(L101>0, ROUND(setup!D31/L101,2),\"--\"),\"--\")","v":"--"},{"$f":"IF(COUNT(C101:H101)>=3,IF(L101>0, ROUND(setup!D31/L101,2),\"--\"),\"--\")","v":"--"},{"$f":"IF(AND(M101=\"--\", N101=\"--\"), \"--\", IF(M101=\"--\", 100, IF(M101<0, 100, 0)+IF(M101<0, -1, 1)* IF(COUNT(C101:H101)>=5, VLOOKUP(ABS(M101),$AB$2:$AF$53,5,TRUE)+IF(LOOKUP(ABS(M101),$AB$2:$AB$53)<ABS(M101),1,0), IF(COUNT(C101:H101)=4, VLOOKUP(ABS(M101),$AA$2:$AF$53,6,TRUE)+IF(LOOKUP(ABS(M101),$AA$2:$AA$53)<ABS(M101),1,0), IF(COUNT(C101:H101)=3, VLOOKUP(ABS(M101),$Z$2:$AF$53,7,TRUE)+IF(LOOKUP(ABS(M101),$Z$2:$Z$53)<ABS(M101),1,0),\"--\"))))+IF(N101=\"--\",100, IF(N101<0, 100, 0)+IF(N101<0, -1, 1)* IF(COUNT(C101:H101)>=5, VLOOKUP(ABS(N101),$AB$2:$AF$53,5,TRUE)+IF(LOOKUP(ABS(N101),$AB$2:$AB$53)<ABS(N101),1,0), IF(COUNT(C101:H101)=4, VLOOKUP(ABS(N101),$AA$2:$AF$53,6,TRUE)+IF(LOOKUP(ABS(N101),$AA$2:$AA$53)<ABS(N101),1,0), IF(COUNT(C101:H101)=3, VLOOKUP(ABS(N101),$Z$2:$AF$53,7,TRUE)+IF(LOOKUP(ABS(N101),$Z$2:$Z$53)<ABS(N101),1,0),\"--\"))))-100)","v":"--"},{"$f":"IF(K101<>\"\", IF(K101>JMF!Q56, \"Over JMF Limit\", IF(K101<JMF!N56, \"Under JMF Limit\",\"OK\")), \"\")","v":""}]
["Comp Temp",null,{"$f":"IF(G27>0, G27, \"\")","v":""},{"$f":"IF(N27>0, N27, \"\")","v":""},{"$f":"IF(U27>0, U27, \"\")","v":""},{"$f":"IF(G53>0, G53, \"\")","v":""},{"$f":"IF(N53>0, N53, \"\")","v":""},{"$f":"IF(U53>0, U53, \"\")","v":""},null,{"$f":"Validation!H39","v":""},{"$f":"IF(SUM(C102:H102)>0, ROUND(AVERAGE(C102:H102),1),\"\")","v":""},{"$f":"IF(COUNT(C102:H102)>1, ROUND(STDEV(C102:H102),1),\"\")","v":""},"--","--","--"]
[]
["Gradation",null,null,null,null,null,null,null,null,"JMF","MEAN","StDev","QL","QU","PWL"]
["2\"         50",null,{"$f":"IF(D16<>\"\", D16, \"\")","v":" "},{"$f":"IF(K16<>\"\", K16, \"\")","v":" "},{"$f":"IF(R16<>\"\", R16, \"\")","v":" "},{"$f":"IF(D42<>\"\", D42, \"\")","v":" "},{"$f":"IF(K42<>\"\", K42, \"\")","v":" "},{"$f":"IF(R42<>\"\", R42, \"\")","v":" "},null,{"$f":"Validation!H19","v":""},{"$f":"IF(SUM(C105:H105)>0, ROUND(AVERAGE(C105:H105),setup!$M$68+1),\"\")","v":""},{"$f":"IF(COUNT(C105:H105)>1, ROUND(STDEV(C105:H105),setup!$M$68+3),\"\")","v":""},{"$f":"IF(COUNT(C105:H105)>=3,IF(L105>0, ROUND(setup!D18/L105,2),\"--\"),\"--\")","v":"--"},{"$f":"IF(COUNT(C105:H105)>=3,IF(L105>0, ROUND((IF(K105+setup!D18>100,100,K105+setup!D18)-K105)/L105,2),\"--\"),\"--\")","v":"--"},{"$f":"IF(AND(M105=\"--\", N105=\"--\"), \"--\", IF(M105=\"--\", 100, IF(M105<0, 100, 0)+IF(M105<0, -1, 1)* IF(COUNT(C105:H105)>=5, VLOOKUP(ABS(M105),$AB$2:$AF$53,5,TRUE)+IF(LOOKUP(ABS(M105),$AB$2:$AB$53)<ABS(M105),1,0), IF(COUNT(C105:H105)=4, VLOOKUP(ABS(M105),$AA$2:$AF$53,6,TRUE)+IF(LOOKUP(ABS(M105),$AA$2:$AA$53)<ABS(M105),1,0), IF(COUNT(C105:H105)=3, VLOOKUP(ABS(M105),$Z$2:$AF$53,7,TRUE)+IF(LOOKUP(ABS(M105),$Z$2:$Z$53)<ABS(M105),1,0),\"--\"))))+IF(N105=\"--\",100, IF(N105<0, 100, 0)+IF(N105<0, -1, 1)* IF(COUNT(C105:H105)>=5, VLOOKUP(ABS(N105),$AB$2:$AF$53,5,TRUE)+IF(LOOKUP(ABS(N105),$AB$2:$AB$53)<ABS(N105),1,0), IF(COUNT(C105:H105)=4, VLOOKUP(ABS(N105),$AA$2:$AF$53,6,TRUE)+IF(LOOKUP(ABS(N105),$AA$2:$AA$53)<ABS(N105),1,0), IF(COUNT(C105:H105)=3, VLOOKUP(ABS(N105),$Z$2:$AF$53,7,TRUE)+IF(LOOKUP(ABS(N105),$Z$2:$Z$53)<ABS(N105),1,0),\"--\"))))-100)","v":"--"}]
["1.5\"    37.5",null," "," "," "," "," "," ",null,{"$f":"Validation!H20","v":""},{"$f":"IF(SUM(C106:H106)>0, ROUND(AVERAGE(C106:H106),setup!$M$68+1),\"\")","v":""},{"$f":"IF(COUNT(C106:H106)>1, ROUND(STDEV(C106:H106),setup!$M$68+3),\"\")","v":""},{"$f":"IF(COUNT(C106:H106)>=3,IF(L106>0, ROUND(setup!D19/L106,2),\"--\"),\"--\")","v":"--"},{"$f":"IF(COUNT(C106:H106)>=3,IF(L106>0, ROUND((IF(K106+setup!D19>100,100,K106+setup!D19)-K106)/L106,2),\"--\"),\"--\")","v":"--"},{"$f":"IF(AND(M106=\"--\", N106=\"--\"), \"--\", IF(M106=\"--\", 100, IF(M106<0, 100, 0)+IF(M106<0, -1, 1)* IF(COUNT(C106:H106)>=5, VLOOKUP(ABS(M106),$AB$2:$AF$53,5,TRUE)+IF(LOOKUP(ABS(M106),$AB$2:$AB$53)<ABS(M106),1,0), IF(COUNT(C106:H106)=4, VLOOKUP(ABS(M106),$AA$2:$AF$53,6,TRUE)+IF(LOOKUP(ABS(M106),$AA$2:$AA$53)<ABS(M106),1,0), IF(COUNT(C106:H106)=3, VLOOKUP(ABS(M106),$Z$2:$AF$53,7,TRUE)+IF(LOOKUP(ABS(M106),$Z$2:$Z$53)<ABS(M106),1,0),\"--\"))))+IF(N106=\"--\",100, IF(N106<0, 100, 0)+IF(N106<0, -1, 1)* IF(COUNT(C106:H106)>=5, VLOOKUP(ABS(N106),$AB$2:$AF$53,5,TRUE)+IF(LOOKUP(ABS(N106),$AB$2:$AB$53)<ABS(N106),1,0), IF(COUNT(C106:H106)=4, VLOOKUP(ABS(N106),$AA$2:$AF$53,6,TRUE)+IF(LOOKUP(ABS(N106),$AA$2:$AA$53)<ABS(N106),1,0), IF(COUNT(C106:H106)=3, VLOOKUP(ABS(N106),$Z$2:$AF$53,7,TRUE)+IF(LOOKUP(ABS(N106),$Z$2:$Z$53)<ABS(N106),1,0),\"--\"))))-100)","v":"--"},{"$f":"IF(OR(setup!B19<>\"\", setup!C19<>\"\"),IF(K106<>\"\", IF(K106>JMF!Q44, \"Over JMF Limit\", IF(K106<JMF!N44, \"Under JMF Limit\",\"OK\")), \"\"),\"\")","v":""}]
["1\"         25",null," "," "," "," "," "," ",null,{"$f":"Validation!H21","v":""},{"$f":"IF(SUM(C107:H107)>0, ROUND(AVERAGE(C107:H107),setup!$M$68+1),\"\")","v":""},{"$f":"IF(COUNT(C107:H107)>1, ROUND(STDEV(C107:H107),setup!$M$68+3),\"\")","v":""},{"$f":"IF(COUNT(C107:H107)>=3,IF(L107>0, ROUND(setup!D20/L107,2),\"--\"),\"--\")","v":"--"},{"$f":"IF(COUNT(C107:H107)>=3,IF(L107>0, ROUND((IF(K107+setup!D20>100,100,K107+setup!D20)-K107)/L107,2),\"--\"),\"--\")","v":"--"},"--"]
["3/4\"       19",null," "," "," "," "," "," ",null,{"$f":"Validation!H22","v":""},{"$f":"IF(SUM(C108:H108)>0, ROUND(AVERAGE(C108:H108),setup!$M$68+1),\"\")","v":""},{"$f":"IF(COUNT(C108:H108)>1, ROUND(STDEV(C108:H108),setup!$M$68+3),\"\")","v":""},{"$f":"IF(COUNT(C108:H108)>=3,IF(L108>0, ROUND(setup!D21/L108,2),\"--\"),\"--\")","v":"--"},{"$f":"IF(COUNT(C108:H108)>=3,IF(L108>0, ROUND((IF(K108+setup!D21>100,100,K108+setup!D21)-K108)/L108,2),\"--\"),\"--\")","v":"--"},"--",{"$f":"IF(OR(setup!B21<>\"\", setup!C21<>\"\"),IF(K108<>\"\", IF(K108>JMF!Q46, \"Over JMF Limit\", IF(K108<JMF!N46, \"Under JMF Limit\",\"OK\")), \"\"),\"\")","v":""}]
["1/2\"    12.5",null," "," "," "," "," "," ",null,{"$f":"Validation!H23","v":""},{"$f":"IF(SUM(C109:H109)>0, ROUND(AVERAGE(C109:H109),setup!$M$68+1),\"\")","v":""},{"$f":"IF(COUNT(C109:H109)>1, ROUND(STDEV(C109:H109),setup!$M$68+3),\"\")","v":""},{"$f":"IF(COUNT(C109:H109)>=3,IF(L109>0, ROUND(setup!D22/L109,2),\"--\"),\"--\")","v":"--"},{"$f":"IF(COUNT(C109:H109)>=3,IF(L109>0, ROUND((IF(K109+setup!D22>100,100,K109+setup!D22)-K109)/L109,2),\"--\"),\"--\")","v":"--"},"--",{"$f":"IF(OR(setup!B22<>\"\", setup!C22<>\"\"),IF(K109<>\"\", IF(K109>JMF!Q47, \"Over JMF Limit\", IF(K109<JMF!N47, \"Under JMF Limit\",\"OK\")), \"\"),\"\")","v":""}]
["3/8\"     9.5",null," "," "," "," "," "," ",null,{"$f":"Validation!H24","v":""},{"$f":"IF(SUM(C110:H110)>0, ROUND(AVERAGE(C110:H110),setup!$M$68+1),\"\")","v":""},{"$f":"IF(COUNT(C110:H110)>1, ROUND(STDEV(C110:H110),setup!$M$68+3),\"\")","v":""},{"$f":"IF(COUNT(C110:H110)>=3,IF(L110>0, ROUND(setup!D23/L110,2),\"--\"),\"--\")","v":"--"},{"$f":"IF(COUNT(C110:H110)>=3,IF(L110>0, ROUND((IF(K110+setup!D23>100,100,K110+setup!D23)-K110)/L110,2),\"--\"),\"--\")","v":"--"},"--",{"$f":"IF(OR(setup!B23<>\"\", setup!C23<>\"\"),IF(K110<>\"\", IF(K110>JMF!Q48, \"Over JMF Limit\", IF(K110<JMF!N48, \"Under JMF Limit\",\"OK\")), \"\"),\"\")","v":""}]
["#4      4.75",null," "," "," "," "," "," ",null,{"$f":"Validation!H25","v":""},{"$f":"IF(SUM(C111:H111)>0, ROUND(AVERAGE(C111:H111),setup!$M$68+1),\"\")","v":""},{"$f":"IF(COUNT(C111:H111)>1, ROUND(STDEV(C111:H111),setup!$M$68+3),\"\")","v":""},{"$f":"IF(COUNT(C111:H111)>=3,IF(L111>0, ROUND(setup!D24/L111,2),\"--\"),\"--\")","v":"--"},{"$f":"IF(COUNT(C111:H111)>=3,IF(L111>0, ROUND((IF(K111+setup!D24>100,100,K111+setup!D24)-K111)/L111,2),\"--\"),\"--\")","v":"--"},"--",{"$f":"IF(OR(setup!B24<>\"\", setup!C24<>\"\"),IF(K111<>\"\", IF(K111>JMF!Q49, \"Over JMF Limit\", IF(K111<JMF!N49, \"Under JMF Limit\",\"OK\")), \"\"),\"\")","v":""}]
["#8      2.36",null," "," "," "," "," "," ",null,{"$f":"Validation!H26","v":""},{"$f":"IF(SUM(C112:H112)>0, ROUND(AVERAGE(C112:H112),setup!$M$68+1),\"\")","v":""},{"$f":"IF(COUNT(C112:H112)>1, ROUND(STDEV(C112:H112),setup!$M$68+3),\"\")","v":""},{"$f":"IF(COUNT(C112:H112)>=3,IF(L112>0, ROUND(setup!D25/L112,2),\"--\"),\"--\")","v":"--"},{"$f":"IF(COUNT(C112:H112)>=3,IF(L112>0, ROUND((IF(K112+setup!D25>100,100,K112+setup!D25)-K112)/L112,2),\"--\"),\"--\")","v":"--"},"--",{"$f":"IF(OR(setup!B25<>\"\", setup!C25<>\"\"),IF(K112<>\"\", IF(K112>JMF!Q50, \"Over JMF Limit\", IF(K112<JMF!N50, \"Under JMF Limit\",IF(O112<>\"--\", IF(O112<71, \"PWL <71\", \"OK\"),\"OK\"))), \"\"),\"\")","v":""}]
["#16     1.18",null," "," "," "," "," "," ",null,{"$f":"Validation!H27","v":""},{"$f":"IF(SUM(C113:H113)>0, ROUND(AVERAGE(C113:H113),setup!$M$68+1),\"\")","v":""},{"$f":"IF(COUNT(C113:H113)>1, ROUND(STDEV(C113:H113),setup!$M$68+3),\"\")","v":""},{"$f":"IF(COUNT(C113:H113)>=3,IF(L113>0, ROUND(setup!D26/L113,2),\"--\"),\"--\")","v":"--"},{"$f":"IF(COUNT(C113:H113)>=3,IF(L113>0, ROUND((IF(K113+setup!D26>100,100,K113+setup!D26)-K113)/L113,2),\"--\"),\"--\")","v":"--"},"--",{"$f":"IF(OR(setup!B26<>\"\", setup!C26<>\"\"),IF(K113<>\"\", IF(K113>JMF!Q51, \"Over JMF Limit\", IF(K113<JMF!N51, \"Under JMF Limit\",\"OK\")), \"\"),\"\")","v":""}]
["#30      0.6",null," "," "," "," "," "," ",null,{"$f":"Validation!H28","v":""},{"$f":"IF(SUM(C114:H114)>0, ROUND(AVERAGE(C114:H114),setup!$M$68+1),\"\")","v":""},{"$f":"IF(COUNT(C114:H114)>1, ROUND(STDEV(C114:H114),setup!$M$68+3),\"\")","v":""},{"$f":"IF(COUNT(C114:H114)>=3,IF(L114>0, ROUND(setup!D27/L114,2),\"--\"),\"--\")","v":"--"},{"$f":"IF(COUNT(C114:H114)>=3,IF(L114>0, ROUND((IF(K114+setup!D27>100,100,K114+setup!D27)-K114)/L114,2),\"--\"),\"--\")","v":"--"},"--",{"$f":"IF(OR(setup!B27<>\"\", setup!C27<>\"\"),IF(K114<>\"\", IF(K114>JMF!Q52, \"Over JMF Limit\", IF(K114<JMF!N52, \"Under JMF Limit\",\"OK\")), \"\"),\"\")","v":""}]
["#50      0.3",null," "," "," "," "," "," ",null,{"$f":"Validation!H29","v":""},{"$f":"IF(SUM(C115:H115)>0, ROUND(AVERAGE(C115:H115),setup!$M$68+1),\"\")","v":""},{"$f":"IF(COUNT(C115:H115)>1, ROUND(STDEV(C115:H115),setup!$M$68+3),\"\")","v":""},{"$f":"IF(COUNT(C115:H115)>=3,IF(L115>0, ROUND(setup!D28/L115,2),\"--\"),\"--\")","v":"--"},{"$f":"IF(COUNT(C115:H115)>=3,IF(L115>0, ROUND((IF(K115+setup!D28>100,100,K115+setup!D28)-K115)/L115,2),\"--\"),\"--\")","v":"--"},"--",{"$f":"IF(OR(setup!B28<>\"\", setup!C28<>\"\"),IF(K115<>\"\", IF(K115>JMF!Q53, \"Over JMF Limit\", IF(K115<JMF!N53, \"Under JMF Limit\",\"OK\")), \"\"),\"\")","v":""}]
["#100   0.15",null," "," "," "," "," "," ",null,{"$f":"Validation!H30","v":""},{"$f":"IF(SUM(C116:H116)>0, ROUND(AVERAGE(C116:H116),setup!$M$68+1),\"\")","v":""},{"$f":"IF(COUNT(C116:H116)>1, ROUND(STDEV(C116:H116),setup!$M$68+3),\"\")","v":""},{"$f":"IF(COUNT(C116:H116)>=3,IF(L116>0, ROUND(setup!D29/L116,2),\"--\"),\"--\")","v":"--"},{"$f":"IF(COUNT(C116:H116)>=3,IF(L116>0, ROUND((IF(K116+setup!D29>100,100,K116+setup!D29)-K116)/L116,2),\"--\"),\"--\")","v":"--"},"--",{"$f":"IF(OR(setup!B29<>\"\", setup!C29<>\"\"),IF(K116<>\"\", IF(K116>JMF!Q54, \"Over JMF Limit\", IF(K116<JMF!N54, \"Under JMF Limit\",\"OK\")), \"\"),\"\")","v":""}]
["#200  0.075",null," "," "," "," "," "," ",null,{"$f":"Validation!H31","v":""},{"$f":"IF(SUM(C117:H117)>0, ROUND(AVERAGE(C117:H117),setup!M69+1),\"\")","v":""},{"$f":"IF(COUNT(C117:H117)>1, ROUND(STDEV(C117:H117),setup!M69+3),\"\")","v":""},{"$f":"IF(COUNT(C117:H117)>=3,IF(L117>0, ROUND(setup!D30/L117,2),\"--\"),\"--\")","v":"--"},{"$f":"IF(COUNT(C117:H117)>=3,IF(L117>0, ROUND((IF(K117+setup!D30>100,100,K117+setup!D30)-K117)/L117,2),\"--\"),\"--\")","v":"--"},"--",{"$f":"IF(OR(setup!B30<>\"\",setup!C30<>\"\"),IF(K117<>\"\", IF(K117>JMF!Q55, \"Over JMF Limit\", IF(K117<JMF!N55, \"Under JMF Limit\",IF(O117<>\"--\", IF(O117<71, \"PWL <71\", \"OK\"),\"OK\"))), \"\"),\"\")","v":""}]
[]
["Other Factors (Informational Tools Only)",null,null,null,null,null,null,null,null,"JMF","MEAN","StDev","QL","QU","PWL"]
["GmbEst,ND",null,{"$f":"IF(C95<>\"\", IF(F23>0,ROUND(F19/(((3.1416*150*150*F23)/4)*0.001),setup!M66),\"\"),\"\")","v":""},{"$f":"IF(D95<>\"\", IF(M23>0,ROUND(M19/(((3.1416*150*150*M23)/4)*0.001),setup!M66),\"\"),\"\")","v":""},{"$f":"IF(E95<>\"\", IF(T23>0,ROUND(T19/(((3.1416*150*150*T23)/4)*0.001),setup!M66),\"\"),\"\")","v":""},{"$f":"IF(F95<>\"\", IF(F49>0,ROUND(F45/(((3.1416*150*150*F49)/4)*0.001),setup!M66),\"\"),\"\")","v":""},{"$f":"IF(G95<>\"\", IF(M49>0,ROUND(M45/(((3.1416*150*150*M49)/4)*0.001),setup!M66),\"\"),\"\")","v":""},{"$f":"IF(H95<>\"\", IF(T49>0,ROUND(T45/(((3.1416*150*150*T49)/4)*0.001),setup!M66),\"\"),\"\")","v":""},null,"--",{"$f":"IF(SUM(C120:H120)>0, ROUND(AVERAGE(C120:H120),setup!M66+1),\"\")","v":""},{"$f":"IF(COUNT(C120:H120)>1, ROUND(STDEV(C120:H120),setup!M66+3),\"\")","v":""},"--","--","--"]
["Gmb,Nmax",null,{"$f":"IF(G21>0,ROUND(G19/(G21-G20),setup!M66),\"\")","v":""},{"$f":"IF(N21>0,ROUND(N19/(N21-N20),setup!N66),\"\")","v":""},{"$f":"IF(U21>0,ROUND(U19/(U21-U20),setup!O66),\"\")","v":""},{"$f":"IF(G47>0,ROUND(G45/(G47-G46),setup!P66),\"\")","v":""},{"$f":"IF(N47>0,ROUND(N45/(N47-N46),setup!Q66),\"\")","v":""},{"$f":"IF(U47>0,ROUND(U45/(U47-U46),setup!R66),\"\")","v":""},null,{"$f":"Validation!H14","v":""},{"$f":"IF(SUM(C121:H121)>0, ROUND(AVERAGE(C121:H121),setup!M66+1),\"\")","v":""},{"$f":"IF(COUNT(C121:H121)>1, ROUND(STDEV(C121:H121),setup!M66+3),\"\")","v":""},"--","--","--"]
["%Gmm,Nmax",null,{"$f":"IF(C121<>\"\", IF(G24>0, ROUND(100*(ROUND(ROUND(F19/(((3.1416*150*150*G24)/4)*0.001),setup!$M$66)*(C121/ROUND(F19/(((3.1416*150*150*F23)/4)*0.001),setup!$M$66)),setup!$M$66)/C94),setup!$M$67), \"\"), \"\")","v":""},{"$f":"IF(D121<>\"\", IF(H24>0, ROUND(100*(ROUND(ROUND(G19/(((3.1416*150*150*H24)/4)*0.001),setup!$M$66)*(D121/ROUND(G19/(((3.1416*150*150*G23)/4)*0.001),setup!$M$66)),setup!$M$66)/D94),setup!$M$67), \"\"), \"\")","v":""},{"$f":"IF(E121<>\"\", IF(I24>0, ROUND(100*(ROUND(ROUND(H19/(((3.1416*150*150*I24)/4)*0.001),setup!$M$66)*(E121/ROUND(H19/(((3.1416*150*150*H23)/4)*0.001),setup!$M$66)),setup!$M$66)/E94),setup!$M$67), \"\"), \"\")","v":""},{"$f":"IF(F121<>\"\", IF(J24>0, ROUND(100*(ROUND(ROUND(I19/(((3.1416*150*150*J24)/4)*0.001),setup!$M$66)*(F121/ROUND(I19/(((3.1416*150*150*I23)/4)*0.001),setup!$M$66)),setup!$M$66)/F94),setup!$M$67), \"\"), \"\")","v":""},{"$f":"IF(G121<>\"\", IF(K24>0, ROUND(100*(ROUND(ROUND(J19/(((3.1416*150*150*K24)/4)*0.001),setup!$M$66)*(G121/ROUND(J19/(((3.1416*150*150*J23)/4)*0.001),setup!$M$66)),setup!$M$66)/G94),setup!$M$67), \"\"), \"\")","v":""},{"$f":"IF(H121<>\"\", IF(L24>0, ROUND(100*(ROUND(ROUND(K19/(((3.1416*150*150*L24)/4)*0.001),setup!$M$66)*(H121/ROUND(K19/(((3.1416*150*150*K23)/4)*0.001),setup!$M$66)),setup!$M$66)/H94),setup!$M$67), \"\"), \"\")","v":""},null,{"$f":"Validation!H15","v":""},{"$f":"IF(SUM(C122:H122)>0, ROUND(AVERAGE(C122:H122),setup!M67+1),\"\")","v":""},{"$f":"IF(COUNT(C122:H122)>1, ROUND(STDEV(C122:H122),setup!M67+3),\"\")","v":""},"--","--","--"]
["Design AC",null,{"$f":"IF($J$5<>\"\", $J$5, \"\")","v":0},{"$f":"IF($J$5<>\"\", $J$5, \"\")","v":0},0,0,0,0,null,"--",{"$f":"IF(SUM(C123:H123)>0, ROUND(AVERAGE(C123:H123),setup!M71+1),\"\")","v":""},{"$f":"IF(COUNT(C123:H123)>1, ROUND(STDEV(C123:H123),setup!M71+3),\"\")","v":0},"--","--","--"]
["%Antistrip",null,{"$f":"IF(G29<>\"\", G29, \"\")","v":""},{"$f":"IF(N29<>\"\", N29, \"\")","v":""},{"$f":"IF(U29<>\"\", U29, \"\")","v":""},{"$f":"IF(G55<>\"\", G55, \"\")","v":""},{"$f":"IF(N55<>\"\", N55, \"\")","v":""},{"$f":"IF(U55<>\"\", U55, \"\")","v":""},null,{"$f":"Validation!H37","v":""},{"$f":"IF(SUM(C124:H124)>0, ROUND(AVERAGE(C124:H124),2),\"\")","v":""},{"$f":"IF(COUNT(C124:H124)>1, ROUND(STDEV(C124:H124),4),\"\")","v":""},"--","--","--"]
["Meter AC",null,{"$f":"IF(G26<>\"\", G26, \"\")","v":""},{"$f":"IF(N26<>\"\", N26,\"\")","v":""},{"$f":"IF(U26<>\"\", U26, \"\")","v":""},{"$f":"IF(G52<>\"\", G52, \"\")","v":""},{"$f":"IF(N52<>\"\", N52, \"\")","v":""},{"$f":"IF(U52<>\"\", U52, \"\")","v":""},null,"--",{"$f":"IF(SUM(C125:H125)>0, ROUND(AVERAGE(C125:H125),setup!M71+1),\"\")","v":""},{"$f":"IF(COUNT(C125:H125)>1, ROUND(STDEV(C125:H125),setup!M71+3),\"\")","v":""},"--","--","--"]
["%Crushed",null,{"$f":"IF(C33<>\"\", C33, \"\")","v":""},{"$f":"IF(J33<>\"\", J33, \"\")","v":""},{"$f":"IF(Q33<>\"\", Q33, \"\")","v":""},{"$f":"IF(C59<>\"\", C59, \"\")","v":""},{"$f":"IF(J59<>\"\", J59, \"\")","v":""},{"$f":"IF(Q59<>\"\", Q59, \"\")","v":""},null,{"$f":"Validation!H38","v":""},{"$f":"IF(SUM(C126:H126)>0, ROUND(AVERAGE(C126:H126),1),\"\")","v":""},{"$f":"IF(COUNT(C126:H126)>1, ROUND(STDEV(C126:H126),3),\"\")","v":""},"--","--","--"]
["Mix Temp",null,{"$f":"IF(G28>0, G28, \"\")","v":""},{"$f":"IF(N28>0, N28, \"\")","v":""},{"$f":"IF(U28>0, U28, \"\")","v":""},{"$f":"IF(G54>0, G54, \"\")","v":""},{"$f":"IF(N54>0, N54, \"\")","v":""},{"$f":"IF(U54>0, U54, \"\")","v":""},null,{"$f":"Validation!H39","v":""},{"$f":"IF(SUM(C127:H127)>0, ROUND(AVERAGE(C127:H127),1),\"\")","v":""},{"$f":"IF(COUNT(C127:H127)>1, ROUND(STDEV(C127:H127),1),\"\")","v":""},"--","--","--"]
["Gse",null,{"$f":"IF(C94<>\"\", ROUND($J$6/((100/C94)-$J$5/1.03), setup!$M$66), \"\")","v":""},{"$f":"IF(D94<>\"\", ROUND($J$6/((100/D94)-$J$5/1.03), setup!$M$66), \"\")","v":""},{"$f":"IF(E94<>\"\", ROUND($J$6/((100/E94)-$J$5/1.03), setup!$M$66), \"\")","v":""},{"$f":"IF(F94<>\"\", ROUND($J$6/((100/F94)-$J$5/1.03), setup!$M$66), \"\")","v":""},{"$f":"IF(G94<>\"\", ROUND($J$6/((100/G94)-$J$5/1.03), setup!$M$66), \"\")","v":""},{"$f":"IF(H94<>\"\", ROUND($J$6/((100/H94)-$J$5/1.03), setup!$M$66), \"\")","v":""},null,{"$f":"Validation!H34","v":""},{"$f":"IF(SUM(C128:H128)>0, ROUND(AVERAGE(C128:H128),setup!M66),\"\")","v":""},{"$f":"IF(COUNT(C128:H128)>1, ROUND(STDEV(C128:H128),setup!M66+3),\"\")","v":""},"--","--","--"]
["Pba",null,{"$f":"IF(C128<>\"\", ROUND(103*(C128-$M$5)/($M$5*C128), 1), \"\")","v":""},{"$f":"IF(D128<>\"\", ROUND(103*(D128-$M$5)/($M$5*D128), 1), \"\")","v":""},"","","","",null,{"$f":"Validation!H35","v":""},{"$f":"IF(SUM(C129:H129)>0, ROUND(AVERAGE(C129:H129),1),\"\")","v":""},{"$f":"IF(COUNT(C129:H129)>1, ROUND(STDEV(C129:H129),3),\"\")","v":""},"--","--","--"]
["Pbe",null,{"$f":"IF(C129<>\"\", ROUND($J$5-(C129*$J$6)/100,1), \"\")","v":""},{"$f":"IF(D129<>\"\", ROUND($J$5-(D129*$J$6)/100,1), \"\")","v":""},"","","","",null,{"$f":"Validation!H36","v":""},{"$f":"IF(SUM(C130:H130)>0, ROUND(AVERAGE(C130:H130),1),\"\")","v":""},{"$f":"IF(COUNT(C130:H130)>1, ROUND(STDEV(C130:H130),3),\"\")","v":""},"--","--","--"]
["dust/Peff",null,{"$f":"IF(C130<>\"\", ROUND(C117/C130,setup!$M$72), \"\")","v":""},{"$f":"IF(D130<>\"\", ROUND(D117/D130,setup!$M$72), \"\")","v":""},{"$f":"IF(E130<>\"\", ROUND(E117/E130,setup!$M$72), \"\")","v":""},{"$f":"IF(F130<>\"\", ROUND(F117/F130,setup!$M$72), \"\")","v":""},{"$f":"IF(G130<>\"\", ROUND(G117/G130,setup!$M$72), \"\")","v":""},{"$f":"IF(H130<>\"\", ROUND(H117/H130,setup!$M$72), \"\")","v":""},null,{"$f":"Validation!H33","v":""},{"$f":"IF(SUM(C131:H131)>0, ROUND(AVERAGE(C131:H131),setup!M72),\"\")","v":""},{"$f":"IF(COUNT(C131:H131)>1, ROUND(STDEV(C131:H131),4),\"\")","v":""},"--","--","--"]
["slope",null,{"$f":"IF(C97<>\"\", ROUND((C97-C96)/(LOG($P$5)-LOG($P$4)),2), \"\")","v":""},{"$f":"IF(D97<>\"\", ROUND((D97-D96)/(LOG($P$5)-LOG($P$4)),2), \"\")","v":""},"","","","",null,null,{"$f":"IF(SUM(C132:H132)>0, ROUND(AVERAGE(C132:H132),2),\"\")","v":""},{"$f":"IF(COUNT(C132:H132)>1, ROUND(STDEV(C132:H132),3),\"\")","v":""},"--","--","--"]
["corrctn factor",null,{"$f":"IF(C120<>\"\", ROUND(C95/C120, 4), \"\")","v":""},{"$f":"IF(D120<>\"\", ROUND(D95/D120, 4), \"\")","v":""},"","","","",null,{"$f":"IF('Optimum AC Test Results'!D84<>\"\", 'Optimum AC Test Results'!D84, \"\")","v":""},{"$f":"IF(SUM(C133:H133)>0, ROUND(AVERAGE(C133:H133),4),\"\")","v":""},{"$f":"IF(COUNT(C133:H133)>1, ROUND(STDEV(C133:H133),5),\"\")","v":""},"--","--","--"]
[]
[]
[{"$f":"setup!S2","v":"LaPave 502 v18.05.02"},null,null,null,null,null,null,null,null,null,null,null,null,null,null,{"$f":"TODAY()","v":"2023-03-31"}]

{"sheet":"Plant Verification","index":15,"n_rows":59,"n_cols":34,"rows_kept":59,"cut":false,"hidden":false,"merged":[[56,1,56,20],[0,0,0,20],[2,1,2,2],[2,12,2,13],[2,14,2,15],[3,5,3,6],[4,1,4,2],[4,17,5,20],[5,1,5,2],[5,5,5,6],[8,0,8,2],[8,10,8,12],[9,0,9,2],[9,10,9,12],[10,0,10,2],[10,10,10,12],[11,0,11,2],[11,10,11,12],[13,1,13,2],[13,8,13,9],[13,15,13,16],[14,1,14,2],[14,8,14,9],[14,15,14,16],[15,0,15,1],[15,7,15,8],[15,14,15,15],[16,0,16,1],[16,7,16,8],[16,14,16,15],[17,0,17,1],[17,7,17,8],[17,14,17,15],[18,0,18,1],[18,7,18,8],[18,14,18,15],[19,0,19,1],[19,7,19,8],[19,14,19,15],[20,0,20,1],[20,7,20,8],[20,14,20,15],[21,0,21,1],[21,7,21,8],[21,14,21,15],[22,0,22,1],[22,7,22,8],[22,14,22,15],[23,0,23,1],[23,7,23,8],[23,14,23,15],[24,0,24,1],[24,7,24,8],[24,14,24,15],[25,0,25,1],[25,7,25,8],[25,14,25,15],[26,0,26,1],[26,7,26,8],[26,14,26,15],[27,0,27,1],[27,7,27,8],[27,14,27,15],[28,0,28,1],[28,7,28,8],[28,14,28,15],[29,0,29,1],[29,7,29,8],[29,14,29,15],[39,15,39,16],[41,10,41,12],[42,10,42,12],[43,10,43,12],[44,10,44,12],[45,10,45,12],[46,10,46,12],[39,0,39,5],[39,7,39,8],[2,5,2,10],[50,0,50,1],[51,0,51,1],[52,0,52,1],[54,0,54,1],[58,19,58,20],[40,0,40,1],[41,0,41,1],[42,0,42,1],[43,0,43,1],[44,0,44,1],[45,0,45,1],[46,0,46,1],[47,0,47,1],[30,0,30,1],[30,7,30,8],[30,14,30,15],[49,0,49,1],[31,0,31,1],[31,7,31,8],[31,14,31,15],[32,0,32,1],[32,7,32,8],[32,14,32,15]]}
["Data for Plant Verification",null,null,null,null,null,null,null,null,null,null,null,null,null,null,null,null,null,null,null,null,null,null,null,null,"n=3","n=4","n=5 - 6","n=7 - 9","n=10 - 12","n=13 - 15","PWL"]
[null,null,null,null,null,null,null,null,null,null,null,null,null,null,null,null,null,null,null,null,null,null,null,null,null,0,0,0,0,0,0,50]
["DATE",null,null,null,"Plant",{"$f":"'JMF Input'!D7","v":0},null,null,null,null,null,"Mix Type",{"$f":"'JMF Input'!E5","v":"Base Course"},null,"Gyr. Rev",null,null,null,null,null,null,null,null,null,null,0.03,0.03,0.03,0.03,0.03,0.03,{"$f":"AF2+1","v":51}]
[null,null,null,null,"JMF No.",{"$f":"'JMF Input'!F3","v":0},null,null,null,null,null,"Design level",{"$f":"'JMF Input'!F4","v":1},null,"Nini ",{"$f":"'JMF Input'!N23","v":7},null,null,null,null,null,null,null,null,null,7.0000000000000007E-2,0.06,0.06,0.05,0.05,0.05,{"$f":"AF3+1","v":52}]
["Start Date",null,null,null,null,null,null,null,"%AC",{"$f":"'JMF Input'!J37","v":0},null,"Gsb",{"$f":"'JMF Input'!J39","v":0},null,"Ndes ",{"$f":"'JMF Input'!N24","v":55},null,"With Oven Temp Corr.",null,null,null,null,null,null,null,0.11,0.09,0.08,0.08,0.08,0.08,53]
["End Date",null,null,null,"LOT",{"$f":"'Plant Acceptance'!F5","v":0},null,null,"Ps",{"$f":"100-'JMF Input'!J37","v":100},null,"AC Corr Factor",{"$f":"'JMF Input'!K6","v":4.1376058339801904},null,"Nmax ",{"$f":"'JMF Input'!N25","v":90},null,null,null,null,null,null,null,null,null,0.14000000000000001,0.12,0.11,0.11,0.1,0.1,54]
[null,null,null,null,null,null,null,null,null,null,null,null,null,null,null,null,null,null,null,null,null,null,null,null,null,0.18,0.15,0.14000000000000001,0.13,0.13,0.13,55]
["Theoretical Maximum Specific Gravity, Gmm \"Rice\" 1",null,null,null,null,null,null,null,null,null,"Theoretical Maximum Specific Gravity, Gmm \"Rice\" 2",null,null,null,null,null,null,null,null,null,null,null,null,null,null,0.22,0.18,0.17,0.16,0.16,0.15,56]
[null,null,null,{"$f":"IF(B14<>\"\",B14,\"\")","v":""},{"$f":"IF(I14<>\"\",I14,\"\")","v":""},{"$f":"IF(P14<>\"\",P14,\"\")","v":""},null,null,null,null,null,null,null,{"$f":"IF(B14<>\"\",B14,\"\")","v":""},{"$f":"IF(I14<>\"\",I14,\"\")","v":""},{"$f":"IF(P14<>\"\",P14,\"\")","v":""},null,null,null,null,null,null,null,null,null,0.25,0.21,0.2,0.19,0.18,0.18,57]
["Wt of Mix",null,null,null,null,null,null,null,null,null,"Wt of Mix",null,null,null,null,null,null,null,null,null,null,null,null,null,null,0.28999999999999998,0.24,0.23,0.21,0.21,0.21,58]
["Wt of Pyc & Water",null,null,null,null,null,null,null,null,null,"Wt of Pyc & Water",null,null,null,null,null,null,null,null,null,null,null,null,null,null,0.32,0.27,0.25,0.24,0.24,0.23,59]
["Wt of Pyc, Water & Mix",null,null,null,null,null,null,null,null,null,"Wt of Pyc, Water & Mix",null,null,null,null,null,null,null,null,null,null,null,null,null,null,0.36,0.3,0.28000000000000003,0.27,0.26,0.26,60]
[null,null,null,null,null,null,null,null,null,null,null,null,null,null,null,null,null,null,null,null,null,null,null,null,null,0.39,0.33,0.31,0.3,0.3,0.28999999999999998,61]
["Sublot # ",null,null,null,"Tons ",null,null,"Sublot # ",null,null,null,"Tons ",null,null,"Sublot # ",null,null,null,"Tons ",null,null,null,null,null,null,0.43,0.36,0.34,0.33,0.32,0.31,62,null,"Luanna recommended all gradations to one decimal to avoid standard deviation = 0."]
[null,"Gradation",null,"% Pass",null,"Volumetrics",null,null,"Gradation",null,"% Pass",null,"Volumetrics",null,null,"Gradation",null,"% Pass",null,"Volumetrics",null,null,null,null,null,0.46,0.39,0.37,0.35,0.35,0.34,63]
["2\"         50",null,null,{"$f":"IF($C$31=0,\" \",ROUND(100-(C16/$C$31)*100,setup!M68))","v":" "},null,"Rice 1",{"$f":"IF(D11>0, ROUND(D10/(D10+D11-D12),setup!M65), \"\")","v":""},"2\"         50",null,null,{"$f":"IF($J$31=0,\" \",ROUND(100-(J16/$J$31)*100,setup!$M$68))","v":" "},null,"Rice 1",{"$f":"IF(E11>0, ROUND(E10/(E10+E11-E12),setup!M65), \"\")","v":""},"2\"         50",null,null,{"$f":"IF($Q$31=0,\" \",ROUND(100-(Q16/$Q$31)*100,setup!M68))","v":" "},null,"Rice 1",{"$f":"IF(F11>0, ROUND(F10/(F10+F11-F12),setup!M65), \"\")","v":""},null,null,null,null,0.49,0.42,0.4,0.38,0.37,0.37,64]
["1.5\"    37.5",null,null,{"$f":"IF($C$31=0,\" \",(IF(C17=0,D16,ROUND(100-(SUM($C$16:C17)/$C$31)*100,setup!M68))))","v":" "},null,"Rice 2",{"$f":"IF(N11>0, ROUND(N10/(N10+N11-N12),setup!M65), \"\")","v":""},"1.5\"    37.5",null,null,{"$f":"IF($J$31=0,\" \",(IF(J17=0,K16,ROUND(100-(SUM($J$16:J17)/$J$31)*100,setup!$M$68))))","v":" "},null,"Rice 2",{"$f":"IF(O11>0, ROUND(O10/(O10+O11-O12),setup!M65), \"\")","v":""},"1.5\"    37.5",null,null,{"$f":"IF($Q$31=0,\" \",(IF(Q17=0,R16,ROUND(100-(SUM($Q$16:Q17)/$Q$31)*100,setup!$M$68))))","v":" "},null,"Rice 2",{"$f":"IF(P11>0, ROUND(P10/(P10+P11-P12),setup!M65), \"\")","v":""},null,null,null,null,0.53,0.45,0.43,0.41,0.4,0.4,{"$f":"AF16+1","v":65}]
["1\"         25",null,null,{"$f":"IF($C$31=0,\" \",(IF(C18=0,D17,ROUND(100-(SUM($C$16:C18)/$C$31)*100,setup!M68))))","v":" "},null,null,null,"1\"         25",null,null,{"$f":"IF($J$31=0,\" \",(IF(J18=0,K17,ROUND(100-(SUM($J$16:J18)/$J$31)*100,setup!$M$68))))","v":" "},null,null,null,"1\"         25",null,null,{"$f":"IF($Q$31=0,\" \",(IF(Q18=0,R17,ROUND(100-(SUM($Q$16:Q18)/$Q$31)*100,setup!$M$68))))","v":" "},null,null,null,null,null,null,null,0.56000000000000005,0.48,0.46,0.44,0.43,0.42,66]
["3/4\"       19",null,null,{"$f":"IF($C$31=0,\" \",(IF(C19=0,D18,ROUND(100-(SUM($C$16:C19)/$C$31)*100,setup!M68))))","v":" "},null,"Air ",null,"3/4\"       19",null,null,{"$f":"IF($J$31=0,\" \",(IF(J19=0,K18,ROUND(100-(SUM($J$16:J19)/$J$31)*100,setup!$M$68))))","v":" "},null,"Air ",null,"3/4\"       19",null,null,{"$f":"IF($Q$31=0,\" \",(IF(Q19=0,R18,ROUND(100-(SUM($Q$16:Q19)/$Q$31)*100,setup!$M$68))))","v":" "},null,"Air ",null,null,null,null,null,0.59,0.51,0.49,0.47,0.46,0.45,67]
["1/2\"    12.5",null,null,{"$f":"IF($C$31=0,\" \",(IF(C20=0,D19,ROUND(100-(SUM($C$16:C20)/$C$31)*100,setup!M68))))","v":" "},null,"Water",null,"1/2\"    12.5",null,null,{"$f":"IF($J$31=0,\" \",(IF(J20=0,K19,ROUND(100-(SUM($J$16:J20)/$J$31)*100,setup!$M$68))))","v":" "},null,"Water",null,"1/2\"    12.5",null,null,{"$f":"IF($Q$31=0,\" \",(IF(Q20=0,R19,ROUND(100-(SUM($Q$16:Q20)/$Q$31)*100,setup!$M$68))))","v":" "},null,"Water",null,null,null,null,null,0.62,0.54,0.52,0.5,0.48,0.48,68]
["3/8\"     9.5",null,null,{"$f":"IF($C$31=0,\" \",(IF(C21=0,D20,ROUND(100-(SUM($C$16:C21)/$C$31)*100,setup!M68))))","v":" "},null,"SSD",null,"3/8\"     9.5",null,null,{"$f":"IF($J$31=0,\" \",(IF(J21=0,K20,ROUND(100-(SUM($J$16:J21)/$J$31)*100,setup!$M$68))))","v":" "},null,"SSD",null,"3/8\"     9.5",null,null,{"$f":"IF($Q$31=0,\" \",(IF(Q21=0,R20,ROUND(100-(SUM($Q$16:Q21)/$Q$31)*100,setup!$M$68))))","v":" "},null,"SSD",null,null,null,null,null,0.65,0.56999999999999995,0.55000000000000004,0.53,0.51,0.51,69]
["#4      4.75",null,null,{"$f":"IF($C$31=0,\" \",(IF(C22=0,D21,ROUND(100-(SUM($C$16:C22)/$C$31)*100,setup!M68))))","v":" "},null,"Ht@Ni",null,"#4      4.75",null,null,{"$f":"IF($J$31=0,\" \",(IF(J22=0,K21,ROUND(100-(SUM($J$16:J22)/$J$31)*100,setup!$M$68))))","v":" "},null,"Ht@Ni",null,"#4      4.75",null,null,{"$f":"IF($Q$31=0,\" \",(IF(Q22=0,R21,ROUND(100-(SUM($Q$16:Q22)/$Q$31)*100,setup!$M$68))))","v":" "},null,"Ht@Ni",null,null,null,null,null,0.68,0.6,0.57999999999999996,0.55000000000000004,0.54,0.54,70]
["#8      2.36",null,null,{"$f":"IF($C$31=0,\" \",(IF(C23=0,D22,ROUND(100-(SUM($C$16:C23)/$C$31)*100,setup!M68))))","v":" "},null,"Ht@Nd",null,"#8      2.36",null,null,{"$f":"IF($J$31=0,\" \",(IF(J23=0,K22,ROUND(100-(SUM($J$16:J23)/$J$31)*100,setup!$M$68))))","v":" "},null,"Ht@Nd",null,"#8      2.36",null,null,{"$f":"IF($Q$31=0,\" \",(IF(Q23=0,R22,ROUND(100-(SUM($Q$16:Q23)/$Q$31)*100,setup!$M$68))))","v":" "},null,"Ht@Nd",null,null,null,null,null,0.71,0.63,0.6,0.57999999999999996,0.56999999999999995,0.56000000000000005,71]
["#16     1.18",null,null,{"$f":"IF($C$31=0,\" \",(IF(C24=0,D23,ROUND(100-(SUM($C$16:C24)/$C$31)*100,setup!M68))))","v":" "},null,"Ht@Nmax",null,"#16     1.18",null,null,{"$f":"IF($J$31=0,\" \",(IF(J24=0,K23,ROUND(100-(SUM($J$16:J24)/$J$31)*100,setup!$M$68))))","v":" "},null,"Ht@Nmax",null,"#16     1.18",null,null,{"$f":"IF($Q$31=0,\" \",(IF(Q24=0,R23,ROUND(100-(SUM($Q$16:Q24)/$Q$31)*100,setup!$M$68))))","v":" "},null,"Ht@Nmax",null,null,null,null,null,0.74,0.66,0.64,0.61,0.6,0.59,72]
["#30      0.6",null,null,{"$f":"IF($C$31=0,\" \",(IF(C25=0,D24,ROUND(100-(SUM($C$16:C25)/$C$31)*100,setup!M68))))","v":" "},null,null,null,"#30      0.6",null,null,{"$f":"IF($J$31=0,\" \",(IF(J25=0,K24,ROUND(100-(SUM($J$16:J25)/$J$31)*100,setup!$M$68))))","v":" "},null,null,null,"#30      0.6",null,null,{"$f":"IF($Q$31=0,\" \",(IF(Q25=0,R24,ROUND(100-(SUM($Q$16:Q25)/$Q$31)*100,setup!$M$68))))","v":" "},null,null,null,null,null,null,null,0.77,0.69,0.67,0.64,0.63,0.62,73]
["#50      0.3",null,null,{"$f":"IF($C$31=0,\" \",(IF(C26=0,D25,ROUND(100-(SUM($C$16:C26)/$C$31)*100,setup!M68))))","v":" "},null,"Meter AC",null,"#50      0.3",null,null,{"$f":"IF($J$31=0,\" \",(IF(J26=0,K25,ROUND(100-(SUM($J$16:J26)/$J$31)*100,setup!$M$68))))","v":" "},null,"Meter AC",null,"#50      0.3",null,null,{"$f":"IF($Q$31=0,\" \",(IF(Q26=0,R25,ROUND(100-(SUM($Q$16:Q26)/$Q$31)*100,setup!$M$68))))","v":" "},null,"Meter AC",null,null,null,null,null,0.79,0.72,0.7,0.67,0.66,0.66,74]
["#100   0.15",null,null,{"$f":"IF($C$31=0,\" \",(IF(C27=0,D26,ROUND(100-(SUM($C$16:C27)/$C$31)*100,setup!M68))))","v":" "},null,"Comp Temp",null,"#100   0.15",null,null,{"$f":"IF($J$31=0,\" \",(IF(J27=0,K26,ROUND(100-(SUM($J$16:J27)/$J$31)*100,setup!$M$68))))","v":" "},null,"Comp Temp",null,"#100   0.15",null,null,{"$f":"IF($Q$31=0,\" \",(IF(Q27=0,R26,ROUND(100-(SUM($Q$16:Q27)/$Q$31)*100,setup!$M$68))))","v":" "},null,"Comp Temp",null,null,null,null,null,0.82,0.75,0.73,0.71,0.69,0.69,75]
["#200  0.075",null,null,{"$f":"IF($C$31=0,\" \",(IF(C28=0,D27,ROUND(100-(SUM($C$16:C28)/$C$31)*100,setup!M69))))","v":" "},null,"Mix Temp",null,"#200  0.075",null,null,{"$f":"IF($J$31=0,\" \",(IF(J28=0,K27,ROUND(100-(SUM($J$16:J28)/$J$31)*100,setup!$M$69))))","v":" "},null,"Mix Temp",null,"#200  0.075",null,null,{"$f":"IF($Q$31=0,\" \",(IF(Q28=0,R27,ROUND(100-(SUM($Q$16:Q28)/$Q$31)*100,setup!$M$69))))","v":" "},null,"Mix Temp",null,null,null,null,null,0.84,0.78,0.76,0.74,0.72,0.72,76]
["Pass",null,null,null,null,"AntiStrip",null,"Pass",null,null,null,null,"AntiStrip",null,"Pass",null,null,null,null,"AntiStrip",null,null,null,null,null,0.87,0.81,0.79,0.77,0.76,0.75,77]
["Dec Loss",null,{"$f":"IF(G34>0, G34-G35, \"\")","v":""},null,null,null,null,"Dec Loss",null,{"$f":"IF(N34>0, N34-N35, \"\")","v":""},null,null,null,null,"Dec Loss",null,{"$f":"IF(U34>0, U34-U35, \"\")","v":""},null,null,null,null,null,null,null,null,0.89,0.84,0.82,0.8,0.79,0.78,78]
["Cum. Total",null,{"$f":"SUM(C16:C30)","v":0},null,null,"Sample Taken-Tons",null,"Cum. Total",null,{"$f":"SUM(J16:J30)","v":0},null,null,"Sample Taken-Tons",null,"Cum. Total",null,{"$f":"SUM(Q16:Q30)","v":0},null,null,"Sample Taken-Tons",null,null,null,null,null,0.92,0.87,0.85,0.83,0.82,0.82,79]
["%AC",null,{"$f":"IF(E37<>\"\", ROUND(E37-M6,setup!M71), \"\")","v":""},null,null,null,null,"%AC",null,{"$f":"IF(L37<>\"\", ROUND(L37-U6,setup!M71), \"\")","v":""},null,null,null,null,"%AC",null,{"$f":"IF(S37<>\"\", ROUND(S37-AB6,setup!M71), \"\")","v":""},null,null,null,null,null,null,null,null,0.94,0.9,0.88,0.87,0.85,0.85,80]
["%Crushed",null,{"$f":"IF(SUM(C16:C22)>0, ROUND(G37/SUM(C16:C22)*100,0), \"\")","v":""},null,null,null,null,"%Crushed",null,{"$f":"IF(SUM(J16:J22)>0, ROUND(N37/SUM(J16:J22)*100,0), \"\")","v":""},null,null,null,null,"%Crushed",null,{"$f":"IF(SUM(Q16:Q22)>0, ROUND(U37/SUM(Q16:Q22)*100,0), \"\")","v":""},null,null,null,null,null,null,null,null,0.96,0.93,0.92,0.9,0.89,0.89,81]
["MC Pan Wt",null,null,{"$f":"IF($R$5=\"No Oven Temp Corr.\",\"Tr. Bskt\", \"Wt of Mix\")","v":"Wt of Mix"},null,"Int.DryWt",null,"MC Pan Wt",null,null,{"$f":"IF($R$5=\"No Oven Temp Corr.\",\"Tr. Bskt\", \"Wt of Mix\")","v":"Wt of Mix"},null,"Int.DryWt",null,"MC Pan Wt",null,null,{"$f":"IF($R$5=\"No Oven Temp Corr.\",\"Tr. Bskt\", \"Wt of Mix\")","v":"Wt of Mix"},null,"Int.DryWt",null,null,null,null,null,0.98,0.96,0.95,0.94,0.93,0.92,82]
["MC Initial Wt",null,null,{"$f":"IF($R$5=\"No Oven Temp Corr.\",\"Bskt+Mix w/AC\", \"Wt. Loss\")","v":"Wt. Loss"},null,"AfterWash",null,"MC Initial Wt",null,null,{"$f":"IF($R$5=\"No Oven Temp Corr.\",\"Bskt+Mix w/AC\", \"Wt. Loss\")","v":"Wt. Loss"},null,"AfterWash",null,"MC Initial Wt",null,null,{"$f":"IF($R$5=\"No Oven Temp Corr.\",\"Bskt+Mix w/AC\", \"Wt. Loss\")","v":"Wt. Loss"},null,"AfterWash",null,null,null,null,null,1,0.99,0.98,0.97,0.96,0.96,83]
["MC Final Wt",null,null,{"$f":"IF($R$5=\"No Oven Temp Corr.\",\"Bskt minus AC\", \"Temp. Corr.\")","v":"Temp. Corr."},null,"% Diff",{"$f":"IF(G34>0, ROUND((G34-C31)/G34*100,1),\"\")","v":""},"MC Final Wt",null,null,{"$f":"IF($R$5=\"No Oven Temp Corr.\",\"Bskt minus AC\", \"Temp. Corr.\")","v":"Temp. Corr."},null,"% Diff",{"$f":"IF(N34>0, ROUND((N34-J31)/N34*100,1),\"\")","v":""},"MC Final Wt",null,null,{"$f":"IF($R$5=\"No Oven Temp Corr.\",\"Bskt minus AC\", \"Temp. Corr.\")","v":"Temp. Corr."},null,"% Diff",{"$f":"IF(U34>0, ROUND((U34-Q31)/U34*100,1),\"\")","v":""},null,null,null,null,1.02,1.02,1.02,1.01,1,1,84]
["%MC",{"$f":"IF(B36>0,((B35-B34)-(B36-B34))/(B36-B34)*100,0)","v":0},null,{"$f":"IF($R$5=\"No Oven Temp Corr.\",\"% LOSS\", \"% LOSS-Tmp. Cor.\")","v":"% LOSS-Tmp. Cor."},{"$f":"IF($R$5=\"No Oven Temp Corr.\", IF(E35>0,((E35-E36)/(E35-E34))*100, \"\"), IF(E34>0, E35/E34*100-E36,\"\"))","v":""},"Wt. Crush",null,"%MC",{"$f":"IF(I36>0,((I35-I34)-(I36-I34))/(I36-I34)*100,0)","v":0},null,{"$f":"IF($R$5=\"No Oven Temp Corr.\",\"% LOSS\", \"% LOSS-Tmp. Cor.\")","v":"% LOSS-Tmp. Cor."},{"$f":"IF($R$5=\"No Oven Temp Corr.\", IF(L35>0,((L35-L36)/(L35-L34))*100, \"\"), IF(L34>0, L35/L34*100-L36,\"\"))","v":""},"Wt. Crush",null,"%MC",{"$f":"IF(P36>0,((P35-P34)-(P36-P34))/(P36-P34)*100,0)","v":0},null,{"$f":"IF($R$5=\"No Oven Temp Corr.\",\"% LOSS\", \"% LOSS-Tmp. Cor.\")","v":"% LOSS-Tmp. Cor."},{"$f":"IF($R$5=\"No Oven Temp Corr.\", IF(S35>0,((S35-S36)/(S35-S34))*100, \"\"), IF(S34>0, S35/S34*100-S36,\"\"))","v":""},"Wt. Crush",null,null,null,null,null,1.03,1.05,1.05,1.05,1.04,1.04,85]
[null,null,null,"%Loss - Moisture",{"$f":"IF(E37<>\"\",E37-B37,\"\")","v":""},null,null,null,null,null,"%Loss - Moisture",{"$f":"IF(L37<>\"\",L37-I37,\"\")","v":""},null,null,null,null,null,"%Loss - Moisture",{"$f":"IF(S37<>\"\",S37-P37,\"\")","v":""},null,null,null,null,null,null,1.05,1.08,1.08,1.08,1.08,1.08,86]
[null,null,null,null,null,null,null,null,null,null,null,null,null,null,null,null,null,null,null,null,null,null,null,null,null,1.06,1.1100000000000001,1.1200000000000001,1.1200000000000001,1.1299999999999999,1.1299999999999999,87]
["LWT (one per JMF, project, or every 20,000 tons)",null,null,null,null,null,"Sublot",null,null,null,"Drain Down (AASHTO T 305)",null,null,null,"Sublot",null,null,null,null,null,null,null,null,null,null,1.07,1.1399999999999999,1.1599999999999999,1.17,1.17,1.17,88]
[null,null,1,2,3,4,"Left",null,null,null,null,null,null,null,null,null,null,null,null,null,null,null,null,null,null,1.08,1.17,1.2,1.21,1.21,1.22,89]
["A Wt in air (dry)",null,null,null,null,null,"Bricks:",null,null,null,"Wt. of Mix Before",null,null,null,null,null,null,null,null,null,null,null,null,null,null,1.0900000000000001,1.2,1.23,1.25,1.26,1.27,90]
["B Wt in water",null,null,null,null,null,"Avg AV",{"$f":"IF(H42=\"1 & 2\", ROUND(AVERAGE(C48,D48),setup!M75), IF(H42=\"1 & 3\", ROUND(AVERAGE(C48,E48),setup!M75),IF(H42=\"1 & 4\", ROUND(AVERAGE(C48,F48),setup!M75),IF(H42=\"2 & 3\", ROUND(AVERAGE(D48,E48),setup!M75),IF(H42=\"2 & 4\", ROUND(AVERAGE(D48,F48),setup!M75),IF(H42=\"3 & 4\", ROUND(AVERAGE(E48,F48),setup!M75),\"\"))))))","v":""},null,null,"Wt. of Mix After",null,null,null,null,null,null,null,null,null,null,null,null,null,null,1.1000000000000001,1.23,1.27,1.3,1.32,1.32,91]
["C Wt in air (SSD)",null,null,null,null,null,null,null,null,null,"Wt. of Plate",null,null,null,null,null,null,null,null,null,null,null,null,null,null,1.1100000000000001,1.26,1.31,1.35,1.37,1.38,92]
["v Volume (C-B)",null,{"$f":"IF(C42>0,C44-C43,\"\")","v":""},{"$f":"IF(D42>0,D44-D43,\"\")","v":""},{"$f":"IF(E42>0,E44-E43,\"\")","v":""},{"$f":"IF(F42>0,F44-F43,\"\")","v":""},null,null,null,null,"Wt. of Plate+Mix After",null,null,null,null,null,null,null,null,null,null,null,null,null,null,1.1200000000000001,1.29,1.36,1.4,1.43,1.44,93]
["D Bk SpGr (A/v)",null,{"$f":"IF(C42>0,ROUND(C42/C45,setup!$M$66),\"\")","v":""},{"$f":"IF(D42>0,ROUND(D42/D45,setup!$M$66),\"\")","v":""},{"$f":"IF(E42>0,ROUND(E42/E45,setup!$M$66),\"\")","v":""},{"$f":"IF(F42>0,ROUND(F42/F45,setup!$M$66),\"\")","v":""},"Right",null,null,null,"Wt. of Drained Mix",null,null,{"$f":"IF(N45>0, N45-N44, IF(N43>0, N42-N43, \"\"))","v":""},{"$f":"IF(O45>0, O45-O44, IF(O43>0, O42-O43, \"\"))","v":""},"Avg % Draindown",null,null,null,null,null,null,null,null,null,1.1299999999999999,1.32,1.4,1.46,1.49,1.51,94]
["F %MxThGr 100D/E",null,{"$f":"IF(C42>0,ROUND((C46/AVERAGE($G$16:$G$17))*100,setup!$M$67),\"\")","v":""},{"$f":"IF(D42>0,ROUND((D46/AVERAGE($G$16:$G$17))*100,setup!$M$67),\"\")","v":""},{"$f":"IF(E42>0,ROUND((E46/AVERAGE($G$16:$G$17))*100,setup!$M$67),\"\")","v":""},{"$f":"IF(F42>0,ROUND((F46/AVERAGE($G$16:$G$17))*100,setup!$M$67),\"\")","v":""},"Bricks:",{"$f":"IF(H42=\"1 & 2\", \"3 & 4\", IF(H42=\"1 & 3\", \"2 & 4\",IF(H42=\"1 & 4\", \"2 & 3\",IF(H42=\"2 & 3\", \"1 & 4\",IF(H42=\"2 & 4\", \"1 & 3\",IF(H42=\"3 & 4\", \"1 & 2\",\"\"))))))","v":""},null,null,"% Draindown",null,null,{"$f":"IF(N46<>\"\", ROUND(N46/N42*100,1), \"\")","v":""},{"$f":"IF(O46<>\"\", ROUND(O46/O42*100,1), \"\")","v":""},{"$f":"IF(N47<>\"\", AVERAGE(N47:O47), \"\")","v":""},null,null,null,null,null,null,null,null,null,1.1399999999999999,1.35,1.45,1.52,1.56,1.59,{"$f":"AF46+1","v":95}]
["H % Voids  (100-F)",null,{"$f":"IF(C42>0,ROUND(100-C47,setup!$M$75),\"\")","v":""},{"$f":"IF(D42>0,ROUND(100-D47,setup!$M$75),\"\")","v":""},{"$f":"IF(E42>0,ROUND(100-E47,setup!$M$75),\"\")","v":""},{"$f":"IF(F42>0,ROUND(100-F47,setup!$M$75),\"\")","v":""},"Avg AV",{"$f":"IF(H47=\"1 & 2\", ROUND(AVERAGE(C48,D48),setup!M75), IF(H47=\"1 & 3\", ROUND(AVERAGE(C48,E48),setup!M75),IF(H47=\"1 & 4\", ROUND(AVERAGE(C48,F48),setup!M75),IF(H47=\"2 & 3\", ROUND(AVERAGE(D48,E48),setup!M75),IF(H47=\"2 & 4\", ROUND(AVERAGE(D48,F48),setup!M75),IF(H47=\"3 & 4\", ROUND(AVERAGE(E48,F48),setup!M75),\"\"))))))","v":""},null,null,null,null,null,null,null,null,null,null,null,null,null,null,null,null,null,1.1499999999999999,1.38,1.49,1.59,1.64,1.69,96]
[null,null,null,null,null,null,null,null,null,null,null,null,null,null,null,null,null,null,null,null,null,null,null,null,null,1.1499999999999999,1.41,1.55,1.67,1.74,1.8,97]
["Temp(°C):",null,null,null,"Pass","Left","Right",null,null,null,null,null,null,null,null,null,null,null,null,null,null,null,null,null,null,1.1499999999999999,1.44,1.61,1.77,1.86,1.93,98]
["Avg Rut (mm):",null,{"$f":"IF(C52=7500, ROUND(AVERAGE(F52,G52),setup!M77), IF(C52 = 10000, ROUND(AVERAGE(F53,G53),setup!M77),IF(C52 = 20000, ROUND(AVERAGE(F55,G55),setup!M77),\"\")))","v":""},null,5000,null,null,null,null,null,null,null,null,null,null,null,null,null,null,null,null,null,null,null,null,1.1599999999999999,1.47,1.68,1.89,2.04,2.14,99]
["At Pass:",null,null,null,7500]
["(Pass/Fail):",null,null,null,10000]
[null,null,null,null,15000]
["Date Tested:",null,null,null,20000]
[]
["Remarks"]
[]
[{"$f":"setup!S2","v":"LaPave 502 v18.05.02"},null,null,null,null,null,null,null,null,null,null,null,null,null,null,null,null,null,null,{"$f":"TODAY()","v":"2023-03-31"}]

{"sheet":"Roadway","index":16,"n_rows":134,"n_cols":44,"rows_kept":134,"cut":false,"hidden":false,"merged":[[81,1,81,15],[131,1,131,15],[43,8,43,15],[45,8,45,11],[56,1,56,7],[54,0,54,16],[111,8,111,9],[90,8,90,9],[89,8,89,9],[92,13,92,14],[93,11,93,12],[93,13,93,14],[97,0,97,5],[94,8,94,9],[93,8,93,9],[92,8,92,9],[60,19,60,22],[50,1,50,15],[6,12,6,13],[7,12,7,13],[110,8,110,9],[88,13,88,14],[88,11,88,12],[89,13,89,14],[89,11,89,12],[90,11,90,12],[90,13,90,14],[91,11,91,12],[91,13,91,14],[94,13,94,14],[88,8,88,9],[44,8,44,9],[41,1,41,7],[133,14,133,16],[66,1,66,6],[86,0,86,16],[52,14,52,16],[98,8,98,9],[99,8,99,9],[100,8,100,9],[102,8,102,9],[97,8,97,13],[107,8,107,13],[109,8,109,9],[92,11,92,12],[115,8,115,9],[83,14,83,16],[94,11,94,12],[0,0,0,16],[2,1,2,3],[2,11,2,12],[5,1,5,2],[3,1,3,3],[3,11,3,12],[3,5,3,6],[25,1,25,5],[25,6,25,10],[25,11,25,15],[9,1,9,5],[9,6,9,10],[9,11,9,15],[91,8,91,9],[103,13,104,13],[103,8,104,12],[122,0,123,3],[122,6,123,7],[122,4,123,5],[120,6,121,7],[120,4,121,5],[120,0,121,3],[113,8,113,9],[114,8,114,9],[116,8,117,12],[116,13,117,13],[107,0,107,6],[112,8,112,9],[128,0,129,3],[120,8,121,9],[122,8,123,9],[124,8,125,9],[126,8,127,9],[128,4,129,5],[128,6,129,7],[128,8,129,9],[124,0,125,3],[124,4,125,5],[124,6,125,7],[126,0,127,3],[126,4,127,5],[126,6,127,7]]}
[{"$f":"\"Data for Roadway -- Roadway Lot \" & B8","v":"Data for Roadway -- Roadway Lot 0"},null,null,null,null,null,null,null,null,null,null,null,null,null,null,null,null,null,null,null,null,null,null,null,null,"n=3","n=4","n=5 - 6","n=7 - 9","n=10 - 12","n=13 - 15","PWL",null,"Est PWL","n=3","n=4","n= 5","n=6","n=7","n=8 - 9","n=10-12","n=13","n=14-17","n>=18"]
[null,null,null,null,null,null,null,null,null,null,null,null,null,null,null,null,null,null,null,null,null,null,null,null,null,0,0,0,0,0,0,50,null,10,"50 or Replace","50 or Replace","50 or Replace","50 or Replace","50 or Replace","50 or Replace","50 or Replace","50 or Replace","50 or Replace","50 or Replace"]
["Proj. No.",{"$f":"'JMF Input'!B3","v":0},null,null,"Plant",{"$f":"'JMF Input'!I3","v":0},null,"Design level",{"$f":"'JMF Input'!F4","v":1},null,"Mix Type",{"$f":"'JMF Input'!E5","v":"Base Course"},null,null,null,null,null,null,null,null,null,null,{"$f":"IF(LEFT(L4,2)=\"ML\",\"Mainline\", \"Minor\")","v":"Minor"},null,null,0.03,0.03,0.03,0.03,0.03,0.03,{"$f":"AF2+1","v":51},null,11,51,"50 or Replace","50 or Replace","50 or Replace","50 or Replace","50 or Replace","50 or Replace","50 or Replace","50 or Replace","50 or Replace"]
["Proj. Name",{"$f":"'JMF Input'!B4:C4","v":0},null,null,"JMF No.",{"$f":"'JMF Input'!F3","v":0},null,null,null,null,"Mix use",null,null,null,null,null,null,null,null,null,null,null,"ML - Wearing","Wearing","ML",7.0000000000000007E-2,0.06,0.06,0.05,0.05,0.05,{"$f":"AF3+1","v":52},null,12,52,"50 or Replace","50 or Replace","50 or Replace","50 or Replace","50 or Replace","50 or Replace","50 or Replace","50 or Replace","50 or Replace"]
[null,null,null,null,null,null,null,null,null,null,null,null,null,null,null,null,null,null,null,null,null,null,"ML - Binder","Binder","ML",0.11,0.09,0.08,0.08,0.08,0.08,53,null,13,53,"50 or Replace","50 or Replace","50 or Replace","50 or Replace","50 or Replace","50 or Replace","50 or Replace","50 or Replace","50 or Replace"]
["DATE",null,null,null,"%AC",{"$f":"'JMF Input'!J37","v":0},"Gsb",{"$f":"'JMF Input'!J39","v":0},"Ps",{"$f":"100-'JMF Input'!J37","v":100},null,null,null,null,null,null,null,null,null,null,null,null,"ML - Base","Base","ML",0.14000000000000001,0.12,0.11,0.11,0.1,0.1,54,null,14,54,"50 or Replace","50 or Replace","50 or Replace","50 or Replace","50 or Replace","50 or Replace","50 or Replace","50 or Replace","50 or Replace"]
[null,null,null,null,null,null,null,null,null,null,null,"Start Date",null,null,null,null,null,null,null,null,null,null,"ML - Ramp >300ft","Airport ML","ML",0.18,0.15,0.14000000000000001,0.13,0.13,0.13,55,null,15,56,"50 or Replace","50 or Replace","50 or Replace","50 or Replace","50 or Replace","50 or Replace","50 or Replace","50 or Replace","50 or Replace"]
[{"$f":"\"Lot #\"","v":"Lot #"},{"$f":"'Plant Acceptance'!F5","v":0},null,null,{"$f":"JMF!A7","v":"Adj. Factor"},{"$f":"JMF!D7","v":{"$error":"#DIV/0!"}},null,null,{"$f":"IF(JMF!H35<>\"\",\"Validated Gmm\",\"Design Gmm\")","v":"Design Gmm"},{"$f":"IFERROR(ROUND(IF(JMF!H35<>\"\",JMF!H35, JMF!D35),3),\"\")","v":0},null,"End Date",null,null,null,null,null,null,null,null,null,null,"ML - Interstate acc/dec","Ints. Acc/Dec","ML",0.22,0.18,0.17,0.16,0.16,0.15,56,null,16,57,"50 or Replace","50 or Replace","50 or Replace","50 or Replace","50 or Replace","50 or Replace","50 or Replace","50 or Replace","50 or Replace"]
[null,null,null,null,null,null,null,null,null,null,null,null,null,null,null,null,null,null,null,null,null,null,"ML - Center turn lane","Ramp >300ft","ML",0.25,0.21,0.2,0.19,0.18,0.18,57,null,17,58,"50 or Replace","50 or Replace","50 or Replace","50 or Replace","50 or Replace","50 or Replace","50 or Replace","50 or Replace","50 or Replace"]
[null,{"$f":"\"Sublot #\" &'Plant Acceptance'!B14","v":"Sublot #1"},null,null,null,null,{"$f":"\"Sublot #\" & 'Plant Acceptance'!I14","v":"Sublot #2"},null,null,null,null,{"$f":"\"Sublot #\" &'Plant Acceptance'!P14","v":"Sublot #3"},null,null,null,null,null,null,null,null,null,null,"ML - Airport center lane","Shldr <4ft","Min No",0.28999999999999998,0.24,0.23,0.21,0.21,0.21,58,null,18,59,52,"50 or Replace","50 or Replace","50 or Replace","50 or Replace","50 or Replace","50 or Replace","50 or Replace","50 or Replace"]
["Core Type","Accept","Accept","Accept","Accept","Verif","Accept","Accept","Accept","Accept","Verif","Accept","Accept","Accept","Accept","Verif",null,null,null,null,null,null,"Min - Shoulder > 4ft","Widening","Min Den",0.32,0.27,0.25,0.24,0.24,0.23,59,null,19,60,53,"50 or Replace","50 or Replace","50 or Replace","50 or Replace","50 or Replace","50 or Replace","50 or Replace","50 or Replace"]
["Mix Use",null,null,null,null,null,null,null,null,null,null,null,null,null,null,null,null,null,null,null,null,null,"Min - Shoulder","Patching","Min Den",0.36,0.3,0.28000000000000003,0.27,0.26,0.26,60,null,20,61,53,"50 or Replace","50 or Replace","50 or Replace","50 or Replace","50 or Replace","50 or Replace","50 or Replace","50 or Replace"]
["Core Name",null,null,null,null,null,null,null,null,null,null,null,null,null,null,null,null,null,null,null,null,null,"Min - Patching","Turnouts","Min No",0.39,0.33,0.31,0.3,0.3,0.28999999999999998,61,null,21,62,54,"50 or Replace","50 or Replace","50 or Replace","50 or Replace","50 or Replace","50 or Replace","50 or Replace","50 or Replace"]
["Station",null,null,null,null,null,null,null,null,null,null,null,null,null,null,null,null,null,null,null,null,null,"Min - Leveling","Level >1.5","Min Den",0.43,0.36,0.34,0.33,0.32,0.31,62,null,22,63,56,"50 or Replace","50 or Replace","50 or Replace","50 or Replace","50 or Replace","50 or Replace","50 or Replace","50 or Replace"]
["Location",null,null,null,null,null,null,null,null,null,null,null,null,null,null,null,null,null,null,null,null,null,"Min - Widening","Level Spot","Min No",0.46,0.39,0.37,0.35,0.35,0.34,63,null,23,64,58,"50 or Replace","50 or Replace","50 or Replace","50 or Replace","50 or Replace","50 or Replace","50 or Replace","50 or Replace"]
["Random",null,null,null,null,null,null,null,null,null,null,null,null,null,null,null,null,null,null,null,null,null,"Min - Ramp < 300ft","Crossover","Min Den",0.49,0.42,0.4,0.38,0.37,0.37,64,null,24,66,59,"50 or Replace","50 or Replace","50 or Replace","50 or Replace","50 or Replace","50 or Replace","50 or Replace","50 or Replace"]
["Thickness",null,null,null,null,null,null,null,null,null,null,null,null,null,null,null,null,null,null,null,null,null,"Min - Crossover","Curb","Min No",0.53,0.45,0.43,0.41,0.4,0.4,{"$f":"AF16+1","v":65},null,25,67,60,52,51,"50 or Replace","50 or Replace","50 or Replace","50 or Replace","50 or Replace","50 or Replace"]
["Air",null,null,null,null,null,null,null,null,null,null,null,null,null,null,null,null,null,null,null,null,null,"Min - Turnout","Detour Rd","Min No",0.56000000000000005,0.48,0.46,0.44,0.43,0.42,66,null,26,68,61,55,52,52,"50 or Replace","50 or Replace","50 or Replace","50 or Replace","50 or Replace"]
["Water",null,null,null,null,null,null,null,null,null,null,null,null,null,null,null,null,null,null,null,null,null,"Min - Miscellaneous","Ramp <300ft","Min Den",0.59,0.51,0.49,0.47,0.46,0.45,67,null,27,69,62,57,54,53,"50 or Replace","50 or Replace","50 or Replace","50 or Replace","50 or Replace"]
["SSD",null,null,null,null,null,null,null,null,null,null,null,null,null,null,null,null,null,null,null,null,null,null,"Mailbox Stop","Min No",0.62,0.54,0.52,0.5,0.48,0.48,68,null,28,70,64,58,55,54,"50 or Replace","50 or Replace","50 or Replace","50 or Replace","50 or Replace"]
["Gmb",{"$f":"IF(B20>0, ROUND(B18/(B20-B19),setup!$M$66),\"\")","v":""},{"$f":"IF(C20>0, ROUND(C18/(C20-C19),setup!$M$66),\"\")","v":""},{"$f":"IF(D20>0, ROUND(D18/(D20-D19),setup!$M$66),\"\")","v":""},{"$f":"IF(E20>0, ROUND(E18/(E20-E19),setup!$M$66),\"\")","v":""},{"$f":"IF(F20>0, ROUND(F18/(F20-F19),setup!$M$66),\"\")","v":""},{"$f":"IF(G20>0, ROUND(G18/(G20-G19),setup!$M$66),\"\")","v":""},{"$f":"IF(H20>0, ROUND(H18/(H20-H19),setup!$M$66),\"\")","v":""},{"$f":"IF(I20>0, ROUND(I18/(I20-I19),setup!$M$66),\"\")","v":""},{"$f":"IF(J20>0, ROUND(J18/(J20-J19),setup!$M$66),\"\")","v":""},{"$f":"IF(K20>0, ROUND(K18/(K20-K19),setup!$M$66),\"\")","v":""},{"$f":"IF(L20>0, ROUND(L18/(L20-L19),setup!$M$66),\"\")","v":""},{"$f":"IF(M20>0, ROUND(M18/(M20-M19),setup!$M$66),\"\")","v":""},{"$f":"IF(N20>0, ROUND(N18/(N20-N19),setup!$M$66),\"\")","v":""},{"$f":"IF(O20>0, ROUND(O18/(O20-O19),setup!$M$66),\"\")","v":""},{"$f":"IF(P20>0, ROUND(P18/(P20-P19),setup!$M$66),\"\")","v":""},null,null,null,null,null,null,null,"Mailbox Stop","Min No",0.65,0.56999999999999995,0.55000000000000004,0.53,0.51,0.51,69,null,29,71,65,59,57,56,51,"50 or Replace","50 or Replace","50 or Replace","50 or Replace"]
["Density",{"$f":"IF(AND($E$23<>\"\",B21<>\"\"),ROUND(100*(B21/$E$23),setup!$M$67), \"--\")","v":"--"},{"$f":"IF(AND($E$23<>\"\",C21<>\"\"),ROUND(100*(C21/$E$23),setup!$M$67), \"--\")","v":"--"},{"$f":"IF(AND($E$23<>\"\",D21<>\"\"),ROUND(100*(D21/$E$23),setup!$M$67), \"--\")","v":"--"},{"$f":"IF(AND($E$23<>\"\",E21<>\"\"),ROUND(100*(E21/$E$23),setup!$M$67), \"--\")","v":"--"},{"$f":"IF(AND($E$23<>\"\",F21<>\"\"),ROUND(100*(F21/$E$23),setup!$M$67), \"--\")","v":"--"},{"$f":"IF(AND($J$23<>\"\",G21<>\"\"),ROUND(100*(G21/$J$23),setup!$M$67), \"--\")","v":"--"},{"$f":"IF(AND($J$23<>\"\",H21<>\"\"),ROUND(100*(H21/$J$23),setup!$M$67), \"--\")","v":"--"},{"$f":"IF(AND($J$23<>\"\",I21<>\"\"),ROUND(100*(I21/$J$23),setup!$M$67), \"--\")","v":"--"},{"$f":"IF(AND($J$23<>\"\",J21<>\"\"),ROUND(100*(J21/$J$23),setup!$M$67), \"--\")","v":"--"},{"$f":"IF(AND($J$23<>\"\",K21<>\"\"),ROUND(100*(K21/$J$23),setup!$M$67), \"--\")","v":"--"},{"$f":"IF(AND($O$23<>\"\",L21<>\"\"),ROUND(100*(L21/$O$23),setup!$M$67), \"--\")","v":"--"},{"$f":"IF(AND($O$23<>\"\",M21<>\"\"),ROUND(100*(M21/$O$23),setup!$M$67), \"--\")","v":"--"},{"$f":"IF(AND($O$23<>\"\",N21<>\"\"),ROUND(100*(N21/$O$23),setup!$M$67), \"--\")","v":"--"},{"$f":"IF(AND($O$23<>\"\",O21<>\"\"),ROUND(100*(O21/$O$23),setup!$M$67), \"--\")","v":"--"},{"$f":"IF(AND($O$23<>\"\",P21<>\"\"),ROUND(100*(P21/$O$23),setup!$M$67), \"--\")","v":"--"},null,null,null,null,null,null,null,"Parking Lot","Min Den",0.68,0.6,0.57999999999999996,0.55000000000000004,0.54,0.54,70,null,30,72,66,61,58,57,52,"50 or Replace","50 or Replace","50 or Replace","50 or Replace"]
["MainLn Tonnage",null,null,"Gmm",{"$f":"IF(H63<>\"\",H63,'Plant Acceptance'!C94)","v":""},null,null,null,"Gmm",{"$f":"IF(H63<>\"\",H63,'Plant Acceptance'!D94)","v":""},null,null,null,"Gmm",{"$f":"IF(H63<>\"\",H63,'Plant Acceptance'!E94)","v":""},null,null,null,null,null,null,null,null,"Bike Path","Min Den",0.71,0.63,0.6,0.57999999999999996,0.56999999999999995,0.56000000000000005,71,null,31,73,67,62,60,59,54,51,"50 or Replace","50 or Replace","50 or Replace"]
["Minor Tonnage","No Dens",null,"W/ Dens",null,null,"No Dens",null,"W/ Dens",null,null,"No Dens",null,"W/ Dens",null,null,null,null,null,null,null,null,null,"Airport Other","Min Den",0.74,0.66,0.64,0.61,0.6,0.59,72,null,32,74,69,63,61,60,55,52,"50 or Replace","50 or Replace","50 or Replace"]
[null,null,null,null,null,null,null,null,null,null,null,null,null,null,null,null,null,null,null,null,null,null,null,"Guardrail","Min No",0.77,0.69,0.67,0.64,0.63,0.62,73,null,33,75,70,65,63,61,57,54,"50 or Replace","50 or Replace","50 or Replace"]
[null,{"$f":"\"Sublot #\" &'Plant Acceptance'!B40","v":"Sublot #4"},null,null,null,null,{"$f":"\"Sublot #\" &'Plant Acceptance'!I40","v":"Sublot #5"},null,null,null,null,{"$f":"\"Sublot #\" &'Plant Acceptance'!P40","v":"Sublot #"},null,null,null,null,null,null,null,null,null,null,null,"Driveways","Min No",0.79,0.72,0.7,0.67,0.66,0.66,74,null,34,76,71,66,65,62,58,55,52,"50 or Replace","50 or Replace"]
["Core Type","Accept","Accept","Accept","Accept","Verif","Accept","Accept","Accept","Accept","Verif","Accept","Accept","Accept","Accept","Verif",null,null,null,null,null,null,null,"Island","Min No",0.82,0.75,0.73,0.71,0.69,0.69,75,null,35,77,72,67,66,63,60,57,53,52,"50 or Replace"]
["Mix Use",null,null,null,null,null,null,null,null,null,null,null,null,null,null,null,null,null,null,null,null,null,null,"Incidental","Min Den",0.84,0.78,0.76,0.74,0.72,0.72,76,null,36,78,73,68,67,65,61,58,55,53,51]
["Core Name",null,null,null,null,null,null,null,null,null,null,null,null,null,null,null,null,null,null,null,null,null,null,"Joint Repair","Min No",0.87,0.81,0.79,0.77,0.76,0.75,77,null,37,79,74,70,68,66,62,60,56,55,52]
["Station",null,null,null,null,null,null,null,null,null,null,null,null,null,null,null,null,null,null,null,null,null,null,"Taper","Min Den",0.89,0.84,0.82,0.8,0.79,0.78,78,null,38,80,75,71,70,67,63,61,58,56,54]
["Location",null,null,null,null,null,null,null,null,null,null,null,null,null,null,null,null,null,null,null,null,null,"NB","Otr Min W/Den","Min Den",0.92,0.87,0.85,0.83,0.82,0.82,79,null,39,81,76,72,71,69,65,63,59,57,55]
["Random",null,null,null,null,null,null,null,null,null,null,null,null,null,null,null,null,null,null,null,null,null,"SB","Otr Min No Den","Min No",0.94,0.9,0.88,0.87,0.85,0.85,80,null,40,82,77,74,72,70,66,64,61,59,57]
["Thickness",null,null,null,null,null,null,null,null,null,null,null,null,null,null,null,null,null,null,null,null,null,"WB","Other ML","ML",0.96,0.93,0.92,0.9,0.89,0.89,81,null,41,83,79,75,73,71,68,65,62,60,58]
["Air",null,null,null,null,null,null,null,null,null,null,null,null,null,null,null,null,null,null,null,null,null,"EB",null,null,0.98,0.96,0.95,0.94,0.93,0.92,82,null,42,84,80,76,75,73,69,67,63,62,59]
["Water",null,null,null,null,null,null,null,null,null,null,null,null,null,null,null,null,null,null,null,null,null,null,null,null,1,0.99,0.98,0.97,0.96,0.96,83,null,43,85,81,77,76,74,70,68,64,63,60]
["SSD",null,null,null,null,null,null,null,null,null,null,null,null,null,null,null,null,null,null,null,null,null,null,null,null,1.02,1.02,1.02,1.01,1,1,84,null,44,85,82,78,77,75,71,69,65,64,62]
["Gmb",{"$f":"IF(B36>0, ROUND(B34/(B36-B35),setup!$M$66),\"\")","v":""},{"$f":"IF(C36>0, ROUND(C34/(C36-C35),setup!$M$66),\"\")","v":""},{"$f":"IF(D36>0, ROUND(D34/(D36-D35),setup!$M$66),\"\")","v":""},{"$f":"IF(E36>0, ROUND(E34/(E36-E35),setup!$M$66),\"\")","v":""},{"$f":"IF(F36>0, ROUND(F34/(F36-F35),setup!$M$66),\"\")","v":""},{"$f":"IF(G36>0, ROUND(G34/(G36-G35),setup!$M$66),\"\")","v":""},{"$f":"IF(H36>0, ROUND(H34/(H36-H35),setup!$M$66),\"\")","v":""},{"$f":"IF(I36>0, ROUND(I34/(I36-I35),setup!$M$66),\"\")","v":""},{"$f":"IF(J36>0, ROUND(J34/(J36-J35),setup!$M$66),\"\")","v":""},{"$f":"IF(K36>0, ROUND(K34/(K36-K35),setup!$M$66),\"\")","v":""},{"$f":"IF(L36>0, ROUND(L34/(L36-L35),setup!$M$66),\"\")","v":""},{"$f":"IF(M36>0, ROUND(M34/(M36-M35),setup!$M$66),\"\")","v":""},{"$f":"IF(N36>0, ROUND(N34/(N36-N35),setup!$M$66),\"\")","v":""},{"$f":"IF(O36>0, ROUND(O34/(O36-O35),setup!$M$66),\"\")","v":""},{"$f":"IF(P36>0, ROUND(P34/(P36-P35),setup!$M$66),\"\")","v":""},null,null,null,null,null,null,null,null,null,1.03,1.05,1.05,1.05,1.04,1.04,85,null,45,86,83,79,78,76,73,71,67,66,63]
["Density",{"$f":"IF(AND($E$39<>\"\",B37<>\"\"),ROUND(100*(B37/$E$39),setup!$M$67), \"--\")","v":"--"},{"$f":"IF(AND($E$39<>\"\",C37<>\"\"),ROUND(100*(C37/$E$39),setup!$M$67), \"--\")","v":"--"},{"$f":"IF(AND($E$39<>\"\",D37<>\"\"),ROUND(100*(D37/$E$39),setup!$M$67), \"--\")","v":"--"},{"$f":"IF(AND($E$39<>\"\",E37<>\"\"),ROUND(100*(E37/$E$39),setup!$M$67), \"--\")","v":"--"},{"$f":"IF(AND($E$39<>\"\",F37<>\"\"),ROUND(100*(F37/$E$39),setup!$M$67), \"--\")","v":"--"},{"$f":"IF(AND($J$39<>\"\",G37<>\"\"),ROUND(100*(G37/$J$39),setup!$M$67), \"--\")","v":"--"},{"$f":"IF(AND($J$39<>\"\",H37<>\"\"),ROUND(100*(H37/$J$39),setup!$M$67), \"--\")","v":"--"},{"$f":"IF(AND($J$39<>\"\",I37<>\"\"),ROUND(100*(I37/$J$39),setup!$M$67), \"--\")","v":"--"},{"$f":"IF(AND($J$39<>\"\",J37<>\"\"),ROUND(100*(J37/$J$39),setup!$M$67), \"--\")","v":"--"},{"$f":"IF(AND($J$39<>\"\",K37<>\"\"),ROUND(100*(K37/$J$39),setup!$M$67), \"--\")","v":"--"},{"$f":"IF(AND($O$39<>\"\",L37<>\"\"),ROUND(100*(L37/$O$39),setup!$M$67), \"--\")","v":"--"},{"$f":"IF(AND($O$39<>\"\",M37<>\"\"),ROUND(100*(M37/$O$39),setup!$M$67), \"--\")","v":"--"},{"$f":"IF(AND($O$39<>\"\",N37<>\"\"),ROUND(100*(N37/$O$39),setup!$M$67), \"--\")","v":"--"},{"$f":"IF(AND($O$39<>\"\",O37<>\"\"),ROUND(100*(O37/$O$39),setup!$M$67), \"--\")","v":"--"},{"$f":"IF(AND($O$39<>\"\",P37<>\"\"),ROUND(100*(P37/$O$39),setup!$M$67), \"--\")","v":"--"},null,null,null,null,null,null,"CL",null,null,1.05,1.08,1.08,1.08,1.08,1.08,86,null,46,87,84,80,79,77,74,72,68,67,64]
["MainLn Tonnage",null,null,"Gmm",{"$f":"IF(H63<>\"\",H63,'Plant Acceptance'!F94)","v":""},null,null,null,"Gmm",{"$f":"IF(H63<>\"\",H63,'Plant Acceptance'!G94)","v":""},null,null,null,"Gmm",{"$f":"IF(H63<>\"\",H63,'Plant Acceptance'!H94)","v":""},null,null,null,null,null,null,null,"RT CL",null,null,1.06,1.1100000000000001,1.1200000000000001,1.1200000000000001,1.1299999999999999,1.1299999999999999,87,null,47,88,85,81,80,79,75,73,70,68,66]
["Minor Tonnage","No Dens",null,"W/ Dens",null,null,"No Dens",null,"W/ Dens",null,null,"No Dens",null,"W/ Dens",null,null,null,null,null,null,null,null,"LT CL",null,null,1.07,1.1399999999999999,1.1599999999999999,1.17,1.17,1.17,88,null,48,89,86,82,81,80,76,74,71,70,67]
[null,null,null,null,null,null,null,null,null,null,null,null,null,null,null,null,null,null,null,null,null,null,"RT SH",null,null,1.08,1.17,1.2,1.21,1.21,1.22,89,null,49,90,87,83,82,81,77,76,72,71,69]
[null,"Gmm Check",null,null,null,null,null,null,null,null,null,null,null,null,null,null,null,null,null,null,null,null,"LT SH",null,null,1.0900000000000001,1.2,1.23,1.25,1.26,1.27,90,null,50,90,88,84,73,82,79,77,74,73,70]
["Sublot",null,null,null,null,null,null,{"$f":"ROUND(IF(JMF!H35<>\"\", JMF!H35, JMF!D35),setup!M65)","v":0},null,null,null,null,null,null,null,null,null,null,null,null,null,null,"GD RL",null,null,1.1000000000000001,1.23,1.27,1.3,1.32,1.32,91,null,51,91,88,85,84,83,80,78,74,74,71]
["Core Name",null,null,null,null,null,null,{"$f":"IF(C48>0, \"Avg\", \"\")","v":"Avg"},{"$f":"IF(B49<>\"\",IF(B49>setup!D8,\"Gmm Tolerance exceeded, one core from each sublot required\",\"\"),\"\")","v":""},null,null,null,null,null,null,null,null,null,null,null,null,null,null,null,null,1.1100000000000001,1.26,1.31,1.35,1.37,1.38,92,null,52,92,89,87,85,84,81,79,76,75,72]
["Mix",null,null,null,null,null,null,null,{"$f":"IF(I46<>\"\",\"Gmm Avg > \"&setup!D8, \"\")","v":""},null,null,null,null,null,null,null,null,null,null,null,null,null,null,null,null,1.1200000000000001,1.29,1.36,1.4,1.43,1.44,93,null,53,93,90,88,86,85,82,80,77,76,74]
["Pyc&Water",null,null,null,null,null,null,null,{"$f":"IF(AND(OR(AND($H$49<>\"\", $H$49>setup!D8, H49<>\"\"), I57=1)), \"Resolution Gmm's Required\", \"\")","v":""},null,null,null,null,null,null,null,null,null,null,null,null,null,null,null,null,1.1299999999999999,1.32,1.4,1.46,1.49,1.51,94,null,54,94,91,89,87,85,83,82,78,77,75]
["Pyc,Wtr&Mix",null,null,null,null,null,null,null,null,null,null,null,null,null,null,null,null,null,null,null,null,null,null,null,null,1.1399999999999999,1.35,1.45,1.52,1.56,1.59,{"$f":"AF46+1","v":95},null,55,95,92,90,88,86,84,83,79,79,76]
["Core Gmm",{"$f":"IF(B47>0,ROUND(B45/(B45+B46-B47),setup!$M$65),\"\")","v":""},{"$f":"IF(C47>0,ROUND(C45/(C45+C46-C47),setup!$M$65),\"\")","v":""},{"$f":"IF(D47>0,ROUND(D45/(D45+D46-D47),setup!$M$65),\"\")","v":""},{"$f":"IF(E47>0,ROUND(E45/(E45+E46-E47),setup!$M$65),\"\")","v":""},{"$f":"IF(F47>0,ROUND(F45/(F45+F46-F47),setup!$M$65),\"\")","v":""},{"$f":"IF(G47>0,ROUND(G45/(G45+G46-G47),setup!$M$65),\"\")","v":""},{"$f":"IF(C48<>\"\", ROUND(AVERAGE(B48:G48),setup!M65),\"\")","v":""},null,null,null,null,null,null,null,null,null,null,null,null,null,null,null,null,null,1.1499999999999999,1.38,1.49,1.59,1.64,1.69,96,null,56,95,92,90,89,87,85,84,81,80,77]
["Diff from JMF",{"$f":"IF(AND(B48<>\"\",C48=\"\"), ABS(B48-J8),\"\")","v":""},null,null,null,null,null,{"$f":"IF(C48<>\"\", ABS(H48-H43),\"\")","v":""},null,null,null,null,null,null,null,null,null,null,null,null,null,null,null,null,null,1.1499999999999999,1.41,1.55,1.67,1.74,1.8,97,null,57,96,93,91,89,88,86,85,82,81,78]
[null,null,null,null,null,null,null,null,null,null,null,null,null,null,null,null,null,null,null,null,null,null,null,null,null,1.1499999999999999,1.44,1.61,1.77,1.86,1.93,98,null,58,97,94,92,90,89,87,86,83,82,79]
["Remarks",null,null,null,null,null,null,null,null,null,null,null,null,null,null,null,null,null,null,null,null,null,null,null,null,1.1599999999999999,1.47,1.68,1.89,2.04,2.14,99,null,59,97,95,93,91,90,88,87,84,83,80]
[null,null,null,null,null,null,null,null,null,null,null,null,null,null,null,null,null,null,null,null,null,null,null,null,null,null,null,null,null,null,null,null,null,60,98,95,94,92,91,89,88,85,84,81]
[{"$f":"setup!S2","v":"LaPave 502 v18.05.02"},null,null,null,null,null,null,null,null,null,null,null,null,null,{"$f":"TODAY()","v":"2023-03-31"},null,null,null,null,null,null,null,null,null,null,null,null,null,null,null,null,null,null,61,98,96,94,92,91,89,89,86,85,82]
[null,null,null,null,null,null,null,null,null,null,null,null,null,null,null,null,null,null,null,null,null,null,null,null,null,"Minor Pay",null,null,null,null,null,null,null,62,99,97,95,93,92,90,89,87,86,83]
[{"$f":"\"Data for Roadway -- Lot \" &B8 &\" Resolution\"","v":"Data for Roadway -- Lot 0 Resolution"},null,null,null,null,null,null,null,null,null,null,null,null,null,null,null,null,null,null,null,null,null,null,null,null,"% Pay",100,90,50,"or remove",null,null,null,63,99,98,95,94,93,91,90,99,87,84]
[null,null,null,null,null,null,null,null,null,null,null,null,null,null,null,null,null,null,null,null,null,null,null,null,null,"Density",90,88.1,88,null,null,null,null,64,99,98,96,94,94,92,91,89,88,85]
[null,"Resolution",null,null,null,null,null,null,0,null,null,null,null,null,null,null,null,null,null,null,null,null,null,null,null,null,null,null,null,null,null,null,null,65,100,99,96,95,94,92,92,90,88,86]
["Sublot",1,2,3,4,5,6,null,null,null,null,null,null,null,null,null,null,null,null,null,null,null,null,null,null,null,null,null,null,null,null,null,null,66,100,99,97,96,95,93,93,90,89,87]
["Core Name",{"$f":"IF(AND(OR(AND($H$49<>\"\", $H$49>0.024), 0), B58<>\"\"),\"Res\",\"\")","v":""},"","","","","",{"$f":"IF(AND($H$49<>\"\", $H$49>0.024), \"Avg\", \"\")","v":""},null,null,null,null,null,null,null,null,null,null,null,null,null,null,null,null,null,null,null,null,null,null,null,null,null,67,100,100,97,96,96,94,94,91,90,88]
["Mix",null,null,null,null,null,null,null,null,null,null,null,null,null,null,null,null,null,null,{"$f":"IF(AND(T61=\"Omit Resolution from Print if blank\",SUM(B60:G62)=0,SUM(B69:G76)=0),0,1)","v":0},null,null,null,null,null,null,null,null,null,null,null,null,null,68,100,100,98,97,96,94,94,92,91,89]
["Pyc&Water",null,null,null,null,null,null,null,null,null,null,null,null,null,null,null,null,null,null,"Omit Resolution from Print if blank",null,null,null,null,null,null,null,null,null,null,null,null,null,69,100,100,98,98,97,95,95,93,92,90]
["Pyc,Wtr&Mix",null,null,null,null,null,null,null,null,null,null,null,null,null,null,null,null,null,null,null,null,null,null,null,null,null,null,null,null,null,null,null,null,70,100,100,99,98,98,96,96,94,93,91]
["Core Gmm",{"$f":"IF(B62>0,ROUND(B60/(B60+B61-B62),setup!$M$65),\"\")","v":""},{"$f":"IF(C62>0,ROUND(C60/(C60+C61-C62),setup!$M$65),\"\")","v":""},{"$f":"IF(D62>0,ROUND(D60/(D60+D61-D62),setup!$M$65),\"\")","v":""},{"$f":"IF(E62>0,ROUND(E60/(E60+E61-E62),setup!$M$65),\"\")","v":""},{"$f":"IF(F62>0,ROUND(F60/(F60+F61-F62),setup!$M$65),\"\")","v":""},{"$f":"IF(G62>0,ROUND(G60/(G60+G61-G62),setup!$M$65),\"\")","v":""},{"$f":"IF(OR(AND($H$49<>\"\", $H$49>setup!D8), I57=1), IF(COUNT(B63:G63)>0,ROUND(AVERAGE(B63:G63),setup!M65),\"\"), \"\")","v":""},null,null,null,null,null,null,null,null,null,null,null,null,null,null,null,null,null,null,null,null,null,null,null,null,null,71,100,100,100,99,98,97,96,94,93,92]
["Diff from JMF",null,null,null,null,null,null,{"$f":"IF(AND($H$49<>\"\",$H$49>setup!D8),IF(H63<>\"\",ABS(H63-H43),\"\"),\"\")","v":""},null,null,null,null,null,null,null,null,null,null,null,null,null,null,null,null,null,null,null,null,null,null,null,null,null,72,100,100,100,99,99,97,97,95,94,92]
[null,null,null,null,null,null,null,null,null,null,null,null,null,null,null,null,null,null,null,null,null,null,null,null,null,null,null,null,null,null,null,null,null,73,100,100,100,100,99,98,97,96,95,93]
[null,null,null,null,null,null,null,null,null,null,null,null,null,null,null,null,null,null,null,null,null,null,null,null,null,null,null,null,null,null,null,null,null,74,100,100,100,100,100,98,98,96,96,94]
[null,"Resolution",null,null,null,null,null,null,null,null,null,null,null,null,null,null,null,null,null,null,null,null,null,null,null,null,null,null,null,null,null,null,null,75,100,100,100,100,100,99,98,97,97,95]
[null,1,2,3,4,5,6,null,null,null,null,null,null,null,null,null,null,null,null,null,null,null,null,null,null,null,null,null,null,null,null,null,null,76,100,100,100,100,100,99,99,98,97,96]
["Mix Use  ",null,null,null,null,null,null,null,null,null,null,null,null,null,null,null,null,null,null,null,null,null,null,null,null,null,null,null,null,null,null,null,null,77,100,100,100,100,100,100,99,98,98,97]
["Station  ",null,null,null,null,null,null,null,null,null,null,null,null,null,null,null,null,null,null,null,null,null,null,null,null,null,null,null,null,null,null,null,null,78,100,100,100,100,100,100,100,99,99,98]
["Location  ",null,null,null,null,null,null,null,null,null,null,null,null,null,null,null,null,null,null,null,null,null,null,null,null,null,null,null,null,null,null,null,null,79,100,100,100,100,100,100,100,100,99,98]
["Random",null,null,null,null,null,null,null,null,null,null,null,null,null,null,null,null,null,null,null,null,null,null,null,null,null,null,null,null,null,null,null,null,80,100,100,100,100,100,100,100,100,100,99]
["Thickness  ",null,null,null,null,null,null,null,null,null,null,null,null,null,null,null,null,null,null,null,null,null,null,null,null,null,null,null,null,null,null,null,null,81,100,100,100,100,100,100,100,100,100,100]
["Air  ",null,null,null,null,null,null,null,null,null,null,null,null,null,null,null,null,null,null,null,null,null,null,null,null,null,null,null,null,null,null,null,null,82,100,100,100,100,100,100,100,100,100,100]
["Water  ",null,null,null,null,null,null,null,null,null,null,null,null,null,null,null,null,null,null,null,null,null,null,null,null,null,null,null,null,null,null,null,null,83,100,100,100,100,100,100,100,100,100,100]
["SSD  ",null,null,null,null,null,null,null,null,null,null,null,null,null,null,null,null,null,null,null,null,null,null,null,null,null,null,null,null,null,null,null,null,84,100,100,100,100,100,100,100,100,100,100]
["Gmb  ",{"$f":"IF(B76>0, ROUND(B74/(B76-B75),setup!$M$66),\"\")","v":""},{"$f":"IF(C76>0, ROUND(C74/(C76-C75),setup!$M$66),\"\")","v":""},{"$f":"IF(D76>0, ROUND(D74/(D76-D75),setup!$M$66),\"\")","v":""},{"$f":"IF(E76>0, ROUND(E74/(E76-E75),setup!$M$66),\"\")","v":""},{"$f":"IF(F76>0, ROUND(F74/(F76-F75),setup!$M$66),\"\")","v":""},{"$f":"IF(G76>0, ROUND(G74/(G76-G75),setup!$M$66),\"\")","v":""},null,null,null,null,null,null,null,null,null,null,null,null,null,null,null,null,null,null,null,null,null,null,null,null,null,null,85,100,100,100,100,100,100,100,100,100,100]
["Density  ",{"$f":"IF(AND(B80<>\"\",B77<>\"\"),ROUND(100*(B77/B80),setup!$M$67), \"--\")","v":"--"},{"$f":"IF(AND(C80<>\"\",C77<>\"\"),ROUND(100*(C77/C80),setup!$M$67), \"--\")","v":"--"},{"$f":"IF(AND(D80<>\"\",D77<>\"\"),ROUND(100*(D77/D80),setup!$M$67), \"--\")","v":"--"},{"$f":"IF(AND(E80<>\"\",E77<>\"\"),ROUND(100*(E77/E80),setup!$M$67), \"--\")","v":"--"},{"$f":"IF(AND(F80<>\"\",F77<>\"\"),ROUND(100*(F77/F80),setup!$M$67), \"--\")","v":"--"},{"$f":"IF(AND(G80<>\"\",G77<>\"\"),ROUND(100*(G77/G80),setup!$M$67), \"--\")","v":"--"},null,null,null,null,null,null,null,null,null,null,null,null,null,null,null,null,null,null,null,null,null,null,null,null,null,null,86,100,100,100,100,100,100,100,100,100,100]
[null,null,null,null,null,null,null,null,null,null,null,null,null,null,null,null,null,null,null,null,null,null,null,null,null,null,null,null,null,null,null,null,null,87,100,100,100,100,100,100,100,100,100,100]
["Gmm",{"$f":"IF(H63<>\"\",H63,E23)","v":""},{"$f":"IF(H63<>\"\",H63,J23)","v":""},{"$f":"IF(H63<>\"\",H63,O23)","v":""},{"$f":"IF(H63<>\"\",H63,E39)","v":""},{"$f":"IF(H63<>\"\",H63,J39)","v":""},{"$f":"IF(H63<>\"\",H63,O39)","v":""},null,null,null,null,null,null,null,null,null,null,null,null,null,null,null,null,null,null,null,null,null,null,null,null,null,null,88,100,100,100,100,100,100,100,100,100,100]
[null,null,null,null,null,null,null,null,null,null,null,null,null,null,null,null,null,null,null,null,null,null,null,null,null,null,null,null,null,null,null,null,null,89,100,100,100,100,100,100,100,100,100,100]
["Remarks",null,null,null,null,null,null,null,null,null,null,null,null,null,null,null,null,null,null,null,null,null,null,null,null,null,null,null,null,null,null,null,null,90,100,100,100,100,100,100,100,100,100,100]
[null,null,null,null,null,null,null,null,null,null,null,null,null,null,null,null,null,null,null,null,null,null,null,null,null,null,null,null,null,null,null,null,null,91,100,100,100,100,100,100,100,100,100,100]
[{"$f":"setup!S2","v":"LaPave 502 v18.05.02"},null,null,null,null,null,null,null,null,null,null,null,null,null,{"$f":"TODAY()","v":"2023-03-31"},null,null,null,null,null,null,null,null,null,null,null,null,null,null,null,null,null,null,92,100,100,100,100,100,100,100,100,100,100]
[null,null,null,null,null,null,null,null,null,null,null,null,null,null,null,null,null,null,null,null,null,null,null,null,null,null,null,null,null,null,null,null,null,93,100,100,100,100,100,100,100,100,100,100]
[null,null,null,null,null,null,null,null,null,null,null,null,null,null,null,null,null,null,null,null,null,null,null,null,null,null,null,null,null,null,null,null,null,94,100,100,100,100,100,100,100,100,100,100]
[{"$f":"\"Data for Roadway -- Lot \" & B8 &\" Pay\"","v":"Data for Roadway -- Lot 0 Pay"},null,null,null,null,null,null,null,null,null,null,null,null,null,null,null,null,null,null,null,null,null,null,null,null,null,null,null,null,null,null,null,null,95,100,100,100,100,100,100,100,100,100,100]
[null,null,null,null,null,null,null,null,null,null,null,null,null,null,null,null,null,null,null,null,null,null,null,null,null,null,null,null,null,null,null,null,null,96,100,100,100,100,100,100,100,100,100,100]
["Core Counts","ML Acc","ML Ver","Min Acc","Min Ver","Min NoD",null,null,"Sublot Tons",null,"Mainline","Minor W/Density",null,"Minor No Density",null,null,null,null,null,null,null,null,null,null,null,null,null,null,null,null,null,null,null,97,100,100,100,100,100,100,100,100,100,100]
[{"$f":"$B$10","v":"Sublot #1"},{"$f":"IF(IFERROR(VLOOKUP(B12,$X$4:$Y$33,2,FALSE),0)=\"ML\",1,0)+IF(IFERROR(VLOOKUP(C12,$X$4:$Y$33,2,FALSE),0)=\"ML\",1,0)+IF(IFERROR(VLOOKUP(D12,$X$4:$Y$33,2,FALSE),0)=\"ML\",1,0)+IF(AND(IFERROR(VLOOKUP(E12,$X$4:$Y$33,2,FALSE),0)=\"ML\",E11=\"Accept\"),1,0)","v":0},{"$f":"IF(AND(IFERROR(VLOOKUP(F12,$X$4:$Y$33,2,FALSE),0)=\"ML\",F11=\"Verif\"),1,0)","v":0},{"$f":"IF(IFERROR(VLOOKUP(B12,$X$4:$Y$33,2,FALSE),0)=\"Min Den\",1,0)+IF(IFERROR(VLOOKUP(C12,$X$4:$Y$33,2,FALSE),0)=\"Min Den\",1,0)+IF(IFERROR(VLOOKUP(D12,$X$4:$Y$33,2,FALSE),0)=\"Min Den\",1,0)+IF(AND(IFERROR(VLOOKUP(E12,$X$4:$Y$33,2,FALSE),0)=\"Min Den\",E11=\"Accept\"),1,0)","v":0},{"$f":"IF(AND(IFERROR(VLOOKUP(F12,$X$4:$Y$33,2,FALSE),0)=\"Min Den\",F11=\"Verif\"),1,0)","v":0},{"$f":"IF(IFERROR(VLOOKUP(B12,$X$4:$Y$33,2,FALSE),0)=\"Min No\",1,0)+IF(IFERROR(VLOOKUP(C12,$X$4:$Y$33,2,FALSE),0)=\"Min No\",1,0)+IF(IFERROR(VLOOKUP(D12,$X$4:$Y$33,2,FALSE),0)=\"Min No\",1,0)+IF(AND(IFERROR(VLOOKUP(E12,$X$4:$Y$33,2,FALSE),0)=\"Min No\",E11=\"Accept\"),1,0)","v":0},null,null,{"$f":"$B$10","v":"Sublot #1"},null,{"$f":"B23","v":0},{"$f":"E24","v":0},null,{"$f":"C24","v":0},null,null,null,null,null,null,null,null,null,null,null,null,null,null,null,null,null,null,null,98,100,100,100,100,100,100,100,100,100,100]
[{"$f":"$G$10","v":"Sublot #2"},{"$f":"IF(IFERROR(VLOOKUP(G12,$X$4:$Y$33,2,FALSE),0)=\"ML\",1,0)+IF(IFERROR(VLOOKUP(H12,$X$4:$Y$33,2,FALSE),0)=\"ML\",1,0)+IF(IFERROR(VLOOKUP(I12,$X$4:$Y$33,2,FALSE),0)=\"ML\",1,0)+IF(AND(IFERROR(VLOOKUP(J12,$X$4:$Y$33,2,FALSE),0)=\"ML\",J11=\"Accept\"),1,0)","v":0},{"$f":"IF(AND(IFERROR(VLOOKUP(K12,$X$4:$Y$33,2,FALSE),0)=\"ML\",K11=\"Verif\"),1,0)","v":0},{"$f":"IF(IFERROR(VLOOKUP(G12,$X$4:$Y$33,2,FALSE),0)=\"Min Den\",1,0)+IF(IFERROR(VLOOKUP(H12,$X$4:$Y$33,2,FALSE),0)=\"Min Den\",1,0)+IF(IFERROR(VLOOKUP(I12,$X$4:$Y$33,2,FALSE),0)=\"Min Den\",1,0)+IF(AND(IFERROR(VLOOKUP(J12,$X$4:$Y$33,2,FALSE),0)=\"Min Den\",J11=\"Accept\"),1,0)","v":0},{"$f":"IF(AND(IFERROR(VLOOKUP(K12,$X$4:$Y$33,2,FALSE),0)=\"Min Den\",K11=\"Verif\"),1,0)","v":0},{"$f":"IF(IFERROR(VLOOKUP(G12,$X$4:$Y$33,2,FALSE),0)=\"Min No\",1,0)+IF(IFERROR(VLOOKUP(H12,$X$4:$Y$33,2,FALSE),0)=\"Min No\",1,0)+IF(IFERROR(VLOOKUP(I12,$X$4:$Y$33,2,FALSE),0)=\"Min No\",1,0)+IF(AND(IFERROR(VLOOKUP(J12,$X$4:$Y$33,2,FALSE),0)=\"Min No\",J11=\"Accept\"),1,0)","v":0},null,null,{"$f":"$G$10","v":"Sublot #2"},null,{"$f":"G23","v":0},{"$f":"J24","v":0},null,{"$f":"H24","v":0},null,null,null,null,null,null,null,null,null,null,null,null,null,null,null,null,null,null,null,99,100,100,100,100,100,100,100,100,100,100]
[{"$f":"$L$10","v":"Sublot #3"},{"$f":"IF(IFERROR(VLOOKUP(L12,$X$4:$Y$33,2,FALSE),0)=\"ML\",1,0)+IF(IFERROR(VLOOKUP(M12,$X$4:$Y$33,2,FALSE),0)=\"ML\",1,0)+IF(IFERROR(VLOOKUP(N12,$X$4:$Y$33,2,FALSE),0)=\"ML\",1,0)+IF(AND(IFERROR(VLOOKUP(O12,$X$4:$Y$33,2,FALSE),0)=\"ML\",O11=\"Accept\"),1,0)","v":0},{"$f":"IF(AND(IFERROR(VLOOKUP(P12,$X$4:$Y$33,2,FALSE),0)=\"ML\",P11=\"Verif\"),1,0)","v":0},{"$f":"IF(IFERROR(VLOOKUP(L12,$X$4:$Y$33,2,FALSE),0)=\"Min Den\",1,0)+IF(IFERROR(VLOOKUP(M12,$X$4:$Y$33,2,FALSE),0)=\"Min Den\",1,0)+IF(IFERROR(VLOOKUP(N12,$X$4:$Y$33,2,FALSE),0)=\"Min Den\",1,0)+IF(AND(IFERROR(VLOOKUP(O12,$X$4:$Y$33,2,FALSE),0)=\"Min Den\",O11=\"Accept\"),1,0)","v":0},{"$f":"IF(AND(IFERROR(VLOOKUP(P12,$X$4:$Y$33,2,FALSE),0)=\"Min Den\",P11=\"Verif\"),1,0)","v":0},{"$f":"IF(IFERROR(VLOOKUP(L12,$X$4:$Y$33,2,FALSE),0)=\"Min No\",1,0)+IF(IFERROR(VLOOKUP(M12,$X$4:$Y$33,2,FALSE),0)=\"Min No\",1,0)+IF(IFERROR(VLOOKUP(N12,$X$4:$Y$33,2,FALSE),0)=\"Min No\",1,0)+IF(AND(IFERROR(VLOOKUP(O12,$X$4:$Y$33,2,FALSE),0)=\"Min No\",O11=\"Accept\"),1,0)","v":0},null,null,{"$f":"$L$10","v":"Sublot #3"},null,{"$f":"L23","v":0},{"$f":"O24","v":0},null,{"$f":"M24","v":0},null,null,null,null,null,null,null,null,null,null,null,null,null,null,null,null,null,null,null,100,100,100,100,100,100,100,100,100,100,100]
[{"$f":"$B$26","v":"Sublot #4"},{"$f":"IF(IFERROR(VLOOKUP(B28,$X$4:$Y$33,2,FALSE),0)=\"ML\",1,0)+IF(IFERROR(VLOOKUP(C28,$X$4:$Y$33,2,FALSE),0)=\"ML\",1,0)+IF(IFERROR(VLOOKUP(D28,$X$4:$Y$33,2,FALSE),0)=\"ML\",1,0)+IF(AND(IFERROR(VLOOKUP(E28,$X$4:$Y$33,2,FALSE),0)=\"ML\",E27=\"Accept\"),1,0)","v":0},{"$f":"IF(AND(IFERROR(VLOOKUP(F28,$X$4:$Y$33,2,FALSE),0)=\"ML\",F27=\"Verif\"),1,0)","v":0},{"$f":"IF(IFERROR(VLOOKUP(B28,$X$4:$Y$33,2,FALSE),0)=\"Min Den\",1,0)+IF(IFERROR(VLOOKUP(C28,$X$4:$Y$33,2,FALSE),0)=\"Min Den\",1,0)+IF(IFERROR(VLOOKUP(D28,$X$4:$Y$33,2,FALSE),0)=\"Min Den\",1,0)+IF(AND(IFERROR(VLOOKUP(E28,$X$4:$Y$33,2,FALSE),0)=\"Min Den\",E27=\"Accept\"),1,0)","v":0},{"$f":"IF(AND(IFERROR(VLOOKUP(F28,$X$4:$Y$33,2,FALSE),0)=\"Min Den\",F27=\"Verif\"),1,0)","v":0},{"$f":"IF(IFERROR(VLOOKUP(B28,$X$4:$Y$33,2,FALSE),0)=\"Min No\",1,0)+IF(IFERROR(VLOOKUP(C28,$X$4:$Y$33,2,FALSE),0)=\"Min No\",1,0)+IF(IFERROR(VLOOKUP(D28,$X$4:$Y$33,2,FALSE),0)=\"Min No\",1,0)+IF(AND(IFERROR(VLOOKUP(E28,$X$4:$Y$33,2,FALSE),0)=\"Min No\",E27=\"Accept\"),1,0)","v":0},null,null,{"$f":"$B$26","v":"Sublot #4"},null,{"$f":"B39","v":0},{"$f":"E40","v":0},null,{"$f":"C40","v":0}]
[{"$f":"$G$26","v":"Sublot #5"},{"$f":"IF(IFERROR(VLOOKUP(G28,$X$4:$Y$33,2,FALSE),0)=\"ML\",1,0)+IF(IFERROR(VLOOKUP(H28,$X$4:$Y$33,2,FALSE),0)=\"ML\",1,0)+IF(IFERROR(VLOOKUP(I28,$X$4:$Y$33,2,FALSE),0)=\"ML\",1,0)+IF(AND(IFERROR(VLOOKUP(J28,$X$4:$Y$33,2,FALSE),0)=\"ML\",J27=\"Accept\"),1,0)","v":0},{"$f":"IF(AND(IFERROR(VLOOKUP(K28,$X$4:$Y$33,2,FALSE),0)=\"ML\",K27=\"Verif\"),1,0)","v":0},{"$f":"IF(IFERROR(VLOOKUP(G28,$X$4:$Y$33,2,FALSE),0)=\"Min Den\",1,0)+IF(IFERROR(VLOOKUP(H28,$X$4:$Y$33,2,FALSE),0)=\"Min Den\",1,0)+IF(IFERROR(VLOOKUP(I28,$X$4:$Y$33,2,FALSE),0)=\"Min Den\",1,0)+IF(AND(IFERROR(VLOOKUP(J28,$X$4:$Y$33,2,FALSE),0)=\"Min Den\",J27=\"Accept\"),1,0)","v":0},{"$f":"IF(AND(IFERROR(VLOOKUP(K28,$X$4:$Y$33,2,FALSE),0)=\"Min Den\",K27=\"Verif\"),1,0)","v":0},{"$f":"IF(IFERROR(VLOOKUP(G28,$X$4:$Y$33,2,FALSE),0)=\"Min No\",1,0)+IF(IFERROR(VLOOKUP(H28,$X$4:$Y$33,2,FALSE),0)=\"Min No\",1,0)+IF(IFERROR(VLOOKUP(I28,$X$4:$Y$33,2,FALSE),0)=\"Min No\",1,0)+IF(AND(IFERROR(VLOOKUP(J28,$X$4:$Y$33,2,FALSE),0)=\"Min No\",J27=\"Accept\"),1,0)","v":0},null,null,{"$f":"$G$26","v":"Sublot #5"},null,{"$f":"G39","v":0},{"$f":"J40","v":0},null,{"$f":"H40","v":0}]
[{"$f":"$L$26","v":"Sublot #"},{"$f":"IF(IFERROR(VLOOKUP(L28,$X$4:$Y$33,2,FALSE),0)=\"ML\",1,0)+IF(IFERROR(VLOOKUP(M28,$X$4:$Y$33,2,FALSE),0)=\"ML\",1,0)+IF(IFERROR(VLOOKUP(N28,$X$4:$Y$33,2,FALSE),0)=\"ML\",1,0)+IF(AND(IFERROR(VLOOKUP(O28,$X$4:$Y$33,2,FALSE),0)=\"ML\",O27=\"Accept\"),1,0)","v":0},{"$f":"IF(AND(IFERROR(VLOOKUP(P28,$X$4:$Y$33,2,FALSE),0)=\"ML\",P27=\"Verif\"),1,0)","v":0},{"$f":"IF(IFERROR(VLOOKUP(L28,$X$4:$Y$33,2,FALSE),0)=\"Min Den\",1,0)+IF(IFERROR(VLOOKUP(M28,$X$4:$Y$33,2,FALSE),0)=\"Min Den\",1,0)+IF(IFERROR(VLOOKUP(N28,$X$4:$Y$33,2,FALSE),0)=\"Min Den\",1,0)+IF(AND(IFERROR(VLOOKUP(O28,$X$4:$Y$33,2,FALSE),0)=\"Min Den\",O27=\"Accept\"),1,0)","v":0},{"$f":"IF(AND(IFERROR(VLOOKUP(P28,$X$4:$Y$33,2,FALSE),0)=\"Min Den\",P27=\"Verif\"),1,0)","v":0},{"$f":"IF(IFERROR(VLOOKUP(L28,$X$4:$Y$33,2,FALSE),0)=\"Min No\",1,0)+IF(IFERROR(VLOOKUP(M28,$X$4:$Y$33,2,FALSE),0)=\"Min No\",1,0)+IF(IFERROR(VLOOKUP(N28,$X$4:$Y$33,2,FALSE),0)=\"Min No\",1,0)+IF(AND(IFERROR(VLOOKUP(O28,$X$4:$Y$33,2,FALSE),0)=\"Min No\",O27=\"Accept\"),1,0)","v":0},null,null,{"$f":"$L$26","v":"Sublot #"},null,{"$f":"L39","v":0},{"$f":"O40","v":0},null,{"$f":"M40","v":0}]
[]
[]
["Mainline Density",null,null,null,null,null,null,null,"Mainline Acceptance Density PWL"]
[{"$f":"W3","v":"Minor"},"Acc1","Acc2","Acc3","Ver","Res",null,null,{"$f":"IF(COUNT(F100:F105)>0,\"Res Count\",\"Acc Count\")","v":"Acc Count"},null,{"$f":"IF(COUNT(F100:F105)>0,COUNTIF(F100:F105,\"<>--\"),COUNTIF(B100:D105,\"<>--\"))","v":0},null,"QL",{"$f":"IF(K99>=3,IF(K101>0,ROUND((K100-K103)/K101,2),\"--\"),\"--\")","v":"--"}]
[{"$f":"$B$10","v":"Sublot #1"},{"$f":"IF(B90>0,IF(AND(IFERROR(VLOOKUP(B12,$X$4:$Y$33,2,FALSE),0)=\"ML\",B11=\"Accept\"),B22,\nIF(AND(IFERROR(VLOOKUP(C12,$X$4:$Y$33,2,FALSE),0)=\"ML\",C11=\"Accept\"),C22,\nIF(AND(IFERROR(VLOOKUP(D12,$X$4:$Y$33,2,FALSE),0)=\"ML\",D11=\"Accept\"),D22,\nIF(AND(IFERROR(VLOOKUP(E12,$X$4:$Y$33,2,FALSE),0)=\"ML\",E11=\"Accept\"),E22,\"--\")))),\"--\")","v":"--"},{"$f":"IF(B90>1,IF(AND(IFERROR(VLOOKUP(B12,$X$4:$Y$33,2,FALSE),0)=\"ML\",B11=\"Accept\"),\n         IF(AND(IFERROR(VLOOKUP(C12,$X$4:$Y$33,2,FALSE),0)=\"ML\",C11=\"Accept\"),C22,\n         IF(AND(IFERROR(VLOOKUP(D12,$X$4:$Y$33,2,FALSE),0)=\"ML\",D11=\"Accept\"),D22,\n         IF(AND(IFERROR(VLOOKUP(E12,$X$4:$Y$33,2,FALSE),0)=\"ML\",E11=\"Accept\"),E22,\"--\"))),\nIF(AND(IFERROR(VLOOKUP(C12,$X$4:$Y$33,2,FALSE),0)=\"ML\",C11=\"Accept\"),\n         IF(AND(IFERROR(VLOOKUP(D12,$X$4:$Y$33,2,FALSE),0)=\"ML\",D11=\"Accept\"),D22,\n         IF(AND(IFERROR(VLOOKUP(E12,$X$4:$Y$33,2,FALSE),0)=\"ML\",E11=\"Accept\"),E22,\"--\")),\nIF(AND(IFERROR(VLOOKUP(D12,$X$4:$Y$33,2,FALSE),0)=\"ML\",D11=\"Accept\"),IF(AND(IFERROR(VLOOKUP(E12,$X$4:$Y$33,2,FALSE),0)=\"ML\",E11=\"Accept\"),E22,\"--\"),\"--\"\n))),\"--\")","v":"--"},{"$f":"IF(B90>2,\nIF(AND(IFERROR(VLOOKUP(B12,$X$4:$Y$33,2,FALSE),0)=\"ML\",B11=\"Accept\"),\n               IF(AND(IFERROR(VLOOKUP(C12,$X$4:$Y$33,2,FALSE),0)=\"ML\",C11=\"Accept\"),\n                                  IF(AND(IFERROR(VLOOKUP(D12,$X$4:$Y$33,2,FALSE),0)=\"ML\",D11=\"Accept\"),D22, IF(AND(IFERROR(VLOOKUP(E12,$X$4:$Y$33,2,FALSE),0)=\"ML\",E11=\"Accept\"),E22,\"--\")),\n                IF(AND(IFERROR(VLOOKUP(D12,$X$4:$Y$33,2,FALSE),0)=\"ML\",D11=\"Accept\"),IF(AND(IFERROR(VLOOKUP(E12,$X$4:$Y$33,2,FALSE),0)=\"ML\",E11=\"Accept\"),E22,\"--\"),\"--\")),\nIF(AND(IFERROR(VLOOKUP(C12,$X$4:$Y$33,2,FALSE),0)=\"ML\",C11=\"Accept\"),Z89\n                   IF(AND(IFERROR(VLOOKUP(D12,$X$4:$Y$33,2,FALSE),0)=\"ML\",D11=\"Accept\"),IF(AND(IFERROR(VLOOKUP(E12,$X$4:$Y$33,2,FALSE),0)=\"ML\",E11=\"Accept\"),E22,\"--\"), \"--\"),\"--\")),\"--\")","v":"--"},{"$f":"IF(AND(IFERROR(VLOOKUP(F12,$X$4:$Y$33,2,FALSE),0)=\"ML\",F11=\"Verif\"),F22,\"--\")","v":"--"},{"$f":"IF(AND(IFERROR(VLOOKUP(B69,$X$4:$Y$33,2,FALSE),0)=\"ML\",1),B78,\"--\")","v":"--"},null,null,{"$f":"IF(COUNT(F100:F105)>0,\"Res Mean\",\"Acc Mean\")","v":"Acc Mean"},null,{"$f":"IF(COUNT(F100:F105)>0,AVERAGE(F100:F105),IF(K99>0,AVERAGE(B100:D105),\"\"))","v":""},null,"QU",{"$f":"\"--\"","v":"--"}]
[{"$f":"$G$10","v":"Sublot #2"},{"$f":"IF(B91>0,IF(AND(IFERROR(VLOOKUP(G12,$X$4:$Y$33,2,FALSE),0)=\"ML\",G11=\"Accept\"),G22,\nIF(AND(IFERROR(VLOOKUP(H12,$X$4:$Y$33,2,FALSE),0)=\"ML\",H11=\"Accept\"),H22,\nIF(AND(IFERROR(VLOOKUP(I12,$X$4:$Y$33,2,FALSE),0)=\"ML\",I11=\"Accept\"),I22,\nIF(AND(IFERROR(VLOOKUP(J12,$X$4:$Y$33,2,FALSE),0)=\"ML\",J11=\"Accept\"),J22,\"--\")))),\"--\")","v":"--"},{"$f":"IF(B91>1,IF(AND(IFERROR(VLOOKUP(G12,$X$4:$Y$33,2,FALSE),0)=\"ML\",G11=\"Accept\"),\n         IF(AND(IFERROR(VLOOKUP(H12,$X$4:$Y$33,2,FALSE),0)=\"ML\",H11=\"Accept\"),H22,\n         IF(AND(IFERROR(VLOOKUP(I12,$X$4:$Y$33,2,FALSE),0)=\"ML\",I11=\"Accept\"),I22,\n         IF(AND(IFERROR(VLOOKUP(J12,$X$4:$Y$33,2,FALSE),0)=\"ML\",J11=\"Accept\"),J22,\"--\"))),\nIF(AND(IFERROR(VLOOKUP(H12,$X$4:$Y$33,2,FALSE),0)=\"ML\",H11=\"Accept\"),\n         IF(AND(IFERROR(VLOOKUP(I12,$X$4:$Y$33,2,FALSE),0)=\"ML\",I11=\"Accept\"),I22,\n         IF(AND(IFERROR(VLOOKUP(J12,$X$4:$Y$33,2,FALSE),0)=\"ML\",J11=\"Accept\"),J22,\"--\")),\nIF(AND(IFERROR(VLOOKUP(I12,$X$4:$Y$33,2,FALSE),0)=\"ML\",I11=\"Accept\"),IF(AND(IFERROR(VLOOKUP(J12,$X$4:$Y$33,2,FALSE),0)=\"ML\",J11=\"Accept\"),J22,\"--\"),\"--\"\n))),\"--\")","v":"--"},{"$f":"IF(B91>2,\nIF(AND(IFERROR(VLOOKUP(G12,$X$4:$Y$33,2,FALSE),0)=\"ML\",G11=\"Accept\"),\n               IF(AND(IFERROR(VLOOKUP(H12,$X$4:$Y$33,2,FALSE),0)=\"ML\",H11=\"Accept\"),\n                                  IF(AND(IFERROR(VLOOKUP(I12,$X$4:$Y$33,2,FALSE),0)=\"ML\",I11=\"Accept\"),I22, IF(AND(IFERROR(VLOOKUP(J12,$X$4:$Y$33,2,FALSE),0)=\"ML\",J11=\"Accept\"),J22,\"--\")),\n                IF(AND(IFERROR(VLOOKUP(I12,$X$4:$Y$33,2,FALSE),0)=\"ML\",I11=\"Accept\"),IF(AND(IFERROR(VLOOKUP(J12,$X$4:$Y$33,2,FALSE),0)=\"ML\",J11=\"Accept\"),J22,\"--\"),\"--\")),\nIF(AND(IFERROR(VLOOKUP(H12,$X$4:$Y$33,2,FALSE),0)=\"ML\",H11=\"Accept\"),\n                   IF(AND(IFERROR(VLOOKUP(I12,$X$4:$Y$33,2,FALSE),0)=\"ML\",I11=\"Accept\"),IF(AND(IFERROR(VLOOKUP(J12,$X$4:$Y$33,2,FALSE),0)=\"ML\",J11=\"Accept\"),J22,\"--\"), \"--\"),\"--\")),\"--\")","v":"--"},{"$f":"IF(AND(IFERROR(VLOOKUP(K12,$X$4:$Y$33,2,FALSE),0)=\"ML\",K11=\"Verif\"),K22,\"--\")","v":"--"},{"$f":"IF(AND(IFERROR(VLOOKUP(C69,$X$4:$Y$33,2,FALSE),0)=\"ML\",1),C78,\"--\")","v":"--"},null,null,{"$f":"IF(COUNT(F100:F105)>0,\"Res Stdev\",\"Acc Stdev\")","v":"Acc Stdev"},null,{"$f":"IF(COUNT(F100:F105)>0,STDEV(F100:F105),IF(K99>0, STDEV(B100:D105), \"\"))","v":""},null,"PWL",{"$f":"IF(N99=\"--\", \"--\", IF(N99<0, 100, 0)+IF(N99<0, -1, 1)*IF(K99>=13, VLOOKUP(ABS(N99),$AE$2:$AF$51,2,TRUE)+IF(LOOKUP(ABS(N99),$AE$2:$AE$51)<ABS(N99),1,0), IF(K99>=10, VLOOKUP(ABS(N99),$AD$2:$AF$51,3,TRUE)+IF(LOOKUP(ABS(N99),$AD$2:$AD$51)<ABS(N99),1,0), IF(K99>=7, VLOOKUP(ABS(N99),$AC$2:$AF$51,4,TRUE)+IF(LOOKUP(ABS(N99),$AC$2:$AC$51)<ABS(N99),1,0), IF(K99>=5, VLOOKUP(ABS(N99),$AB$2:$AF$51,5,TRUE)+IF(LOOKUP(ABS(N99),$AB$2:$AB$51)<ABS(N99),1,0), IF(K99=4, VLOOKUP(ABS(N99),$AA$2:$AF$51,6,TRUE)+IF(LOOKUP(ABS(N99),$AA$2:$AA$51)<ABS(N99),1,0), IF(K99=3, VLOOKUP(ABS(N99),$Z$2:$AF$51,7,TRUE)+IF(LOOKUP(ABS(N99),$Z$2:$Z$51)<ABS(N99),1,0),\"--\")))))))","v":"--"}]
[{"$f":"$L$10","v":"Sublot #3"},{"$f":"IF(B92>0,IF(AND(IFERROR(VLOOKUP(L12,$X$4:$Y$33,2,FALSE),0)=\"ML\",L11=\"Accept\"),L22,\nIF(AND(IFERROR(VLOOKUP(M12,$X$4:$Y$33,2,FALSE),0)=\"ML\",M11=\"Accept\"),M22,\nIF(AND(IFERROR(VLOOKUP(N12,$X$4:$Y$33,2,FALSE),0)=\"ML\",N11=\"Accept\"),N22,\nIF(AND(IFERROR(VLOOKUP(O12,$X$4:$Y$33,2,FALSE),0)=\"ML\",O11=\"Accept\"),O22,\"--\")))),\"--\")","v":"--"},{"$f":"IF(B92>1,IF(AND(IFERROR(VLOOKUP(L12,$X$4:$Y$33,2,FALSE),0)=\"ML\",L11=\"Accept\"),\n         IF(AND(IFERROR(VLOOKUP(M12,$X$4:$Y$33,2,FALSE),0)=\"ML\",M11=\"Accept\"),M22,\n         IF(AND(IFERROR(VLOOKUP(N12,$X$4:$Y$33,2,FALSE),0)=\"ML\",N11=\"Accept\"),N22,\n         IF(AND(IFERROR(VLOOKUP(O12,$X$4:$Y$33,2,FALSE),0)=\"ML\",O11=\"Accept\"),O22,\"--\"))),\nIF(AND(IFERROR(VLOOKUP(M12,$X$4:$Y$33,2,FALSE),0)=\"ML\",M11=\"Accept\"),\n         IF(AND(IFERROR(VLOOKUP(N12,$X$4:$Y$33,2,FALSE),0)=\"ML\",N11=\"Accept\"),N22,\n         IF(AND(IFERROR(VLOOKUP(O12,$X$4:$Y$33,2,FALSE),0)=\"ML\",O11=\"Accept\"),O22,\"--\")),\nIF(AND(IFERROR(VLOOKUP(N12,$X$4:$Y$33,2,FALSE),0)=\"ML\",N11=\"Accept\"),IF(AND(IFERROR(VLOOKUP(O12,$X$4:$Y$33,2,FALSE),0)=\"ML\",O11=\"Accept\"),O22,\"--\"),\"--\"\n))),\"--\")","v":"--"},{"$f":"IF(B92>2,\nIF(AND(IFERROR(VLOOKUP(L12,$X$4:$Y$33,2,FALSE),0)=\"ML\",L11=\"Accept\"),\n               IF(AND(IFERROR(VLOOKUP(M12,$X$4:$Y$33,2,FALSE),0)=\"ML\",M11=\"Accept\"),\n                                  IF(AND(IFERROR(VLOOKUP(N12,$X$4:$Y$33,2,FALSE),0)=\"ML\",N11=\"Accept\"),N22, IF(AND(IFERROR(VLOOKUP(O12,$X$4:$Y$33,2,FALSE),0)=\"ML\",O11=\"Accept\"),O22,\"--\")),\n                IF(AND(IFERROR(VLOOKUP(N12,$X$4:$Y$33,2,FALSE),0)=\"ML\",N11=\"Accept\"),IF(AND(IFERROR(VLOOKUP(O12,$X$4:$Y$33,2,FALSE),0)=\"ML\",O11=\"Accept\"),O22,\"--\"),\"--\")),\nIF(AND(IFERROR(VLOOKUP(M12,$X$4:$Y$33,2,FALSE),0)=\"ML\",M11=\"Accept\"),\n                   IF(AND(IFERROR(VLOOKUP(N12,$X$4:$Y$33,2,FALSE),0)=\"ML\",N11=\"Accept\"),IF(AND(IFERROR(VLOOKUP(O12,$X$4:$Y$33,2,FALSE),0)=\"ML\",O11=\"Accept\"),O22,\"--\"), \"--\"),\"--\")),\"--\")","v":"--"},{"$f":"IF(AND(IFERROR(VLOOKUP(P12,$X$4:$Y$33,2,FALSE),0)=\"ML\",P11=\"Verif\"),P22,\"--\")","v":"--"},{"$f":"IF(AND(IFERROR(VLOOKUP(D69,$X$4:$Y$33,2,FALSE),0)=\"ML\",1),D78,\"--\")","v":"--"}]
[{"$f":"$B$26","v":"Sublot #4"},{"$f":"IF(B93>0,IF(AND(IFERROR(VLOOKUP(B28,$X$4:$Y$33,2,FALSE),0)=\"ML\",B27=\"Accept\"),B38,\nIF(AND(IFERROR(VLOOKUP(C28,$X$4:$Y$33,2,FALSE),0)=\"ML\",C27=\"Accept\"),C38,\nIF(AND(IFERROR(VLOOKUP(D28,$X$4:$Y$33,2,FALSE),0)=\"ML\",D27=\"Accept\"),D38,\nIF(AND(IFERROR(VLOOKUP(E28,$X$4:$Y$33,2,FALSE),0)=\"ML\",E27=\"Accept\"),E38,\"--\")))),\"--\")","v":"--"},{"$f":"IF(B93>1,IF(AND(IFERROR(VLOOKUP(B28,$X$4:$Y$33,2,FALSE),0)=\"ML\",B27=\"Accept\"),\n         IF(AND(IFERROR(VLOOKUP(C28,$X$4:$Y$33,2,FALSE),0)=\"ML\",C27=\"Accept\"),C38,\n         IF(AND(IFERROR(VLOOKUP(D28,$X$4:$Y$33,2,FALSE),0)=\"ML\",D27=\"Accept\"),D38,\n         IF(AND(IFERROR(VLOOKUP(E28,$X$4:$Y$33,2,FALSE),0)=\"ML\",E27=\"Accept\"),E38,\"--\"))),\nIF(AND(IFERROR(VLOOKUP(C28,$X$4:$Y$33,2,FALSE),0)=\"ML\",C27=\"Accept\"),\n         IF(AND(IFERROR(VLOOKUP(D28,$X$4:$Y$33,2,FALSE),0)=\"ML\",D27=\"Accept\"),D38,\n         IF(AND(IFERROR(VLOOKUP(E28,$X$4:$Y$33,2,FALSE),0)=\"ML\",E27=\"Accept\"),E38,\"--\")),\nIF(AND(IFERROR(VLOOKUP(D28,$X$4:$Y$33,2,FALSE),0)=\"ML\",D27=\"Accept\"),IF(AND(IFERROR(VLOOKUP(E28,$X$4:$Y$33,2,FALSE),0)=\"ML\",E27=\"Accept\"),E38,\"--\"),\"--\"\n))),\"--\")","v":"--"},{"$f":"IF(B93>2,\nIF(AND(IFERROR(VLOOKUP(B28,$X$4:$Y$33,2,FALSE),0)=\"ML\",B27=\"Accept\"),\n               IF(AND(IFERROR(VLOOKUP(C28,$X$4:$Y$33,2,FALSE),0)=\"ML\",C27=\"Accept\"),\n                                  IF(AND(IFERROR(VLOOKUP(D28,$X$4:$Y$33,2,FALSE),0)=\"ML\",D27=\"Accept\"),D38, IF(AND(IFERROR(VLOOKUP(E28,$X$4:$Y$33,2,FALSE),0)=\"ML\",E27=\"Accept\"),E38,\"--\")),\n                IF(AND(IFERROR(VLOOKUP(D28,$X$4:$Y$33,2,FALSE),0)=\"ML\",D27=\"Accept\"),IF(AND(IFERROR(VLOOKUP(E28,$X$4:$Y$33,2,FALSE),0)=\"ML\",E27=\"Accept\"),E38,\"--\"),\"--\")),\nIF(AND(IFERROR(VLOOKUP(C28,$X$4:$Y$33,2,FALSE),0)=\"ML\",C27=\"Accept\"),\n                   IF(AND(IFERROR(VLOOKUP(D28,$X$4:$Y$33,2,FALSE),0)=\"ML\",D27=\"Accept\"),IF(AND(IFERROR(VLOOKUP(E28,$X$4:$Y$33,2,FALSE),0)=\"ML\",E27=\"Accept\"),E38,\"--\"), \"--\"),\"--\")),\"--\")","v":"--"},{"$f":"IF(AND(IFERROR(VLOOKUP(F28,$X$4:$Y$33,2,FALSE),0)=\"ML\",F27=\"Verif\"),F38,\"--\")","v":"--"},{"$f":"IF(AND(IFERROR(VLOOKUP(E69,$X$4:$Y$33,2,FALSE),0)=\"ML\",1),E78,\"--\")","v":"--"},null,null,"Mainline Min",null,{"$f":" setup!B34","v":92}]
[{"$f":"$G$26","v":"Sublot #5"},{"$f":"IF(B94>0,IF(AND(IFERROR(VLOOKUP(G28,$X$4:$Y$33,2,FALSE),0)=\"ML\",G27=\"Accept\"),G38,\nIF(AND(IFERROR(VLOOKUP(H28,$X$4:$Y$33,2,FALSE),0)=\"ML\",H27=\"Accept\"),H38,\nIF(AND(IFERROR(VLOOKUP(I28,$X$4:$Y$33,2,FALSE),0)=\"ML\",I27=\"Accept\"),I38,\nIF(AND(IFERROR(VLOOKUP(J28,$X$4:$Y$33,2,FALSE),0)=\"ML\",J27=\"Accept\"),J38,\"--\")))),\"--\")","v":"--"},{"$f":"IF(B94>1,IF(AND(IFERROR(VLOOKUP(G28,$X$4:$Y$33,2,FALSE),0)=\"ML\",G27=\"Accept\"),\n         IF(AND(IFERROR(VLOOKUP(H28,$X$4:$Y$33,2,FALSE),0)=\"ML\",H27=\"Accept\"),H38,\n         IF(AND(IFERROR(VLOOKUP(I28,$X$4:$Y$33,2,FALSE),0)=\"ML\",I27=\"Accept\"),I38,\n         IF(AND(IFERROR(VLOOKUP(J28,$X$4:$Y$33,2,FALSE),0)=\"ML\",J27=\"Accept\"),J38,\"--\"))),\nIF(AND(IFERROR(VLOOKUP(H28,$X$4:$Y$33,2,FALSE),0)=\"ML\",H27=\"Accept\"),\n         IF(AND(IFERROR(VLOOKUP(I28,$X$4:$Y$33,2,FALSE),0)=\"ML\",I27=\"Accept\"),I38,\n         IF(AND(IFERROR(VLOOKUP(J28,$X$4:$Y$33,2,FALSE),0)=\"ML\",J27=\"Accept\"),J38,\"--\")),\nIF(AND(IFERROR(VLOOKUP(I28,$X$4:$Y$33,2,FALSE),0)=\"ML\",I27=\"Accept\"),IF(AND(IFERROR(VLOOKUP(J28,$X$4:$Y$33,2,FALSE),0)=\"ML\",J27=\"Accept\"),J38,\"--\"),\"--\"\n))),\"--\")","v":"--"},{"$f":"IF(B94>2,\nIF(AND(IFERROR(VLOOKUP(G28,$X$4:$Y$33,2,FALSE),0)=\"ML\",G27=\"Accept\"),\n               IF(AND(IFERROR(VLOOKUP(H28,$X$4:$Y$33,2,FALSE),0)=\"ML\",H27=\"Accept\"),\n                                  IF(AND(IFERROR(VLOOKUP(I28,$X$4:$Y$33,2,FALSE),0)=\"ML\",I27=\"Accept\"),I38, IF(AND(IFERROR(VLOOKUP(J28,$X$4:$Y$33,2,FALSE),0)=\"ML\",J27=\"Accept\"),J38,\"--\")),\n                IF(AND(IFERROR(VLOOKUP(I28,$X$4:$Y$33,2,FALSE),0)=\"ML\",I27=\"Accept\"),IF(AND(IFERROR(VLOOKUP(J28,$X$4:$Y$33,2,FALSE),0)=\"ML\",J27=\"Accept\"),J38,\"--\"),\"--\")),\nIF(AND(IFERROR(VLOOKUP(H28,$X$4:$Y$33,2,FALSE),0)=\"ML\",H27=\"Accept\"),\n                   IF(AND(IFERROR(VLOOKUP(I28,$X$4:$Y$33,2,FALSE),0)=\"ML\",I27=\"Accept\"),IF(AND(IFERROR(VLOOKUP(J28,$X$4:$Y$33,2,FALSE),0)=\"ML\",J27=\"Accept\"),J38,\"--\"), \"--\"),\"--\")),\"--\")","v":"--"},{"$f":"IF(AND(IFERROR(VLOOKUP(K28,$X$4:$Y$33,2,FALSE),0)=\"ML\",K27=\"Verif\"),K38,\"--\")","v":"--"},{"$f":"IF(AND(IFERROR(VLOOKUP(F69,$X$4:$Y$33,2,FALSE),0)=\"ML\",1),F78,\"--\")","v":"--"},null,null,"Mainline Pay %",null,null,null,null,{"$f":"IF(1, IF(N101=\"--\", \"--\", IF(K99>=18, VLOOKUP(N101, AH2:AR92,11,FALSE),IF(K99>=14, VLOOKUP(N101, AH2:AR92,10,FALSE),IF(K99=13, VLOOKUP(N101, AH2:AR92,9,FALSE),IF(K99>=10, VLOOKUP(N101, AH2:AR92,8,FALSE),IF(K99>=8, VLOOKUP(N101, AH2:AR92,7,FALSE),IF(K99=7, VLOOKUP(N101, AH2:AR92,6,FALSE),IF(K99=6, VLOOKUP(N101, AH2:AR92,5,FALSE),IF(K99=5, VLOOKUP(N101, AH2:AR92,4,FALSE),IF(K99=4, VLOOKUP(N101, AH2:AR92,3,FALSE),IF(K99=3, VLOOKUP(N101, AH2:AR92,2,FALSE),\"--\"))))))))))), \"\")","v":"--"}]
[{"$f":"$L$26","v":"Sublot #"},{"$f":"IF(B95>0,IF(AND(IFERROR(VLOOKUP(L28,$X$4:$Y$33,2,FALSE),0)=\"ML\",L27=\"Accept\"),L38,\nIF(AND(IFERROR(VLOOKUP(M28,$X$4:$Y$33,2,FALSE),0)=\"ML\",M27=\"Accept\"),M38,\nIF(AND(IFERROR(VLOOKUP(N28,$X$4:$Y$33,2,FALSE),0)=\"ML\",N27=\"Accept\"),N38,\nIF(AND(IFERROR(VLOOKUP(O28,$X$4:$Y$33,2,FALSE),0)=\"ML\",O27=\"Accept\"),O38,\"--\")))),\"--\")","v":"--"},{"$f":"IF(B95>1,IF(AND(IFERROR(VLOOKUP(L28,$X$4:$Y$33,2,FALSE),0)=\"ML\",L27=\"Accept\"),\n         IF(AND(IFERROR(VLOOKUP(M28,$X$4:$Y$33,2,FALSE),0)=\"ML\",M27=\"Accept\"),M38,\n         IF(AND(IFERROR(VLOOKUP(N28,$X$4:$Y$33,2,FALSE),0)=\"ML\",N27=\"Accept\"),N38,\n         IF(AND(IFERROR(VLOOKUP(O28,$X$4:$Y$33,2,FALSE),0)=\"ML\",O27=\"Accept\"),O38,\"--\"))),\nIF(AND(IFERROR(VLOOKUP(M28,$X$4:$Y$33,2,FALSE),0)=\"ML\",M27=\"Accept\"),\n         IF(AND(IFERROR(VLOOKUP(N28,$X$4:$Y$33,2,FALSE),0)=\"ML\",N27=\"Accept\"),N38,\n         IF(AND(IFERROR(VLOOKUP(O28,$X$4:$Y$33,2,FALSE),0)=\"ML\",O27=\"Accept\"),O38,\"--\")),\nIF(AND(IFERROR(VLOOKUP(N28,$X$4:$Y$33,2,FALSE),0)=\"ML\",N27=\"Accept\"),IF(AND(IFERROR(VLOOKUP(O28,$X$4:$Y$33,2,FALSE),0)=\"ML\",O27=\"Accept\"),O38,\"--\"),\"--\"\n))),\"--\")","v":"--"},{"$f":"IF(B95>2,\nIF(AND(IFERROR(VLOOKUP(L28,$X$4:$Y$33,2,FALSE),0)=\"ML\",L27=\"Accept\"),\n               IF(AND(IFERROR(VLOOKUP(M28,$X$4:$Y$33,2,FALSE),0)=\"ML\",M27=\"Accept\"),\n                                  IF(AND(IFERROR(VLOOKUP(N28,$X$4:$Y$33,2,FALSE),0)=\"ML\",N27=\"Accept\"),N38, IF(AND(IFERROR(VLOOKUP(O28,$X$4:$Y$33,2,FALSE),0)=\"ML\",O27=\"Accept\"),O38,\"--\")),\n                IF(AND(IFERROR(VLOOKUP(N28,$X$4:$Y$33,2,FALSE),0)=\"ML\",N27=\"Accept\"),IF(AND(IFERROR(VLOOKUP(O28,$X$4:$Y$33,2,FALSE),0)=\"ML\",O27=\"Accept\"),O38,\"--\"),\"--\")),\nIF(AND(IFERROR(VLOOKUP(M28,$X$4:$Y$33,2,FALSE),0)=\"ML\",M27=\"Accept\"),\n                   IF(AND(IFERROR(VLOOKUP(N28,$X$4:$Y$33,2,FALSE),0)=\"ML\",N27=\"Accept\"),IF(AND(IFERROR(VLOOKUP(O28,$X$4:$Y$33,2,FALSE),0)=\"ML\",O27=\"Accept\"),O38,\"--\"), \"--\"),\"--\")),\"--\")","v":"--"},{"$f":"IF(AND(IFERROR(VLOOKUP(P28,$X$4:$Y$33,2,FALSE),0)=\"ML\",P27=\"Verif\"),P38,\"--\")","v":"--"},{"$f":"IF(AND(IFERROR(VLOOKUP(G69,$X$4:$Y$33,2,FALSE),0)=\"ML\",1),G78,\"--\")","v":"--"}]
[]
[]
["Minor Density",null,null,null,null,null,null,null,"Minor Acceptance Density (Averages)"]
["Minor","Acc1","Acc2","Acc3","Acc Avg","Ver","Res",null,null,null,"Acc Avg","% Pay",null,"Tonnage"]
[{"$f":"$B$10","v":"Sublot #1"},{"$f":"IF(D90>0,IF(AND(IFERROR(VLOOKUP(B12,$X$4:$Y$33,2,FALSE),0)=\"Min Den\",B11=\"Accept\"),B22,\nIF(AND(IFERROR(VLOOKUP(C12,$X$4:$Y$33,2,FALSE),0)=\"Min Den\",C11=\"Accept\"),C22,\nIF(AND(IFERROR(VLOOKUP(D12,$X$4:$Y$33,2,FALSE),0)=\"Min Den\",D11=\"Accept\"),D22,\nIF(AND(IFERROR(VLOOKUP(E12,$X$4:$Y$33,2,FALSE),0)=\"Min Den\",E11=\"Accept\"),E22,\"--\")))),\"--\")","v":"--"},{"$f":"IF(D90>1,IF(AND(IFERROR(VLOOKUP(B12,$X$4:$Y$33,2,FALSE),0)=\"Min Den\",B11=\"Accept\"),\n         IF(AND(IFERROR(VLOOKUP(C12,$X$4:$Y$33,2,FALSE),0)=\"Min Den\",C11=\"Accept\"),C22,\n         IF(AND(IFERROR(VLOOKUP(D12,$X$4:$Y$33,2,FALSE),0)=\"Min Den\",D11=\"Accept\"),D22,\n         IF(AND(IFERROR(VLOOKUP(E12,$X$4:$Y$33,2,FALSE),0)=\"Min Den\",E11=\"Accept\"),E22,\"--\"))),\nIF(AND(IFERROR(VLOOKUP(C12,$X$4:$Y$33,2,FALSE),0)=\"Min Den\",C11=\"Accept\"),\n         IF(AND(IFERROR(VLOOKUP(D12,$X$4:$Y$33,2,FALSE),0)=\"Min Den\",D11=\"Accept\"),D22,\n         IF(AND(IFERROR(VLOOKUP(E12,$X$4:$Y$33,2,FALSE),0)=\"Min Den\",E11=\"Accept\"),E22,\"--\")),\nIF(AND(IFERROR(VLOOKUP(D12,$X$4:$Y$33,2,FALSE),0)=\"Min Den\",D11=\"Accept\"),IF(AND(IFERROR(VLOOKUP(E12,$X$4:$Y$33,2,FALSE),0)=\"Min Den\",E11=\"Accept\"),E22,\"--\"),\"--\"\n))),\"--\")","v":"--"},{"$f":"IF(D90>2,\nIF(AND(IFERROR(VLOOKUP(B12,$X$4:$Y$33,2,FALSE),0)=\"Min Den\",B11=\"Accept\"),\n               IF(AND(IFERROR(VLOOKUP(C12,$X$4:$Y$33,2,FALSE),0)=\"Min Den\",C11=\"Accept\"),\n                                  IF(AND(IFERROR(VLOOKUP(D12,$X$4:$Y$33,2,FALSE),0)=\"Min Den\",D11=\"Accept\"),D22, IF(AND(IFERROR(VLOOKUP(E12,$X$4:$Y$33,2,FALSE),0)=\"Min Den\",E11=\"Accept\"),E22,\"--\")),\n                IF(AND(IFERROR(VLOOKUP(D12,$X$4:$Y$33,2,FALSE),0)=\"Min Den\",D11=\"Accept\"),IF(AND(IFERROR(VLOOKUP(E12,$X$4:$Y$33,2,FALSE),0)=\"Min Den\",E11=\"Accept\"),E22,\"--\"),\"--\")),\nIF(AND(IFERROR(VLOOKUP(C12,$X$4:$Y$33,2,FALSE),0)=\"Min Den\",C11=\"Accept\"),\n                   IF(AND(IFERROR(VLOOKUP(D12,$X$4:$Y$33,2,FALSE),0)=\"Min Den\",D11=\"Accept\"),IF(AND(IFERROR(VLOOKUP(E12,$X$4:$Y$33,2,FALSE),0)=\"Min Den\",E11=\"Accept\"),E22,\"--\"), \"--\"),\"--\")),\"--\")","v":"--"},{"$f":"IF(COUNT(B110:D110)>0,ROUND(AVERAGE(B110:D110),1),\"--\")","v":"--"},{"$f":"IF(AND(IFERROR(VLOOKUP(F12,$X$4:$Y$33,2,FALSE),0)=\"Min Den\",F11=\"Verif\"),F22,\"--\")","v":"--"},{"$f":"IF(AND(IFERROR(VLOOKUP(B69,$X$4:$Y$33,2,FALSE),0)=\"Min Den\",1),B78,\"--\")","v":"--"},null,{"$f":"A110","v":"Sublot #1"},null,{"$f":"IF(G110<>\"--\",G110,E110)","v":"--"},{"$f":"IF(K110=\"--\",\"--\",IF(K110>=$AA$56, $AA$55,IF(K110>$AC$56,$AB$55,$AC$55)))","v":"--"},{"$f":"IF(L110=50,$AD$55,\"\")","v":""},{"$f":"L90","v":0}]
[{"$f":"$G$10","v":"Sublot #2"},{"$f":"IF(D91>0,IF(AND(IFERROR(VLOOKUP(G12,$X$4:$Y$33,2,FALSE),0)=\"Min Den\",G11=\"Accept\"),G22,\nIF(AND(IFERROR(VLOOKUP(H12,$X$4:$Y$33,2,FALSE),0)=\"Min Den\",H11=\"Accept\"),H22,\nIF(AND(IFERROR(VLOOKUP(I12,$X$4:$Y$33,2,FALSE),0)=\"Min Den\",I11=\"Accept\"),I22,\nIF(AND(IFERROR(VLOOKUP(J12,$X$4:$Y$33,2,FALSE),0)=\"Min Den\",J11=\"Accept\"),J22,\"--\")))),\"--\")","v":"--"},{"$f":"IF(D91>1,IF(AND(IFERROR(VLOOKUP(G12,$X$4:$Y$33,2,FALSE),0)=\"Min Den\",G11=\"Accept\"),\n         IF(AND(IFERROR(VLOOKUP(H12,$X$4:$Y$33,2,FALSE),0)=\"Min Den\",H11=\"Accept\"),H22,\n         IF(AND(IFERROR(VLOOKUP(I12,$X$4:$Y$33,2,FALSE),0)=\"Min Den\",I11=\"Accept\"),I22,\n         IF(AND(IFERROR(VLOOKUP(J12,$X$4:$Y$33,2,FALSE),0)=\"Min Den\",J11=\"Accept\"),J22,\"--\"))),\nIF(AND(IFERROR(VLOOKUP(H12,$X$4:$Y$33,2,FALSE),0)=\"Min Den\",H11=\"Accept\"),\n         IF(AND(IFERROR(VLOOKUP(I12,$X$4:$Y$33,2,FALSE),0)=\"Min Den\",I11=\"Accept\"),I22,\n         IF(AND(IFERROR(VLOOKUP(J12,$X$4:$Y$33,2,FALSE),0)=\"Min Den\",J11=\"Accept\"),J22,\"--\")),\nIF(AND(IFERROR(VLOOKUP(I12,$X$4:$Y$33,2,FALSE),0)=\"Min Den\",I11=\"Accept\"),IF(AND(IFERROR(VLOOKUP(J12,$X$4:$Y$33,2,FALSE),0)=\"Min Den\",J11=\"Accept\"),J22,\"--\"),\"--\"\n))),\"--\")","v":"--"},{"$f":"IF(D91>2,\nIF(AND(IFERROR(VLOOKUP(G12,$X$4:$Y$33,2,FALSE),0)=\"Min Den\",G11=\"Accept\"),\n               IF(AND(IFERROR(VLOOKUP(H12,$X$4:$Y$33,2,FALSE),0)=\"Min Den\",H11=\"Accept\"),\n                                  IF(AND(IFERROR(VLOOKUP(I12,$X$4:$Y$33,2,FALSE),0)=\"Min Den\",I11=\"Accept\"),I22, IF(AND(IFERROR(VLOOKUP(J12,$X$4:$Y$33,2,FALSE),0)=\"Min Den\",J11=\"Accept\"),J22,\"--\")),\n                IF(AND(IFERROR(VLOOKUP(I12,$X$4:$Y$33,2,FALSE),0)=\"Min Den\",I11=\"Accept\"),IF(AND(IFERROR(VLOOKUP(J12,$X$4:$Y$33,2,FALSE),0)=\"Min Den\",J11=\"Accept\"),J22,\"--\"),\"--\")),\nIF(AND(IFERROR(VLOOKUP(H12,$X$4:$Y$33,2,FALSE),0)=\"Min Den\",H11=\"Accept\"),\n                   IF(AND(IFERROR(VLOOKUP(I12,$X$4:$Y$33,2,FALSE),0)=\"Min Den\",I11=\"Accept\"),IF(AND(IFERROR(VLOOKUP(J12,$X$4:$Y$33,2,FALSE),0)=\"Min Den\",J11=\"Accept\"),J22,\"--\"), \"--\"),\"--\")),\"--\")","v":"--"},{"$f":"IF(COUNT(B111:D111)>0,ROUND(AVERAGE(B111:D111),1),\"--\")","v":"--"},{"$f":"IF(AND(IFERROR(VLOOKUP(K12,$X$4:$Y$33,2,FALSE),0)=\"Min Den\",K11=\"Verif\"),K22,\"--\")","v":"--"},{"$f":"IF(AND(IFERROR(VLOOKUP(C69,$X$4:$Y$33,2,FALSE),0)=\"Min Den\",1),C78,\"--\")","v":"--"},null,"Sublot #2",null,{"$f":"IF(G111<>\"--\",G111,E111)","v":"--"},{"$f":"IF(K111=\"--\",\"--\",IF(K111>=$AA$56, $AA$55,IF(K111>$AC$56,$AB$55,$AC$55)))","v":"--"},{"$f":"IF(L111=50,$AD$55,\"\")","v":""},{"$f":"L91","v":0}]
[{"$f":"$L$10","v":"Sublot #3"},{"$f":"IF(D92>0,IF(AND(IFERROR(VLOOKUP(L12,$X$4:$Y$33,2,FALSE),0)=\"Min Den\",L11=\"Accept\"),L22,\nIF(AND(IFERROR(VLOOKUP(M12,$X$4:$Y$33,2,FALSE),0)=\"Min Den\",M11=\"Accept\"),M22,\nIF(AND(IFERROR(VLOOKUP(N12,$X$4:$Y$33,2,FALSE),0)=\"Min Den\",N11=\"Accept\"),N22,\nIF(AND(IFERROR(VLOOKUP(O12,$X$4:$Y$33,2,FALSE),0)=\"Min Den\",O11=\"Accept\"),O22,\"--\")))),\"--\")","v":"--"},{"$f":"IF(D92>1,IF(AND(IFERROR(VLOOKUP(L12,$X$4:$Y$33,2,FALSE),0)=\"Min Den\",L11=\"Accept\"),\n         IF(AND(IFERROR(VLOOKUP(M12,$X$4:$Y$33,2,FALSE),0)=\"Min Den\",M11=\"Accept\"),M22,\n         IF(AND(IFERROR(VLOOKUP(N12,$X$4:$Y$33,2,FALSE),0)=\"Min Den\",N11=\"Accept\"),N22,\n         IF(AND(IFERROR(VLOOKUP(O12,$X$4:$Y$33,2,FALSE),0)=\"Min Den\",O11=\"Accept\"),O22,\"--\"))),\nIF(AND(IFERROR(VLOOKUP(M12,$X$4:$Y$33,2,FALSE),0)=\"Min Den\",M11=\"Accept\"),\n         IF(AND(IFERROR(VLOOKUP(N12,$X$4:$Y$33,2,FALSE),0)=\"Min Den\",N11=\"Accept\"),N22,\n         IF(AND(IFERROR(VLOOKUP(O12,$X$4:$Y$33,2,FALSE),0)=\"Min Den\",O11=\"Accept\"),O22,\"--\")),\nIF(AND(IFERROR(VLOOKUP(N12,$X$4:$Y$33,2,FALSE),0)=\"Min Den\",N11=\"Accept\"),IF(AND(IFERROR(VLOOKUP(O12,$X$4:$Y$33,2,FALSE),0)=\"Min Den\",O11=\"Accept\"),O22,\"--\"),\"--\"\n))),\"--\")","v":"--"},{"$f":"IF(D92>2,\nIF(AND(IFERROR(VLOOKUP(L12,$X$4:$Y$33,2,FALSE),0)=\"Min Den\",L11=\"Accept\"),\n               IF(AND(IFERROR(VLOOKUP(M12,$X$4:$Y$33,2,FALSE),0)=\"Min Den\",M11=\"Accept\"),\n                                  IF(AND(IFERROR(VLOOKUP(N12,$X$4:$Y$33,2,FALSE),0)=\"Min Den\",N11=\"Accept\"),N22, IF(AND(IFERROR(VLOOKUP(O12,$X$4:$Y$33,2,FALSE),0)=\"Min Den\",O11=\"Accept\"),O22,\"--\")),\n                IF(AND(IFERROR(VLOOKUP(N12,$X$4:$Y$33,2,FALSE),0)=\"Min Den\",N11=\"Accept\"),IF(AND(IFERROR(VLOOKUP(O12,$X$4:$Y$33,2,FALSE),0)=\"Min Den\",O11=\"Accept\"),O22,\"--\"),\"--\")),\nIF(AND(IFERROR(VLOOKUP(M12,$X$4:$Y$33,2,FALSE),0)=\"Min Den\",M11=\"Accept\"),\n                   IF(AND(IFERROR(VLOOKUP(N12,$X$4:$Y$33,2,FALSE),0)=\"Min Den\",N11=\"Accept\"),IF(AND(IFERROR(VLOOKUP(O12,$X$4:$Y$33,2,FALSE),0)=\"Min Den\",O11=\"Accept\"),O22,\"--\"), \"--\"),\"--\")),\"--\")","v":"--"},"--",{"$f":"IF(AND(IFERROR(VLOOKUP(P12,$X$4:$Y$33,2,FALSE),0)=\"Min Den\",P11=\"Verif\"),P22,\"--\")","v":"--"},{"$f":"IF(AND(IFERROR(VLOOKUP(D69,$X$4:$Y$33,2,FALSE),0)=\"Min Den\",1),D78,\"--\")","v":"--"},null,"Sublot #3",null,"--","--","",0]
[{"$f":"$B$26","v":"Sublot #4"},{"$f":"IF(D93>0,IF(AND(IFERROR(VLOOKUP(B28,$X$4:$Y$33,2,FALSE),0)=\"Min Den\",B27=\"Accept\"),B38,\nIF(AND(IFERROR(VLOOKUP(C28,$X$4:$Y$33,2,FALSE),0)=\"Min Den\",C27=\"Accept\"),C38,\nIF(AND(IFERROR(VLOOKUP(D28,$X$4:$Y$33,2,FALSE),0)=\"Min Den\",D27=\"Accept\"),D38,\nIF(AND(IFERROR(VLOOKUP(E28,$X$4:$Y$33,2,FALSE),0)=\"Min Den\",E27=\"Accept\"),E38,\"--\")))),\"--\")","v":"--"},{"$f":"IF(D93>1,IF(AND(IFERROR(VLOOKUP(B28,$X$4:$Y$33,2,FALSE),0)=\"Min Den\",B27=\"Accept\"),\n         IF(AND(IFERROR(VLOOKUP(C28,$X$4:$Y$33,2,FALSE),0)=\"Min Den\",C27=\"Accept\"),C38,\n         IF(AND(IFERROR(VLOOKUP(D28,$X$4:$Y$33,2,FALSE),0)=\"Min Den\",D27=\"Accept\"),D38,\n         IF(AND(IFERROR(VLOOKUP(E28,$X$4:$Y$33,2,FALSE),0)=\"Min Den\",E27=\"Accept\"),E38,\"--\"))),\nIF(AND(IFERROR(VLOOKUP(C28,$X$4:$Y$33,2,FALSE),0)=\"Min Den\",C27=\"Accept\"),\n         IF(AND(IFERROR(VLOOKUP(D28,$X$4:$Y$33,2,FALSE),0)=\"Min Den\",D27=\"Accept\"),D38,\n         IF(AND(IFERROR(VLOOKUP(E28,$X$4:$Y$33,2,FALSE),0)=\"Min Den\",E27=\"Accept\"),E38,\"--\")),\nIF(AND(IFERROR(VLOOKUP(D28,$X$4:$Y$33,2,FALSE),0)=\"Min Den\",D27=\"Accept\"),IF(AND(IFERROR(VLOOKUP(E28,$X$4:$Y$33,2,FALSE),0)=\"Min Den\",E27=\"Accept\"),E38,\"--\"),\"--\"\n))),\"--\")","v":"--"},{"$f":"IF(D93>2,\nIF(AND(IFERROR(VLOOKUP(B28,$X$4:$Y$33,2,FALSE),0)=\"Min Den\",B27=\"Accept\"),\n               IF(AND(IFERROR(VLOOKUP(C28,$X$4:$Y$33,2,FALSE),0)=\"Min Den\",C27=\"Accept\"),\n                                  IF(AND(IFERROR(VLOOKUP(D28,$X$4:$Y$33,2,FALSE),0)=\"Min Den\",D27=\"Accept\"),D38, IF(AND(IFERROR(VLOOKUP(E28,$X$4:$Y$33,2,FALSE),0)=\"Min Den\",E27=\"Accept\"),E38,\"--\")),\n                IF(AND(IFERROR(VLOOKUP(D28,$X$4:$Y$33,2,FALSE),0)=\"Min Den\",D27=\"Accept\"),IF(AND(IFERROR(VLOOKUP(E28,$X$4:$Y$33,2,FALSE),0)=\"Min Den\",E27=\"Accept\"),E38,\"--\"),\"--\")),\nIF(AND(IFERROR(VLOOKUP(C28,$X$4:$Y$33,2,FALSE),0)=\"Min Den\",C27=\"Accept\"),\n                   IF(AND(IFERROR(VLOOKUP(D28,$X$4:$Y$33,2,FALSE),0)=\"Min Den\",D27=\"Accept\"),IF(AND(IFERROR(VLOOKUP(E28,$X$4:$Y$33,2,FALSE),0)=\"Min Den\",E27=\"Accept\"),E38,\"--\"), \"--\"),\"--\")),\"--\")","v":"--"},"--",{"$f":"IF(AND(IFERROR(VLOOKUP(F28,$X$4:$Y$33,2,FALSE),0)=\"Min Den\",F27=\"Verif\"),F38,\"--\")","v":"--"},{"$f":"IF(AND(IFERROR(VLOOKUP(E69,$X$4:$Y$33,2,FALSE),0)=\"Min Den\",1),E78,\"--\")","v":"--"},null,"Sublot #4",null,"--","--","",0]
[{"$f":"$G$26","v":"Sublot #5"},{"$f":"IF(D94>0,IF(AND(IFERROR(VLOOKUP(G28,$X$4:$Y$33,2,FALSE),0)=\"Min Den\",G27=\"Accept\"),G38,\nIF(AND(IFERROR(VLOOKUP(H28,$X$4:$Y$33,2,FALSE),0)=\"Min Den\",H27=\"Accept\"),H38,\nIF(AND(IFERROR(VLOOKUP(I28,$X$4:$Y$33,2,FALSE),0)=\"Min Den\",I27=\"Accept\"),I38,\nIF(AND(IFERROR(VLOOKUP(J28,$X$4:$Y$33,2,FALSE),0)=\"Min Den\",J27=\"Accept\"),J38,\"--\")))),\"--\")","v":"--"},{"$f":"IF(D94>1,IF(AND(IFERROR(VLOOKUP(G28,$X$4:$Y$33,2,FALSE),0)=\"Min Den\",G27=\"Accept\"),\n         IF(AND(IFERROR(VLOOKUP(H28,$X$4:$Y$33,2,FALSE),0)=\"Min Den\",H27=\"Accept\"),H38,\n         IF(AND(IFERROR(VLOOKUP(I28,$X$4:$Y$33,2,FALSE),0)=\"Min Den\",I27=\"Accept\"),I38,\n         IF(AND(IFERROR(VLOOKUP(J28,$X$4:$Y$33,2,FALSE),0)=\"Min Den\",J27=\"Accept\"),J38,\"--\"))),\nIF(AND(IFERROR(VLOOKUP(H28,$X$4:$Y$33,2,FALSE),0)=\"Min Den\",H27=\"Accept\"),\n         IF(AND(IFERROR(VLOOKUP(I28,$X$4:$Y$33,2,FALSE),0)=\"Min Den\",I27=\"Accept\"),I38,\n         IF(AND(IFERROR(VLOOKUP(J28,$X$4:$Y$33,2,FALSE),0)=\"Min Den\",J27=\"Accept\"),J38,\"--\")),\nIF(AND(IFERROR(VLOOKUP(I28,$X$4:$Y$33,2,FALSE),0)=\"Min Den\",I27=\"Accept\"),IF(AND(IFERROR(VLOOKUP(J28,$X$4:$Y$33,2,FALSE),0)=\"Min Den\",J27=\"Accept\"),J38,\"--\"),\"--\"\n))),\"--\")","v":"--"},{"$f":"IF(D94>2,\nIF(AND(IFERROR(VLOOKUP(G28,$X$4:$Y$33,2,FALSE),0)=\"Min Den\",G27=\"Accept\"),\n               IF(AND(IFERROR(VLOOKUP(H28,$X$4:$Y$33,2,FALSE),0)=\"Min Den\",H27=\"Accept\"),\n                                  IF(AND(IFERROR(VLOOKUP(I28,$X$4:$Y$33,2,FALSE),0)=\"Min Den\",I27=\"Accept\"),I38, IF(AND(IFERROR(VLOOKUP(J28,$X$4:$Y$33,2,FALSE),0)=\"Min Den\",J27=\"Accept\"),J38,\"--\")),\n                IF(AND(IFERROR(VLOOKUP(I28,$X$4:$Y$33,2,FALSE),0)=\"Min Den\",I27=\"Accept\"),IF(AND(IFERROR(VLOOKUP(J28,$X$4:$Y$33,2,FALSE),0)=\"Min Den\",J27=\"Accept\"),J38,\"--\"),\"--\")),\nIF(AND(IFERROR(VLOOKUP(H28,$X$4:$Y$33,2,FALSE),0)=\"Min Den\",H27=\"Accept\"),\n                   IF(AND(IFERROR(VLOOKUP(I28,$X$4:$Y$33,2,FALSE),0)=\"Min Den\",I27=\"Accept\"),IF(AND(IFERROR(VLOOKUP(J28,$X$4:$Y$33,2,FALSE),0)=\"Min Den\",J27=\"Accept\"),J38,\"--\"), \"--\"),\"--\")),\"--\")","v":"--"},"--",{"$f":"IF(AND(IFERROR(VLOOKUP(K28,$X$4:$Y$33,2,FALSE),0)=\"Min Den\",K27=\"Verif\"),K38,\"--\")","v":"--"},{"$f":"IF(AND(IFERROR(VLOOKUP(F69,$X$4:$Y$33,2,FALSE),0)=\"Min Den\",1),F78,\"--\")","v":"--"},null,"Sublot #5",null,"--","--","",0]
[{"$f":"$L$26","v":"Sublot #"},{"$f":"IF(D95>0,IF(AND(IFERROR(VLOOKUP(L28,$X$4:$Y$33,2,FALSE),0)=\"Min Den\",L27=\"Accept\"),L38,\nIF(AND(IFERROR(VLOOKUP(M28,$X$4:$Y$33,2,FALSE),0)=\"Min Den\",M27=\"Accept\"),M38,\nIF(AND(IFERROR(VLOOKUP(N28,$X$4:$Y$33,2,FALSE),0)=\"Min Den\",N27=\"Accept\"),N38,\nIF(AND(IFERROR(VLOOKUP(O28,$X$4:$Y$33,2,FALSE),0)=\"Min Den\",O27=\"Accept\"),O38,\"--\")))),\"--\")","v":"--"},{"$f":"IF(D95>1,IF(AND(IFERROR(VLOOKUP(L28,$X$4:$Y$33,2,FALSE),0)=\"Min Den\",L27=\"Accept\"),\n         IF(AND(IFERROR(VLOOKUP(M28,$X$4:$Y$33,2,FALSE),0)=\"Min Den\",M27=\"Accept\"),M38,\n         IF(AND(IFERROR(VLOOKUP(N28,$X$4:$Y$33,2,FALSE),0)=\"Min Den\",N27=\"Accept\"),N38,\n         IF(AND(IFERROR(VLOOKUP(O28,$X$4:$Y$33,2,FALSE),0)=\"Min Den\",O27=\"Accept\"),O38,\"--\"))),\nIF(AND(IFERROR(VLOOKUP(M28,$X$4:$Y$33,2,FALSE),0)=\"Min Den\",M27=\"Accept\"),\n         IF(AND(IFERROR(VLOOKUP(N28,$X$4:$Y$33,2,FALSE),0)=\"Min Den\",N27=\"Accept\"),N38,\n         IF(AND(IFERROR(VLOOKUP(O28,$X$4:$Y$33,2,FALSE),0)=\"Min Den\",O27=\"Accept\"),O38,\"--\")),\nIF(AND(IFERROR(VLOOKUP(N28,$X$4:$Y$33,2,FALSE),0)=\"Min Den\",N27=\"Accept\"),IF(AND(IFERROR(VLOOKUP(O28,$X$4:$Y$33,2,FALSE),0)=\"Min Den\",O27=\"Accept\"),O38,\"--\"),\"--\"\n))),\"--\")","v":"--"},{"$f":"IF(D95>2,\nIF(AND(IFERROR(VLOOKUP(L28,$X$4:$Y$33,2,FALSE),0)=\"Min Den\",L27=\"Accept\"),\n               IF(AND(IFERROR(VLOOKUP(M28,$X$4:$Y$33,2,FALSE),0)=\"Min Den\",M27=\"Accept\"),\n                                  IF(AND(IFERROR(VLOOKUP(N28,$X$4:$Y$33,2,FALSE),0)=\"Min Den\",N27=\"Accept\"),N38, IF(AND(IFERROR(VLOOKUP(O28,$X$4:$Y$33,2,FALSE),0)=\"Min Den\",O27=\"Accept\"),O38,\"--\")),\n                IF(AND(IFERROR(VLOOKUP(N28,$X$4:$Y$33,2,FALSE),0)=\"Min Den\",N27=\"Accept\"),IF(AND(IFERROR(VLOOKUP(O28,$X$4:$Y$33,2,FALSE),0)=\"Min Den\",O27=\"Accept\"),O38,\"--\"),\"--\")),\nIF(AND(IFERROR(VLOOKUP(M28,$X$4:$Y$33,2,FALSE),0)=\"Min Den\",M27=\"Accept\"),\n                   IF(AND(IFERROR(VLOOKUP(N28,$X$4:$Y$33,2,FALSE),0)=\"Min Den\",N27=\"Accept\"),IF(AND(IFERROR(VLOOKUP(O28,$X$4:$Y$33,2,FALSE),0)=\"Min Den\",O27=\"Accept\"),O38,\"--\"), \"--\"),\"--\")),\"--\")","v":"--"},"--",{"$f":"IF(AND(IFERROR(VLOOKUP(P28,$X$4:$Y$33,2,FALSE),0)=\"Min Den\",P27=\"Verif\"),P38,\"--\")","v":"--"},{"$f":"IF(AND(IFERROR(VLOOKUP(G69,$X$4:$Y$33,2,FALSE),0)=\"Min Den\",1),G78,\"--\")","v":"--"},null,"Sublot #",null,"--","--","",0]
[]
[null,null,null,null,null,null,null,null,"Minor With Density Pay %",null,null,null,null,{"$f":"IF(SUM(N110:N115)>0,ROUND((IFERROR(N110*L110,0)+IFERROR(N111*L111,0)+IFERROR(N112*L112,0)+IFERROR(N113*L113,0)+IFERROR(N114*L114,0)+IFERROR(N115*L115,0))/SUM(N110:N115),0),\"--\")","v":"--"}]
[]
[]
[]
[null,null,null,null,"% Pay",null,"Tonnage",null,"Adj Tons"]
[]
["Mainline",null,null,null,{"$f":"IF(N104<>\"--\",N104,0)","v":0},null,{"$f":"SUM(K90:K95)","v":0},null,{"$f":"IF(G123>0,G123*$F$8,0)","v":0}]
[]
["Minor With Density",null,null,null,{"$f":"IF(N117<>\"--\",N117,0)","v":0},null,{"$f":"SUM(L90:M95)","v":0},null,{"$f":"IF(G125>0,G125*$F$8,0)","v":0}]
[]
["Minor No Density",null,null,null,{"$f":"IF(G127>0,100,0)","v":0},null,{"$f":"SUM(N90:O95)","v":0},null,{"$f":"IF(G127>0,G127*$F$8,0)","v":0}]
[]
["Weighted Lot Final Pay",null,null,null,{"$f":"IF(I129>0,ROUND((E123*I123+E125*I125+E127*I127)/I129,0),\"--\")","v":"--"},null,null,null,{"$f":"SUM(I123:J128)","v":0}]
[]
[]
["Remarks"]
[]
[{"$f":"setup!S2","v":"LaPave 502 v18.05.02"},null,null,null,null,null,null,null,null,null,null,null,null,null,{"$f":"TODAY()","v":"2023-03-31"}]

{"sheet":"Combined Remarks","index":17,"n_rows":49,"n_cols":10,"rows_kept":49,"cut":false,"hidden":false,"merged":[[0,0,0,9],[1,0,1,1],[2,0,2,1],[2,5,2,6],[1,2,1,4],[2,2,2,4],[2,7,2,9],[1,5,1,9],[32,0,34,9],[37,0,39,9],[42,0,46,9],[3,0,3,1],[3,2,3,4],[4,0,4,1],[4,2,4,4],[3,5,3,9],[7,0,9,9],[12,0,14,9],[17,0,19,9],[22,0,24,9],[27,0,29,9]]}
["Combined Remarks"]
["Contractor",null,{"$f":"'JMF Input'!B6","v":0},null,null,{"$f":"'JMF Input'!D7","v":0}]
["JMF No.",null,{"$f":"'JMF Input'!F3","v":0},null,null,"SMM #",null,{"$f":"'JMF Input'!J7","v":0}]
["Project",null,{"$f":"'JMF Input'!B3","v":0},null,null,{"$f":"'JMF Input'!B4","v":0}]
["Lot No.",null,{"$f":"'Plant Acceptance'!F5","v":0}]
[]
["JMF Input Remarks"]
[{"$f":"IF('JMF Input'!B46<>\"\", 'JMF Input'!B46, \"\")","v":""}]
[]
[]
[]
["JMF Remarks"]
[{"$f":"IF(JMF!D62<>\"\", JMF!D62, \"\")&\"  \"&IF(JMF!D63<>\"\", JMF!D63, \"\")","v":"  "}]
[]
[]
[]
["Design LWT Remarks"]
[{"$f":"IF('Moisture Susceptibility Design'!B25<>\"\", 'Moisture Susceptibility Design'!B25,\"\")","v":""}]
[]
[]
[]
["Validation Remarks"]
[{"$f":"IF('Validation Input'!B76<>\"\", 'Validation Input'!B76, \"\")","v":""}]
[]
[]
[]
["Validation LWT Remarks"]
[{"$f":"IF('Moisture Susceptibility Design'!L25<>\"\", 'Moisture Susceptibility Design'!L25,\"\")","v":""}]
[]
[]
[]
["Plant Acceptance Comment"]
[{"$f":"IF('Plant Acceptance'!B85<>\"\",'Plant Acceptance'!B85,\"\")","v":" Plant Acceptance Comment"}]
[]
[]
[]
["Plant Verification Comment"]
[{"$f":"IF('Plant Verification'!B57<>\"\",'Plant Verification'!B57,\"\")","v":""}]
[]
[]
[]
["Roadway Comment"]
[{"$f":"IF(Roadway!B51<>\"\",Roadway!B51,\"\") &CHAR(10)& IF(Roadway!B82<>\"\",Roadway!B82,\"\") &CHAR(10)& IF(Roadway!B132<>\"\",Roadway!B132,\"\")","v":"\n\n"}]
[]
[]
[]
[]
[]
[{"$f":"setup!S2","v":"LaPave 502 v18.05.02"},null,null,null,null,null,null,null,null,{"$f":"TODAY()","v":"2023-03-31"}]

{"sheet":"setup","index":18,"n_rows":285,"n_cols":31,"rows_kept":285,"cut":false,"hidden":false,"merged":[[95,17,100,17],[0,0,0,8],[52,7,52,8],[0,14,5,15],[6,17,11,17],[51,17,56,17]]}
["SETUP PREFERENCES",null,null,null,null,null,null,null,null,null,null,null,null,null,"Comp Grad and FAA Helper"]
[null,null,null,null,null,null,null,null,null,null,null,null,null,null,null,null,null,"Version:","LaPave 502 v18.05.02"]
["Project No",{"$f":"'JMF Input'!B3","v":0},null,"JMF No",{"$f":"'JMF Input'!F3","v":0},null,"Plant Code",{"$f":"'JMF Input'!D7","v":0},null,null,"spec"]
["Design Level",{"$f":"'JMF Input'!F4","v":1},null,"Nom Agg Size",{"$f":"'JMF Input'!I5","v":"1 in."},null,"Mix Type",{"$f":"'JMF Input'!E5","v":"Base Course"},null,null,2016]
[]
[null,null,null,null,null,null,null,null,null,null,null,null,"Decimals",null,null,null,null,null,"gyrations levels"]
[null,"Min","Max","Tolerance",null,"design level","mix type",null,null,null,null,"Design",null,null,null,null,null,2016,"Nom. Max","0.5\"","0.5\"","0.5\"",0.75,0.75,0.75,1,1,1,1,"1.5\"","SMA"]
["Gmm",null,null,2.4E-2,null,"A","Incidental Paving","nom size",null,null,null,"Gmm",3,null,null,null,null,null,"Type","Inc","Wear","Wear","Wear","Binder","Binder","Binder","Binder","Base","ATB","Base","Wear"]
["%GmmNI",null,{"$f":"IF($B$4=\"SMA\",setup!AE14,IF($E$4=$H$9,IF($H$4=$G$8,IF(LEFT($B$4,1)=\"A\",setup!T14,\"\"),IF($H$4=$G$9,IF(LEFT($B$4,1)=\"1\",setup!U14,IF(LEFT($B$4,1)=\"2\",setup!V14,\"\")))),IF($E$4=$H$10,IF($H$4=$G$9,IF(LEFT($B$4,1)=\"2\",setup!W14,\"\"),IF($H$4=$G$10,IF(LEFT($B$4,1)=\"1\",setup!X14,IF(LEFT($B$4,1)=\"2\",setup!Y14,\"\")),\"\")),IF($E$4=$H$11, IF($H$4=$G$10, IF(LEFT($B$4,1)=\"1\",setup!Z14,IF(LEFT($B$4,1)=\"2\", setup!AA14, \"\")), IF($H$4=$G$11,  IF(LEFT($B$4,1)=\"1\",setup!AB14,\"\"), IF($H$4=$G$12,  IF(LEFT($B$4,1)=\"1\",setup!AC14,\"\"),\"\"))),IF($E$4=$H$12, IF($H$4=$G$11, IF(LEFT($B$4, 1) = \"1\", setup!AD14, \"\"), \"\"), \"\")))))","v":91},null,null,1,"Wearing Course","0.5 in.",null,null,null,"Gmb",3,null,null,null,null,null,"Level","A",1,2,2,1,2,1,2,1,1,1,2]
["%GmmND",{"$f":"IF($B$4=\"SMA\",setup!AE15,IF($E$4=$H$9,IF($H$4=$G$8,IF(LEFT($B$4,1)=\"A\",setup!T15,\"\"),IF($H$4=$G$9,IF(LEFT($B$4,1)=\"1\",setup!U15,IF(LEFT($B$4,1)=\"2\",setup!V15,\"\")))),IF($E$4=$H$10,IF($H$4=$G$9,IF(LEFT($B$4,1)=\"2\",setup!W15,\"\"),IF($H$4=$G$10,IF(LEFT($B$4,1)=\"1\",setup!X15,IF(LEFT($B$4,1)=\"2\",setup!Y15,\"\")),\"\")),IF($E$4=$H$11, IF($H$4=$G$10, IF(LEFT($B$4,1)=\"1\",setup!Z15,IF(LEFT($B$4,1)=\"2\", setup!AA15, \"\")), IF($H$4=$G$11,  IF(LEFT($B$4,1)=\"1\",setup!AB15,\"\"), IF($H$4=$G$12,  IF(LEFT($B$4,1)=\"1\",setup!AC15,\"\"),\"\"))),IF($E$4=$H$12, IF($H$4=$G$11, IF(LEFT($B$4, 1) = \"1\", setup!AD15, \"\"), \"\"), \"\")))))","v":95.5},{"$f":"IF($B$4=\"SMA\",setup!AE16,IF($E$4=$H$9,IF($H$4=$G$8,IF(LEFT($B$4,1)=\"A\",setup!T16,\"\"),IF($H$4=$G$9,IF(LEFT($B$4,1)=\"1\",setup!U16,IF(LEFT($B$4,1)=\"2\",setup!V16,\"\")))),IF($E$4=$H$10,IF($H$4=$G$9,IF(LEFT($B$4,1)=\"2\",setup!W16,\"\"),IF($H$4=$G$10,IF(LEFT($B$4,1)=\"1\",setup!X16,IF(LEFT($B$4,1)=\"2\",setup!Y16,\"\")),\"\")),IF($E$4=$H$11, IF($H$4=$G$10, IF(LEFT($B$4,1)=\"1\",setup!Z16,IF(LEFT($B$4,1)=\"2\", setup!AA16, \"\")), IF($H$4=$G$11,  IF(LEFT($B$4,1)=\"1\",setup!AB16,\"\"), IF($H$4=$G$12,  IF(LEFT($B$4,1)=\"1\",setup!AC16,\"\"),\"\"))),IF($E$4=$H$12, IF($H$4=$G$11, IF(LEFT($B$4, 1) = \"1\", setup!AD16, \"\"), \"\"), \"\")))))","v":97.5},null,null,2,"Binder Course","0.75 in.",null,null,null,"%Gmm",1,null,null,null,null,null,"N_initial",7,7,7,7,7,7,7,7,7,null,7,7]
["%GmmNM",null,{"$f":"IF($B$4=\"SMA\",setup!AE17,IF($E$4=$H$9,IF($H$4=$G$8,IF(LEFT($B$4,1)=\"A\",setup!T17,\"\"),IF($H$4=$G$9,IF(LEFT($B$4,1)=\"1\",setup!U17,IF(LEFT($B$4,1)=\"2\",setup!V17,\"\")))),IF($E$4=$H$10,IF($H$4=$G$9,IF(LEFT($B$4,1)=\"2\",setup!W17,\"\"),IF($H$4=$G$10,IF(LEFT($B$4,1)=\"1\",setup!X17,IF(LEFT($B$4,1)=\"2\",setup!Y17,\"\")),\"\")),IF($E$4=$H$11, IF($H$4=$G$10, IF(LEFT($B$4,1)=\"1\",setup!Z17,IF(LEFT($B$4,1)=\"2\", setup!AA17, \"\")), IF($H$4=$G$11,  IF(LEFT($B$4,1)=\"1\",setup!AB17,\"\"), IF($H$4=$G$12,  IF(LEFT($B$4,1)=\"1\",setup!AC17,\"\"),\"\"))),IF($E$4=$H$12, IF($H$4=$G$11, IF(LEFT($B$4, 1) = \"1\", setup!AD17, \"\"), \"\"), \"\")))))","v":98},null,null,"SMA","Base Course","1 in.",null,null,null,"VMA",1,null,null,null,null,null,"N_design",55,55,65,65,55,65,55,65,55,30,55,65]
["GmbCorND",null,null,{"$f":"IF($B$4=\"SMA\",setup!AE18,IF($E$4=$H$9,IF($H$4=$G$8,IF(LEFT($B$4,1)=\"A\",setup!T18,\"\"),IF($H$4=$G$9,IF(LEFT($B$4,1)=\"1\",setup!U18,IF(LEFT($B$4,1)=\"2\",setup!V18,\"\")))),IF($E$4=$H$10,IF($H$4=$G$9,IF(LEFT($B$4,1)=\"2\",setup!W18,\"\"),IF($H$4=$G$10,IF(LEFT($B$4,1)=\"1\",setup!X18,IF(LEFT($B$4,1)=\"2\",setup!Y18,\"\")),\"\")),IF($E$4=$H$11, IF($H$4=$G$10, IF(LEFT($B$4,1)=\"1\",setup!Z18,IF(LEFT($B$4,1)=\"2\", setup!AA18, \"\")), IF($H$4=$G$11,  IF(LEFT($B$4,1)=\"1\",setup!AB18,\"\"), IF($H$4=$G$12,  IF(LEFT($B$4,1)=\"1\",setup!AC18,\"\"),\"\"))),IF($E$4=$H$12, IF($H$4=$G$11, IF(LEFT($B$4, 1) = \"1\", setup!AD18, \"\"), \"\"), \"\")))))","v":2.4E-2},null,null,"ATB","1.5 in.",null,null,null,"Voids",1,null,null,null,null,null,"N_max",90,90,105,105,90,105,90,105,90,null,90,65]
["VMA",{"$f":"IF($B$4=\"SMA\",setup!AE19,IF($E$4=$H$9,IF($H$4=$G$8,IF(LEFT($B$4,1)=\"A\",setup!T19,\"\"),IF($H$4=$G$9,IF(LEFT($B$4,1)=\"1\",setup!U19,IF(LEFT($B$4,1)=\"2\",setup!V19,\"\")))),IF($E$4=$H$10,IF($H$4=$G$9,IF(LEFT($B$4,1)=\"2\",setup!W19,\"\"),IF($H$4=$G$10,IF(LEFT($B$4,1)=\"1\",setup!X19,IF(LEFT($B$4,1)=\"2\",setup!Y19,\"\")),\"\")),IF($E$4=$H$11, IF($H$4=$G$10, IF(LEFT($B$4,1)=\"1\",setup!Z19,IF(LEFT($B$4,1)=\"2\", setup!AA19, \"\")), IF($H$4=$G$11,  IF(LEFT($B$4,1)=\"1\",setup!AB19,\"\"), IF($H$4=$G$12,  IF(LEFT($B$4,1)=\"1\",setup!AC19,\"\"),\"\"))),IF($E$4=$H$12, IF($H$4=$G$11, IF(LEFT($B$4, 1) = \"1\", setup!AD19, \"\"), \"\"), \"\")))))","v":11.5},null,null,null,null,null,null,null,null,10,"VFA",1,null,null,null,null,null,"Gmm Tol",1.4999999999999999E-2,1.4999999999999999E-2,1.4999999999999999E-2,1.4999999999999999E-2,1.4999999999999999E-2,1.4999999999999999E-2,1.4999999999999999E-2,1.4999999999999999E-2,1.4999999999999999E-2,null,1.4999999999999999E-2,0.02]
["VFA",{"$f":"IF($B$4=\"SMA\",setup!AE20,IF($E$4=$H$9,IF($H$4=$G$8,IF(LEFT($B$4,1)=\"A\",setup!T20,\"\"),IF($H$4=$G$9,IF(LEFT($B$4,1)=\"1\",setup!U20,IF(LEFT($B$4,1)=\"2\",setup!V20,\"\")))),IF($E$4=$H$10,IF($H$4=$G$9,IF(LEFT($B$4,1)=\"2\",setup!W20,\"\"),IF($H$4=$G$10,IF(LEFT($B$4,1)=\"1\",setup!X20,IF(LEFT($B$4,1)=\"2\",setup!Y20,\"\")),\"\")),IF($E$4=$H$11, IF($H$4=$G$10, IF(LEFT($B$4,1)=\"1\",setup!Z20,IF(LEFT($B$4,1)=\"2\", setup!AA20, \"\")), IF($H$4=$G$11,  IF(LEFT($B$4,1)=\"1\",setup!AB20,\"\"), IF($H$4=$G$12,  IF(LEFT($B$4,1)=\"1\",setup!AC20,\"\"),\"\"))),IF($E$4=$H$12, IF($H$4=$G$11, IF(LEFT($B$4, 1) = \"1\", setup!AD20, \"\"), \"\"), \"\")))))","v":69},{"$f":"IF($B$4=\"SMA\",setup!AE21,IF($E$4=$H$9,IF($H$4=$G$8,IF(LEFT($B$4,1)=\"A\",setup!T21,\"\"),IF($H$4=$G$9,IF(LEFT($B$4,1)=\"1\",setup!U21,IF(LEFT($B$4,1)=\"2\",setup!V21,\"\")))),IF($E$4=$H$10,IF($H$4=$G$9,IF(LEFT($B$4,1)=\"2\",setup!W21,\"\"),IF($H$4=$G$10,IF(LEFT($B$4,1)=\"1\",setup!X21,IF(LEFT($B$4,1)=\"2\",setup!Y21,\"\")),\"\")),IF($E$4=$H$11, IF($H$4=$G$10, IF(LEFT($B$4,1)=\"1\",setup!Z21,IF(LEFT($B$4,1)=\"2\", setup!AA21, \"\")), IF($H$4=$G$11,  IF(LEFT($B$4,1)=\"1\",setup!AB21,\"\"), IF($H$4=$G$12,  IF(LEFT($B$4,1)=\"1\",setup!AC21,\"\"),\"\"))),IF($E$4=$H$12, IF($H$4=$G$11, IF(LEFT($B$4, 1) = \"1\", setup!AD21, \"\"), \"\"), \"\")))))","v":80},null,null,null,null,null,null,null,11,"Grad +200",1,null,null,null,null,null,"%Gmm NI Max",92,91,90,90,91,90,91,90,91,null,91,90]
["Voids",{"$f":"IF($B$4=\"SMA\",setup!AE22,IF($E$4=$H$9,IF($H$4=$G$8,IF(LEFT($B$4,1)=\"A\",setup!T22,\"\"),IF($H$4=$G$9,IF(LEFT($B$4,1)=\"1\",setup!U22,IF(LEFT($B$4,1)=\"2\",setup!V22,\"\")))),IF($E$4=$H$10,IF($H$4=$G$9,IF(LEFT($B$4,1)=\"2\",setup!W22,\"\"),IF($H$4=$G$10,IF(LEFT($B$4,1)=\"1\",setup!X22,IF(LEFT($B$4,1)=\"2\",setup!Y22,\"\")),\"\")),IF($E$4=$H$11, IF($H$4=$G$10, IF(LEFT($B$4,1)=\"1\",setup!Z22,IF(LEFT($B$4,1)=\"2\", setup!AA22, \"\")), IF($H$4=$G$11,  IF(LEFT($B$4,1)=\"1\",setup!AB22,\"\"), IF($H$4=$G$12,  IF(LEFT($B$4,1)=\"1\",setup!AC22,\"\"),\"\"))),IF($E$4=$H$12, IF($H$4=$G$11, IF(LEFT($B$4, 1) = \"1\", setup!AD22, \"\"), \"\"), \"\")))))","v":2.5},{"$f":"IF($B$4=\"SMA\",setup!AE23,IF($E$4=$H$9,IF($H$4=$G$8,IF(LEFT($B$4,1)=\"A\",setup!T23,\"\"),IF($H$4=$G$9,IF(LEFT($B$4,1)=\"1\",setup!U23,IF(LEFT($B$4,1)=\"2\",setup!V23,\"\")))),IF($E$4=$H$10,IF($H$4=$G$9,IF(LEFT($B$4,1)=\"2\",setup!W23,\"\"),IF($H$4=$G$10,IF(LEFT($B$4,1)=\"1\",setup!X23,IF(LEFT($B$4,1)=\"2\",setup!Y23,\"\")),\"\")),IF($E$4=$H$11, IF($H$4=$G$10, IF(LEFT($B$4,1)=\"1\",setup!Z23,IF(LEFT($B$4,1)=\"2\", setup!AA23, \"\")), IF($H$4=$G$11,  IF(LEFT($B$4,1)=\"1\",setup!AB23,\"\"), IF($H$4=$G$12,  IF(LEFT($B$4,1)=\"1\",setup!AC23,\"\"),\"\"))),IF($E$4=$H$12, IF($H$4=$G$11, IF(LEFT($B$4, 1) = \"1\", setup!AD23, \"\"), \"\"), \"\")))))","v":4.5},null,null,null,null,null,null,null,12,"Grad 200",1,null,null,null,null,null,"%Gmm ND Min",95.5,95.5,95.5,95.5,95.5,95.5,95.5,95.5,95.5,null,95.5,95.5]
["Meter_AC",null,null,{"$f":"IF($B$4=\"SMA\",setup!AE24,IF($E$4=$H$9,IF($H$4=$G$8,IF(LEFT($B$4,1)=\"A\",setup!T24,\"\"),IF($H$4=$G$9,IF(LEFT($B$4,1)=\"1\",setup!U24,IF(LEFT($B$4,1)=\"2\",setup!V24,\"\")))),IF($E$4=$H$10,IF($H$4=$G$9,IF(LEFT($B$4,1)=\"2\",setup!W24,\"\"),IF($H$4=$G$10,IF(LEFT($B$4,1)=\"1\",setup!X24,IF(LEFT($B$4,1)=\"2\",setup!Y24,\"\")),\"\")),IF($E$4=$H$11, IF($H$4=$G$10, IF(LEFT($B$4,1)=\"1\",setup!Z24,IF(LEFT($B$4,1)=\"2\", setup!AA24, \"\")), IF($H$4=$G$11,  IF(LEFT($B$4,1)=\"1\",setup!AB24,\"\"), IF($H$4=$G$12,  IF(LEFT($B$4,1)=\"1\",setup!AC24,\"\"),\"\"))),IF($E$4=$H$12, IF($H$4=$G$11, IF(LEFT($B$4, 1) = \"1\", setup!AD24, \"\"), \"\"), \"\")))))","v":0.1},null,null,null,null,null,null,13,"Lott Abs",1,null,null,null,null,null,"%Gmm ND Max",97.5,97.5,97.5,97.5,97.5,97.5,97.5,97.5,97.5,null,97.5,97.5]
["Cmp_tmp",null,null,{"$f":"IF($B$4=\"SMA\",setup!AE25,IF($E$4=$H$9,IF($H$4=$G$8,IF(LEFT($B$4,1)=\"A\",setup!T25,\"\"),IF($H$4=$G$9,IF(LEFT($B$4,1)=\"1\",setup!U25,IF(LEFT($B$4,1)=\"2\",setup!V25,\"\")))),IF($E$4=$H$10,IF($H$4=$G$9,IF(LEFT($B$4,1)=\"2\",setup!W25,\"\"),IF($H$4=$G$10,IF(LEFT($B$4,1)=\"1\",setup!X25,IF(LEFT($B$4,1)=\"2\",setup!Y25,\"\")),\"\")),IF($E$4=$H$11, IF($H$4=$G$10, IF(LEFT($B$4,1)=\"1\",setup!Z25,IF(LEFT($B$4,1)=\"2\", setup!AA25, \"\")), IF($H$4=$G$11,  IF(LEFT($B$4,1)=\"1\",setup!AB25,\"\"), IF($H$4=$G$12,  IF(LEFT($B$4,1)=\"1\",setup!AC25,\"\"),\"\"))),IF($E$4=$H$12, IF($H$4=$G$11, IF(LEFT($B$4, 1) = \"1\", setup!AD25, \"\"), \"\"), \"\")))))","v":25},null,null,null,null,null,null,null,"Lott Satur",0,null,null,null,null,null,"%Gmm NM Max",98,98,98,98,98,98,98,98,98,null,98,98]
["2\"    50mm",null,null,{"$f":"IF($B$4=\"SMA\",setup!AE26,IF($E$4=$H$9,IF($H$4=$G$8,IF(LEFT($B$4,1)=\"A\",setup!T26,\"\"),IF($H$4=$G$9,IF(LEFT($B$4,1)=\"1\",setup!U26,IF(LEFT($B$4,1)=\"2\",setup!V26,\"\")))),IF($E$4=$H$10,IF($H$4=$G$9,IF(LEFT($B$4,1)=\"2\",setup!W26,\"\"),IF($H$4=$G$10,IF(LEFT($B$4,1)=\"1\",setup!X26,IF(LEFT($B$4,1)=\"2\",setup!Y26,\"\")),\"\")),IF($E$4=$H$11, IF($H$4=$G$10, IF(LEFT($B$4,1)=\"1\",setup!Z26,IF(LEFT($B$4,1)=\"2\", setup!AA26, \"\")), IF($H$4=$G$11,  IF(LEFT($B$4,1)=\"1\",setup!AB26,\"\"), IF($H$4=$G$12,  IF(LEFT($B$4,1)=\"1\",setup!AC26,\"\"),\"\"))),IF($E$4=$H$12, IF($H$4=$G$11, IF(LEFT($B$4, 1) = \"1\", setup!AD26, \"\"), \"\"), \"\")))))","v":4},null,null,null,null,null,null,null,"Dia & Th",3,null,null,null,null,null,"Gmb Cor ND Tol",2.4E-2,2.4E-2,2.4E-2,2.4E-2,2.4E-2,2.4E-2,2.4E-2,2.4E-2,2.4E-2,null,2.1999999999999999E-2,2.1999999999999999E-2]
["1.5\"  37.5mm",null,null,{"$f":"IF($B$4=\"SMA\",setup!AE27,IF($E$4=$H$9,IF($H$4=$G$8,IF(LEFT($B$4,1)=\"A\",setup!T27,\"\"),IF($H$4=$G$9,IF(LEFT($B$4,1)=\"1\",setup!U27,IF(LEFT($B$4,1)=\"2\",setup!V27,\"\")))),IF($E$4=$H$10,IF($H$4=$G$9,IF(LEFT($B$4,1)=\"2\",setup!W27,\"\"),IF($H$4=$G$10,IF(LEFT($B$4,1)=\"1\",setup!X27,IF(LEFT($B$4,1)=\"2\",setup!Y27,\"\")),\"\")),IF($E$4=$H$11, IF($H$4=$G$10, IF(LEFT($B$4,1)=\"1\",setup!Z27,IF(LEFT($B$4,1)=\"2\", setup!AA27, \"\")), IF($H$4=$G$11,  IF(LEFT($B$4,1)=\"1\",setup!AB27,\"\"), IF($H$4=$G$12,  IF(LEFT($B$4,1)=\"1\",setup!AC27,\"\"),\"\"))),IF($E$4=$H$12, IF($H$4=$G$11, IF(LEFT($B$4, 1) = \"1\", setup!AD27, \"\"), \"\"), \"\")))))","v":4},null,null,null,null,null,null,null,"Strength",0,null,null,null,null,null,"VMA Min",13.5,13.5,13.5,12.5,12.5,12.5,11.5,11.5,11.5,null,10.5,16]
["1\"    25mm",{"$f":"IF('Comp. Grad. and FAA Input'!N10>0, 'Comp. Grad. and FAA Input'!N10,\"\")","v":90},{"$f":"IF('Comp. Grad. and FAA Input'!O10>0, 'Comp. Grad. and FAA Input'!O10,\"\")","v":100},{"$f":"IF($B$4=\"SMA\",setup!AE28,IF($E$4=$H$9,IF($H$4=$G$8,IF(LEFT($B$4,1)=\"A\",setup!T28,\"\"),IF($H$4=$G$9,IF(LEFT($B$4,1)=\"1\",setup!U28,IF(LEFT($B$4,1)=\"2\",setup!V28,\"\")))),IF($E$4=$H$10,IF($H$4=$G$9,IF(LEFT($B$4,1)=\"2\",setup!W28,\"\"),IF($H$4=$G$10,IF(LEFT($B$4,1)=\"1\",setup!X28,IF(LEFT($B$4,1)=\"2\",setup!Y28,\"\")),\"\")),IF($E$4=$H$11, IF($H$4=$G$10, IF(LEFT($B$4,1)=\"1\",setup!Z28,IF(LEFT($B$4,1)=\"2\", setup!AA28, \"\")), IF($H$4=$G$11,  IF(LEFT($B$4,1)=\"1\",setup!AB28,\"\"), IF($H$4=$G$12,  IF(LEFT($B$4,1)=\"1\",setup!AC28,\"\"),\"\"))),IF($E$4=$H$12, IF($H$4=$G$11, IF(LEFT($B$4, 1) = \"1\", setup!AD28, \"\"), \"\"), \"\")))))","v":4},null,null,null,null,null,null,null,"TSR",0,null,null,null,null,null,"VFA Min",69,69,69,69,69,69,69,69,69,null,69,69]
["3/4\"  19mm",{"$f":"IF('Comp. Grad. and FAA Input'!N11>0, 'Comp. Grad. and FAA Input'!N11,\"\")","v":""},{"$f":"IF('Comp. Grad. and FAA Input'!O11>0, 'Comp. Grad. and FAA Input'!O11,\"\")","v":89},{"$f":"IF($B$4=\"SMA\",setup!AE29,IF($E$4=$H$9,IF($H$4=$G$8,IF(LEFT($B$4,1)=\"A\",setup!T29,\"\"),IF($H$4=$G$9,IF(LEFT($B$4,1)=\"1\",setup!U29,IF(LEFT($B$4,1)=\"2\",setup!V29,\"\")))),IF($E$4=$H$10,IF($H$4=$G$9,IF(LEFT($B$4,1)=\"2\",setup!W29,\"\"),IF($H$4=$G$10,IF(LEFT($B$4,1)=\"1\",setup!X29,IF(LEFT($B$4,1)=\"2\",setup!Y29,\"\")),\"\")),IF($E$4=$H$11, IF($H$4=$G$10, IF(LEFT($B$4,1)=\"1\",setup!Z29,IF(LEFT($B$4,1)=\"2\", setup!AA29, \"\")), IF($H$4=$G$11,  IF(LEFT($B$4,1)=\"1\",setup!AB29,\"\"), IF($H$4=$G$12,  IF(LEFT($B$4,1)=\"1\",setup!AC29,\"\"),\"\"))),IF($E$4=$H$12, IF($H$4=$G$11, IF(LEFT($B$4, 1) = \"1\", setup!AD29, \"\"), \"\"), \"\")))))","v":4},null,null,null,null,null,null,null,"LWT",2,null,null,null,null,null,"VFA Max",80,80,80,80,80,80,80,80,80,null,80]
["1/2\"  12.5mm",{"$f":"IF('Comp. Grad. and FAA Input'!N12>0, 'Comp. Grad. and FAA Input'!N12,\"\")","v":""},{"$f":"IF('Comp. Grad. and FAA Input'!O12>0, 'Comp. Grad. and FAA Input'!O12,\"\")","v":""},{"$f":"IF($B$4=\"SMA\",setup!AE30,IF($E$4=$H$9,IF($H$4=$G$8,IF(LEFT($B$4,1)=\"A\",setup!T30,\"\"),IF($H$4=$G$9,IF(LEFT($B$4,1)=\"1\",setup!U30,IF(LEFT($B$4,1)=\"2\",setup!V30,\"\")))),IF($E$4=$H$10,IF($H$4=$G$9,IF(LEFT($B$4,1)=\"2\",setup!W30,\"\"),IF($H$4=$G$10,IF(LEFT($B$4,1)=\"1\",setup!X30,IF(LEFT($B$4,1)=\"2\",setup!Y30,\"\")),\"\")),IF($E$4=$H$11, IF($H$4=$G$10, IF(LEFT($B$4,1)=\"1\",setup!Z30,IF(LEFT($B$4,1)=\"2\", setup!AA30, \"\")), IF($H$4=$G$11,  IF(LEFT($B$4,1)=\"1\",setup!AB30,\"\"), IF($H$4=$G$12,  IF(LEFT($B$4,1)=\"1\",setup!AC30,\"\"),\"\"))),IF($E$4=$H$12, IF($H$4=$G$11, IF(LEFT($B$4, 1) = \"1\", setup!AD30, \"\"), \"\"), \"\")))))","v":4},null,null,null,null,null,null,null,"JMF",null,null,100,"No 200",null,null,"Voids Min",2.5,2.5,2.5,2.5,2.5,2.5,2.5,2.5,2.5,null,2.5,2.5]
["3/8\"  9.5mm",{"$f":"IF('Comp. Grad. and FAA Input'!N13>0, 'Comp. Grad. and FAA Input'!N13,\"\")","v":""},{"$f":"IF('Comp. Grad. and FAA Input'!O13>0, 'Comp. Grad. and FAA Input'!O13,\"\")","v":""},{"$f":"IF($B$4=\"SMA\",setup!AE31,IF($E$4=$H$9,IF($H$4=$G$8,IF(LEFT($B$4,1)=\"A\",setup!T31,\"\"),IF($H$4=$G$9,IF(LEFT($B$4,1)=\"1\",setup!U31,IF(LEFT($B$4,1)=\"2\",setup!V31,\"\")))),IF($E$4=$H$10,IF($H$4=$G$9,IF(LEFT($B$4,1)=\"2\",setup!W31,\"\"),IF($H$4=$G$10,IF(LEFT($B$4,1)=\"1\",setup!X31,IF(LEFT($B$4,1)=\"2\",setup!Y31,\"\")),\"\")),IF($E$4=$H$11, IF($H$4=$G$10, IF(LEFT($B$4,1)=\"1\",setup!Z31,IF(LEFT($B$4,1)=\"2\", setup!AA31, \"\")), IF($H$4=$G$11,  IF(LEFT($B$4,1)=\"1\",setup!AB31,\"\"), IF($H$4=$G$12,  IF(LEFT($B$4,1)=\"1\",setup!AC31,\"\"),\"\"))),IF($E$4=$H$12, IF($H$4=$G$11, IF(LEFT($B$4, 1) = \"1\", setup!AD31, \"\"), \"\"), \"\")))))","v":4},null,null,null,null,null,null,null,"Gmm",3,null,null,null,null,null,"Voids Max",4.5,4.5,4.5,4.5,4.5,4.5,4.5,4.5,4.5,null,4.5,4.5]
["#4    4.75mm",{"$f":"IF('Comp. Grad. and FAA Input'!N14>0, 'Comp. Grad. and FAA Input'!N14,\"\")","v":""},{"$f":"IF('Comp. Grad. and FAA Input'!O14>0, 'Comp. Grad. and FAA Input'!O14,\"\")","v":""},{"$f":"IF($B$4=\"SMA\",setup!AE32,IF($E$4=$H$9,IF($H$4=$G$8,IF(LEFT($B$4,1)=\"A\",setup!T32,\"\"),IF($H$4=$G$9,IF(LEFT($B$4,1)=\"1\",setup!U32,IF(LEFT($B$4,1)=\"2\",setup!V32,\"\")))),IF($E$4=$H$10,IF($H$4=$G$9,IF(LEFT($B$4,1)=\"2\",setup!W32,\"\"),IF($H$4=$G$10,IF(LEFT($B$4,1)=\"1\",setup!X32,IF(LEFT($B$4,1)=\"2\",setup!Y32,\"\")),\"\")),IF($E$4=$H$11, IF($H$4=$G$10, IF(LEFT($B$4,1)=\"1\",setup!Z32,IF(LEFT($B$4,1)=\"2\", setup!AA32, \"\")), IF($H$4=$G$11,  IF(LEFT($B$4,1)=\"1\",setup!AB32,\"\"), IF($H$4=$G$12,  IF(LEFT($B$4,1)=\"1\",setup!AC32,\"\"),\"\"))),IF($E$4=$H$12, IF($H$4=$G$11, IF(LEFT($B$4, 1) = \"1\", setup!AD32, \"\"), \"\"), \"\")))))","v":4},null,null,null,null,null,null,null,"Gmb",3,null,null,null,null,null,"Meter AC Tol",0.1,0.1,0.1,0.1,0.1,0.1,0.1,0.1,0.1,null,0.1,0.1]
["#8    2.36mm",{"$f":"IF('Comp. Grad. and FAA Input'!N15>0, 'Comp. Grad. and FAA Input'!N15,\"\")","v":23},{"$f":"IF('Comp. Grad. and FAA Input'!O15>0, 'Comp. Grad. and FAA Input'!O15,\"\")","v":45},{"$f":"IF($B$4=\"SMA\",setup!AE33,IF($E$4=$H$9,IF($H$4=$G$8,IF(LEFT($B$4,1)=\"A\",setup!T33,\"\"),IF($H$4=$G$9,IF(LEFT($B$4,1)=\"1\",setup!U33,IF(LEFT($B$4,1)=\"2\",setup!V33,\"\")))),IF($E$4=$H$10,IF($H$4=$G$9,IF(LEFT($B$4,1)=\"2\",setup!W33,\"\"),IF($H$4=$G$10,IF(LEFT($B$4,1)=\"1\",setup!X33,IF(LEFT($B$4,1)=\"2\",setup!Y33,\"\")),\"\")),IF($E$4=$H$11, IF($H$4=$G$10, IF(LEFT($B$4,1)=\"1\",setup!Z33,IF(LEFT($B$4,1)=\"2\", setup!AA33, \"\")), IF($H$4=$G$11,  IF(LEFT($B$4,1)=\"1\",setup!AB33,\"\"), IF($H$4=$G$12,  IF(LEFT($B$4,1)=\"1\",setup!AC33,\"\"),\"\"))),IF($E$4=$H$12, IF($H$4=$G$11, IF(LEFT($B$4, 1) = \"1\", setup!AD33, \"\"), \"\"), \"\")))))","v":3},null,null,null,null,null,null,null,"%Gmm",1,null,null,null,null,null,"Cmp Temp Tol",25,25,25,25,25,25,25,25,25,null,25,25]
["#16   1.18mm",{"$f":"IF('Comp. Grad. and FAA Input'!N16>0, 'Comp. Grad. and FAA Input'!N16,\"\")","v":""},{"$f":"IF('Comp. Grad. and FAA Input'!O16>0, 'Comp. Grad. and FAA Input'!O16,\"\")","v":""},{"$f":"IF($B$4=\"SMA\",setup!AE34,IF($E$4=$H$9,IF($H$4=$G$8,IF(LEFT($B$4,1)=\"A\",setup!T34,\"\"),IF($H$4=$G$9,IF(LEFT($B$4,1)=\"1\",setup!U34,IF(LEFT($B$4,1)=\"2\",setup!V34,\"\")))),IF($E$4=$H$10,IF($H$4=$G$9,IF(LEFT($B$4,1)=\"2\",setup!W34,\"\"),IF($H$4=$G$10,IF(LEFT($B$4,1)=\"1\",setup!X34,IF(LEFT($B$4,1)=\"2\",setup!Y34,\"\")),\"\")),IF($E$4=$H$11, IF($H$4=$G$10, IF(LEFT($B$4,1)=\"1\",setup!Z34,IF(LEFT($B$4,1)=\"2\", setup!AA34, \"\")), IF($H$4=$G$11,  IF(LEFT($B$4,1)=\"1\",setup!AB34,\"\"), IF($H$4=$G$12,  IF(LEFT($B$4,1)=\"1\",setup!AC34,\"\"),\"\"))),IF($E$4=$H$12, IF($H$4=$G$11, IF(LEFT($B$4, 1) = \"1\", setup!AD34, \"\"), \"\"), \"\")))))","v":2},null,null,null,null,null,null,null,"%AC",1,null,null,null,null,null,"2\"    50mm Tol",4,4,4,4,4,4,4,4,4,null,4,4]
["#30   0.60mm",{"$f":"IF('Comp. Grad. and FAA Input'!N17>0, 'Comp. Grad. and FAA Input'!N17,\"\")","v":""},{"$f":"IF('Comp. Grad. and FAA Input'!O17>0, 'Comp. Grad. and FAA Input'!O17,\"\")","v":""},{"$f":"IF($B$4=\"SMA\",setup!AE35,IF($E$4=$H$9,IF($H$4=$G$8,IF(LEFT($B$4,1)=\"A\",setup!T35,\"\"),IF($H$4=$G$9,IF(LEFT($B$4,1)=\"1\",setup!U35,IF(LEFT($B$4,1)=\"2\",setup!V35,\"\")))),IF($E$4=$H$10,IF($H$4=$G$9,IF(LEFT($B$4,1)=\"2\",setup!W35,\"\"),IF($H$4=$G$10,IF(LEFT($B$4,1)=\"1\",setup!X35,IF(LEFT($B$4,1)=\"2\",setup!Y35,\"\")),\"\")),IF($E$4=$H$11, IF($H$4=$G$10, IF(LEFT($B$4,1)=\"1\",setup!Z35,IF(LEFT($B$4,1)=\"2\", setup!AA35, \"\")), IF($H$4=$G$11,  IF(LEFT($B$4,1)=\"1\",setup!AB35,\"\"), IF($H$4=$G$12,  IF(LEFT($B$4,1)=\"1\",setup!AC35,\"\"),\"\"))),IF($E$4=$H$12, IF($H$4=$G$11, IF(LEFT($B$4, 1) = \"1\", setup!AD35, \"\"), \"\"), \"\")))))","v":2},null,null,null,null,null,null,null,"VMA",1,null,null,null,null,null,"1.5\"  37.5mm Tol",4,4,4,4,4,4,4,4,4,null,4,4]
["#50   0.30mm",{"$f":"IF('Comp. Grad. and FAA Input'!N18>0, 'Comp. Grad. and FAA Input'!N18,\"\")","v":""},{"$f":"IF('Comp. Grad. and FAA Input'!O18>0, 'Comp. Grad. and FAA Input'!O18,\"\")","v":""},{"$f":"IF($B$4=\"SMA\",setup!AE36,IF($E$4=$H$9,IF($H$4=$G$8,IF(LEFT($B$4,1)=\"A\",setup!T36,\"\"),IF($H$4=$G$9,IF(LEFT($B$4,1)=\"1\",setup!U36,IF(LEFT($B$4,1)=\"2\",setup!V36,\"\")))),IF($E$4=$H$10,IF($H$4=$G$9,IF(LEFT($B$4,1)=\"2\",setup!W36,\"\"),IF($H$4=$G$10,IF(LEFT($B$4,1)=\"1\",setup!X36,IF(LEFT($B$4,1)=\"2\",setup!Y36,\"\")),\"\")),IF($E$4=$H$11, IF($H$4=$G$10, IF(LEFT($B$4,1)=\"1\",setup!Z36,IF(LEFT($B$4,1)=\"2\", setup!AA36, \"\")), IF($H$4=$G$11,  IF(LEFT($B$4,1)=\"1\",setup!AB36,\"\"), IF($H$4=$G$12,  IF(LEFT($B$4,1)=\"1\",setup!AC36,\"\"),\"\"))),IF($E$4=$H$12, IF($H$4=$G$11, IF(LEFT($B$4, 1) = \"1\", setup!AD36, \"\"), \"\"), \"\")))))","v":2},null,null,null,null,null,null,null,"Voids",1,null,100,"No 100",null,null,"1\"    25mm Tol",4,4,4,4,4,4,4,4,4,null,4,4]
["#100  0.15mm",{"$f":"IF('Comp. Grad. and FAA Input'!N19>0, 'Comp. Grad. and FAA Input'!N19,\"\")","v":""},{"$f":"IF('Comp. Grad. and FAA Input'!O19>0, 'Comp. Grad. and FAA Input'!O19,\"\")","v":""},{"$f":"IF($B$4=\"SMA\",setup!AE37,IF($E$4=$H$9,IF($H$4=$G$8,IF(LEFT($B$4,1)=\"A\",setup!T37,\"\"),IF($H$4=$G$9,IF(LEFT($B$4,1)=\"1\",setup!U37,IF(LEFT($B$4,1)=\"2\",setup!V37,\"\")))),IF($E$4=$H$10,IF($H$4=$G$9,IF(LEFT($B$4,1)=\"2\",setup!W37,\"\"),IF($H$4=$G$10,IF(LEFT($B$4,1)=\"1\",setup!X37,IF(LEFT($B$4,1)=\"2\",setup!Y37,\"\")),\"\")),IF($E$4=$H$11, IF($H$4=$G$10, IF(LEFT($B$4,1)=\"1\",setup!Z37,IF(LEFT($B$4,1)=\"2\", setup!AA37, \"\")), IF($H$4=$G$11,  IF(LEFT($B$4,1)=\"1\",setup!AB37,\"\"), IF($H$4=$G$12,  IF(LEFT($B$4,1)=\"1\",setup!AC37,\"\"),\"\"))),IF($E$4=$H$12, IF($H$4=$G$11, IF(LEFT($B$4, 1) = \"1\", setup!AD37, \"\"), \"\"), \"\")))))","v":2},null,null,null,null,null,null,null,"VFA",0,null,null,null,null,null,"3/4\"  19mm Tol",4,4,4,4,4,4,4,4,4,null,4,4]
["#200  0.075mm",{"$f":"IF('Comp. Grad. and FAA Input'!N20>0, 'Comp. Grad. and FAA Input'!N20,\"\")","v":2},{"$f":"IF('Comp. Grad. and FAA Input'!O20>0, 'Comp. Grad. and FAA Input'!O20,\"\")","v":7},{"$f":"IF($B$4=\"SMA\",setup!AE38,IF($E$4=$H$9,IF($H$4=$G$8,IF(LEFT($B$4,1)=\"A\",setup!T38,\"\"),IF($H$4=$G$9,IF(LEFT($B$4,1)=\"1\",setup!U38,IF(LEFT($B$4,1)=\"2\",setup!V38,\"\")))),IF($E$4=$H$10,IF($H$4=$G$9,IF(LEFT($B$4,1)=\"2\",setup!W38,\"\"),IF($H$4=$G$10,IF(LEFT($B$4,1)=\"1\",setup!X38,IF(LEFT($B$4,1)=\"2\",setup!Y38,\"\")),\"\")),IF($E$4=$H$11, IF($H$4=$G$10, IF(LEFT($B$4,1)=\"1\",setup!Z38,IF(LEFT($B$4,1)=\"2\", setup!AA38, \"\")), IF($H$4=$G$11,  IF(LEFT($B$4,1)=\"1\",setup!AB38,\"\"), IF($H$4=$G$12,  IF(LEFT($B$4,1)=\"1\",setup!AC38,\"\"),\"\"))),IF($E$4=$H$12, IF($H$4=$G$11, IF(LEFT($B$4, 1) = \"1\", setup!AD38, \"\"), \"\"), \"\")))))","v":0.7},null,null,null,null,null,null,null,"log gyr",3,null,null,null,null,null,"1/2\"  12.5mm Tol",4,4,4,4,4,4,4,4,4,null,4,4]
["ac",null,null,{"$f":"IF($B$4=\"SMA\",setup!AE39,IF($E$4=$H$9,IF($H$4=$G$8,IF(LEFT($B$4,1)=\"A\",setup!T39,\"\"),IF($H$4=$G$9,IF(LEFT($B$4,1)=\"1\",setup!U39,IF(LEFT($B$4,1)=\"2\",setup!V39,\"\")))),IF($E$4=$H$10,IF($H$4=$G$9,IF(LEFT($B$4,1)=\"2\",setup!W39,\"\"),IF($H$4=$G$10,IF(LEFT($B$4,1)=\"1\",setup!X39,IF(LEFT($B$4,1)=\"2\",setup!Y39,\"\")),\"\")),IF($E$4=$H$11, IF($H$4=$G$10, IF(LEFT($B$4,1)=\"1\",setup!Z39,IF(LEFT($B$4,1)=\"2\", setup!AA39, \"\")), IF($H$4=$G$11,  IF(LEFT($B$4,1)=\"1\",setup!AB39,\"\"), IF($H$4=$G$12,  IF(LEFT($B$4,1)=\"1\",setup!AC39,\"\"),\"\"))),IF($E$4=$H$12, IF($H$4=$G$11, IF(LEFT($B$4, 1) = \"1\", setup!AD39, \"\"), \"\"), \"\")))))","v":0.2},null,null,null,null,null,null,null,"slope",2,null,null,null,null,null,"3/8\"  9.5mm Tol",4,4,4,4,4,4,4,4,4,null,4,4]
["dust",{"$f":"IF($B$4=\"SMA\",setup!AE40,IF($E$4=$H$9,IF($H$4=$G$8,IF(LEFT($B$4,1)=\"A\",setup!T40,\"\"),IF($H$4=$G$9,IF(LEFT($B$4,1)=\"1\",setup!U40,IF(LEFT($B$4,1)=\"2\",setup!V40,\"\")))),IF($E$4=$H$10,IF($H$4=$G$9,IF(LEFT($B$4,1)=\"2\",setup!W40,\"\"),IF($H$4=$G$10,IF(LEFT($B$4,1)=\"1\",setup!X40,IF(LEFT($B$4,1)=\"2\",setup!Y40,\"\")),\"\")),IF($E$4=$H$11, IF($H$4=$G$10, IF(LEFT($B$4,1)=\"1\",setup!Z40,IF(LEFT($B$4,1)=\"2\", setup!AA40, \"\")), IF($H$4=$G$11,  IF(LEFT($B$4,1)=\"1\",setup!AB40,\"\"), IF($H$4=$G$12,  IF(LEFT($B$4,1)=\"1\",setup!AC40,\"\"),\"\"))),IF($E$4=$H$12, IF($H$4=$G$11, IF(LEFT($B$4, 1) = \"1\", setup!AD40, \"\"), \"\"), \"\")))))","v":0.6},{"$f":"IF($B$4=\"SMA\",setup!AE41,IF($E$4=$H$9,IF($H$4=$G$8,IF(LEFT($B$4,1)=\"A\",setup!T41,\"\"),IF($H$4=$G$9,IF(LEFT($B$4,1)=\"1\",setup!U41,IF(LEFT($B$4,1)=\"2\",setup!V41,\"\")))),IF($E$4=$H$10,IF($H$4=$G$9,IF(LEFT($B$4,1)=\"2\",setup!W41,\"\"),IF($H$4=$G$10,IF(LEFT($B$4,1)=\"1\",setup!X41,IF(LEFT($B$4,1)=\"2\",setup!Y41,\"\")),\"\")),IF($E$4=$H$11, IF($H$4=$G$10, IF(LEFT($B$4,1)=\"1\",setup!Z41,IF(LEFT($B$4,1)=\"2\", setup!AA41, \"\")), IF($H$4=$G$11,  IF(LEFT($B$4,1)=\"1\",setup!AB41,\"\"), IF($H$4=$G$12,  IF(LEFT($B$4,1)=\"1\",setup!AC41,\"\"),\"\"))),IF($E$4=$H$12, IF($H$4=$G$11, IF(LEFT($B$4, 1) = \"1\", setup!AD41, \"\"), \"\"), \"\")))))","v":1.6},null,null,null,null,null,null,null,null,"CAA",1,null,null,null,null,null,"#4    4.75mm Tol",4,4,4,4,4,4,4,4,4,null,4,4]
["Thick",{"$f":"IF($B$4=\"SMA\",setup!AE42,IF($E$4=$H$9,IF($H$4=$G$8,IF(LEFT($B$4,1)=\"A\",setup!T42,\"\"),IF($H$4=$G$9,IF(LEFT($B$4,1)=\"1\",setup!U42,IF(LEFT($B$4,1)=\"2\",setup!V42,\"\")))),IF($E$4=$H$10,IF($H$4=$G$9,IF(LEFT($B$4,1)=\"2\",setup!W42,\"\"),IF($H$4=$G$10,IF(LEFT($B$4,1)=\"1\",setup!X42,IF(LEFT($B$4,1)=\"2\",setup!Y42,\"\")),\"\")),IF($E$4=$H$11, IF($H$4=$G$10, IF(LEFT($B$4,1)=\"1\",setup!Z42,IF(LEFT($B$4,1)=\"2\", setup!AA42, \"\")), IF($H$4=$G$11,  IF(LEFT($B$4,1)=\"1\",setup!AB42,\"\"), IF($H$4=$G$12,  IF(LEFT($B$4,1)=\"1\",setup!AC42,\"\"),\"\"))),IF($E$4=$H$12, IF($H$4=$G$11, IF(LEFT($B$4, 1) = \"1\", setup!AD42, \"\"), \"\"), \"\")))))","v":2.5},{"$f":"IF($B$4=\"SMA\",setup!AE43,IF($E$4=$H$9,IF($H$4=$G$8,IF(LEFT($B$4,1)=\"A\",setup!T43,\"\"),IF($H$4=$G$9,IF(LEFT($B$4,1)=\"1\",setup!U43,IF(LEFT($B$4,1)=\"2\",setup!V43,\"\")))),IF($E$4=$H$10,IF($H$4=$G$9,IF(LEFT($B$4,1)=\"2\",setup!W43,\"\"),IF($H$4=$G$10,IF(LEFT($B$4,1)=\"1\",setup!X43,IF(LEFT($B$4,1)=\"2\",setup!Y43,\"\")),\"\")),IF($E$4=$H$11, IF($H$4=$G$10, IF(LEFT($B$4,1)=\"1\",setup!Z43,IF(LEFT($B$4,1)=\"2\", setup!AA43, \"\")), IF($H$4=$G$11,  IF(LEFT($B$4,1)=\"1\",setup!AB43,\"\"), IF($H$4=$G$12,  IF(LEFT($B$4,1)=\"1\",setup!AC43,\"\"),\"\"))),IF($E$4=$H$12, IF($H$4=$G$11, IF(LEFT($B$4, 1) = \"1\", setup!AD43, \"\"), \"\"), \"\")))))","v":0},null,null,null,null,null,null,null,null,"FAA",0,null,null,null,null,null,"#8    2.36mm Tol",3,3,3,3,3,3,3,3,3,null,3,3]
["Mainline",{"$f":"IF($B$4=\"SMA\",setup!AE44,IF($E$4=$H$9,IF($H$4=$G$8,IF(LEFT($B$4,1)=\"A\",setup!T44,\"\"),IF($H$4=$G$9,IF(LEFT($B$4,1)=\"1\",setup!U44,IF(LEFT($B$4,1)=\"2\",setup!V44,\"\")))),IF($E$4=$H$10,IF($H$4=$G$9,IF(LEFT($B$4,1)=\"2\",setup!W44,\"\"),IF($H$4=$G$10,IF(LEFT($B$4,1)=\"1\",setup!X44,IF(LEFT($B$4,1)=\"2\",setup!Y44,\"\")),\"\")),IF($E$4=$H$11, IF($H$4=$G$10, IF(LEFT($B$4,1)=\"1\",setup!Z44,IF(LEFT($B$4,1)=\"2\", setup!AA44, \"\")), IF($H$4=$G$11,  IF(LEFT($B$4,1)=\"1\",setup!AB44,\"\"), IF($H$4=$G$12,  IF(LEFT($B$4,1)=\"1\",setup!AC44,\"\"),\"\"))),IF($E$4=$H$12, IF($H$4=$G$11, IF(LEFT($B$4, 1) = \"1\", setup!AD44, \"\"), \"\"), \"\")))))","v":92},null,null,null,null,null,null,null,null,null,"Sand Eq",0,null,null,null,null,null,"#16   1.18mm Tol",2,2,2,2,2,2,2,2,2,null,2,2]
["Minor",{"$f":"IF($B$4=\"SMA\",setup!AE45,IF($E$4=$H$9,IF($H$4=$G$8,IF(LEFT($B$4,1)=\"A\",setup!T45,\"\"),IF($H$4=$G$9,IF(LEFT($B$4,1)=\"1\",setup!U45,IF(LEFT($B$4,1)=\"2\",setup!V45,\"\")))),IF($E$4=$H$10,IF($H$4=$G$9,IF(LEFT($B$4,1)=\"2\",setup!W45,\"\"),IF($H$4=$G$10,IF(LEFT($B$4,1)=\"1\",setup!X45,IF(LEFT($B$4,1)=\"2\",setup!Y45,\"\")),\"\")),IF($E$4=$H$11, IF($H$4=$G$10, IF(LEFT($B$4,1)=\"1\",setup!Z45,IF(LEFT($B$4,1)=\"2\", setup!AA45, \"\")), IF($H$4=$G$11,  IF(LEFT($B$4,1)=\"1\",setup!AB45,\"\"), IF($H$4=$G$12,  IF(LEFT($B$4,1)=\"1\",setup!AC45,\"\"),\"\"))),IF($E$4=$H$12, IF($H$4=$G$11, IF(LEFT($B$4, 1) = \"1\", setup!AD45, \"\"), \"\"), \"\")))))","v":90},null,null,null,null,null,null,null,null,null,"F&E",1,null,null,null,null,null,"#30   0.60mm Tol",2,2,2,2,2,2,2,2,2,null,2,2]
["Nat Sand",null,{"$f":"IF($B$4=\"SMA\",setup!AE46,IF($E$4=$H$9,IF($H$4=$G$8,IF(LEFT($B$4,1)=\"A\",setup!T46,\"\"),IF($H$4=$G$9,IF(LEFT($B$4,1)=\"1\",setup!U46,IF(LEFT($B$4,1)=\"2\",setup!V46,\"\")))),IF($E$4=$H$10,IF($H$4=$G$9,IF(LEFT($B$4,1)=\"2\",setup!W46,\"\"),IF($H$4=$G$10,IF(LEFT($B$4,1)=\"1\",setup!X46,IF(LEFT($B$4,1)=\"2\",setup!Y46,\"\")),\"\")),IF($E$4=$H$11, IF($H$4=$G$10, IF(LEFT($B$4,1)=\"1\",setup!Z46,IF(LEFT($B$4,1)=\"2\", setup!AA46, \"\")), IF($H$4=$G$11,  IF(LEFT($B$4,1)=\"1\",setup!AB46,\"\"), IF($H$4=$G$12,  IF(LEFT($B$4,1)=\"1\",setup!AC46,\"\"),\"\"))),IF($E$4=$H$12, IF($H$4=$G$11, IF(LEFT($B$4, 1) = \"1\", setup!AD46, \"\"), \"\"), \"\")))))","v":15},null,null,null,null,null,null,null,null,"dust",2,null,null,null,null,null,"#50   0.30mm Tol",2,2,2,2,2,2,2,2,2,null,2,2]
["CAA/%Crush",{"$f":"IF($B$4=\"SMA\",setup!AE47,IF($E$4=$H$9,IF($H$4=$G$8,IF(LEFT($B$4,1)=\"A\",setup!T47,\"\"),IF($H$4=$G$9,IF(LEFT($B$4,1)=\"1\",setup!U47,IF(LEFT($B$4,1)=\"2\",setup!V47,\"\")))),IF($E$4=$H$10,IF($H$4=$G$9,IF(LEFT($B$4,1)=\"2\",setup!W47,\"\"),IF($H$4=$G$10,IF(LEFT($B$4,1)=\"1\",setup!X47,IF(LEFT($B$4,1)=\"2\",setup!Y47,\"\")),\"\")),IF($E$4=$H$11, IF($H$4=$G$10, IF(LEFT($B$4,1)=\"1\",setup!Z47,IF(LEFT($B$4,1)=\"2\", setup!AA47, \"\")), IF($H$4=$G$11,  IF(LEFT($B$4,1)=\"1\",setup!AB47,\"\"), IF($H$4=$G$12,  IF(LEFT($B$4,1)=\"1\",setup!AC47,\"\"),\"\"))),IF($E$4=$H$12, IF($H$4=$G$11, IF(LEFT($B$4, 1) = \"1\", setup!AD47, \"\"), \"\"), \"\")))))","v":75},null,null,null,null,null,null,null,null,null,"absorb",2,null,100,"No 50",null,null,"#100  0.15mm Tol",2,2,2,2,2,2,2,2,2,null,2,2]
["F&E 5:1",{"$f":"IF($B$4=\"SMA\",setup!AE48,IF($E$4=$H$9,IF($H$4=$G$8,IF(LEFT($B$4,1)=\"A\",setup!T48,\"\"),IF($H$4=$G$9,IF(LEFT($B$4,1)=\"1\",setup!U48,IF(LEFT($B$4,1)=\"2\",setup!V48,\"\")))),IF($E$4=$H$10,IF($H$4=$G$9,IF(LEFT($B$4,1)=\"2\",setup!W48,\"\"),IF($H$4=$G$10,IF(LEFT($B$4,1)=\"1\",setup!X48,IF(LEFT($B$4,1)=\"2\",setup!Y48,\"\")),\"\")),IF($E$4=$H$11, IF($H$4=$G$10, IF(LEFT($B$4,1)=\"1\",setup!Z48,IF(LEFT($B$4,1)=\"2\", setup!AA48, \"\")), IF($H$4=$G$11,  IF(LEFT($B$4,1)=\"1\",setup!AB48,\"\"), IF($H$4=$G$12,  IF(LEFT($B$4,1)=\"1\",setup!AC48,\"\"),\"\"))),IF($E$4=$H$12, IF($H$4=$G$11, IF(LEFT($B$4, 1) = \"1\", setup!AD48, \"\"), \"\"), \"\")))))","v":10},null,null,null,null,null,null,null,null,null,"Validation",null,null,null,null,null,null,"#200  0.075mm Tol",0.7,0.7,0.7,0.7,0.7,0.7,0.7,0.7,0.7,null,0.7,0.7]
["Sand Eq",{"$f":"IF($B$4=\"SMA\",setup!AE49,IF($E$4=$H$9,IF($H$4=$G$8,IF(LEFT($B$4,1)=\"A\",setup!T49,\"\"),IF($H$4=$G$9,IF(LEFT($B$4,1)=\"1\",setup!U49,IF(LEFT($B$4,1)=\"2\",setup!V49,\"\")))),IF($E$4=$H$10,IF($H$4=$G$9,IF(LEFT($B$4,1)=\"2\",setup!W49,\"\"),IF($H$4=$G$10,IF(LEFT($B$4,1)=\"1\",setup!X49,IF(LEFT($B$4,1)=\"2\",setup!Y49,\"\")),\"\")),IF($E$4=$H$11, IF($H$4=$G$10, IF(LEFT($B$4,1)=\"1\",setup!Z49,IF(LEFT($B$4,1)=\"2\", setup!AA49, \"\")), IF($H$4=$G$11,  IF(LEFT($B$4,1)=\"1\",setup!AB49,\"\"), IF($H$4=$G$12,  IF(LEFT($B$4,1)=\"1\",setup!AC49,\"\"),\"\"))),IF($E$4=$H$12, IF($H$4=$G$11, IF(LEFT($B$4, 1) = \"1\", setup!AD49, \"\"), \"\"), \"\")))))","v":40},null,null,null,null,null,null,null,null,null,"Gmm",3,null,null,null,null,null,"AC Tol",0.2,0.2,0.2,0.2,0.2,0.2,0.2,0.2,0.2,null,0.2,0.2]
["FAA",{"$f":"IF($B$4=\"SMA\",setup!AE50,IF($E$4=$H$9,IF($H$4=$G$8,IF(LEFT($B$4,1)=\"A\",setup!T50,\"\"),IF($H$4=$G$9,IF(LEFT($B$4,1)=\"1\",setup!U50,IF(LEFT($B$4,1)=\"2\",setup!V50,\"\")))),IF($E$4=$H$10,IF($H$4=$G$9,IF(LEFT($B$4,1)=\"2\",setup!W50,\"\"),IF($H$4=$G$10,IF(LEFT($B$4,1)=\"1\",setup!X50,IF(LEFT($B$4,1)=\"2\",setup!Y50,\"\")),\"\")),IF($E$4=$H$11, IF($H$4=$G$10, IF(LEFT($B$4,1)=\"1\",setup!Z50,IF(LEFT($B$4,1)=\"2\", setup!AA50, \"\")), IF($H$4=$G$11,  IF(LEFT($B$4,1)=\"1\",setup!AB50,\"\"), IF($H$4=$G$12,  IF(LEFT($B$4,1)=\"1\",setup!AC50,\"\"),\"\"))),IF($E$4=$H$12, IF($H$4=$G$11, IF(LEFT($B$4, 1) = \"1\", setup!AD50, \"\"), \"\"), \"\")))))","v":40},null,null,null,null,null,null,null,null,null,"Gmb",3,null,null,null,null,null,"Dust Min",0.6,0.6,0.6,0.6,0.6,0.6,0.6,0.6,0.6,0.6,0.6,0.6]
["RAP",null,{"$f":"IF($B$4=\"SMA\",setup!AE51,IF($E$4=$H$9,IF($H$4=$G$8,IF(LEFT($B$4,1)=\"A\",setup!T51,\"\"),IF($H$4=$G$9,IF(LEFT($B$4,1)=\"1\",setup!U51,IF(LEFT($B$4,1)=\"2\",setup!V51,\"\")))),IF($E$4=$H$10,IF($H$4=$G$9,IF(LEFT($B$4,1)=\"2\",setup!W51,\"\"),IF($H$4=$G$10,IF(LEFT($B$4,1)=\"1\",setup!X51,IF(LEFT($B$4,1)=\"2\",setup!Y51,\"\")),\"\")),IF($E$4=$H$11, IF($H$4=$G$10, IF(LEFT($B$4,1)=\"1\",setup!Z51,IF(LEFT($B$4,1)=\"2\", setup!AA51, \"\")), IF($H$4=$G$11,  IF(LEFT($B$4,1)=\"1\",setup!AB51,\"\"), IF($H$4=$G$12,  IF(LEFT($B$4,1)=\"1\",setup!AC51,\"\"),\"\"))),IF($E$4=$H$12, IF($H$4=$G$11, IF(LEFT($B$4, 1) = \"1\", setup!AD51, \"\"), \"\"), \"\")))))","v":30},null,null,null,null,null,null,null,null,"%Gmm",1,null,null,null,null,null,"Dust Max",1.6,1.6,1.6,1.6,1.6,1.6,1.6,1.6,1.6,1.6,1.6,1.6]
["Binder",{"$f":"IF($B$4=\"SMA\",setup!AE52,IF($E$4=$H$9,IF($H$4=$G$8,IF(LEFT($B$4,1)=\"A\",setup!T52,\"\"),IF($H$4=$G$9,IF(LEFT($B$4,1)=\"1\",setup!U52,IF(LEFT($B$4,1)=\"2\",setup!V52,\"\")))),IF($E$4=$H$10,IF($H$4=$G$9,IF(LEFT($B$4,1)=\"2\",setup!W52,\"\"),IF($H$4=$G$10,IF(LEFT($B$4,1)=\"1\",setup!X52,IF(LEFT($B$4,1)=\"2\",setup!Y52,\"\")),\"\")),IF($E$4=$H$11, IF($H$4=$G$10, IF(LEFT($B$4,1)=\"1\",setup!Z52,IF(LEFT($B$4,1)=\"2\", setup!AA52, \"\")), IF($H$4=$G$11,  IF(LEFT($B$4,1)=\"1\",setup!AB52,\"\"), IF($H$4=$G$12,  IF(LEFT($B$4,1)=\"1\",setup!AC52,\"\"),\"\"))),IF($E$4=$H$12, IF($H$4=$G$11, IF(LEFT($B$4, 1) = \"1\", setup!AD52, \"\"), \"\"), \"\")))))","v":0},null,null,null,null,null,null,null,null,null,"Grad +200",1,null,null,null,null,null,"Thick Min",2,1.5,1.5,1.5,2,2,2.5,2.5,2.5,3,4,1.5]
["SCB",{"$f":"IF($B$4=\"SMA\",setup!AE53,IF($E$4=$H$9,IF($H$4=$G$8,IF(LEFT($B$4,1)=\"A\",setup!T53,\"\"),IF($H$4=$G$9,IF(LEFT($B$4,1)=\"1\",setup!U53,IF(LEFT($B$4,1)=\"2\",setup!V53,\"\")))),IF($E$4=$H$10,IF($H$4=$G$9,IF(LEFT($B$4,1)=\"2\",setup!W53,\"\"),IF($H$4=$G$10,IF(LEFT($B$4,1)=\"1\",setup!X53,IF(LEFT($B$4,1)=\"2\",setup!Y53,\"\")),\"\")),IF($E$4=$H$11, IF($H$4=$G$10, IF(LEFT($B$4,1)=\"1\",setup!Z53,IF(LEFT($B$4,1)=\"2\", setup!AA53, \"\")), IF($H$4=$G$11,  IF(LEFT($B$4,1)=\"1\",setup!AB53,\"\"), IF($H$4=$G$12,  IF(LEFT($B$4,1)=\"1\",setup!AC53,\"\"),\"\"))),IF($E$4=$H$12, IF($H$4=$G$11, IF(LEFT($B$4, 1) = \"1\", setup!AD53, \"\"), \"\"), \"\")))))","v":0.5},null,null,null,null,null,null,null,null,null,"Grad 200",1,null,null,null,null,null,"Thick Max",null,2,2,2,3,3,4,4,null,null,null,2]
[null,null,null,null,null,null,null,null,null,null,null,"slope",2,null,null,null,null,null,"Mainline",92,92,92,92,92,92,92,92,92,null,92,93.5]
[null,null,null,null,null,null,null,null,null,null,null,"%AC",1,null,null,null,null,null,"Minor",90,90,90,90,90,90,90,90,90,null,90]
[null,null,null,null,null,null,null,null,null,null,null,"dust",2,null,null,null,null,null,"Max Nat Sand","NA",15,15,15,15,15,15,15,15,25,25,0]
[null,null,null,null,null,null,null,null,null,null,null,"Pba",1,null,null,null,null,null,"CAA/%Crush",55,75,95,95,75,95,75,95,75,75,75,98]
[null,null,null,null,null,null,null,null,null,null,null,"VMA",1,null,100,"No 30",null,null,"F&E",10,10,10,10,10,10,10,10,10,10,10,5]
[null,null,null,null,null,null,null,null,null,null,null,"Voids",1,null,null,null,null,null,"Sand Eq",40,40,45,45,40,45,40,45,40,40,40]
[null,null,null,null,null,null,null,null,null,null,null,"VFA",0,null,null,null,null,null,"FAA",40,40,44,44,40,44,40,44,40,40,40,44]
[null,null,null,null,null,null,null,null,null,null,null,"PWL",null,null,null,null,null,null,"RAP",20,15,15,15,20,20,20,20,30,30,30,0]
[null,null,null,null,null,null,null,null,null,null,null,"Gmm",3,null,null,null,null,null,"Binder",null,null,null,null,null,null,null,null,null,3,null,6]
[{"$f":"setup!S2","v":"LaPave 502 v18.05.02"},null,null,null,null,null,null,{"$f":"TODAY()","v":"2023-03-31"},null,null,null,"Gmb",3,null,null,null,null,null,"SCB",null,0.5,0.6,0.6,0.5,0.6,0.5,0.6,0.5,null,null,0.6]
[null,null,null,null,null,null,null,null,null,null,null,"%Gmm",1]
[null,null,null,null,null,null,null,null,null,null,null,"%Voids",1]
[null,null,null,null,null,null,null,null,null,null,null,"VMA",1]
[null,null,null,null,null,null,null,null,null,null,null,"VFA",0]
[null,null,null,null,null,null,null,null,null,null,null,"Slope",2]
[null,null,null,null,null,null,null,null,null,null,null,"Grad +200",0]
[null,null,null,null,null,null,null,null,null,null,null,"Grad 200",1]
[null,null,null,null,null,null,null,null,null,null,null,"%AC",1]
[null,null,null,null,null,null,null,null,null,null,null,"dust/Peff",2]
[null,null,null,null,null,null,null,null,null,null,null,"Pabsorb",2]
[null,null,null,null,null,null,null,null,null,null,null,"QA/Production",null,null,100,"No 16"]
[null,null,null,null,null,null,null,null,null,null,null,"Gmm",3]
[null,null,null,null,null,null,null,null,null,null,null,"Gmb",3]
[null,null,null,null,null,null,null,null,null,null,null,"%Gmm",1]
[null,null,null,null,null,null,null,null,null,null,null,"Grad +200",1]
[null,null,null,null,null,null,null,null,null,null,null,"Grad 200",1]
[null,null,null,null,null,null,null,null,null,null,null,"slope",3]
[null,null,null,null,null,null,null,null,null,null,null,"%AC",1]
[null,null,null,null,null,null,null,null,null,null,null,"dust",2]
[null,null,null,null,null,null,null,null,null,null,null,"absorb",2]
[null,null,null,null,null,null,null,null,null,null,null,"VMA",1]
[null,null,null,null,null,null,null,null,null,null,null,"Voids",1]
[null,null,null,null,null,null,null,null,null,null,null,"VFA",0]
[null,null,null,null,null,null,null,null,null,null,null,"LWT",2]
[]
[]
[]
[]
[]
[]
[]
[]
[null,null,null,null,null,null,null,null,null,null,null,null,null,null,100,"No 8"]
[]
[]
[]
[]
[]
[]
[]
[]
[]
[]
[]
[]
[]
[]
[]
[]
[]
[]
[]
[]
[]
[]
[]
[]
[]
[]
[]
[]
[null,null,null,null,null,null,null,null,null,null,null,null,null,null,100,"No 4"]
[]
[]
[]
[]
[]
[]
[]
[]
[]
[]
[]
[]
[]
[]
[]
[]
[]
[]
[]
[]
[]
[]
[]
[]
[]
[]
[]
[]
[]
[]
[]
[]
[]
[]
[]
[]
[]
[]
[]
[]
[null,null,null,null,null,null,null,null,null,null,null,null,null,null,100,"3/8 in"]
[]
[]
[]
[]
[]
[]
[]
[]
[]
[]
[]
[]
[]
[]
[]
[]
[]
[]
[null,null,null,null,null,null,null,null,null,null,null,null,null,null,100,"1/2 in"]
[]
[]
[]
[]
[]
[]
[]
[]
[]
[]
[]
[]
[]
[]
[]
[]
[]
[]
[]
[]
[]
[]
[]
[]
[]
[]
[]
[]
[]
[]
[]
[]
[]
[]
[]
[null,null,null,null,null,null,null,null,null,null,null,null,null,null,100,"3/4 in"]
[]
[]
[]
[]
[]
[]
[]
[]
[]
[]
[]
[]
[]
[]
[]
[]
[]
[]
[]
[]
[]
[]
[]
[]
[]
[]
[null,null,null,null,null,null,null,null,null,null,null,null,null,null,100,"1 in"]
[]
[]
[]
[]
[]
[]
[]
[]
[]
[]
[]
[]
[]
[]
[]
[]
[]
[]
[]
[]
[]
[]
[]
[]
[]
[]
[]
[]
[]
[]
[]
[]
[]
[]
[]
[]
[]
[]
[]
[]
[]
[]
[]
[]
[]
[]
[null,null,null,null,null,null,null,null,null,null,null,null,null,null,100,"1.5 in"]

{"sheet":"Signature","index":19,"n_rows":9,"n_cols":2,"rows_kept":9,"cut":false,"hidden":true,"merged":[[0,0,2,6]]}
["X"]
[]
[]
[]
["Signing for ","Approved By box"]
[]
["Sign using Excel Pen or copy an image of signature into the space provided."]
["If using Excel Pen press \"Enter\" key to end Pen."]
["Press Done button when finished."]

{"sheet":"Admin","index":20,"n_rows":13,"n_cols":2,"rows_kept":13,"cut":false,"hidden":true,"merged":[]}
[]
[]
[]
[]
[]
[]
[]
[]
[]
[]
[]
[]
["Password","concrete"]

{"sheet":"Authentication","index":21,"n_rows":2,"n_cols":2,"rows_kept":2,"cut":false,"hidden":true,"merged":[]}
["Name","Pass"]
["Patrick Icenogle","test"]

{"sheet":"PS","index":22,"n_rows":382,"n_cols":13,"rows_kept":382,"cut":false,"hidden":false,"merged":[]}
["Type-PS","LAPAVE_CATG_T",null,"PRODR_SUPP_CD","PRODR_SUPP_NM","start","count",null,"MATL_CATG_T","start","count","start","count"]
[{"$f":"B2&\"-\"&D2","v":"ADAP-APS00000340"},"ADAP","APS00000340-Blacklidge Emulsions, Inc. - Gulfport, MS","APS00000340","Blacklidge Emulsions, Inc. - Gulfport, MS",{"$f":"MATCH(A2,MAT!$A$1:$A$2000,0)","v":2},{"$f":"COUNTIF(MAT!$A$1:$A$2000,A2)","v":1},null,"ADAP",{"$f":"MATCH(I2,$B$1:$B$2000,)","v":2},{"$f":"COUNTIF($B$1:$B$2000,I2)","v":22},{"$f":"MATCH(I2,MAT!$H$1:$H$2000,0)","v":2},{"$f":"COUNTIF(MAT!$H$1:$H$2000,I2)","v":82}]
[{"$f":"B3&\"-\"&D3","v":"ADAP-APS00003920"},"ADAP","APS00003920-Arr-Maz Products, Inc. - Mulberry, FL","APS00003920","Arr-Maz Products, Inc. - Mulberry, FL",{"$f":"MATCH(A3,MAT!$A$1:$A$2000,0)","v":3},{"$f":"COUNTIF(MAT!$A$1:$A$2000,A3)","v":9},null,"AGGR",{"$f":"MATCH(I3,$B$1:$B$2000,)","v":24},{"$f":"COUNTIF($B$1:$B$2000,I3)","v":278},{"$f":"MATCH(I3,MAT!$H$1:$H$2000,0)","v":84},{"$f":"COUNTIF(MAT!$H$1:$H$2000,I3)","v":501}]
["ADAP-APS00003940","ADAP","APS00003940-Kao Specialties Americas, LLC - High Point, NC","APS00003940","Kao Specialties Americas, LLC - High Point, NC",{"$f":"MATCH(A4,MAT!$A$1:$A$2000,0)","v":12},{"$f":"COUNTIF(MAT!$A$1:$A$2000,A4)","v":1},null,"ASPH",302,40,{"$f":"MATCH(I4,MAT!$H$1:$H$2000,0)","v":585},{"$f":"COUNTIF(MAT!$H$1:$H$2000,I4)","v":77}]
["ADAP-APS00003970","ADAP","APS00003970-Pre Tech Industries - Rye, NH","APS00003970","Pre Tech Industries - Rye, NH",{"$f":"MATCH(A5,MAT!$A$1:$A$2000,0)","v":13},{"$f":"COUNTIF(MAT!$A$1:$A$2000,A5)","v":4},null,"BIND",342,41,{"$f":"MATCH(I5,MAT!$H$1:$H$2000,0)","v":662},{"$f":"COUNTIF(MAT!$H$1:$H$2000,I5)","v":109}]
["ADAP-APS00011060","ADAP","APS00011060-Ingevity Corporation - North Charleston, SC","APS00011060","Ingevity Corporation - North Charleston, SC",{"$f":"MATCH(A6,MAT!$A$1:$A$2000,0)","v":17},{"$f":"COUNTIF(MAT!$A$1:$A$2000,A6)","v":22}]
["ADAP-APS00011510","ADAP","APS00011510-Zydex, Inc. - Morrisville, NC","APS00011510","Zydex, Inc. - Morrisville, NC",{"$f":"MATCH(A7,MAT!$A$1:$A$2000,0)","v":39},{"$f":"COUNTIF(MAT!$A$1:$A$2000,A7)","v":5}]
["ADAP-APS00011670","ADAP","APS00011670-Maxxchem, LLC - East Point, GA","APS00011670","Maxxchem, LLC - East Point, GA",{"$f":"MATCH(A8,MAT!$A$1:$A$2000,0)","v":44},{"$f":"COUNTIF(MAT!$A$1:$A$2000,A8)","v":3}]
["ADAP-APS00012210","ADAP","APS00012210-PQ Corporation - Valley Forge, PA","APS00012210","PQ Corporation - Valley Forge, PA",{"$f":"MATCH(A9,MAT!$A$1:$A$2000,0)","v":47},{"$f":"COUNTIF(MAT!$A$1:$A$2000,A9)","v":1}]
["ADAP-APS00012220","ADAP","APS00012220-ASPHA-MIN - Charlotte, NC","APS00012220","ASPHA-MIN - Charlotte, NC",{"$f":"MATCH(A10,MAT!$A$1:$A$2000,0)","v":48},{"$f":"COUNTIF(MAT!$A$1:$A$2000,A10)","v":1}]
["ADAP-APS00012240","ADAP","APS00012240-Sasol Wax North America Corp - Hiram, GA","APS00012240","Sasol Wax North America Corp - Hiram, GA",{"$f":"MATCH(A11,MAT!$A$1:$A$2000,0)","v":49},{"$f":"COUNTIF(MAT!$A$1:$A$2000,A11)","v":1}]
["ADAP-APS00012410","ADAP","APS00012410-Cargill - Chicago, IL","APS00012410","Cargill - Chicago, IL",{"$f":"MATCH(A12,MAT!$A$1:$A$2000,0)","v":50},{"$f":"COUNTIF(MAT!$A$1:$A$2000,A12)","v":1}]
["ADAP-APS00012690","ADAP","APS00012690-Surfax S.A.de C.V. - Tlajomulco, Jalisco","APS00012690","Surfax S.A.de C.V. - Tlajomulco, Jalisco",{"$f":"MATCH(A13,MAT!$A$1:$A$2000,0)","v":51},{"$f":"COUNTIF(MAT!$A$1:$A$2000,A13)","v":1}]
["ADAP-APS00012750","ADAP","APS00012750-Road Science, Division of ArrMaz - Mulberry, FL","APS00012750","Road Science, Division of ArrMaz - Mulberry, FL",{"$f":"MATCH(A14,MAT!$A$1:$A$2000,0)","v":52},{"$f":"COUNTIF(MAT!$A$1:$A$2000,A14)","v":2}]
["ADAP-APS00014510","ADAP","APS00014510-Nouryon - Chicago, IL","APS00014510","Nouryon - Chicago, IL",{"$f":"MATCH(A15,MAT!$A$1:$A$2000,0)","v":54},{"$f":"COUNTIF(MAT!$A$1:$A$2000,A15)","v":12}]
["ADAP-APS00014940","ADAP","APS00014940-Arkema-Road Science - Convent","APS00014940","Arkema-Road Science - Convent",{"$f":"MATCH(A16,MAT!$A$1:$A$2000,0)","v":66},{"$f":"COUNTIF(MAT!$A$1:$A$2000,A16)","v":7}]
["ADAP-PS00000520","ADAP","PS00000520-Contractor Supplied","PS00000520","Contractor Supplied",{"$f":"MATCH(A17,MAT!$A$1:$A$2000,0)","v":73},{"$f":"COUNTIF(MAT!$A$1:$A$2000,A17)","v":4}]
["ADAP-PS00004680","ADAP","PS00004680-Hi-Tech Asphalt Solutions, Inc. - Mechanicsville, ","PS00004680","Hi-Tech Asphalt Solutions, Inc. - Mechanicsville, ",{"$f":"MATCH(A18,MAT!$A$1:$A$2000,0)","v":77},{"$f":"COUNTIF(MAT!$A$1:$A$2000,A18)","v":1}]
["ADAP-PS00004710","ADAP","PS00004710-BASF Corp - Dispersants and Pigments - Charlotte","PS00004710","BASF Corp - Dispersants and Pigments - Charlotte",{"$f":"MATCH(A19,MAT!$A$1:$A$2000,0)","v":78},{"$f":"COUNTIF(MAT!$A$1:$A$2000,A19)","v":1}]
["ADAP-PS00004720","ADAP","PS00004720-Genan, Inc. - Houston, TX","PS00004720","Genan, Inc. - Houston, TX",{"$f":"MATCH(A20,MAT!$A$1:$A$2000,0)","v":79},{"$f":"COUNTIF(MAT!$A$1:$A$2000,A20)","v":1}]
["ADAP-PS00005130","ADAP","PS00005130-Lehigh Technologies - Tucker, GA","PS00005130","Lehigh Technologies - Tucker, GA",{"$f":"MATCH(A21,MAT!$A$1:$A$2000,0)","v":80},{"$f":"COUNTIF(MAT!$A$1:$A$2000,A21)","v":2}]
["ADAP-PS00005160","ADAP","PS00005160-EVR International - Vidalia","PS00005160","EVR International - Vidalia",{"$f":"MATCH(A22,MAT!$A$1:$A$2000,0)","v":82},{"$f":"COUNTIF(MAT!$A$1:$A$2000,A22)","v":1}]
["ADAP-PS00013630","ADAP","PS00013630-Iterchimica Srl","PS00013630","Iterchimica Srl",{"$f":"MATCH(A23,MAT!$A$1:$A$2000,0)","v":83},{"$f":"COUNTIF(MAT!$A$1:$A$2000,A23)","v":1}]
["AGGR-APS00001930","AGGR","APS00001930-Mississippi Lime Company - St. Genevieve, MO","APS00001930","Mississippi Lime Company - St. Genevieve, MO",{"$f":"MATCH(A24,MAT!$A$1:$A$2000,0)","v":84},{"$f":"COUNTIF(MAT!$A$1:$A$2000,A24)","v":1}]
["AGGR-APS00001940","AGGR","APS00001940-National Cement Company - Pell City, AL","APS00001940","National Cement Company - Pell City, AL",{"$f":"MATCH(A25,MAT!$A$1:$A$2000,0)","v":85},{"$f":"COUNTIF(MAT!$A$1:$A$2000,A25)","v":1}]
["AGGR-APS00002200","AGGR","APS00002200-Bear Industries - Port Allen, LA","APS00002200","Bear Industries - Port Allen, LA",{"$f":"MATCH(A26,MAT!$A$1:$A$2000,0)","v":86},{"$f":"COUNTIF(MAT!$A$1:$A$2000,A26)","v":1}]
["AGGR-APS00004890","AGGR","APS00004890-Lhoist North America  - New BraunfelsTX","APS00004890","Lhoist North America  - New BraunfelsTX",{"$f":"MATCH(A27,MAT!$A$1:$A$2000,0)","v":87},{"$f":"COUNTIF(MAT!$A$1:$A$2000,A27)","v":1}]
["AGGR-APS00004900","AGGR","APS00004900-Arkansas Lime Company - Batesville, AR","APS00004900","Arkansas Lime Company - Batesville, AR",{"$f":"MATCH(A28,MAT!$A$1:$A$2000,0)","v":88},{"$f":"COUNTIF(MAT!$A$1:$A$2000,A28)","v":1}]
["AGGR-APS00004910","AGGR","APS00004910-Austin White Lime Company - Austin, TX","APS00004910","Austin White Lime Company - Austin, TX",{"$f":"MATCH(A29,MAT!$A$1:$A$2000,0)","v":89},{"$f":"COUNTIF(MAT!$A$1:$A$2000,A29)","v":1}]
["AGGR-APS00004920","AGGR","APS00004920-Carmeuse Lime and Stone - Baton Rouge, LA","APS00004920","Carmeuse Lime and Stone - Baton Rouge, LA",{"$f":"MATCH(A30,MAT!$A$1:$A$2000,0)","v":90},{"$f":"COUNTIF(MAT!$A$1:$A$2000,A30)","v":1}]
["AGGR-APS00004940","AGGR","APS00004940-Lhoist North America - Clifton, TX","APS00004940","Lhoist North America - Clifton, TX",{"$f":"MATCH(A31,MAT!$A$1:$A$2000,0)","v":91},{"$f":"COUNTIF(MAT!$A$1:$A$2000,A31)","v":1}]
["AGGR-APS00004970","AGGR","APS00004970-Falco Lime, Inc. - Vicksburg, MS","APS00004970","Falco Lime, Inc. - Vicksburg, MS",{"$f":"MATCH(A32,MAT!$A$1:$A$2000,0)","v":92},{"$f":"COUNTIF(MAT!$A$1:$A$2000,A32)","v":1}]
["AGGR-APS00004990","AGGR","APS00004990-Texas Lime Company - Cleburne, TX","APS00004990","Texas Lime Company - Cleburne, TX",{"$f":"MATCH(A33,MAT!$A$1:$A$2000,0)","v":93},{"$f":"COUNTIF(MAT!$A$1:$A$2000,A33)","v":2}]
["AGGR-APS00005000","AGGR","APS00005000-U.S. Lime Company - Shreveport","APS00005000","U.S. Lime Company - Shreveport",{"$f":"MATCH(A34,MAT!$A$1:$A$2000,0)","v":95},{"$f":"COUNTIF(MAT!$A$1:$A$2000,A34)","v":1}]
["AGGR-APS00005700","AGGR","APS00005700-Accardo Materials, Inc-Franklinton,LA","APS00005700","Accardo Materials, Inc-Franklinton,LA",{"$f":"MATCH(A35,MAT!$A$1:$A$2000,0)","v":96},{"$f":"COUNTIF(MAT!$A$1:$A$2000,A35)","v":2}]
["AGGR-APS00005710","AGGR","APS00005710-Agrecasa Del Caribe-San Pedro Sula, HON","APS00005710","Agrecasa Del Caribe-San Pedro Sula, HON",{"$f":"MATCH(A36,MAT!$A$1:$A$2000,0)","v":98},{"$f":"COUNTIF(MAT!$A$1:$A$2000,A36)","v":3}]
["AGGR-APS00005730","AGGR","APS00005730-Alabama Sand and Gravel-Prattville, AL","APS00005730","Alabama Sand and Gravel-Prattville, AL",{"$f":"MATCH(A37,MAT!$A$1:$A$2000,0)","v":101},{"$f":"COUNTIF(MAT!$A$1:$A$2000,A37)","v":2}]
["AGGR-APS00005740","AGGR","APS00005740-Alliance Sand and Gravel, LLC-Phil Campbell, AL","APS00005740","Alliance Sand and Gravel, LLC-Phil Campbell, AL",{"$f":"MATCH(A38,MAT!$A$1:$A$2000,0)","v":103},{"$f":"COUNTIF(MAT!$A$1:$A$2000,A38)","v":1}]
["AGGR-APS00005750","AGGR","APS00005750-Allstate Deatsville, LLC-Deatsville, AL","APS00005750","Allstate Deatsville, LLC-Deatsville, AL",{"$f":"MATCH(A39,MAT!$A$1:$A$2000,0)","v":104},{"$f":"COUNTIF(MAT!$A$1:$A$2000,A39)","v":1}]
["AGGR-APS00005770","AGGR","APS00005770-APAC - Brickey's Stone-Bloomsdale, MO - Burlington","APS00005770","APAC - Brickey's Stone-Bloomsdale, MO - Burlington",{"$f":"MATCH(A40,MAT!$A$1:$A$2000,0)","v":105},{"$f":"COUNTIF(MAT!$A$1:$A$2000,A40)","v":3}]
["AGGR-APS00005780","AGGR","APS00005780-Arkansas Gravel Company, Inc.-Hampton, AR","APS00005780","Arkansas Gravel Company, Inc.-Hampton, AR",{"$f":"MATCH(A41,MAT!$A$1:$A$2000,0)","v":108},{"$f":"COUNTIF(MAT!$A$1:$A$2000,A41)","v":2}]
["AGGR-APS00005790","AGGR","APS00005790-B & B Gravel & Trucking Co.-Bearden, AR","APS00005790","B & B Gravel & Trucking Co.-Bearden, AR",{"$f":"MATCH(A42,MAT!$A$1:$A$2000,0)","v":110},{"$f":"COUNTIF(MAT!$A$1:$A$2000,A42)","v":2}]
["AGGR-APS00005830","AGGR","APS00005830-Baldwin Sand & Gravel-Crystal Springs,MS","APS00005830","Baldwin Sand & Gravel-Crystal Springs,MS",{"$f":"MATCH(A43,MAT!$A$1:$A$2000,0)","v":112},{"$f":"COUNTIF(MAT!$A$1:$A$2000,A43)","v":2}]
["AGGR-APS00005870","AGGR","APS00005870-Bass Sand & Gravel-Bogalusa, LA","APS00005870","Bass Sand & Gravel-Bogalusa, LA",{"$f":"MATCH(A44,MAT!$A$1:$A$2000,0)","v":114},{"$f":"COUNTIF(MAT!$A$1:$A$2000,A44)","v":2}]
["AGGR-APS00005920","AGGR","APS00005920-Blackwell Aggregates, Inc.-Nicholson, MS","APS00005920","Blackwell Aggregates, Inc.-Nicholson, MS",{"$f":"MATCH(A45,MAT!$A$1:$A$2000,0)","v":116},{"$f":"COUNTIF(MAT!$A$1:$A$2000,A45)","v":2}]
["AGGR-APS00005930","AGGR","APS00005930-Blain Sand & Gravel, Inc.-Natchez, MS","APS00005930","Blain Sand & Gravel, Inc.-Natchez, MS",{"$f":"MATCH(A46,MAT!$A$1:$A$2000,0)","v":118},{"$f":"COUNTIF(MAT!$A$1:$A$2000,A46)","v":2}]
["AGGR-APS00005940","AGGR","APS00005940-Blain Sand & Gravel, Inc.-Crystal Springs, MS","APS00005940","Blain Sand & Gravel, Inc.-Crystal Springs, MS",{"$f":"MATCH(A47,MAT!$A$1:$A$2000,0)","v":120},{"$f":"COUNTIF(MAT!$A$1:$A$2000,A47)","v":2}]
["AGGR-APS00005950","AGGR","APS00005950-Bunch Sand and Gravel #1 - Clinton, LA","APS00005950","Bunch Sand and Gravel #1 - Clinton, LA",{"$f":"MATCH(A48,MAT!$A$1:$A$2000,0)","v":122},{"$f":"COUNTIF(MAT!$A$1:$A$2000,A48)","v":2}]
["AGGR-APS00005960","AGGR","APS00005960-Winn Materials of Kentucky-Grand Rivers,KY-StLouis","APS00005960","Winn Materials of Kentucky-Grand Rivers,KY-StLouis",{"$f":"MATCH(A49,MAT!$A$1:$A$2000,0)","v":124},{"$f":"COUNTIF(MAT!$A$1:$A$2000,A49)","v":3}]
["AGGR-APS00005970","AGGR","APS00005970-Oldcastle Materials - Burnet, TX","APS00005970","Oldcastle Materials - Burnet, TX",{"$f":"MATCH(A50,MAT!$A$1:$A$2000,0)","v":127},{"$f":"COUNTIF(MAT!$A$1:$A$2000,A50)","v":3}]
["AGGR-APS00005990","AGGR","APS00005990-Cash Sand & Gravel, Inc.-Denham Springs, LA","APS00005990","Cash Sand & Gravel, Inc.-Denham Springs, LA",{"$f":"MATCH(A51,MAT!$A$1:$A$2000,0)","v":130},{"$f":"COUNTIF(MAT!$A$1:$A$2000,A51)","v":2}]
["AGGR-APS00006000","AGGR","APS00006000-Century Ready Mix-Monroe, LA","APS00006000","Century Ready Mix-Monroe, LA",{"$f":"MATCH(A52,MAT!$A$1:$A$2000,0)","v":132},{"$f":"COUNTIF(MAT!$A$1:$A$2000,A52)","v":1}]
["AGGR-APS00006030","AGGR","APS00006030-Cossatot Rock, LLC-Lockesburg, AR","APS00006030","Cossatot Rock, LLC-Lockesburg, AR",{"$f":"MATCH(A53,MAT!$A$1:$A$2000,0)","v":133},{"$f":"COUNTIF(MAT!$A$1:$A$2000,A53)","v":2}]
["AGGR-APS00006060","AGGR","APS00006060-Crawford Aggregate Industr-Pine Grove,LA - Jenkins","APS00006060","Crawford Aggregate Industr-Pine Grove,LA - Jenkins",{"$f":"MATCH(A54,MAT!$A$1:$A$2000,0)","v":135},{"$f":"COUNTIF(MAT!$A$1:$A$2000,A54)","v":2}]
["AGGR-APS00006080","AGGR","APS00006080-Crystal Hill Quarry-North Little Rock, AR","APS00006080","Crystal Hill Quarry-North Little Rock, AR",{"$f":"MATCH(A55,MAT!$A$1:$A$2000,0)","v":137},{"$f":"COUNTIF(MAT!$A$1:$A$2000,A55)","v":3}]
["AGGR-APS00006100","AGGR","APS00006100-Daley Sand & Gravel-Roseland,LA","APS00006100","Daley Sand & Gravel-Roseland,LA",{"$f":"MATCH(A56,MAT!$A$1:$A$2000,0)","v":140},{"$f":"COUNTIF(MAT!$A$1:$A$2000,A56)","v":2}]
["AGGR-APS00006110","AGGR","APS00006110-Dickerson & Bowen Riverside Gravel-Tylertown, MS","APS00006110","Dickerson & Bowen Riverside Gravel-Tylertown, MS",{"$f":"MATCH(A57,MAT!$A$1:$A$2000,0)","v":142},{"$f":"COUNTIF(MAT!$A$1:$A$2000,A57)","v":2}]
["AGGR-APS00006120","AGGR","APS00006120-3M Industrial Minerals Prods Div. - Little Rock,AR","APS00006120","3M Industrial Minerals Prods Div. - Little Rock,AR",{"$f":"MATCH(A58,MAT!$A$1:$A$2000,0)","v":144},{"$f":"COUNTIF(MAT!$A$1:$A$2000,A58)","v":3}]
["AGGR-APS00006130","AGGR","APS00006130-DSD Energy Services-Oakdale, LA","APS00006130","DSD Energy Services-Oakdale, LA",{"$f":"MATCH(A59,MAT!$A$1:$A$2000,0)","v":147},{"$f":"COUNTIF(MAT!$A$1:$A$2000,A59)","v":1}]
["AGGR-APS00006160","AGGR","APS00006160-Dupont Sand, LLC-Carencro, LA","APS00006160","Dupont Sand, LLC-Carencro, LA",{"$f":"MATCH(A60,MAT!$A$1:$A$2000,0)","v":148},{"$f":"COUNTIF(MAT!$A$1:$A$2000,A60)","v":1}]
["AGGR-APS00006170","AGGR","APS00006170-Brownstone Sand & Gravel - Franklinton, LA","APS00006170","Brownstone Sand & Gravel - Franklinton, LA",{"$f":"MATCH(A61,MAT!$A$1:$A$2000,0)","v":149},{"$f":"COUNTIF(MAT!$A$1:$A$2000,A61)","v":4}]
["AGGR-APS00006180","AGGR","APS00006180-Feliciana Farms, Inc.-St. Francisville, LA","APS00006180","Feliciana Farms, Inc.-St. Francisville, LA",{"$f":"MATCH(A62,MAT!$A$1:$A$2000,0)","v":153},{"$f":"COUNTIF(MAT!$A$1:$A$2000,A62)","v":2}]
["AGGR-APS00006190","AGGR","APS00006190-Florida Parishes Aggregate-Fluker, LA","APS00006190","Florida Parishes Aggregate-Fluker, LA",{"$f":"MATCH(A63,MAT!$A$1:$A$2000,0)","v":155},{"$f":"COUNTIF(MAT!$A$1:$A$2000,A63)","v":2}]
["AGGR-APS00006200","AGGR","APS00006200-Foley Materials Co.-Phenix City, AL- Plant 501","APS00006200","Foley Materials Co.-Phenix City, AL- Plant 501",{"$f":"MATCH(A64,MAT!$A$1:$A$2000,0)","v":157},{"$f":"COUNTIF(MAT!$A$1:$A$2000,A64)","v":1}]
["AGGR-APS00006210","AGGR","APS00006210-Foley Materials Co.-Phenix City, AL- Plant 505","APS00006210","Foley Materials Co.-Phenix City, AL- Plant 505",{"$f":"MATCH(A65,MAT!$A$1:$A$2000,0)","v":158},{"$f":"COUNTIF(MAT!$A$1:$A$2000,A65)","v":1}]
["AGGR-APS00006230","AGGR","APS00006230-Fouke Sand & Gravel, LLC-Fouke, AR","APS00006230","Fouke Sand & Gravel, LLC-Fouke, AR",{"$f":"MATCH(A66,MAT!$A$1:$A$2000,0)","v":159},{"$f":"COUNTIF(MAT!$A$1:$A$2000,A66)","v":2}]
[{"$f":"B67&\"-\"&D67","v":"AGGR-APS00006240"},"AGGR","APS00006240-Gillman Enterprises, LLC-Independence, LA","APS00006240","Gillman Enterprises, LLC-Independence, LA",{"$f":"MATCH(A67,MAT!$A$1:$A$2000,0)","v":161},{"$f":"COUNTIF(MAT!$A$1:$A$2000,A67)","v":2}]
["AGGR-APS00006250","AGGR","APS00006250-Granite Mountain Quarries-Little Rock, AR","APS00006250","Granite Mountain Quarries-Little Rock, AR",{"$f":"MATCH(A68,MAT!$A$1:$A$2000,0)","v":163},{"$f":"COUNTIF(MAT!$A$1:$A$2000,A68)","v":3}]
["AGGR-APS00006260","AGGR","APS00006260-Green Brothers Gravel Co.-Hazlehurst, MS","APS00006260","Green Brothers Gravel Co.-Hazlehurst, MS",{"$f":"MATCH(A69,MAT!$A$1:$A$2000,0)","v":166},{"$f":"COUNTIF(MAT!$A$1:$A$2000,A69)","v":2}]
["AGGR-APS00006270","AGGR","APS00006270-Green Brothers Gravel Co.-CrystalSprings, MS","APS00006270","Green Brothers Gravel Co.-CrystalSprings, MS",{"$f":"MATCH(A70,MAT!$A$1:$A$2000,0)","v":168},{"$f":"COUNTIF(MAT!$A$1:$A$2000,A70)","v":2}]
["AGGR-APS00006290","AGGR","APS00006290-Hallet Materials-Porter,TX","APS00006290","Hallet Materials-Porter,TX",{"$f":"MATCH(A71,MAT!$A$1:$A$2000,0)","v":170},{"$f":"COUNTIF(MAT!$A$1:$A$2000,A71)","v":1}]
["AGGR-APS00006300","AGGR","APS00006300-Hammett Gravel Company, Inc.-Bentonia, MS","APS00006300","Hammett Gravel Company, Inc.-Bentonia, MS",{"$f":"MATCH(A72,MAT!$A$1:$A$2000,0)","v":171},{"$f":"COUNTIF(MAT!$A$1:$A$2000,A72)","v":2}]
["AGGR-APS00006310","AGGR","APS00006310-Hanson Aggregates-Bearden,AR","APS00006310","Hanson Aggregates-Bearden,AR",{"$f":"MATCH(A73,MAT!$A$1:$A$2000,0)","v":173},{"$f":"COUNTIF(MAT!$A$1:$A$2000,A73)","v":2}]
["AGGR-APS00006320","AGGR","APS00006320-Hanson Aggregates-Ashdown,AR","APS00006320","Hanson Aggregates-Ashdown,AR",{"$f":"MATCH(A74,MAT!$A$1:$A$2000,0)","v":175},{"$f":"COUNTIF(MAT!$A$1:$A$2000,A74)","v":2}]
["AGGR-APS00006340","AGGR","APS00006340-Hanson Aggregates-Perch Hill Plant-Chico,TX","APS00006340","Hanson Aggregates-Perch Hill Plant-Chico,TX",{"$f":"MATCH(A75,MAT!$A$1:$A$2000,0)","v":177},{"$f":"COUNTIF(MAT!$A$1:$A$2000,A75)","v":2}]
["AGGR-APS00006350","AGGR","APS00006350-Hard Rock Sand & Gravel LLC - Franklinton, LA - #2","APS00006350","Hard Rock Sand & Gravel LLC - Franklinton, LA - #2",{"$f":"MATCH(A76,MAT!$A$1:$A$2000,0)","v":179},{"$f":"COUNTIF(MAT!$A$1:$A$2000,A76)","v":2}]
["AGGR-APS00006360","AGGR","APS00006360-Hard Rock Sand & Gravel, LLC-Mt. Hermon,LA","APS00006360","Hard Rock Sand & Gravel, LLC-Mt. Hermon,LA",{"$f":"MATCH(A77,MAT!$A$1:$A$2000,0)","v":181},{"$f":"COUNTIF(MAT!$A$1:$A$2000,A77)","v":2}]
["AGGR-APS00006370","AGGR","APS00006370-Hastie Mining Company-Cave-in-Rock,IL","APS00006370","Hastie Mining Company-Cave-in-Rock,IL",{"$f":"MATCH(A78,MAT!$A$1:$A$2000,0)","v":183},{"$f":"COUNTIF(MAT!$A$1:$A$2000,A78)","v":2}]
["AGGR-APS00006400","AGGR","APS00006400-Hooper Road Dirt Pit-Baton Rouge, LA","APS00006400","Hooper Road Dirt Pit-Baton Rouge, LA",{"$f":"MATCH(A79,MAT!$A$1:$A$2000,0)","v":185},{"$f":"COUNTIF(MAT!$A$1:$A$2000,A79)","v":1}]
["AGGR-APS00006420","AGGR","APS00006420-Huey Stockstill, LLC - Picayune, MS - 12 Oaks","APS00006420","Huey Stockstill, LLC - Picayune, MS - 12 Oaks",{"$f":"MATCH(A80,MAT!$A$1:$A$2000,0)","v":186},{"$f":"COUNTIF(MAT!$A$1:$A$2000,A80)","v":2}]
["AGGR-APS00006430","AGGR","APS00006430-Huey P. Stockstill, LLC -Picayune, MS - Pine Grove","APS00006430","Huey P. Stockstill, LLC -Picayune, MS - Pine Grove",{"$f":"MATCH(A81,MAT!$A$1:$A$2000,0)","v":188},{"$f":"COUNTIF(MAT!$A$1:$A$2000,A81)","v":2}]
["AGGR-APS00006440","AGGR","APS00006440-Ideal Domicana, SA-Santo Domingo, DR","APS00006440","Ideal Domicana, SA-Santo Domingo, DR",{"$f":"MATCH(A82,MAT!$A$1:$A$2000,0)","v":190},{"$f":"COUNTIF(MAT!$A$1:$A$2000,A82)","v":2}]
["AGGR-APS00006450","AGGR","APS00006450-Industrial Aggregates, LLC-Franklinton, LA-Pine Cl","APS00006450","Industrial Aggregates, LLC-Franklinton, LA-Pine Cl",{"$f":"MATCH(A83,MAT!$A$1:$A$2000,0)","v":192},{"$f":"COUNTIF(MAT!$A$1:$A$2000,A83)","v":3}]
["AGGR-APS00006480","AGGR","APS00006480-Jamaica Aggregates Limited dba Lafarge","APS00006480","Jamaica Aggregates Limited dba Lafarge",{"$f":"MATCH(A84,MAT!$A$1:$A$2000,0)","v":195},{"$f":"COUNTIF(MAT!$A$1:$A$2000,A84)","v":2}]
["AGGR-APS00006490","AGGR","APS00006490-JJ Ferguson Sand & Gravel-Cruger, MS","APS00006490","JJ Ferguson Sand & Gravel-Cruger, MS",{"$f":"MATCH(A85,MAT!$A$1:$A$2000,0)","v":197},{"$f":"COUNTIF(MAT!$A$1:$A$2000,A85)","v":2}]
["AGGR-APS00006500","AGGR","APS00006500-Johnsville Sand & Gravel-Hermitage, AR","APS00006500","Johnsville Sand & Gravel-Hermitage, AR",{"$f":"MATCH(A86,MAT!$A$1:$A$2000,0)","v":199},{"$f":"COUNTIF(MAT!$A$1:$A$2000,A86)","v":2}]
["AGGR-APS00006510","AGGR","APS00006510-K & C Gravel-Independence,LA","APS00006510","K & C Gravel-Independence,LA",{"$f":"MATCH(A87,MAT!$A$1:$A$2000,0)","v":201},{"$f":"COUNTIF(MAT!$A$1:$A$2000,A87)","v":1}]
["AGGR-APS00006520","AGGR","APS00006520-Kinder Sand Co.-Kinder, LA","APS00006520","Kinder Sand Co.-Kinder, LA",{"$f":"MATCH(A88,MAT!$A$1:$A$2000,0)","v":202},{"$f":"COUNTIF(MAT!$A$1:$A$2000,A88)","v":1}]
["AGGR-APS00006530","AGGR","APS00006530-King Sand & Gravel-Kerens, TX","APS00006530","King Sand & Gravel-Kerens, TX",{"$f":"MATCH(A89,MAT!$A$1:$A$2000,0)","v":203},{"$f":"COUNTIF(MAT!$A$1:$A$2000,A89)","v":1}]
["AGGR-APS00006540","AGGR","APS00006540-Krystal Gravel, Inc.-Crystal Springs, MS","APS00006540","Krystal Gravel, Inc.-Crystal Springs, MS",{"$f":"MATCH(A90,MAT!$A$1:$A$2000,0)","v":204},{"$f":"COUNTIF(MAT!$A$1:$A$2000,A90)","v":2}]
["AGGR-APS00006550","AGGR","APS00006550-L & W Sand Pit, LLC-Carencro, LA","APS00006550","L & W Sand Pit, LLC-Carencro, LA",{"$f":"MATCH(A91,MAT!$A$1:$A$2000,0)","v":206},{"$f":"COUNTIF(MAT!$A$1:$A$2000,A91)","v":1}]
["AGGR-APS00006560","AGGR","APS00006560-Lafarge Aggregates-Cave-In-Rock, IL - SandStone","APS00006560","Lafarge Aggregates-Cave-In-Rock, IL - SandStone",{"$f":"MATCH(A92,MAT!$A$1:$A$2000,0)","v":207},{"$f":"COUNTIF(MAT!$A$1:$A$2000,A92)","v":2}]
["AGGR-APS00006570","AGGR","APS00006570-Lafarge Aggregates-Cave-In-Rock, IL - Sil. Limestn","APS00006570","Lafarge Aggregates-Cave-In-Rock, IL - Sil. Limestn",{"$f":"MATCH(A93,MAT!$A$1:$A$2000,0)","v":209},{"$f":"COUNTIF(MAT!$A$1:$A$2000,A93)","v":2}]
["AGGR-APS00006580","AGGR","APS00006580-Lafarge Aggregates-Fredonia, KY","APS00006580","Lafarge Aggregates-Fredonia, KY",{"$f":"MATCH(A94,MAT!$A$1:$A$2000,0)","v":211},{"$f":"COUNTIF(MAT!$A$1:$A$2000,A94)","v":2}]
["AGGR-APS00006590","AGGR","APS00006590-Lafarge Aggregates-Pearl River,LA","APS00006590","Lafarge Aggregates-Pearl River,LA",{"$f":"MATCH(A95,MAT!$A$1:$A$2000,0)","v":213},{"$f":"COUNTIF(MAT!$A$1:$A$2000,A95)","v":2}]
["AGGR-APS00006600","AGGR","APS00006600-Lafarge Aggregates-Bogalusa,LA","APS00006600","Lafarge Aggregates-Bogalusa,LA",{"$f":"MATCH(A96,MAT!$A$1:$A$2000,0)","v":215},{"$f":"COUNTIF(MAT!$A$1:$A$2000,A96)","v":3}]
["AGGR-APS00006670","AGGR","APS00006670-Lon Land Gravel Co.-Mt Hermon, LA","APS00006670","Lon Land Gravel Co.-Mt Hermon, LA",{"$f":"MATCH(A97,MAT!$A$1:$A$2000,0)","v":218},{"$f":"COUNTIF(MAT!$A$1:$A$2000,A97)","v":2}]
["AGGR-APS00006680","AGGR","APS00006680-Marion Clay & Gravel, LLC-Columbia, MS","APS00006680","Marion Clay & Gravel, LLC-Columbia, MS",{"$f":"MATCH(A98,MAT!$A$1:$A$2000,0)","v":220},{"$f":"COUNTIF(MAT!$A$1:$A$2000,A98)","v":2}]
["AGGR-APS00006690","AGGR","APS00006690-Martin Marietta Aggregates-Bahamas,BAH","APS00006690","Martin Marietta Aggregates-Bahamas,BAH",{"$f":"MATCH(A99,MAT!$A$1:$A$2000,0)","v":222},{"$f":"COUNTIF(MAT!$A$1:$A$2000,A99)","v":2}]
["AGGR-APS00006700","AGGR","APS00006700-Martin Marietta Aggregates-Eagletown, OK","APS00006700","Martin Marietta Aggregates-Eagletown, OK",{"$f":"MATCH(A100,MAT!$A$1:$A$2000,0)","v":224},{"$f":"COUNTIF(MAT!$A$1:$A$2000,A100)","v":2}]
["AGGR-APS00006710","AGGR","APS00006710-Martin Marietta Aggregates-Cove,AR","APS00006710","Martin Marietta Aggregates-Cove,AR",{"$f":"MATCH(A101,MAT!$A$1:$A$2000,0)","v":226},{"$f":"COUNTIF(MAT!$A$1:$A$2000,A101)","v":2}]
["AGGR-APS00006720","AGGR","APS00006720-Martin Marietta Aggregates-Garwood,TX","APS00006720","Martin Marietta Aggregates-Garwood,TX",{"$f":"MATCH(A102,MAT!$A$1:$A$2000,0)","v":228},{"$f":"COUNTIF(MAT!$A$1:$A$2000,A102)","v":2}]
["AGGR-APS00006730","AGGR","APS00006730-Martin Marietta Aggregates-Malvern, AR - SandStone","APS00006730","Martin Marietta Aggregates-Malvern, AR - SandStone",{"$f":"MATCH(A103,MAT!$A$1:$A$2000,0)","v":230},{"$f":"COUNTIF(MAT!$A$1:$A$2000,A103)","v":2}]
["AGGR-APS00006740","AGGR","APS00006740-Martin Marietta Aggregates-Malvern, AR - Granite","APS00006740","Martin Marietta Aggregates-Malvern, AR - Granite",{"$f":"MATCH(A104,MAT!$A$1:$A$2000,0)","v":232},{"$f":"COUNTIF(MAT!$A$1:$A$2000,A104)","v":2}]
["AGGR-APS00006750","AGGR","APS00006750-Martin Marietta Aggregates-Mulgrave, NS","APS00006750","Martin Marietta Aggregates-Mulgrave, NS",{"$f":"MATCH(A105,MAT!$A$1:$A$2000,0)","v":234},{"$f":"COUNTIF(MAT!$A$1:$A$2000,A105)","v":4}]
["AGGR-APS00006760","AGGR","APS00006760-Martin Marietta Aggregates-Sawyer,OK","APS00006760","Martin Marietta Aggregates-Sawyer,OK",{"$f":"MATCH(A106,MAT!$A$1:$A$2000,0)","v":238},{"$f":"COUNTIF(MAT!$A$1:$A$2000,A106)","v":3}]
["AGGR-APS00006770","AGGR","APS00006770-Mears Sand & Gravel-Denham Springs,LA","APS00006770","Mears Sand & Gravel-Denham Springs,LA",{"$f":"MATCH(A107,MAT!$A$1:$A$2000,0)","v":241},{"$f":"COUNTIF(MAT!$A$1:$A$2000,A107)","v":2}]
["AGGR-APS00006780","AGGR","APS00006780-Memphis Stone & Gravel Co.-Nesbit, MS","APS00006780","Memphis Stone & Gravel Co.-Nesbit, MS",{"$f":"MATCH(A108,MAT!$A$1:$A$2000,0)","v":243},{"$f":"COUNTIF(MAT!$A$1:$A$2000,A108)","v":1}]
["AGGR-APS00006790","AGGR","APS00006790-Memphis Stone & Gravel Co.-Senatobia, MS","APS00006790","Memphis Stone & Gravel Co.-Senatobia, MS",{"$f":"MATCH(A109,MAT!$A$1:$A$2000,0)","v":244},{"$f":"COUNTIF(MAT!$A$1:$A$2000,A109)","v":1}]
["AGGR-APS00006830","AGGR","APS00006830-MRH Sand & Gravel-Benton, LA","APS00006830","MRH Sand & Gravel-Benton, LA",{"$f":"MATCH(A110,MAT!$A$1:$A$2000,0)","v":245},{"$f":"COUNTIF(MAT!$A$1:$A$2000,A110)","v":2}]
["AGGR-APS00006840","AGGR","APS00006840-ODDEE Smith Constr.Inc.-Brookhaven, MS","APS00006840","ODDEE Smith Constr.Inc.-Brookhaven, MS",{"$f":"MATCH(A111,MAT!$A$1:$A$2000,0)","v":247},{"$f":"COUNTIF(MAT!$A$1:$A$2000,A111)","v":2}]
["AGGR-APS00006850","AGGR","APS00006850-P & J Sand & Gravel, LLC-Independence, LA","APS00006850","P & J Sand & Gravel, LLC-Independence, LA",{"$f":"MATCH(A112,MAT!$A$1:$A$2000,0)","v":249},{"$f":"COUNTIF(MAT!$A$1:$A$2000,A112)","v":2}]
["AGGR-APS00006860","AGGR","APS00006860-Perkinston Sand & Gravel-Perkinston, MS","APS00006860","Perkinston Sand & Gravel-Perkinston, MS",{"$f":"MATCH(A113,MAT!$A$1:$A$2000,0)","v":251},{"$f":"COUNTIF(MAT!$A$1:$A$2000,A113)","v":1}]
["AGGR-APS00006880","AGGR","APS00006880-Pine Bluff Sand & Gravel-Deleware, AR","APS00006880","Pine Bluff Sand & Gravel-Deleware, AR",{"$f":"MATCH(A114,MAT!$A$1:$A$2000,0)","v":252},{"$f":"COUNTIF(MAT!$A$1:$A$2000,A114)","v":2}]
["AGGR-APS00006890","AGGR","APS00006890-Pine Bluff Sand & Gravel-Salem,KY","APS00006890","Pine Bluff Sand & Gravel-Salem,KY",{"$f":"MATCH(A115,MAT!$A$1:$A$2000,0)","v":254},{"$f":"COUNTIF(MAT!$A$1:$A$2000,A115)","v":2}]
["AGGR-APS00006910","AGGR","APS00006910-R & R Logging & Gravel-Columbia, MS","APS00006910","R & R Logging & Gravel-Columbia, MS",{"$f":"MATCH(A116,MAT!$A$1:$A$2000,0)","v":256},{"$f":"COUNTIF(MAT!$A$1:$A$2000,A116)","v":2}]
["AGGR-APS00006920","AGGR","APS00006920-Ram Industries-Mt. Hermon, LA","APS00006920","Ram Industries-Mt. Hermon, LA",{"$f":"MATCH(A117,MAT!$A$1:$A$2000,0)","v":258},{"$f":"COUNTIF(MAT!$A$1:$A$2000,A117)","v":2}]
["AGGR-APS00006930","AGGR","APS00006930-Riverside Sand & Gravel-Tylertown, MS","APS00006930","Riverside Sand & Gravel-Tylertown, MS",{"$f":"MATCH(A118,MAT!$A$1:$A$2000,0)","v":260},{"$f":"COUNTIF(MAT!$A$1:$A$2000,A118)","v":1}]
["AGGR-APS00006980","AGGR","APS00006980-Simpson Materials Co.-Valley Park, MO","APS00006980","Simpson Materials Co.-Valley Park, MO",{"$f":"MATCH(A119,MAT!$A$1:$A$2000,0)","v":261},{"$f":"COUNTIF(MAT!$A$1:$A$2000,A119)","v":2}]
["AGGR-APS00006990","AGGR","APS00006990-Smith Sand & Gravel-Franklinton,LA","APS00006990","Smith Sand & Gravel-Franklinton,LA",{"$f":"MATCH(A120,MAT!$A$1:$A$2000,0)","v":263},{"$f":"COUNTIF(MAT!$A$1:$A$2000,A120)","v":2}]
["AGGR-APS00007000","AGGR","APS00007000-South Land Sand-Ringgold, LA","APS00007000","South Land Sand-Ringgold, LA",{"$f":"MATCH(A121,MAT!$A$1:$A$2000,0)","v":265},{"$f":"COUNTIF(MAT!$A$1:$A$2000,A121)","v":2}]
["AGGR-APS00007010","AGGR","APS00007010-Southern Aggregates, LLC-Norwood,LA","APS00007010","Southern Aggregates, LLC-Norwood,LA",{"$f":"MATCH(A122,MAT!$A$1:$A$2000,0)","v":267},{"$f":"COUNTIF(MAT!$A$1:$A$2000,A122)","v":2}]
["AGGR-APS00007030","AGGR","APS00007030-Southern Aggregates, LLC-DenhamSprings,LA-Plant7","APS00007030","Southern Aggregates, LLC-DenhamSprings,LA-Plant7",{"$f":"MATCH(A123,MAT!$A$1:$A$2000,0)","v":269},{"$f":"COUNTIF(MAT!$A$1:$A$2000,A123)","v":2}]
["AGGR-APS00007130","AGGR","APS00007130-Swim Enterprises-Columbia, LA","APS00007130","Swim Enterprises-Columbia, LA",{"$f":"MATCH(A124,MAT!$A$1:$A$2000,0)","v":271},{"$f":"COUNTIF(MAT!$A$1:$A$2000,A124)","v":1}]
["AGGR-APS00007140","AGGR","APS00007140-T & D Sand & Gravel, LLC-Independence, LA","APS00007140","T & D Sand & Gravel, LLC-Independence, LA",{"$f":"MATCH(A125,MAT!$A$1:$A$2000,0)","v":272},{"$f":"COUNTIF(MAT!$A$1:$A$2000,A125)","v":2}]
["AGGR-APS00007150","AGGR","APS00007150-Tanner Heavy Equipment Co-Leesville, LA","APS00007150","Tanner Heavy Equipment Co-Leesville, LA",{"$f":"MATCH(A126,MAT!$A$1:$A$2000,0)","v":274},{"$f":"COUNTIF(MAT!$A$1:$A$2000,A126)","v":1}]
["AGGR-APS00007160","AGGR","APS00007160-Texas Crushed Stone Co., Inc.-Georgetown, TX","APS00007160","Texas Crushed Stone Co., Inc.-Georgetown, TX",{"$f":"MATCH(A127,MAT!$A$1:$A$2000,0)","v":275},{"$f":"COUNTIF(MAT!$A$1:$A$2000,A127)","v":2}]
["AGGR-APS00007170","AGGR","APS00007170-The Fordyce Co-Victoria, TX","APS00007170","The Fordyce Co-Victoria, TX",{"$f":"MATCH(A128,MAT!$A$1:$A$2000,0)","v":277},{"$f":"COUNTIF(MAT!$A$1:$A$2000,A128)","v":2}]
["AGGR-APS00007180","AGGR","APS00007180-Tower Rock Stone Co-St.Genevieve, MO- Limestn Zn8","APS00007180","Tower Rock Stone Co-St.Genevieve, MO- Limestn Zn8",{"$f":"MATCH(A129,MAT!$A$1:$A$2000,0)","v":279},{"$f":"COUNTIF(MAT!$A$1:$A$2000,A129)","v":2}]
["AGGR-APS00007190","AGGR","APS00007190-Tower Rock Stone Co-St.Genevieve, MO- Oolitic","APS00007190","Tower Rock Stone Co-St.Genevieve, MO- Oolitic",{"$f":"MATCH(A130,MAT!$A$1:$A$2000,0)","v":281},{"$f":"COUNTIF(MAT!$A$1:$A$2000,A130)","v":2}]
[{"$f":"B131&\"-\"&D131","v":"AGGR-APS00007210"},"AGGR","APS00007210-Triangle Aggregates, LLC-Jackson, AL","APS00007210","Triangle Aggregates, LLC-Jackson, AL",{"$f":"MATCH(A131,MAT!$A$1:$A$2000,0)","v":283},{"$f":"COUNTIF(MAT!$A$1:$A$2000,A131)","v":2}]
["AGGR-APS00007250","AGGR","APS00007250-Trinity Materials-West Lockesburg, AR","APS00007250","Trinity Materials-West Lockesburg, AR",{"$f":"MATCH(A132,MAT!$A$1:$A$2000,0)","v":285},{"$f":"COUNTIF(MAT!$A$1:$A$2000,A132)","v":2}]
["AGGR-APS00007260","AGGR","APS00007260-Martin Marietta - Bridgeport TX","APS00007260","Martin Marietta - Bridgeport TX",{"$f":"MATCH(A133,MAT!$A$1:$A$2000,0)","v":287},{"$f":"COUNTIF(MAT!$A$1:$A$2000,A133)","v":2}]
["AGGR-APS00007270","AGGR","APS00007270-Martin Marietta - Perryville,LA","APS00007270","Martin Marietta - Perryville,LA",{"$f":"MATCH(A134,MAT!$A$1:$A$2000,0)","v":289},{"$f":"COUNTIF(MAT!$A$1:$A$2000,A134)","v":3}]
["AGGR-APS00007290","AGGR","APS00007290-Martin Marietta - Jena, LA","APS00007290","Martin Marietta - Jena, LA",{"$f":"MATCH(A135,MAT!$A$1:$A$2000,0)","v":292},{"$f":"COUNTIF(MAT!$A$1:$A$2000,A135)","v":4}]
["AGGR-APS00007300","AGGR","APS00007300-Martin Marietta - Woodworth, LA","APS00007300","Martin Marietta - Woodworth, LA",{"$f":"MATCH(A136,MAT!$A$1:$A$2000,0)","v":296},{"$f":"COUNTIF(MAT!$A$1:$A$2000,A136)","v":4}]
["AGGR-APS00007310","AGGR","APS00007310-Vermillion Shell & Limestone Co. Inc.-Maurice, LA","APS00007310","Vermillion Shell & Limestone Co. Inc.-Maurice, LA",{"$f":"MATCH(A137,MAT!$A$1:$A$2000,0)","v":300},{"$f":"COUNTIF(MAT!$A$1:$A$2000,A137)","v":1}]
["AGGR-APS00007320","AGGR","APS00007320-Village Sand, Inc.-Kinder, LA","APS00007320","Village Sand, Inc.-Kinder, LA",{"$f":"MATCH(A138,MAT!$A$1:$A$2000,0)","v":301},{"$f":"COUNTIF(MAT!$A$1:$A$2000,A138)","v":3}]
["AGGR-APS00007340","AGGR","APS00007340-Vulcan Materials Co-Calera, AL","APS00007340","Vulcan Materials Co-Calera, AL",{"$f":"MATCH(A139,MAT!$A$1:$A$2000,0)","v":304},{"$f":"COUNTIF(MAT!$A$1:$A$2000,A139)","v":2}]
["AGGR-APS00007350","AGGR","APS00007350-Vulcan Materials Co-Cancun, MEX","APS00007350","Vulcan Materials Co-Cancun, MEX",{"$f":"MATCH(A140,MAT!$A$1:$A$2000,0)","v":306},{"$f":"COUNTIF(MAT!$A$1:$A$2000,A140)","v":2}]
["AGGR-APS00007380","AGGR","APS00007380-Vulcan Materials Co-Grand Rivers,KY- Ft Payne","APS00007380","Vulcan Materials Co-Grand Rivers,KY- Ft Payne",{"$f":"MATCH(A141,MAT!$A$1:$A$2000,0)","v":308},{"$f":"COUNTIF(MAT!$A$1:$A$2000,A141)","v":4}]
["AGGR-APS00007390","AGGR","APS00007390-Vulcan Materials Co-Grand Rivers,KY- Warsaw","APS00007390","Vulcan Materials Co-Grand Rivers,KY- Warsaw",{"$f":"MATCH(A142,MAT!$A$1:$A$2000,0)","v":312},{"$f":"COUNTIF(MAT!$A$1:$A$2000,A142)","v":2}]
["AGGR-APS00007430","AGGR","APS00007430-Vulcan Materials Co-Tuscumbia, AL- Pride Quarry","APS00007430","Vulcan Materials Co-Tuscumbia, AL- Pride Quarry",{"$f":"MATCH(A143,MAT!$A$1:$A$2000,0)","v":314},{"$f":"COUNTIF(MAT!$A$1:$A$2000,A143)","v":2}]
["AGGR-APS00007450","AGGR","APS00007450-Vulcan Materials Co-Trinity, AL","APS00007450","Vulcan Materials Co-Trinity, AL",{"$f":"MATCH(A144,MAT!$A$1:$A$2000,0)","v":316},{"$f":"COUNTIF(MAT!$A$1:$A$2000,A144)","v":2}]
["AGGR-APS00007480","AGGR","APS00007480-Warren Paving-Salem, KY-Slats Lucas Quarry","APS00007480","Warren Paving-Salem, KY-Slats Lucas Quarry",{"$f":"MATCH(A145,MAT!$A$1:$A$2000,0)","v":318},{"$f":"COUNTIF(MAT!$A$1:$A$2000,A145)","v":2}]
["AGGR-APS00007490","AGGR","APS00007490-Willis Sand & Gravel-Bogalusa, LA","APS00007490","Willis Sand & Gravel-Bogalusa, LA",{"$f":"MATCH(A146,MAT!$A$1:$A$2000,0)","v":320},{"$f":"COUNTIF(MAT!$A$1:$A$2000,A146)","v":2}]
["AGGR-APS00007500","AGGR","APS00007500-Winn Materials, Inc.-Clarksville, TN","APS00007500","Winn Materials, Inc.-Clarksville, TN",{"$f":"MATCH(A147,MAT!$A$1:$A$2000,0)","v":322},{"$f":"COUNTIF(MAT!$A$1:$A$2000,A147)","v":2}]
["AGGR-APS00007510","AGGR","APS00007510-Wooten Sand & Gravel-Fouke,AR","APS00007510","Wooten Sand & Gravel-Fouke,AR",{"$f":"MATCH(A148,MAT!$A$1:$A$2000,0)","v":324},{"$f":"COUNTIF(MAT!$A$1:$A$2000,A148)","v":2}]
["AGGR-APS00007520","AGGR","APS00007520-Delta Materials - Marble Falls, TX","APS00007520","Delta Materials - Marble Falls, TX",{"$f":"MATCH(A149,MAT!$A$1:$A$2000,0)","v":326},{"$f":"COUNTIF(MAT!$A$1:$A$2000,A149)","v":3}]
["AGGR-APS00011330","AGGR","APS00011330-Blount Brothers Construction, Inc. -Shreveport, LA","APS00011330","Blount Brothers Construction, Inc. -Shreveport, LA",{"$f":"MATCH(A150,MAT!$A$1:$A$2000,0)","v":329},{"$f":"COUNTIF(MAT!$A$1:$A$2000,A150)","v":1}]
["AGGR-APS00011340","AGGR","APS00011340-BMS, LLC - Amite, LA","APS00011340","BMS, LLC - Amite, LA",{"$f":"MATCH(A151,MAT!$A$1:$A$2000,0)","v":330},{"$f":"COUNTIF(MAT!$A$1:$A$2000,A151)","v":2}]
["AGGR-APS00011350","AGGR","APS00011350-Eastern Oklahoma Quarries, LLC - Spiro, OK","APS00011350","Eastern Oklahoma Quarries, LLC - Spiro, OK",{"$f":"MATCH(A152,MAT!$A$1:$A$2000,0)","v":332},{"$f":"COUNTIF(MAT!$A$1:$A$2000,A152)","v":1}]
["AGGR-APS00011360","AGGR","APS00011360-Shale Support Holdings, LLC - Nicholson, MS","APS00011360","Shale Support Holdings, LLC - Nicholson, MS",{"$f":"MATCH(A153,MAT!$A$1:$A$2000,0)","v":333},{"$f":"COUNTIF(MAT!$A$1:$A$2000,A153)","v":4}]
["AGGR-APS00011380","AGGR","APS00011380-South Gate Aggregates, LLC - Nicholson, MS","APS00011380","South Gate Aggregates, LLC - Nicholson, MS",{"$f":"MATCH(A154,MAT!$A$1:$A$2000,0)","v":337},{"$f":"COUNTIF(MAT!$A$1:$A$2000,A154)","v":2}]
["AGGR-APS00011410","AGGR","APS00011410-Hard Rock Sand & Gravel LLC - Franklinton, LA - #1","APS00011410","Hard Rock Sand & Gravel LLC - Franklinton, LA - #1",{"$f":"MATCH(A155,MAT!$A$1:$A$2000,0)","v":339},{"$f":"COUNTIF(MAT!$A$1:$A$2000,A155)","v":2}]
["AGGR-APS00011430","AGGR","APS00011430-APAC - Brickey's Stone-Bloomsdale, MO - Plattin","APS00011430","APAC - Brickey's Stone-Bloomsdale, MO - Plattin",{"$f":"MATCH(A156,MAT!$A$1:$A$2000,0)","v":341},{"$f":"COUNTIF(MAT!$A$1:$A$2000,A156)","v":3}]
["AGGR-APS00011450","AGGR","APS00011450-Huey P. Stockstill, LLC- Nicholson, MS","APS00011450","Huey P. Stockstill, LLC- Nicholson, MS",{"$f":"MATCH(A157,MAT!$A$1:$A$2000,0)","v":344},{"$f":"COUNTIF(MAT!$A$1:$A$2000,A157)","v":1}]
["AGGR-APS00011460","AGGR","APS00011460-Hunt Gravel - Franklinton, LA","APS00011460","Hunt Gravel - Franklinton, LA",{"$f":"MATCH(A158,MAT!$A$1:$A$2000,0)","v":345},{"$f":"COUNTIF(MAT!$A$1:$A$2000,A158)","v":2}]
["AGGR-APS00011470","AGGR","APS00011470-Eastern Oklahoma Quarries - Garland, AR","APS00011470","Eastern Oklahoma Quarries - Garland, AR",{"$f":"MATCH(A159,MAT!$A$1:$A$2000,0)","v":347},{"$f":"COUNTIF(MAT!$A$1:$A$2000,A159)","v":1}]
["AGGR-APS00011520","AGGR","APS00011520-Industrial Mining Plant 5 - Tickfaw, LA","APS00011520","Industrial Mining Plant 5 - Tickfaw, LA",{"$f":"MATCH(A160,MAT!$A$1:$A$2000,0)","v":348},{"$f":"COUNTIF(MAT!$A$1:$A$2000,A160)","v":2}]
["AGGR-APS00011620","AGGR","APS00011620-Central Stone Co - Farmington, MO","APS00011620","Central Stone Co - Farmington, MO",{"$f":"MATCH(A161,MAT!$A$1:$A$2000,0)","v":350},{"$f":"COUNTIF(MAT!$A$1:$A$2000,A161)","v":3}]
["AGGR-APS00011630","AGGR","APS00011630-Hanson Aggregate - Ennis, TX","APS00011630","Hanson Aggregate - Ennis, TX",{"$f":"MATCH(A162,MAT!$A$1:$A$2000,0)","v":353},{"$f":"COUNTIF(MAT!$A$1:$A$2000,A162)","v":1}]
["AGGR-APS00011640","AGGR","APS00011640-Fleniken Sand & Gravel Inc - Clinton, LA","APS00011640","Fleniken Sand & Gravel Inc - Clinton, LA",{"$f":"MATCH(A163,MAT!$A$1:$A$2000,0)","v":354},{"$f":"COUNTIF(MAT!$A$1:$A$2000,A163)","v":2}]
["AGGR-APS00011650","AGGR","APS00011650-Dolese Bros-St.HelenaSand&Gravel - Pine Grove, LA","APS00011650","Dolese Bros-St.HelenaSand&Gravel - Pine Grove, LA",{"$f":"MATCH(A164,MAT!$A$1:$A$2000,0)","v":356},{"$f":"COUNTIF(MAT!$A$1:$A$2000,A164)","v":2}]
["AGGR-APS00011660","AGGR","APS00011660-Perero Co. DBA-DND Landscape - Broussard, LA","APS00011660","Perero Co. DBA-DND Landscape - Broussard, LA",{"$f":"MATCH(A165,MAT!$A$1:$A$2000,0)","v":358},{"$f":"COUNTIF(MAT!$A$1:$A$2000,A165)","v":1}]
["AGGR-APS00011680","AGGR","APS00011680-Larry Grayson & Son Trucking, LLC -Forest Hill, LA","APS00011680","Larry Grayson & Son Trucking, LLC -Forest Hill, LA",{"$f":"MATCH(A166,MAT!$A$1:$A$2000,0)","v":359},{"$f":"COUNTIF(MAT!$A$1:$A$2000,A166)","v":2}]
["AGGR-APS00011690","AGGR","APS00011690-Hammett & Green Aggregates - Vicksburg, MS","APS00011690","Hammett & Green Aggregates - Vicksburg, MS",{"$f":"MATCH(A167,MAT!$A$1:$A$2000,0)","v":361},{"$f":"COUNTIF(MAT!$A$1:$A$2000,A167)","v":2}]
["AGGR-APS00011700","AGGR","APS00011700-Madden Roseland, LA Gravel Pit - Roseland, LA","APS00011700","Madden Roseland, LA Gravel Pit - Roseland, LA",{"$f":"MATCH(A168,MAT!$A$1:$A$2000,0)","v":363},{"$f":"COUNTIF(MAT!$A$1:$A$2000,A168)","v":4}]
["AGGR-APS00011710","AGGR","APS00011710-Diamond B Construction Co.,LLC - Boyce, LA","APS00011710","Diamond B Construction Co.,LLC - Boyce, LA",{"$f":"MATCH(A169,MAT!$A$1:$A$2000,0)","v":367},{"$f":"COUNTIF(MAT!$A$1:$A$2000,A169)","v":1}]
["AGGR-APS00011720","AGGR","APS00011720-Diamond B Construction Co., LLC  Woodworth, LA","APS00011720","Diamond B Construction Co., LLC  Woodworth, LA",{"$f":"MATCH(A170,MAT!$A$1:$A$2000,0)","v":368},{"$f":"COUNTIF(MAT!$A$1:$A$2000,A170)","v":1}]
["AGGR-APS00011760","AGGR","APS00011760-Lafayette Sand & Fill - Lafayette, LA","APS00011760","Lafayette Sand & Fill - Lafayette, LA",{"$f":"MATCH(A171,MAT!$A$1:$A$2000,0)","v":369},{"$f":"COUNTIF(MAT!$A$1:$A$2000,A171)","v":1}]
["AGGR-APS00011790","AGGR","APS00011790-Southern Aggregates - Amite, LA - #9","APS00011790","Southern Aggregates - Amite, LA - #9",{"$f":"MATCH(A172,MAT!$A$1:$A$2000,0)","v":370},{"$f":"COUNTIF(MAT!$A$1:$A$2000,A172)","v":2}]
["AGGR-APS00011800","AGGR","APS00011800-Bunch's Sand and Gravel #2 - Greensburg, LA","APS00011800","Bunch's Sand and Gravel #2 - Greensburg, LA",{"$f":"MATCH(A173,MAT!$A$1:$A$2000,0)","v":372},{"$f":"COUNTIF(MAT!$A$1:$A$2000,A173)","v":2}]
["AGGR-APS00011810","AGGR","APS00011810-Amberg Construction - Olla, LA","APS00011810","Amberg Construction - Olla, LA",{"$f":"MATCH(A174,MAT!$A$1:$A$2000,0)","v":374},{"$f":"COUNTIF(MAT!$A$1:$A$2000,A174)","v":2}]
["AGGR-APS00011870","AGGR","APS00011870-Lafarge Aggregates-Smithland, KY-Three Rivers-S1","APS00011870","Lafarge Aggregates-Smithland, KY-Three Rivers-S1",{"$f":"MATCH(A175,MAT!$A$1:$A$2000,0)","v":376},{"$f":"COUNTIF(MAT!$A$1:$A$2000,A175)","v":3}]
["AGGR-APS00011910","AGGR","APS00011910-Hat Creek Dirt Pit - Bossier City, LA","APS00011910","Hat Creek Dirt Pit - Bossier City, LA",{"$f":"MATCH(A176,MAT!$A$1:$A$2000,0)","v":379},{"$f":"COUNTIF(MAT!$A$1:$A$2000,A176)","v":1}]
["AGGR-APS00011920","AGGR","APS00011920-Regional Sand & Gravel - Clinton, LA","APS00011920","Regional Sand & Gravel - Clinton, LA",{"$f":"MATCH(A177,MAT!$A$1:$A$2000,0)","v":380},{"$f":"COUNTIF(MAT!$A$1:$A$2000,A177)","v":2}]
["AGGR-APS00011940","AGGR","APS00011940-Baldwin Redi-Mix Co. Inc.-Greensburg,H&LIsland Pit","APS00011940","Baldwin Redi-Mix Co. Inc.-Greensburg,H&LIsland Pit",{"$f":"MATCH(A178,MAT!$A$1:$A$2000,0)","v":382},{"$f":"COUNTIF(MAT!$A$1:$A$2000,A178)","v":2}]
["AGGR-APS00012000","AGGR","APS00012000-Red Hawk Materials - Maurice, LA","APS00012000","Red Hawk Materials - Maurice, LA",{"$f":"MATCH(A179,MAT!$A$1:$A$2000,0)","v":384},{"$f":"COUNTIF(MAT!$A$1:$A$2000,A179)","v":1}]
["AGGR-APS00012100","AGGR","APS00012100-Lake Area Materials, LLC - DeRidder","APS00012100","Lake Area Materials, LLC - DeRidder",{"$f":"MATCH(A180,MAT!$A$1:$A$2000,0)","v":385},{"$f":"COUNTIF(MAT!$A$1:$A$2000,A180)","v":3}]
["AGGR-APS00012130","AGGR","APS00012130-Tower Rock Stone Co-St.Genevieve, MO- Limestn Zn12","APS00012130","Tower Rock Stone Co-St.Genevieve, MO- Limestn Zn12",{"$f":"MATCH(A181,MAT!$A$1:$A$2000,0)","v":388},{"$f":"COUNTIF(MAT!$A$1:$A$2000,A181)","v":2}]
["AGGR-APS00012150","AGGR","APS00012150-Trinity Materials, Inc. - Waco, TX","APS00012150","Trinity Materials, Inc. - Waco, TX",{"$f":"MATCH(A182,MAT!$A$1:$A$2000,0)","v":390},{"$f":"COUNTIF(MAT!$A$1:$A$2000,A182)","v":2}]
["AGGR-APS00012160","AGGR","APS00012160-Dickerson & Bowen Co., Inc - Brookhaven, MS","APS00012160","Dickerson & Bowen Co., Inc - Brookhaven, MS",{"$f":"MATCH(A183,MAT!$A$1:$A$2000,0)","v":392},{"$f":"COUNTIF(MAT!$A$1:$A$2000,A183)","v":2}]
["AGGR-APS00012170","AGGR","APS00012170-Red Hawk Materials, LLC - Carencro, LA","APS00012170","Red Hawk Materials, LLC - Carencro, LA",{"$f":"MATCH(A184,MAT!$A$1:$A$2000,0)","v":394},{"$f":"COUNTIF(MAT!$A$1:$A$2000,A184)","v":1}]
["AGGR-APS00012190","AGGR","APS00012190-Elite Sand - Longville, LA","APS00012190","Elite Sand - Longville, LA",{"$f":"MATCH(A185,MAT!$A$1:$A$2000,0)","v":395},{"$f":"COUNTIF(MAT!$A$1:$A$2000,A185)","v":1}]
["AGGR-APS00012300","AGGR","APS00012300-Vulcan Materials Co-West Loachapoka, AL","APS00012300","Vulcan Materials Co-West Loachapoka, AL",{"$f":"MATCH(A186,MAT!$A$1:$A$2000,0)","v":396},{"$f":"COUNTIF(MAT!$A$1:$A$2000,A186)","v":2}]
["AGGR-APS00012310","AGGR","APS00012310-SiteWurx Sand - Sibley, LA","APS00012310","SiteWurx Sand - Sibley, LA",{"$f":"MATCH(A187,MAT!$A$1:$A$2000,0)","v":398},{"$f":"COUNTIF(MAT!$A$1:$A$2000,A187)","v":1}]
["AGGR-APS00012320","AGGR","APS00012320-Winn Materials of Kentucky-Grand Rivers,KY-Warsaw","APS00012320","Winn Materials of Kentucky-Grand Rivers,KY-Warsaw",{"$f":"MATCH(A188,MAT!$A$1:$A$2000,0)","v":399},{"$f":"COUNTIF(MAT!$A$1:$A$2000,A188)","v":2}]
["AGGR-APS00012340","AGGR","APS00012340-River Road Rock - Franklinton, LA","APS00012340","River Road Rock - Franklinton, LA",{"$f":"MATCH(A189,MAT!$A$1:$A$2000,0)","v":401},{"$f":"COUNTIF(MAT!$A$1:$A$2000,A189)","v":2}]
["AGGR-APS00012380","AGGR","APS00012380-LeHigh Hanson - Garwood, TX","APS00012380","LeHigh Hanson - Garwood, TX",{"$f":"MATCH(A190,MAT!$A$1:$A$2000,0)","v":403},{"$f":"COUNTIF(MAT!$A$1:$A$2000,A190)","v":1}]
["AGGR-APS00012390","AGGR","APS00012390-Gator Aggregates - Deridder, LA","APS00012390","Gator Aggregates - Deridder, LA",{"$f":"MATCH(A191,MAT!$A$1:$A$2000,0)","v":404},{"$f":"COUNTIF(MAT!$A$1:$A$2000,A191)","v":2}]
["AGGR-APS00012420","AGGR","APS00012420-Tate Construction, LLC - Franklinton, LA","APS00012420","Tate Construction, LLC - Franklinton, LA",{"$f":"MATCH(A192,MAT!$A$1:$A$2000,0)","v":406},{"$f":"COUNTIF(MAT!$A$1:$A$2000,A192)","v":2}]
["AGGR-APS00012510","AGGR","APS00012510-Industrial Aggregates, LLC - Covington, LA - #2","APS00012510","Industrial Aggregates, LLC - Covington, LA - #2",{"$f":"MATCH(A193,MAT!$A$1:$A$2000,0)","v":408},{"$f":"COUNTIF(MAT!$A$1:$A$2000,A193)","v":2}]
["AGGR-APS00012530","AGGR","APS00012530-Dennis Stewart Equipment Rental,Inc Baton Rouge,LA","APS00012530","Dennis Stewart Equipment Rental,Inc Baton Rouge,LA",{"$f":"MATCH(A194,MAT!$A$1:$A$2000,0)","v":410},{"$f":"COUNTIF(MAT!$A$1:$A$2000,A194)","v":1}]
[{"$f":"B195&\"-\"&D195","v":"AGGR-APS00012600"},"AGGR","APS00012600-Martin Marietta - MMR - Hondo, TX","APS00012600","Martin Marietta - MMR - Hondo, TX",{"$f":"MATCH(A195,MAT!$A$1:$A$2000,0)","v":411},{"$f":"COUNTIF(MAT!$A$1:$A$2000,A195)","v":2}]
["AGGR-APS00012620","AGGR","APS00012620-Industrial Aggregates - Franklinton, LA","APS00012620","Industrial Aggregates - Franklinton, LA",{"$f":"MATCH(A196,MAT!$A$1:$A$2000,0)","v":413},{"$f":"COUNTIF(MAT!$A$1:$A$2000,A196)","v":2}]
["AGGR-APS00012660","AGGR","APS00012660-Skyplex Trucking -Bentley, LA","APS00012660","Skyplex Trucking -Bentley, LA",{"$f":"MATCH(A197,MAT!$A$1:$A$2000,0)","v":415},{"$f":"COUNTIF(MAT!$A$1:$A$2000,A197)","v":1}]
["AGGR-APS00012680","AGGR","APS00012680-Warren Paving-Salem, KY-Lower Warsaw Formation","APS00012680","Warren Paving-Salem, KY-Lower Warsaw Formation",{"$f":"MATCH(A198,MAT!$A$1:$A$2000,0)","v":416},{"$f":"COUNTIF(MAT!$A$1:$A$2000,A198)","v":2}]
["AGGR-APS00012880","AGGR","APS00012880-Lafarge Aggregates-Smithland, KY-Three Rivers-S2","APS00012880","Lafarge Aggregates-Smithland, KY-Three Rivers-S2",{"$f":"MATCH(A199,MAT!$A$1:$A$2000,0)","v":418},{"$f":"COUNTIF(MAT!$A$1:$A$2000,A199)","v":2}]
["AGGR-APS00012890","AGGR","APS00012890-D & J Construction Company, LLC - West Monroe","APS00012890","D & J Construction Company, LLC - West Monroe",{"$f":"MATCH(A200,MAT!$A$1:$A$2000,0)","v":420},{"$f":"COUNTIF(MAT!$A$1:$A$2000,A200)","v":1}]
["AGGR-APS00012930","AGGR","APS00012930-Regional Sand & Gravel, LLC #2 - Clinton","APS00012930","Regional Sand & Gravel, LLC #2 - Clinton",{"$f":"MATCH(A201,MAT!$A$1:$A$2000,0)","v":421},{"$f":"COUNTIF(MAT!$A$1:$A$2000,A201)","v":2}]
["AGGR-APS00012960","AGGR","APS00012960-R4 ObrusS.A. D.C.V. - Boca Del Rio, Mexico","APS00012960","R4 ObrusS.A. D.C.V. - Boca Del Rio, Mexico",{"$f":"MATCH(A202,MAT!$A$1:$A$2000,0)","v":423},{"$f":"COUNTIF(MAT!$A$1:$A$2000,A202)","v":2}]
["AGGR-APS00012980","AGGR","APS00012980-Gulf Coast Sand & Gravel - Jackson, AL","APS00012980","Gulf Coast Sand & Gravel - Jackson, AL",{"$f":"MATCH(A203,MAT!$A$1:$A$2000,0)","v":425},{"$f":"COUNTIF(MAT!$A$1:$A$2000,A203)","v":6}]
["AGGR-APS00013080","AGGR","APS00013080-Northern Sand & Gravel, L.L.C. - Independence","APS00013080","Northern Sand & Gravel, L.L.C. - Independence",{"$f":"MATCH(A204,MAT!$A$1:$A$2000,0)","v":431},{"$f":"COUNTIF(MAT!$A$1:$A$2000,A204)","v":2}]
["AGGR-APS00013130","AGGR","APS00013130-South Louisiana Fill Materials - Vacherie Pt","APS00013130","South Louisiana Fill Materials - Vacherie Pt",{"$f":"MATCH(A205,MAT!$A$1:$A$2000,0)","v":433},{"$f":"COUNTIF(MAT!$A$1:$A$2000,A205)","v":1}]
["AGGR-APS00013250","AGGR","APS00013250-R & S Dozer Service, LLC - Franklinton","APS00013250","R & S Dozer Service, LLC - Franklinton",{"$f":"MATCH(A206,MAT!$A$1:$A$2000,0)","v":434},{"$f":"COUNTIF(MAT!$A$1:$A$2000,A206)","v":2}]
["AGGR-APS00013340","AGGR","APS00013340-Heritage Sand and Gravel - Columbia, MS","APS00013340","Heritage Sand and Gravel - Columbia, MS",{"$f":"MATCH(A207,MAT!$A$1:$A$2000,0)","v":436},{"$f":"COUNTIF(MAT!$A$1:$A$2000,A207)","v":2}]
["AGGR-APS00013370","AGGR","APS00013370-Canteras LA Ponderosa S.A. - OoliticStnFormtn -5.1","APS00013370","Canteras LA Ponderosa S.A. - OoliticStnFormtn -5.1",{"$f":"MATCH(A208,MAT!$A$1:$A$2000,0)","v":438},{"$f":"COUNTIF(MAT!$A$1:$A$2000,A208)","v":4}]
["AGGR-APS00013390","AGGR","APS00013390-L & C Gravel, LLC - Plant #6 - Fluker","APS00013390","L & C Gravel, LLC - Plant #6 - Fluker",{"$f":"MATCH(A209,MAT!$A$1:$A$2000,0)","v":442},{"$f":"COUNTIF(MAT!$A$1:$A$2000,A209)","v":2}]
["AGGR-APS00014030","AGGR","APS00014030-Sierra FRAC Sand - Plain Dealing","APS00014030","Sierra FRAC Sand - Plain Dealing",{"$f":"MATCH(A210,MAT!$A$1:$A$2000,0)","v":444},{"$f":"COUNTIF(MAT!$A$1:$A$2000,A210)","v":2}]
["AGGR-APS00014110","AGGR","APS00014110-Rogers Group - Lacey's Springs Quarry","APS00014110","Rogers Group - Lacey's Springs Quarry",{"$f":"MATCH(A211,MAT!$A$1:$A$2000,0)","v":446},{"$f":"COUNTIF(MAT!$A$1:$A$2000,A211)","v":2}]
["AGGR-APS00014150","AGGR","APS00014150-Lionel Boudreaux Trucking, LLC - St. Francisville","APS00014150","Lionel Boudreaux Trucking, LLC - St. Francisville",{"$f":"MATCH(A212,MAT!$A$1:$A$2000,0)","v":448},{"$f":"COUNTIF(MAT!$A$1:$A$2000,A212)","v":1}]
["AGGR-APS00014180","AGGR","APS00014180-Ivey Enterprises, LLC - Greenwell Springs, LA","APS00014180","Ivey Enterprises, LLC - Greenwell Springs, LA",{"$f":"MATCH(A213,MAT!$A$1:$A$2000,0)","v":449},{"$f":"COUNTIF(MAT!$A$1:$A$2000,A213)","v":2}]
["AGGR-APS00014300","AGGR","APS00014300-Southern Aggregates, LLC Plant 31 - Franklinton","APS00014300","Southern Aggregates, LLC Plant 31 - Franklinton",{"$f":"MATCH(A214,MAT!$A$1:$A$2000,0)","v":451},{"$f":"COUNTIF(MAT!$A$1:$A$2000,A214)","v":2}]
["AGGR-APS00014340","AGGR","APS00014340-Lafarge Aggregates-Smithland, KY-Upper Fredonia","APS00014340","Lafarge Aggregates-Smithland, KY-Upper Fredonia",{"$f":"MATCH(A215,MAT!$A$1:$A$2000,0)","v":453},{"$f":"COUNTIF(MAT!$A$1:$A$2000,A215)","v":2}]
["AGGR-APS00014350","AGGR","APS00014350-Barriere Construction Co., LLC - Independence, LA","APS00014350","Barriere Construction Co., LLC - Independence, LA",{"$f":"MATCH(A216,MAT!$A$1:$A$2000,0)","v":455},{"$f":"COUNTIF(MAT!$A$1:$A$2000,A216)","v":2}]
["AGGR-APS00014360","AGGR","APS00014360-Arcosa Aggregates - Anacoco Plant 1391-Merryville","APS00014360","Arcosa Aggregates - Anacoco Plant 1391-Merryville",{"$f":"MATCH(A217,MAT!$A$1:$A$2000,0)","v":457},{"$f":"COUNTIF(MAT!$A$1:$A$2000,A217)","v":4}]
["AGGR-APS00014370","AGGR","APS00014370-Arcosa Aggregates - Indian Village Plant 1284","APS00014370","Arcosa Aggregates - Indian Village Plant 1284",{"$f":"MATCH(A218,MAT!$A$1:$A$2000,0)","v":461},{"$f":"COUNTIF(MAT!$A$1:$A$2000,A218)","v":1}]
["AGGR-APS00014410","AGGR","APS00014410-Arcosa Aggregates - Pearl River Plant 1725","APS00014410","Arcosa Aggregates - Pearl River Plant 1725",{"$f":"MATCH(A219,MAT!$A$1:$A$2000,0)","v":462},{"$f":"COUNTIF(MAT!$A$1:$A$2000,A219)","v":2}]
["AGGR-APS00014440","AGGR","APS00014440-Cenla Materials - Forest Hill, LA","APS00014440","Cenla Materials - Forest Hill, LA",{"$f":"MATCH(A220,MAT!$A$1:$A$2000,0)","v":464},{"$f":"COUNTIF(MAT!$A$1:$A$2000,A220)","v":2}]
["AGGR-APS00014470","AGGR","APS00014470-Merryville Aggregate, LLC - Evans, LA","APS00014470","Merryville Aggregate, LLC - Evans, LA",{"$f":"MATCH(A221,MAT!$A$1:$A$2000,0)","v":466},{"$f":"COUNTIF(MAT!$A$1:$A$2000,A221)","v":2}]
["AGGR-APS00014530","AGGR","APS00014530-Martin Marietta - Mill Creek - Granite","APS00014530","Martin Marietta - Mill Creek - Granite",{"$f":"MATCH(A222,MAT!$A$1:$A$2000,0)","v":468},{"$f":"COUNTIF(MAT!$A$1:$A$2000,A222)","v":2}]
["AGGR-APS00014540","AGGR","APS00014540-Martin Marietta - Mill Creek - Limestone","APS00014540","Martin Marietta - Mill Creek - Limestone",{"$f":"MATCH(A223,MAT!$A$1:$A$2000,0)","v":470},{"$f":"COUNTIF(MAT!$A$1:$A$2000,A223)","v":2}]
["AGGR-APS00014560","AGGR","APS00014560-Shorline Aggregates Inc. -  South Brook Quarry","APS00014560","Shorline Aggregates Inc. -  South Brook Quarry",{"$f":"MATCH(A224,MAT!$A$1:$A$2000,0)","v":472},{"$f":"COUNTIF(MAT!$A$1:$A$2000,A224)","v":2}]
["AGGR-APS00014570","AGGR","APS00014570-Arkansas Granufill Supply - Hot Springs, AR","APS00014570","Arkansas Granufill Supply - Hot Springs, AR",{"$f":"MATCH(A225,MAT!$A$1:$A$2000,0)","v":474},{"$f":"COUNTIF(MAT!$A$1:$A$2000,A225)","v":1}]
["AGGR-APS00014700","AGGR","APS00014700-Hanson Aggregates - Servtex Quarry - New Braunfels","APS00014700","Hanson Aggregates - Servtex Quarry - New Braunfels",{"$f":"MATCH(A226,MAT!$A$1:$A$2000,0)","v":475},{"$f":"COUNTIF(MAT!$A$1:$A$2000,A226)","v":4}]
["AGGR-APS00014740","AGGR","APS00014740-Hanson Aggregates - Burnet Quarry - Burnet, TX","APS00014740","Hanson Aggregates - Burnet Quarry - Burnet, TX",{"$f":"MATCH(A227,MAT!$A$1:$A$2000,0)","v":479},{"$f":"COUNTIF(MAT!$A$1:$A$2000,A227)","v":2}]
["AGGR-APS00014750","AGGR","APS00014750-Rock Island Sand and Gravel - Harrell Pit-Hampton","APS00014750","Rock Island Sand and Gravel - Harrell Pit-Hampton",{"$f":"MATCH(A228,MAT!$A$1:$A$2000,0)","v":481},{"$f":"COUNTIF(MAT!$A$1:$A$2000,A228)","v":2}]
["AGGR-APS00014780","AGGR","APS00014780-Cash Sand & Gravel, Inc. - Kemp Plant -D.S., LA","APS00014780","Cash Sand & Gravel, Inc. - Kemp Plant -D.S., LA",{"$f":"MATCH(A229,MAT!$A$1:$A$2000,0)","v":483},{"$f":"COUNTIF(MAT!$A$1:$A$2000,A229)","v":2}]
["AGGR-APS00014850","AGGR","APS00014850-Superior Sand & Gravel - Plant 1 - Clinton, LA","APS00014850","Superior Sand & Gravel - Plant 1 - Clinton, LA",{"$f":"MATCH(A230,MAT!$A$1:$A$2000,0)","v":485},{"$f":"COUNTIF(MAT!$A$1:$A$2000,A230)","v":2}]
["AGGR-APS00014860","AGGR","APS00014860-Superior Sand & Gravel - Plant 2 - Clinton","APS00014860","Superior Sand & Gravel - Plant 2 - Clinton",{"$f":"MATCH(A231,MAT!$A$1:$A$2000,0)","v":487},{"$f":"COUNTIF(MAT!$A$1:$A$2000,A231)","v":2}]
["AGGR-APS00014890","AGGR","APS00014890-Longville Sand and Gravel - Longville, LA","APS00014890","Longville Sand and Gravel - Longville, LA",{"$f":"MATCH(A232,MAT!$A$1:$A$2000,0)","v":489},{"$f":"COUNTIF(MAT!$A$1:$A$2000,A232)","v":1}]
["AGGR-APS00014900","AGGR","APS00014900-Neely's Landing LLC.- Jackson, MO","APS00014900","Neely's Landing LLC.- Jackson, MO",{"$f":"MATCH(A233,MAT!$A$1:$A$2000,0)","v":490},{"$f":"COUNTIF(MAT!$A$1:$A$2000,A233)","v":2}]
["AGGR-APS00014950","AGGR","APS00014950-Star Silica LLC. - West Monroe, LA","APS00014950","Star Silica LLC. - West Monroe, LA",{"$f":"MATCH(A234,MAT!$A$1:$A$2000,0)","v":492},{"$f":"COUNTIF(MAT!$A$1:$A$2000,A234)","v":2}]
["AGGR-APS00014960","AGGR","APS00014960-Arcosa Aggregates - West Merryville, LA","APS00014960","Arcosa Aggregates - West Merryville, LA",{"$f":"MATCH(A235,MAT!$A$1:$A$2000,0)","v":494},{"$f":"COUNTIF(MAT!$A$1:$A$2000,A235)","v":2}]
["AGGR-APS00014970","AGGR","APS00014970-Gulf Coast Sand - Nicholson, MS","APS00014970","Gulf Coast Sand - Nicholson, MS",{"$f":"MATCH(A236,MAT!$A$1:$A$2000,0)","v":496},{"$f":"COUNTIF(MAT!$A$1:$A$2000,A236)","v":2}]
["AGGR-APS00014990","AGGR","APS00014990-Barriere Construction Co. LLC - Miley Pit","APS00014990","Barriere Construction Co. LLC - Miley Pit",{"$f":"MATCH(A237,MAT!$A$1:$A$2000,0)","v":498},{"$f":"COUNTIF(MAT!$A$1:$A$2000,A237)","v":2}]
["AGGR-APS00015000","AGGR","APS00015000-Barriere Construction Co. LLC - Map Pit","APS00015000","Barriere Construction Co. LLC - Map Pit",{"$f":"MATCH(A238,MAT!$A$1:$A$2000,0)","v":500},{"$f":"COUNTIF(MAT!$A$1:$A$2000,A238)","v":2}]
["AGGR-APS00015010","AGGR","APS00015010-Island Sand & Gravel - Crossett, AR","APS00015010","Island Sand & Gravel - Crossett, AR",{"$f":"MATCH(A239,MAT!$A$1:$A$2000,0)","v":502},{"$f":"COUNTIF(MAT!$A$1:$A$2000,A239)","v":2}]
["AGGR-APS00015020","AGGR","APS00015020-APAC Brickey Stone - Bloomdale - Kimmswick","APS00015020","APAC Brickey Stone - Bloomdale - Kimmswick",{"$f":"MATCH(A240,MAT!$A$1:$A$2000,0)","v":504},{"$f":"COUNTIF(MAT!$A$1:$A$2000,A240)","v":2}]
["AGGR-APS00015030","AGGR","APS00015030-Amberg Construction, LLC. - Jena","APS00015030","Amberg Construction, LLC. - Jena",{"$f":"MATCH(A241,MAT!$A$1:$A$2000,0)","v":506},{"$f":"COUNTIF(MAT!$A$1:$A$2000,A241)","v":2}]
["AGGR-APS00015080","AGGR","APS00015080-B & D Materials, LLC - Parks, LA","APS00015080","B & D Materials, LLC - Parks, LA",{"$f":"MATCH(A242,MAT!$A$1:$A$2000,0)","v":508},{"$f":"COUNTIF(MAT!$A$1:$A$2000,A242)","v":2}]
["AGGR-APS00015090","AGGR","APS00015090-D & J Construction Co., LLC - Aimwell, LA","APS00015090","D & J Construction Co., LLC - Aimwell, LA",{"$f":"MATCH(A243,MAT!$A$1:$A$2000,0)","v":510},{"$f":"COUNTIF(MAT!$A$1:$A$2000,A243)","v":1}]
["AGGR-APS00015110","AGGR","APS00015110-Lafarge Aggregates-Cave-In-Rock, IL-Dolomite Ledge","APS00015110","Lafarge Aggregates-Cave-In-Rock, IL-Dolomite Ledge",{"$f":"MATCH(A244,MAT!$A$1:$A$2000,0)","v":511},{"$f":"COUNTIF(MAT!$A$1:$A$2000,A244)","v":2}]
["AGGR-APS00015120","AGGR","APS00015120-Lafarge Aggrs-Cave-In-Rock, IL-Upper St. Gen Ledge","APS00015120","Lafarge Aggrs-Cave-In-Rock, IL-Upper St. Gen Ledge",{"$f":"MATCH(A245,MAT!$A$1:$A$2000,0)","v":513},{"$f":"COUNTIF(MAT!$A$1:$A$2000,A245)","v":2}]
["AGGR-APS00015130","AGGR","APS00015130-Lafarge Aggs - Cave-In-Rock, IL - Transition Ledge","APS00015130","Lafarge Aggs - Cave-In-Rock, IL - Transition Ledge",{"$f":"MATCH(A246,MAT!$A$1:$A$2000,0)","v":515},{"$f":"COUNTIF(MAT!$A$1:$A$2000,A246)","v":2}]
["AGGR-APS00015140","AGGR","APS00015140-Arcosa Aggregates - Plant LA 1343 - DeRidder","APS00015140","Arcosa Aggregates - Plant LA 1343 - DeRidder",{"$f":"MATCH(A247,MAT!$A$1:$A$2000,0)","v":517},{"$f":"COUNTIF(MAT!$A$1:$A$2000,A247)","v":2}]
["AGGR-APS00015150","AGGR","APS00015150-Arcosa Aggregates - Plant LA 1342 - Clinton Pit","APS00015150","Arcosa Aggregates - Plant LA 1342 - Clinton Pit",{"$f":"MATCH(A248,MAT!$A$1:$A$2000,0)","v":519},{"$f":"COUNTIF(MAT!$A$1:$A$2000,A248)","v":2}]
["AGGR-APS00015160","AGGR","APS00015160-Arcosa Aggregates - Plant LA 1349 - Pearl River","APS00015160","Arcosa Aggregates - Plant LA 1349 - Pearl River",{"$f":"MATCH(A249,MAT!$A$1:$A$2000,0)","v":521},{"$f":"COUNTIF(MAT!$A$1:$A$2000,A249)","v":2}]
["AGGR-APS00015170","AGGR","APS00015170-Arcosa Aggregates - Plant LA 1341 - Independence","APS00015170","Arcosa Aggregates - Plant LA 1341 - Independence",{"$f":"MATCH(A250,MAT!$A$1:$A$2000,0)","v":523},{"$f":"COUNTIF(MAT!$A$1:$A$2000,A250)","v":2}]
["AGGR-APS00015180","AGGR","APS00015180-Arcosa Aggregates - Plant 1347 - Hattiesburg, MS","APS00015180","Arcosa Aggregates - Plant 1347 - Hattiesburg, MS",{"$f":"MATCH(A251,MAT!$A$1:$A$2000,0)","v":525},{"$f":"COUNTIF(MAT!$A$1:$A$2000,A251)","v":2}]
["AGGR-APS00015190","AGGR","APS00015190-Arcosa Aggregates - Plant 1348 - Columbia, MS","APS00015190","Arcosa Aggregates - Plant 1348 - Columbia, MS",{"$f":"MATCH(A252,MAT!$A$1:$A$2000,0)","v":527},{"$f":"COUNTIF(MAT!$A$1:$A$2000,A252)","v":2}]
["AGGR-APS00015200","AGGR","APS00015200-Arcosa Aggregates - Plant LA 1345 - Franklinton","APS00015200","Arcosa Aggregates - Plant LA 1345 - Franklinton",{"$f":"MATCH(A253,MAT!$A$1:$A$2000,0)","v":529},{"$f":"COUNTIF(MAT!$A$1:$A$2000,A253)","v":2}]
["AGGR-APS00015210","AGGR","APS00015210-Arcosa Aggregates - Plant LA 1340 - Denham Springs","APS00015210","Arcosa Aggregates - Plant LA 1340 - Denham Springs",{"$f":"MATCH(A254,MAT!$A$1:$A$2000,0)","v":531},{"$f":"COUNTIF(MAT!$A$1:$A$2000,A254)","v":2}]
["AGGR-APS00015230","AGGR","APS00015230-Shoreline Agg., Inc. - Point Rousse Quarry","APS00015230","Shoreline Agg., Inc. - Point Rousse Quarry",{"$f":"MATCH(A255,MAT!$A$1:$A$2000,0)","v":533},{"$f":"COUNTIF(MAT!$A$1:$A$2000,A255)","v":2}]
["AGGR-APS00015250","AGGR","APS00015250-Beverly Industries, LLC. - Bridge City","APS00015250","Beverly Industries, LLC. - Bridge City",{"$f":"MATCH(A256,MAT!$A$1:$A$2000,0)","v":535},{"$f":"COUNTIF(MAT!$A$1:$A$2000,A256)","v":1}]
["AGGR-APS00015280","AGGR","APS00015280-Benton & Brown, LLC. #2 - Bossier City","APS00015280","Benton & Brown, LLC. #2 - Bossier City",{"$f":"MATCH(A257,MAT!$A$1:$A$2000,0)","v":536},{"$f":"COUNTIF(MAT!$A$1:$A$2000,A257)","v":1}]
["AGGR-APS00015310","AGGR","APS00015310-Hastie Mining and Trucking #2 - Cave-In-Rock, IL","APS00015310","Hastie Mining and Trucking #2 - Cave-In-Rock, IL",{"$f":"MATCH(A258,MAT!$A$1:$A$2000,0)","v":537},{"$f":"COUNTIF(MAT!$A$1:$A$2000,A258)","v":2}]
[{"$f":"B259&\"-\"&D259","v":"AGGR-APS00015320"},"AGGR","APS00015320-Hard Rock Sand & Gravel - Plant 30952 - Richton,MS","APS00015320","Hard Rock Sand & Gravel - Plant 30952 - Richton,MS",{"$f":"MATCH(A259,MAT!$A$1:$A$2000,0)","v":539},{"$f":"COUNTIF(MAT!$A$1:$A$2000,A259)","v":2}]
["AGGR-APS00015340","AGGR","APS00015340-P&K Stone LLC - Mill Creek","APS00015340","P&K Stone LLC - Mill Creek",{"$f":"MATCH(A260,MAT!$A$1:$A$2000,0)","v":541},{"$f":"COUNTIF(MAT!$A$1:$A$2000,A260)","v":2}]
["AGGR-PS00000560","AGGR","PS00000560-Barriere Construction Company, LLC - Boutte","PS00000560","Barriere Construction Company, LLC - Boutte",{"$f":"MATCH(A261,MAT!$A$1:$A$2000,0)","v":543},{"$f":"COUNTIF(MAT!$A$1:$A$2000,A261)","v":1}]
["AGGR-PS00000570","AGGR","PS00000570-Huey Stockstill Contractors, Inc. - Houma","PS00000570","Huey Stockstill Contractors, Inc. - Houma",{"$f":"MATCH(A262,MAT!$A$1:$A$2000,0)","v":544},{"$f":"COUNTIF(MAT!$A$1:$A$2000,A262)","v":1}]
["AGGR-PS00000590","AGGR","PS00000590-Prairie Contractors, Inc. - Opelousas","PS00000590","Prairie Contractors, Inc. - Opelousas",{"$f":"MATCH(A263,MAT!$A$1:$A$2000,0)","v":545},{"$f":"COUNTIF(MAT!$A$1:$A$2000,A263)","v":1}]
["AGGR-PS00000600","AGGR","PS00000600-Glen Lege Construction - Abbeville","PS00000600","Glen Lege Construction - Abbeville",{"$f":"MATCH(A264,MAT!$A$1:$A$2000,0)","v":546},{"$f":"COUNTIF(MAT!$A$1:$A$2000,A264)","v":1}]
["AGGR-PS00000610","AGGR","PS00000610-Prairie Contractors, Inc. - New Iberia","PS00000610","Prairie Contractors, Inc. - New Iberia",{"$f":"MATCH(A265,MAT!$A$1:$A$2000,0)","v":547},{"$f":"COUNTIF(MAT!$A$1:$A$2000,A265)","v":1}]
["AGGR-PS00000630","AGGR","PS00000630-Prairie Contractors, Inc. - Lafayette","PS00000630","Prairie Contractors, Inc. - Lafayette",{"$f":"MATCH(A266,MAT!$A$1:$A$2000,0)","v":548},{"$f":"COUNTIF(MAT!$A$1:$A$2000,A266)","v":1}]
["AGGR-PS00000640","AGGR","PS00000640-Benton & Brown - Bossier City","PS00000640","Benton & Brown - Bossier City",{"$f":"MATCH(A267,MAT!$A$1:$A$2000,0)","v":549},{"$f":"COUNTIF(MAT!$A$1:$A$2000,A267)","v":1}]
["AGGR-PS00000650","AGGR","PS00000650-Madden Contracting Company - Sibley","PS00000650","Madden Contracting Company - Sibley",{"$f":"MATCH(A268,MAT!$A$1:$A$2000,0)","v":550},{"$f":"COUNTIF(MAT!$A$1:$A$2000,A268)","v":1}]
["AGGR-PS00000660","AGGR","PS00000660-Madden Contracting Company - Shreveport","PS00000660","Madden Contracting Company - Shreveport",{"$f":"MATCH(A269,MAT!$A$1:$A$2000,0)","v":551},{"$f":"COUNTIF(MAT!$A$1:$A$2000,A269)","v":1}]
["AGGR-PS00000670","AGGR","PS00000670-Madden Contracting Company - Mansfield","PS00000670","Madden Contracting Company - Mansfield",{"$f":"MATCH(A270,MAT!$A$1:$A$2000,0)","v":552},{"$f":"COUNTIF(MAT!$A$1:$A$2000,A270)","v":1}]
["AGGR-PS00000680","AGGR","PS00000680-Amethyst Construction Company - Ruston","PS00000680","Amethyst Construction Company - Ruston",{"$f":"MATCH(A271,MAT!$A$1:$A$2000,0)","v":553},{"$f":"COUNTIF(MAT!$A$1:$A$2000,A271)","v":1}]
["AGGR-PS00000700","AGGR","PS00000700-D & J Construction Company, Inc. - Tallulah","PS00000700","D & J Construction Company, Inc. - Tallulah",{"$f":"MATCH(A272,MAT!$A$1:$A$2000,0)","v":554},{"$f":"COUNTIF(MAT!$A$1:$A$2000,A272)","v":1}]
["AGGR-PS00000710","AGGR","PS00000710-D & J Construction Company, Inc. - West Monroe","PS00000710","D & J Construction Company, Inc. - West Monroe",{"$f":"MATCH(A273,MAT!$A$1:$A$2000,0)","v":555},{"$f":"COUNTIF(MAT!$A$1:$A$2000,A273)","v":1}]
["AGGR-PS00000720","AGGR","PS00000720-Diamond B Construction Company, LLC - Monroe","PS00000720","Diamond B Construction Company, LLC - Monroe",{"$f":"MATCH(A274,MAT!$A$1:$A$2000,0)","v":556},{"$f":"COUNTIF(MAT!$A$1:$A$2000,A274)","v":1}]
["AGGR-PS00000750","AGGR","PS00000750-Prairie Contractors, Inc. - Westlake","PS00000750","Prairie Contractors, Inc. - Westlake",{"$f":"MATCH(A275,MAT!$A$1:$A$2000,0)","v":557},{"$f":"COUNTIF(MAT!$A$1:$A$2000,A275)","v":1}]
["AGGR-PS00000760","AGGR","PS00000760-R. E. Heidt #2 - Westlake","PS00000760","R. E. Heidt #2 - Westlake",{"$f":"MATCH(A276,MAT!$A$1:$A$2000,0)","v":558},{"$f":"COUNTIF(MAT!$A$1:$A$2000,A276)","v":1}]
["AGGR-PS00000780","AGGR","PS00000780-Diamond B Construction Company, LLC - Alexandria","PS00000780","Diamond B Construction Company, LLC - Alexandria",{"$f":"MATCH(A277,MAT!$A$1:$A$2000,0)","v":559},{"$f":"COUNTIF(MAT!$A$1:$A$2000,A277)","v":1}]
["AGGR-PS00000800","AGGR","PS00000800-Gilchrist Construction #6293 - Alexandria","PS00000800","Gilchrist Construction #6293 - Alexandria",{"$f":"MATCH(A278,MAT!$A$1:$A$2000,0)","v":560},{"$f":"COUNTIF(MAT!$A$1:$A$2000,A278)","v":1}]
["AGGR-PS00000810","AGGR","PS00000810-Madden Construction Company #AP16 - Campti","PS00000810","Madden Construction Company #AP16 - Campti",{"$f":"MATCH(A279,MAT!$A$1:$A$2000,0)","v":561},{"$f":"COUNTIF(MAT!$A$1:$A$2000,A279)","v":1}]
["AGGR-PS00000850","AGGR","PS00000850-Barber Brothers #1 - Darrow","PS00000850","Barber Brothers #1 - Darrow",{"$f":"MATCH(A280,MAT!$A$1:$A$2000,0)","v":562},{"$f":"COUNTIF(MAT!$A$1:$A$2000,A280)","v":1}]
["AGGR-PS00000860","AGGR","PS00000860-Barber Brothers #6 - Port Allen","PS00000860","Barber Brothers #6 - Port Allen",{"$f":"MATCH(A281,MAT!$A$1:$A$2000,0)","v":563},{"$f":"COUNTIF(MAT!$A$1:$A$2000,A281)","v":2}]
["AGGR-PS00000890","AGGR","PS00000890-R. J. Daigle & Son - Geismar","PS00000890","R. J. Daigle & Son - Geismar",{"$f":"MATCH(A282,MAT!$A$1:$A$2000,0)","v":565},{"$f":"COUNTIF(MAT!$A$1:$A$2000,A282)","v":1}]
["AGGR-PS00000940","AGGR","PS00000940-Huey Stockstill #1 - Picayune","PS00000940","Huey Stockstill #1 - Picayune",{"$f":"MATCH(A283,MAT!$A$1:$A$2000,0)","v":566},{"$f":"COUNTIF(MAT!$A$1:$A$2000,A283)","v":1}]
["AGGR-PS00000970","AGGR","PS00000970-Gilchrist Construction #1 - Walker","PS00000970","Gilchrist Construction #1 - Walker",{"$f":"MATCH(A284,MAT!$A$1:$A$2000,0)","v":567},{"$f":"COUNTIF(MAT!$A$1:$A$2000,A284)","v":1}]
["AGGR-PS00003940","AGGR","PS00003940-Barber Brothers Corporation - New Orleans East","PS00003940","Barber Brothers Corporation - New Orleans East",{"$f":"MATCH(A285,MAT!$A$1:$A$2000,0)","v":568},{"$f":"COUNTIF(MAT!$A$1:$A$2000,A285)","v":1}]
["AGGR-PS00003960","AGGR","PS00003960-R. J. Daigle - Baton Rouge, LA","PS00003960","R. J. Daigle - Baton Rouge, LA",{"$f":"MATCH(A286,MAT!$A$1:$A$2000,0)","v":569},{"$f":"COUNTIF(MAT!$A$1:$A$2000,A286)","v":1}]
["AGGR-PS00004140","AGGR","PS00004140-Prairie Contractors, Inc. - Leesville","PS00004140","Prairie Contractors, Inc. - Leesville",{"$f":"MATCH(A287,MAT!$A$1:$A$2000,0)","v":570},{"$f":"COUNTIF(MAT!$A$1:$A$2000,A287)","v":1}]
["AGGR-PS00004190","AGGR","PS00004190-Boh Brothers H230 - New Orleans East","PS00004190","Boh Brothers H230 - New Orleans East",{"$f":"MATCH(A288,MAT!$A$1:$A$2000,0)","v":571},{"$f":"COUNTIF(MAT!$A$1:$A$2000,A288)","v":1}]
["AGGR-PS00004260","AGGR","PS00004260-Wood Materials, LLC - Harahan, LA (SAND)","PS00004260","Wood Materials, LLC - Harahan, LA (SAND)",{"$f":"MATCH(A289,MAT!$A$1:$A$2000,0)","v":572},{"$f":"COUNTIF(MAT!$A$1:$A$2000,A289)","v":1}]
["AGGR-PS00004380","AGGR","PS00004380-D&J Construction, Inc. - Harrisonburg","PS00004380","D&J Construction, Inc. - Harrisonburg",{"$f":"MATCH(A290,MAT!$A$1:$A$2000,0)","v":573},{"$f":"COUNTIF(MAT!$A$1:$A$2000,A290)","v":1}]
["AGGR-PS00004850","AGGR","PS00004850-Benton & Brown, LLC","PS00004850","Benton & Brown, LLC",{"$f":"MATCH(A291,MAT!$A$1:$A$2000,0)","v":574},{"$f":"COUNTIF(MAT!$A$1:$A$2000,A291)","v":1}]
["AGGR-PS00005710","AGGR","PS00005710-Elliott Construction - Breaux Bridge, LA","PS00005710","Elliott Construction - Breaux Bridge, LA",{"$f":"MATCH(A292,MAT!$A$1:$A$2000,0)","v":575},{"$f":"COUNTIF(MAT!$A$1:$A$2000,A292)","v":1}]
["AGGR-PS00005820","AGGR","PS00005820-KanAgg Recycling - Harvey, TX","PS00005820","KanAgg Recycling - Harvey, TX",{"$f":"MATCH(A293,MAT!$A$1:$A$2000,0)","v":576},{"$f":"COUNTIF(MAT!$A$1:$A$2000,A293)","v":1}]
["AGGR-PS00005840","AGGR","PS00005840-Barriere Construction (CRH Company) - Franklinton","PS00005840","Barriere Construction (CRH Company) - Franklinton",{"$f":"MATCH(A294,MAT!$A$1:$A$2000,0)","v":577},{"$f":"COUNTIF(MAT!$A$1:$A$2000,A294)","v":1}]
["AGGR-PS00005850","AGGR","PS00005850-Madden Contracting - Port Allen, LA","PS00005850","Madden Contracting - Port Allen, LA",{"$f":"MATCH(A295,MAT!$A$1:$A$2000,0)","v":578},{"$f":"COUNTIF(MAT!$A$1:$A$2000,A295)","v":1}]
["AGGR-PS00005860","AGGR","PS00005860-Barriere Construction a CRH Company - Baton Rouge","PS00005860","Barriere Construction a CRH Company - Baton Rouge",{"$f":"MATCH(A296,MAT!$A$1:$A$2000,0)","v":579},{"$f":"COUNTIF(MAT!$A$1:$A$2000,A296)","v":1}]
["AGGR-PS00005870","AGGR","PS00005870-Madden Contracting Company, LLC - Amite","PS00005870","Madden Contracting Company, LLC - Amite",{"$f":"MATCH(A297,MAT!$A$1:$A$2000,0)","v":580},{"$f":"COUNTIF(MAT!$A$1:$A$2000,A297)","v":1}]
["AGGR-PS00005880","AGGR","PS00005880-Madden Contracting Company LLC - Westwego","PS00005880","Madden Contracting Company LLC - Westwego",{"$f":"MATCH(A298,MAT!$A$1:$A$2000,0)","v":581},{"$f":"COUNTIF(MAT!$A$1:$A$2000,A298)","v":1}]
["AGGR-PS00005890","AGGR","PS00005890-Barriere Construction a CRH Company - Boutte","PS00005890","Barriere Construction a CRH Company - Boutte",{"$f":"MATCH(A299,MAT!$A$1:$A$2000,0)","v":582},{"$f":"COUNTIF(MAT!$A$1:$A$2000,A299)","v":1}]
["AGGR-PS00005970","AGGR","PS00005970-Heritage Materials, LLC - Beaumont, TX","PS00005970","Heritage Materials, LLC - Beaumont, TX",{"$f":"MATCH(A300,MAT!$A$1:$A$2000,0)","v":583},{"$f":"COUNTIF(MAT!$A$1:$A$2000,A300)","v":1}]
["AGGR-PS99999999","AGGR","PS99999999-ZYX Test Plant - Baton Rouge, LA","PS99999999","ZYX Test Plant - Baton Rouge, LA",{"$f":"MATCH(A301,MAT!$A$1:$A$2000,0)","v":584},{"$f":"COUNTIF(MAT!$A$1:$A$2000,A301)","v":1}]
["ASPH-PS00000520","ASPH","PS00000520-Contractor Supplied","PS00000520","Contractor Supplied",{"$f":"MATCH(A302,MAT!$A$1:$A$2000,0)","v":585},{"$f":"COUNTIF(MAT!$A$1:$A$2000,A302)","v":1}]
["ASPH-PS00000560","ASPH","PS00000560-Barriere Construction Company, LLC - Boutte","PS00000560","Barriere Construction Company, LLC - Boutte",{"$f":"MATCH(A303,MAT!$A$1:$A$2000,0)","v":586},{"$f":"COUNTIF(MAT!$A$1:$A$2000,A303)","v":2}]
["ASPH-PS00000570","ASPH","PS00000570-Huey Stockstill Contractors, Inc. - Houma","PS00000570","Huey Stockstill Contractors, Inc. - Houma",{"$f":"MATCH(A304,MAT!$A$1:$A$2000,0)","v":588},{"$f":"COUNTIF(MAT!$A$1:$A$2000,A304)","v":2}]
["ASPH-PS00000590","ASPH","PS00000590-Prairie Contractors, Inc. - Opelousas","PS00000590","Prairie Contractors, Inc. - Opelousas",{"$f":"MATCH(A305,MAT!$A$1:$A$2000,0)","v":590},{"$f":"COUNTIF(MAT!$A$1:$A$2000,A305)","v":2}]
["ASPH-PS00000600","ASPH","PS00000600-Glen Lege Construction - Abbeville","PS00000600","Glen Lege Construction - Abbeville",{"$f":"MATCH(A306,MAT!$A$1:$A$2000,0)","v":592},{"$f":"COUNTIF(MAT!$A$1:$A$2000,A306)","v":2}]
["ASPH-PS00000610","ASPH","PS00000610-Prairie Contractors, Inc. - New Iberia","PS00000610","Prairie Contractors, Inc. - New Iberia",{"$f":"MATCH(A307,MAT!$A$1:$A$2000,0)","v":594},{"$f":"COUNTIF(MAT!$A$1:$A$2000,A307)","v":2}]
["ASPH-PS00000630","ASPH","PS00000630-Prairie Contractors, Inc. - Lafayette","PS00000630","Prairie Contractors, Inc. - Lafayette",{"$f":"MATCH(A308,MAT!$A$1:$A$2000,0)","v":596},{"$f":"COUNTIF(MAT!$A$1:$A$2000,A308)","v":2}]
["ASPH-PS00000640","ASPH","PS00000640-Benton & Brown - Bossier City","PS00000640","Benton & Brown - Bossier City",{"$f":"MATCH(A309,MAT!$A$1:$A$2000,0)","v":598},{"$f":"COUNTIF(MAT!$A$1:$A$2000,A309)","v":1}]
["ASPH-PS00000650","ASPH","PS00000650-Madden Contracting Company - Sibley","PS00000650","Madden Contracting Company - Sibley",{"$f":"MATCH(A310,MAT!$A$1:$A$2000,0)","v":599},{"$f":"COUNTIF(MAT!$A$1:$A$2000,A310)","v":2}]
["ASPH-PS00000660","ASPH","PS00000660-Madden Contracting Company - Shreveport","PS00000660","Madden Contracting Company - Shreveport",{"$f":"MATCH(A311,MAT!$A$1:$A$2000,0)","v":601},{"$f":"COUNTIF(MAT!$A$1:$A$2000,A311)","v":2}]
["ASPH-PS00000670","ASPH","PS00000670-Madden Contracting Company - Mansfield","PS00000670","Madden Contracting Company - Mansfield",{"$f":"MATCH(A312,MAT!$A$1:$A$2000,0)","v":603},{"$f":"COUNTIF(MAT!$A$1:$A$2000,A312)","v":2}]
["ASPH-PS00000680","ASPH","PS00000680-Amethyst Construction Company - Ruston","PS00000680","Amethyst Construction Company - Ruston",{"$f":"MATCH(A313,MAT!$A$1:$A$2000,0)","v":605},{"$f":"COUNTIF(MAT!$A$1:$A$2000,A313)","v":2}]
["ASPH-PS00000700","ASPH","PS00000700-D & J Construction Company, Inc. - Tallulah","PS00000700","D & J Construction Company, Inc. - Tallulah",{"$f":"MATCH(A314,MAT!$A$1:$A$2000,0)","v":607},{"$f":"COUNTIF(MAT!$A$1:$A$2000,A314)","v":2}]
["ASPH-PS00000710","ASPH","PS00000710-D & J Construction Company, Inc. - West Monroe","PS00000710","D & J Construction Company, Inc. - West Monroe",{"$f":"MATCH(A315,MAT!$A$1:$A$2000,0)","v":609},{"$f":"COUNTIF(MAT!$A$1:$A$2000,A315)","v":2}]
["ASPH-PS00000720","ASPH","PS00000720-Diamond B Construction Company, LLC - Monroe","PS00000720","Diamond B Construction Company, LLC - Monroe",{"$f":"MATCH(A316,MAT!$A$1:$A$2000,0)","v":611},{"$f":"COUNTIF(MAT!$A$1:$A$2000,A316)","v":2}]
["ASPH-PS00000730","ASPH","PS00000730-Dreher Contracting Company, - Bastrop","PS00000730","Dreher Contracting Company, - Bastrop",{"$f":"MATCH(A317,MAT!$A$1:$A$2000,0)","v":613},{"$f":"COUNTIF(MAT!$A$1:$A$2000,A317)","v":2}]
["ASPH-PS00000750","ASPH","PS00000750-Prairie Contractors, Inc. - Westlake","PS00000750","Prairie Contractors, Inc. - Westlake",{"$f":"MATCH(A318,MAT!$A$1:$A$2000,0)","v":615},{"$f":"COUNTIF(MAT!$A$1:$A$2000,A318)","v":2}]
["ASPH-PS00000760","ASPH","PS00000760-R. E. Heidt #2 - Westlake","PS00000760","R. E. Heidt #2 - Westlake",{"$f":"MATCH(A319,MAT!$A$1:$A$2000,0)","v":617},{"$f":"COUNTIF(MAT!$A$1:$A$2000,A319)","v":2}]
["ASPH-PS00000780","ASPH","PS00000780-Diamond B Construction Company, LLC - Alexandria","PS00000780","Diamond B Construction Company, LLC - Alexandria",{"$f":"MATCH(A320,MAT!$A$1:$A$2000,0)","v":619},{"$f":"COUNTIF(MAT!$A$1:$A$2000,A320)","v":2}]
["ASPH-PS00000800","ASPH","PS00000800-Gilchrist Construction #6293 - Alexandria","PS00000800","Gilchrist Construction #6293 - Alexandria",{"$f":"MATCH(A321,MAT!$A$1:$A$2000,0)","v":621},{"$f":"COUNTIF(MAT!$A$1:$A$2000,A321)","v":2}]
["ASPH-PS00000810","ASPH","PS00000810-Madden Construction Company #AP16 - Campti","PS00000810","Madden Construction Company #AP16 - Campti",{"$f":"MATCH(A322,MAT!$A$1:$A$2000,0)","v":623},{"$f":"COUNTIF(MAT!$A$1:$A$2000,A322)","v":2}]
[{"$f":"B323&\"-\"&D323","v":"ASPH-PS00000850"},"ASPH","PS00000850-Barber Brothers #1 - Darrow","PS00000850","Barber Brothers #1 - Darrow",{"$f":"MATCH(A323,MAT!$A$1:$A$2000,0)","v":625},{"$f":"COUNTIF(MAT!$A$1:$A$2000,A323)","v":2}]
["ASPH-PS00000860","ASPH","PS00000860-Barber Brothers #6 - Port Allen","PS00000860","Barber Brothers #6 - Port Allen",{"$f":"MATCH(A324,MAT!$A$1:$A$2000,0)","v":627},{"$f":"COUNTIF(MAT!$A$1:$A$2000,A324)","v":2}]
["ASPH-PS00000890","ASPH","PS00000890-R. J. Daigle & Son - Geismar","PS00000890","R. J. Daigle & Son - Geismar",{"$f":"MATCH(A325,MAT!$A$1:$A$2000,0)","v":629},{"$f":"COUNTIF(MAT!$A$1:$A$2000,A325)","v":2}]
["ASPH-PS00000940","ASPH","PS00000940-Huey Stockstill #1 - Picayune","PS00000940","Huey Stockstill #1 - Picayune",{"$f":"MATCH(A326,MAT!$A$1:$A$2000,0)","v":631},{"$f":"COUNTIF(MAT!$A$1:$A$2000,A326)","v":3}]
["ASPH-PS00003940","ASPH","PS00003940-Barber Brothers Corporation - New Orleans East","PS00003940","Barber Brothers Corporation - New Orleans East",{"$f":"MATCH(A327,MAT!$A$1:$A$2000,0)","v":634},{"$f":"COUNTIF(MAT!$A$1:$A$2000,A327)","v":1}]
["ASPH-PS00003960","ASPH","PS00003960-R. J. Daigle - Baton Rouge, LA","PS00003960","R. J. Daigle - Baton Rouge, LA",{"$f":"MATCH(A328,MAT!$A$1:$A$2000,0)","v":635},{"$f":"COUNTIF(MAT!$A$1:$A$2000,A328)","v":2}]
["ASPH-PS00004140","ASPH","PS00004140-Prairie Contractors, Inc. - Leesville","PS00004140","Prairie Contractors, Inc. - Leesville",{"$f":"MATCH(A329,MAT!$A$1:$A$2000,0)","v":637},{"$f":"COUNTIF(MAT!$A$1:$A$2000,A329)","v":2}]
["ASPH-PS00004190","ASPH","PS00004190-Boh Brothers H230 - New Orleans East","PS00004190","Boh Brothers H230 - New Orleans East",{"$f":"MATCH(A330,MAT!$A$1:$A$2000,0)","v":639},{"$f":"COUNTIF(MAT!$A$1:$A$2000,A330)","v":2}]
["ASPH-PS00004380","ASPH","PS00004380-D&J Construction, Inc. - Harrisonburg","PS00004380","D&J Construction, Inc. - Harrisonburg",{"$f":"MATCH(A331,MAT!$A$1:$A$2000,0)","v":641},{"$f":"COUNTIF(MAT!$A$1:$A$2000,A331)","v":1}]
["ASPH-PS00005710","ASPH","PS00005710-Elliott Construction - Breaux Bridge, LA","PS00005710","Elliott Construction - Breaux Bridge, LA",{"$f":"MATCH(A332,MAT!$A$1:$A$2000,0)","v":642},{"$f":"COUNTIF(MAT!$A$1:$A$2000,A332)","v":1}]
["ASPH-PS00005840","ASPH","PS00005840-Barriere Construction (CRH Company) - Franklinton","PS00005840","Barriere Construction (CRH Company) - Franklinton",{"$f":"MATCH(A333,MAT!$A$1:$A$2000,0)","v":643},{"$f":"COUNTIF(MAT!$A$1:$A$2000,A333)","v":2}]
["ASPH-PS00005850","ASPH","PS00005850-Madden Contracting - Port Allen, LA","PS00005850","Madden Contracting - Port Allen, LA",{"$f":"MATCH(A334,MAT!$A$1:$A$2000,0)","v":645},{"$f":"COUNTIF(MAT!$A$1:$A$2000,A334)","v":2}]
["ASPH-PS00005860","ASPH","PS00005860-Barriere Construction a CRH Company - Baton Rouge","PS00005860","Barriere Construction a CRH Company - Baton Rouge",{"$f":"MATCH(A335,MAT!$A$1:$A$2000,0)","v":647},{"$f":"COUNTIF(MAT!$A$1:$A$2000,A335)","v":2}]
["ASPH-PS00005870","ASPH","PS00005870-Madden Contracting Company, LLC - Amite","PS00005870","Madden Contracting Company, LLC - Amite",{"$f":"MATCH(A336,MAT!$A$1:$A$2000,0)","v":649},{"$f":"COUNTIF(MAT!$A$1:$A$2000,A336)","v":2}]
["ASPH-PS00005880","ASPH","PS00005880-Madden Contracting Company LLC - Westwego","PS00005880","Madden Contracting Company LLC - Westwego",{"$f":"MATCH(A337,MAT!$A$1:$A$2000,0)","v":651},{"$f":"COUNTIF(MAT!$A$1:$A$2000,A337)","v":2}]
["ASPH-PS00005890","ASPH","PS00005890-Barriere Construction a CRH Company - Boutte","PS00005890","Barriere Construction a CRH Company - Boutte",{"$f":"MATCH(A338,MAT!$A$1:$A$2000,0)","v":653},{"$f":"COUNTIF(MAT!$A$1:$A$2000,A338)","v":2}]
["ASPH-PS00005970","ASPH","PS00005970-Heritage Materials, LLC - Beaumont, TX","PS00005970","Heritage Materials, LLC - Beaumont, TX",{"$f":"MATCH(A339,MAT!$A$1:$A$2000,0)","v":655},{"$f":"COUNTIF(MAT!$A$1:$A$2000,A339)","v":3}]
["ASPH-PS99999999","ASPH","PS99999999-ZYX Test Plant - Baton Rouge, LA","PS99999999","ZYX Test Plant - Baton Rouge, LA",{"$f":"MATCH(A340,MAT!$A$1:$A$2000,0)","v":658},{"$f":"COUNTIF(MAT!$A$1:$A$2000,A340)","v":2}]
["ASPH-PS9999LTRC","ASPH","PS9999LTRC-LTRC - Baton Rouge, LA","PS9999LTRC","LTRC - Baton Rouge, LA",{"$f":"MATCH(A341,MAT!$A$1:$A$2000,0)","v":660},{"$f":"COUNTIF(MAT!$A$1:$A$2000,A341)","v":2}]
["BIND-APS00000330","BIND","APS00000330-Asphalt Products Unlimited, Inc. - Port Allen, LA","APS00000330","Asphalt Products Unlimited, Inc. - Port Allen, LA",{"$f":"MATCH(A342,MAT!$A$1:$A$2000,0)","v":662},{"$f":"COUNTIF(MAT!$A$1:$A$2000,A342)","v":1}]
["BIND-APS00000340","BIND","APS00000340-Blacklidge Emulsions, Inc. - Gulfport, MS","APS00000340","Blacklidge Emulsions, Inc. - Gulfport, MS",{"$f":"MATCH(A343,MAT!$A$1:$A$2000,0)","v":663},{"$f":"COUNTIF(MAT!$A$1:$A$2000,A343)","v":5}]
["BIND-APS00000360","BIND","APS00000360-Ergon Refining, Inc. - Vicksburg, MS","APS00000360","Ergon Refining, Inc. - Vicksburg, MS",{"$f":"MATCH(A344,MAT!$A$1:$A$2000,0)","v":668},{"$f":"COUNTIF(MAT!$A$1:$A$2000,A344)","v":5}]
["BIND-APS00000385","BIND","APS00000385-Hunt-Southland Refining Company - Heidelberg, MS","APS00000385","Hunt-Southland Refining Company - Heidelberg, MS",{"$f":"MATCH(A345,MAT!$A$1:$A$2000,0)","v":673},{"$f":"COUNTIF(MAT!$A$1:$A$2000,A345)","v":5}]
["BIND-APS00000390","BIND","APS00000390-Delek US Asphalt-TrinityAsphFacility Henderson, TX","APS00000390","Delek US Asphalt-TrinityAsphFacility Henderson, TX",{"$f":"MATCH(A346,MAT!$A$1:$A$2000,0)","v":678},{"$f":"COUNTIF(MAT!$A$1:$A$2000,A346)","v":11}]
["BIND-APS00000400","BIND","APS00000400-Marathon Petroleum Company - Garyville, LA","APS00000400","Marathon Petroleum Company - Garyville, LA",{"$f":"MATCH(A347,MAT!$A$1:$A$2000,0)","v":689},{"$f":"COUNTIF(MAT!$A$1:$A$2000,A347)","v":6}]
["BIND-APS00000510","BIND","APS00000510-Valero Marketing and Supply - St. James, LA","APS00000510","Valero Marketing and Supply - St. James, LA",{"$f":"MATCH(A348,MAT!$A$1:$A$2000,0)","v":695},{"$f":"COUNTIF(MAT!$A$1:$A$2000,A348)","v":5}]
["BIND-APS00002480","BIND","APS00002480-Calumet Laboratories/Lubricants - Shreveport, LA","APS00002480","Calumet Laboratories/Lubricants - Shreveport, LA",{"$f":"MATCH(A349,MAT!$A$1:$A$2000,0)","v":700},{"$f":"COUNTIF(MAT!$A$1:$A$2000,A349)","v":2}]
["BIND-APS00010280","BIND","APS00010280-Ergon Asphalt & Emulsions - Memphis, TN","APS00010280","Ergon Asphalt & Emulsions - Memphis, TN",{"$f":"MATCH(A350,MAT!$A$1:$A$2000,0)","v":702},{"$f":"COUNTIF(MAT!$A$1:$A$2000,A350)","v":3}]
["BIND-APS00010660","BIND","APS00010660-Martin Asphalt Company - South Houston, TX","APS00010660","Martin Asphalt Company - South Houston, TX",{"$f":"MATCH(A351,MAT!$A$1:$A$2000,0)","v":705},{"$f":"COUNTIF(MAT!$A$1:$A$2000,A351)","v":6}]
["BIND-APS00010870","BIND","APS00010870-Martin Asphalt Company Stanolind - Beaumont, TX","APS00010870","Martin Asphalt Company Stanolind - Beaumont, TX",{"$f":"MATCH(A352,MAT!$A$1:$A$2000,0)","v":711},{"$f":"COUNTIF(MAT!$A$1:$A$2000,A352)","v":2}]
["BIND-APS00010880","BIND","APS00010880-Martin Asphalt Company Neches - Beaumont, TX","APS00010880","Martin Asphalt Company Neches - Beaumont, TX",{"$f":"MATCH(A353,MAT!$A$1:$A$2000,0)","v":713},{"$f":"COUNTIF(MAT!$A$1:$A$2000,A353)","v":2}]
["BIND-APS00011110","BIND","APS00011110-Ergon Asphalt & Emulsion - Mulga, AL","APS00011110","Ergon Asphalt & Emulsion - Mulga, AL",{"$f":"MATCH(A354,MAT!$A$1:$A$2000,0)","v":715},{"$f":"COUNTIF(MAT!$A$1:$A$2000,A354)","v":1}]
["BIND-APS00011610","BIND","APS00011610-Valero Marketing and Supply Co., - Houston, TX","APS00011610","Valero Marketing and Supply Co., - Houston, TX",{"$f":"MATCH(A355,MAT!$A$1:$A$2000,0)","v":716},{"$f":"COUNTIF(MAT!$A$1:$A$2000,A355)","v":2}]
["BIND-APS00012550","BIND","APS00012550-PBF Energy - Parsippany, NJ","APS00012550","PBF Energy - Parsippany, NJ",{"$f":"MATCH(A356,MAT!$A$1:$A$2000,0)","v":718},{"$f":"COUNTIF(MAT!$A$1:$A$2000,A356)","v":1}]
["BIND-APS00013110","BIND","APS00013110-Asphalt & Wax Innovations, LLC - Gulfport, MS","APS00013110","Asphalt & Wax Innovations, LLC - Gulfport, MS",{"$f":"MATCH(A357,MAT!$A$1:$A$2000,0)","v":719},{"$f":"COUNTIF(MAT!$A$1:$A$2000,A357)","v":3}]
["BIND-APS00013120","BIND","APS00013120-Hunt Refining Company - Dallas, TX","APS00013120","Hunt Refining Company - Dallas, TX",{"$f":"MATCH(A358,MAT!$A$1:$A$2000,0)","v":722},{"$f":"COUNTIF(MAT!$A$1:$A$2000,A358)","v":1}]
["BIND-APS00013150","BIND","APS00013150-Hunt Refining Company - Tuscaloosa, AL","APS00013150","Hunt Refining Company - Tuscaloosa, AL",{"$f":"MATCH(A359,MAT!$A$1:$A$2000,0)","v":723},{"$f":"COUNTIF(MAT!$A$1:$A$2000,A359)","v":1}]
["BIND-APS00014390","BIND","APS00014390-Hunt Refining Co. - Zenith Terminal - Mobile, AL","APS00014390","Hunt Refining Co. - Zenith Terminal - Mobile, AL",{"$f":"MATCH(A360,MAT!$A$1:$A$2000,0)","v":724},{"$f":"COUNTIF(MAT!$A$1:$A$2000,A360)","v":2}]
["BIND-APS00014430","BIND","APS00014430-Martin Asphalt Company - St. Rose, LA","APS00014430","Martin Asphalt Company - St. Rose, LA",{"$f":"MATCH(A361,MAT!$A$1:$A$2000,0)","v":726},{"$f":"COUNTIF(MAT!$A$1:$A$2000,A361)","v":1}]
["BIND-APS00015040","BIND","APS00015040-Blacklidge Emulsions, Inc. - Fairfield, TX","APS00015040","Blacklidge Emulsions, Inc. - Fairfield, TX",{"$f":"MATCH(A362,MAT!$A$1:$A$2000,0)","v":727},{"$f":"COUNTIF(MAT!$A$1:$A$2000,A362)","v":1}]
["BIND-PS00000560","BIND","PS00000560-Barriere Construction Company, LLC - Boutte","PS00000560","Barriere Construction Company, LLC - Boutte",{"$f":"MATCH(A363,MAT!$A$1:$A$2000,0)","v":728},{"$f":"COUNTIF(MAT!$A$1:$A$2000,A363)","v":2}]
["BIND-PS00000590","BIND","PS00000590-Prairie Contractors, Inc. - Opelousas","PS00000590","Prairie Contractors, Inc. - Opelousas",{"$f":"MATCH(A364,MAT!$A$1:$A$2000,0)","v":730},{"$f":"COUNTIF(MAT!$A$1:$A$2000,A364)","v":2}]
["BIND-PS00000600","BIND","PS00000600-Glen Lege Construction - Abbeville","PS00000600","Glen Lege Construction - Abbeville",{"$f":"MATCH(A365,MAT!$A$1:$A$2000,0)","v":732},{"$f":"COUNTIF(MAT!$A$1:$A$2000,A365)","v":2}]
["BIND-PS00000610","BIND","PS00000610-Prairie Contractors, Inc. - New Iberia","PS00000610","Prairie Contractors, Inc. - New Iberia",{"$f":"MATCH(A366,MAT!$A$1:$A$2000,0)","v":734},{"$f":"COUNTIF(MAT!$A$1:$A$2000,A366)","v":2}]
["BIND-PS00000630","BIND","PS00000630-Prairie Contractors, Inc. - Lafayette","PS00000630","Prairie Contractors, Inc. - Lafayette",{"$f":"MATCH(A367,MAT!$A$1:$A$2000,0)","v":736},{"$f":"COUNTIF(MAT!$A$1:$A$2000,A367)","v":2}]
["BIND-PS00000720","BIND","PS00000720-Diamond B Construction Company, LLC - Monroe","PS00000720","Diamond B Construction Company, LLC - Monroe",{"$f":"MATCH(A368,MAT!$A$1:$A$2000,0)","v":738},{"$f":"COUNTIF(MAT!$A$1:$A$2000,A368)","v":2}]
["BIND-PS00000750","BIND","PS00000750-Prairie Contractors, Inc. - Westlake","PS00000750","Prairie Contractors, Inc. - Westlake",{"$f":"MATCH(A369,MAT!$A$1:$A$2000,0)","v":740},{"$f":"COUNTIF(MAT!$A$1:$A$2000,A369)","v":2}]
["BIND-PS00000780","BIND","PS00000780-Diamond B Construction Company, LLC - Alexandria","PS00000780","Diamond B Construction Company, LLC - Alexandria",{"$f":"MATCH(A370,MAT!$A$1:$A$2000,0)","v":742},{"$f":"COUNTIF(MAT!$A$1:$A$2000,A370)","v":2}]
["BIND-PS00000800","BIND","PS00000800-Gilchrist Construction #6293 - Alexandria","PS00000800","Gilchrist Construction #6293 - Alexandria",{"$f":"MATCH(A371,MAT!$A$1:$A$2000,0)","v":744},{"$f":"COUNTIF(MAT!$A$1:$A$2000,A371)","v":2}]
["BIND-PS00000850","BIND","PS00000850-Barber Brothers #1 - Darrow","PS00000850","Barber Brothers #1 - Darrow",{"$f":"MATCH(A372,MAT!$A$1:$A$2000,0)","v":746},{"$f":"COUNTIF(MAT!$A$1:$A$2000,A372)","v":2}]
["BIND-PS00000860","BIND","PS00000860-Barber Brothers #6 - Port Allen","PS00000860","Barber Brothers #6 - Port Allen",{"$f":"MATCH(A373,MAT!$A$1:$A$2000,0)","v":748},{"$f":"COUNTIF(MAT!$A$1:$A$2000,A373)","v":2}]
["BIND-PS00003960","BIND","PS00003960-R. J. Daigle - Baton Rouge, LA","PS00003960","R. J. Daigle - Baton Rouge, LA",{"$f":"MATCH(A374,MAT!$A$1:$A$2000,0)","v":750},{"$f":"COUNTIF(MAT!$A$1:$A$2000,A374)","v":2}]
["BIND-PS00004140","BIND","PS00004140-Prairie Contractors, Inc. - Leesville","PS00004140","Prairie Contractors, Inc. - Leesville",{"$f":"MATCH(A375,MAT!$A$1:$A$2000,0)","v":752},{"$f":"COUNTIF(MAT!$A$1:$A$2000,A375)","v":2}]
["BIND-PS00005840","BIND","PS00005840-Barriere Construction (CRH Company) - Franklinton","PS00005840","Barriere Construction (CRH Company) - Franklinton",{"$f":"MATCH(A376,MAT!$A$1:$A$2000,0)","v":754},{"$f":"COUNTIF(MAT!$A$1:$A$2000,A376)","v":2}]
["BIND-PS00005850","BIND","PS00005850-Madden Contracting - Port Allen, LA","PS00005850","Madden Contracting - Port Allen, LA",{"$f":"MATCH(A377,MAT!$A$1:$A$2000,0)","v":756},{"$f":"COUNTIF(MAT!$A$1:$A$2000,A377)","v":3}]
["BIND-PS00005860","BIND","PS00005860-Barriere Construction a CRH Company - Baton Rouge","PS00005860","Barriere Construction a CRH Company - Baton Rouge",{"$f":"MATCH(A378,MAT!$A$1:$A$2000,0)","v":759},{"$f":"COUNTIF(MAT!$A$1:$A$2000,A378)","v":3}]
["BIND-PS00005870","BIND","PS00005870-Madden Contracting Company, LLC - Amite","PS00005870","Madden Contracting Company, LLC - Amite",{"$f":"MATCH(A379,MAT!$A$1:$A$2000,0)","v":762},{"$f":"COUNTIF(MAT!$A$1:$A$2000,A379)","v":3}]
["BIND-PS00005880","BIND","PS00005880-Madden Contracting Company LLC - Westwego","PS00005880","Madden Contracting Company LLC - Westwego",{"$f":"MATCH(A380,MAT!$A$1:$A$2000,0)","v":765},{"$f":"COUNTIF(MAT!$A$1:$A$2000,A380)","v":2}]
["BIND-PS00005890","BIND","PS00005890-Barriere Construction a CRH Company - Boutte","PS00005890","Barriere Construction a CRH Company - Boutte",{"$f":"MATCH(A381,MAT!$A$1:$A$2000,0)","v":767},{"$f":"COUNTIF(MAT!$A$1:$A$2000,A381)","v":2}]
["BIND-PS99999999","BIND","PS99999999-ZYX Test Plant - Baton Rouge, LA","PS99999999","ZYX Test Plant - Baton Rouge, LA",{"$f":"MATCH(A382,MAT!$A$1:$A$2000,0)","v":769},{"$f":"COUNTIF(MAT!$A$1:$A$2000,A382)","v":2}]

{"sheet":"MAT","index":23,"n_rows":770,"n_cols":11,"rows_kept":770,"cut":false,"hidden":false,"merged":[]}
["Type-PS","PS-MAT","PS-NM","MAT-NM","PRODR_SUPP_CD","PRODR_SUPP_NM","MATL_CD","MATL_CATG_T","MATL_FULL_NM","PROD_NM","EXP_DT"]
[{"$f":"H2&\"-\"&E2","v":"ADAP-APS00000340"},{"$f":"E2&\"-\"&G2","v":"APS00000340-1002M00220"},{"$f":"E2&\"-\"&F2","v":"APS00000340-Blacklidge Emulsions, Inc. - Gulfport, MS"},{"$f":"G2&\"-\"&I2&IF(J2<>\"\", \"-\"&J2, \"\")","v":"1002M00220-Anti-Strip Additive-B-AS2 - Blacklidge Emulsion"},"APS00000340","Blacklidge Emulsions, Inc. - Gulfport, MS","1002M00220","ADAP","Anti-Strip Additive","B-AS2 - Blacklidge Emulsion",20190327]
[{"$f":"H3&\"-\"&E3","v":"ADAP-APS00003920"},{"$f":"E3&\"-\"&G3","v":"APS00003920-1002M00220"},{"$f":"E3&\"-\"&F3","v":"APS00003920-Arr-Maz Products, Inc. - Mulberry, FL"},{"$f":"G3&\"-\"&I3&IF(J3<>\"\", \"-\"&J3, \"\")","v":"1002M00220-Anti-Strip Additive-Ad-Here 62-40 - Arr-MazProducts"},"APS00003920","Arr-Maz Products, Inc. - Mulberry, FL","1002M00220","ADAP","Anti-Strip Additive","Ad-Here 62-40 - Arr-MazProducts",20210824]
["ADAP-APS00003920","APS00003920-1002M00220","APS00003920-Arr-Maz Products, Inc. - Mulberry, FL","1002M00220-Anti-Strip Additive-Ad-Here 66-01 LS - Arr-MazProducts","APS00003920","Arr-Maz Products, Inc. - Mulberry, FL","1002M00220","ADAP","Anti-Strip Additive","Ad-Here 66-01 LS - Arr-MazProducts",20210824]
["ADAP-APS00003920","APS00003920-1002M00220","APS00003920-Arr-Maz Products, Inc. - Mulberry, FL","1002M00220-Anti-Strip Additive-Ad-Here 67-00 - Arr-MazProducts","APS00003920","Arr-Maz Products, Inc. - Mulberry, FL","1002M00220","ADAP","Anti-Strip Additive","Ad-Here 67-00 - Arr-MazProducts",20210824]
["ADAP-APS00003920","APS00003920-1002M00220","APS00003920-Arr-Maz Products, Inc. - Mulberry, FL","1002M00220-Anti-Strip Additive-Ad-Here HP Plus - Arr-MazProducts","APS00003920","Arr-Maz Products, Inc. - Mulberry, FL","1002M00220","ADAP","Anti-Strip Additive","Ad-Here HP Plus - Arr-MazProducts",20210824]
["ADAP-APS00003920","APS00003920-1002M00220","APS00003920-Arr-Maz Products, Inc. - Mulberry, FL","1002M00220-Anti-Strip Additive-Ad-Here LA - Arr-MazProducts","APS00003920","Arr-Maz Products, Inc. - Mulberry, FL","1002M00220","ADAP","Anti-Strip Additive","Ad-Here LA - Arr-MazProducts",20210824]
["ADAP-APS00003920","APS00003920-1002M00220","APS00003920-Arr-Maz Products, Inc. - Mulberry, FL","1002M00220-Anti-Strip Additive-Ad-Here LA 2 - Arr-MazProducts","APS00003920","Arr-Maz Products, Inc. - Mulberry, FL","1002M00220","ADAP","Anti-Strip Additive","Ad-Here LA 2 - Arr-MazProducts",20210824]
["ADAP-APS00003920","APS00003920-1002M00220","APS00003920-Arr-Maz Products, Inc. - Mulberry, FL","1002M00220-Anti-Strip Additive-Ad-Here LA 3 - Arr-MazProducts","APS00003920","Arr-Maz Products, Inc. - Mulberry, FL","1002M00220","ADAP","Anti-Strip Additive","Ad-Here LA 3 - Arr-MazProducts",20210824]
["ADAP-APS00003920","APS00003920-1002M00220","APS00003920-Arr-Maz Products, Inc. - Mulberry, FL","1002M00220-Anti-Strip Additive-Ad-Here LOF 65-00 LS - Arr-MazProducts","APS00003920","Arr-Maz Products, Inc. - Mulberry, FL","1002M00220","ADAP","Anti-Strip Additive","Ad-Here LOF 65-00 LS - Arr-MazProducts",20210824]
["ADAP-APS00003920","APS00003920-1002M00220","APS00003920-Arr-Maz Products, Inc. - Mulberry, FL","1002M00220-Anti-Strip Additive-Ad-Here LOF-65-00 - Arr-MazProducts","APS00003920","Arr-Maz Products, Inc. - Mulberry, FL","1002M00220","ADAP","Anti-Strip Additive","Ad-Here LOF-65-00 - Arr-MazProducts",20210824]
["ADAP-APS00003940","APS00003940-1002M00220","APS00003940-Kao Specialties Americas, LLC - High Point, NC","1002M00220-Anti-Strip Additive-Kao Gripper X2 - Kao Spec. Americas","APS00003940","Kao Specialties Americas, LLC - High Point, NC","1002M00220","ADAP","Anti-Strip Additive","Kao Gripper X2 - Kao Spec. Americas",20490101]
["ADAP-APS00003970","APS00003970-1002M00220","APS00003970-Pre Tech Industries - Rye, NH","1002M00220-Anti-Strip Additive-Pavegrip 200 - Pre Tech","APS00003970","Pre Tech Industries - Rye, NH","1002M00220","ADAP","Anti-Strip Additive","Pavegrip 200 - Pre Tech",20490101]
["ADAP-APS00003970","APS00003970-1002M00220","APS00003970-Pre Tech Industries - Rye, NH","1002M00220-Anti-Strip Additive-Pavegrip 450 - Pre Tech","APS00003970","Pre Tech Industries - Rye, NH","1002M00220","ADAP","Anti-Strip Additive","Pavegrip 450 - Pre Tech",20130703]
["ADAP-APS00003970","APS00003970-1002M00220","APS00003970-Pre Tech Industries - Rye, NH","1002M00220-Anti-Strip Additive-Pavegrip 519 - Pre Tech Ind., Inc","APS00003970","Pre Tech Industries - Rye, NH","1002M00220","ADAP","Anti-Strip Additive","Pavegrip 519 - Pre Tech Ind., Inc",20140611]
["ADAP-APS00003970","APS00003970-1002M00220","APS00003970-Pre Tech Industries - Rye, NH","1002M00220-Anti-Strip Additive-Pavegrip PA-30 - Pre Tech Ind., Inc.","APS00003970","Pre Tech Industries - Rye, NH","1002M00220","ADAP","Anti-Strip Additive","Pavegrip PA-30 - Pre Tech Ind., Inc.",20140611]
["ADAP-APS00011060","APS00011060-1002M00220","APS00011060-Ingevity Corporation - North Charleston, SC","1002M00220-Anti-Strip Additive-Evotherm  J1 - MWV SpecialtyChem","APS00011060","Ingevity Corporation - North Charleston, SC","1002M00220","ADAP","Anti-Strip Additive","Evotherm  J1 - MWV SpecialtyChem",20490101]
["ADAP-APS00011060","APS00011060-1002M00220","APS00011060-Ingevity Corporation - North Charleston, SC","1002M00220-Anti-Strip Additive-Evotherm J12 - MWV Specialty Chem","APS00011060","Ingevity Corporation - North Charleston, SC","1002M00220","ADAP","Anti-Strip Additive","Evotherm J12 - MWV Specialty Chem",20490101]
["ADAP-APS00011060","APS00011060-1002M00220","APS00011060-Ingevity Corporation - North Charleston, SC","1002M00220-Anti-Strip Additive-Evotherm M1 - MWV SpecialtyChem","APS00011060","Ingevity Corporation - North Charleston, SC","1002M00220","ADAP","Anti-Strip Additive","Evotherm M1 - MWV SpecialtyChem",20490101]
["ADAP-APS00011060","APS00011060-1002M00220","APS00011060-Ingevity Corporation - North Charleston, SC","1002M00220-Anti-Strip Additive-Evotherm M14 - MWV Specialty Chem","APS00011060","Ingevity Corporation - North Charleston, SC","1002M00220","ADAP","Anti-Strip Additive","Evotherm M14 - MWV Specialty Chem",20490101]
["ADAP-APS00011060","APS00011060-1002M00220","APS00011060-Ingevity Corporation - North Charleston, SC","1002M00220-Anti-Strip Additive-Evotherm M1A - MWV SpecialtyChem","APS00011060","Ingevity Corporation - North Charleston, SC","1002M00220","ADAP","Anti-Strip Additive","Evotherm M1A - MWV SpecialtyChem",20490101]
["ADAP-APS00011060","APS00011060-1002M00220","APS00011060-Ingevity Corporation - North Charleston, SC","1002M00220-Anti-Strip Additive-Evotherm P15 - MWV Specialty Chem","APS00011060","Ingevity Corporation - North Charleston, SC","1002M00220","ADAP","Anti-Strip Additive","Evotherm P15 - MWV Specialty Chem",20490101]
["ADAP-APS00011060","APS00011060-1002M00220","APS00011060-Ingevity Corporation - North Charleston, SC","1002M00220-Anti-Strip Additive-Evotherm P25 - Ingevity Corporation","APS00011060","Ingevity Corporation - North Charleston, SC","1002M00220","ADAP","Anti-Strip Additive","Evotherm P25 - Ingevity Corporation",20490101]
["ADAP-APS00011060","APS00011060-1002M00220","APS00011060-Ingevity Corporation - North Charleston, SC","1002M00220-Anti-Strip Additive-Evotherm PC-1755 - MWV SpecialtyChem","APS00011060","Ingevity Corporation - North Charleston, SC","1002M00220","ADAP","Anti-Strip Additive","Evotherm PC-1755 - MWV SpecialtyChem",20121119]
["ADAP-APS00011060","APS00011060-1002M00220","APS00011060-Ingevity Corporation - North Charleston, SC","1002M00220-Anti-Strip Additive-Evotherm PC-1847 - MWV SpecialtyChem","APS00011060","Ingevity Corporation - North Charleston, SC","1002M00220","ADAP","Anti-Strip Additive","Evotherm PC-1847 - MWV SpecialtyChem",20490101]
["ADAP-APS00011060","APS00011060-1002M00220","APS00011060-Ingevity Corporation - North Charleston, SC","1002M00220-Anti-Strip Additive-Evotherm PC-1848 - MWV SpecialtyChem","APS00011060","Ingevity Corporation - North Charleston, SC","1002M00220","ADAP","Anti-Strip Additive","Evotherm PC-1848 - MWV SpecialtyChem",20490101]
["ADAP-APS00011060","APS00011060-1002M00220","APS00011060-Ingevity Corporation - North Charleston, SC","1002M00220-Anti-Strip Additive-Evotherm Q1 - MWV SpecialtyChem","APS00011060","Ingevity Corporation - North Charleston, SC","1002M00220","ADAP","Anti-Strip Additive","Evotherm Q1 - MWV SpecialtyChem",20160909]
["ADAP-APS00011060","APS00011060-1002M00220","APS00011060-Ingevity Corporation - North Charleston, SC","1002M00220-Anti-Strip Additive-Evotherm R1 - MWV Specialty Chem","APS00011060","Ingevity Corporation - North Charleston, SC","1002M00220","ADAP","Anti-Strip Additive","Evotherm R1 - MWV Specialty Chem",20160909]
["ADAP-APS00011060","APS00011060-1002M00220","APS00011060-Ingevity Corporation - North Charleston, SC","1002M00220-Anti-Strip Additive-Evotherm S1 - MWV Specialty Chem","APS00011060","Ingevity Corporation - North Charleston, SC","1002M00220","ADAP","Anti-Strip Additive","Evotherm S1 - MWV Specialty Chem",20160909]
["ADAP-APS00011060","APS00011060-1002M00220","APS00011060-Ingevity Corporation - North Charleston, SC","1002M00220-Anti-Strip Additive-Evotherm T1 - MWV Specialty Chem","APS00011060","Ingevity Corporation - North Charleston, SC","1002M00220","ADAP","Anti-Strip Additive","Evotherm T1 - MWV Specialty Chem",20490101]
["ADAP-APS00011060","APS00011060-1002M00220","APS00011060-Ingevity Corporation - North Charleston, SC","1002M00220-Anti-Strip Additive-Morlife 2200 - MWV SpecialtyChem","APS00011060","Ingevity Corporation - North Charleston, SC","1002M00220","ADAP","Anti-Strip Additive","Morlife 2200 - MWV SpecialtyChem",20490101]
["ADAP-APS00011060","APS00011060-1002M00220","APS00011060-Ingevity Corporation - North Charleston, SC","1002M00220-Anti-Strip Additive-Morlife 300 - MWV SpecialtyChem","APS00011060","Ingevity Corporation - North Charleston, SC","1002M00220","ADAP","Anti-Strip Additive","Morlife 300 - MWV SpecialtyChem",20490101]
["ADAP-APS00011060","APS00011060-1002M00220","APS00011060-Ingevity Corporation - North Charleston, SC","1002M00220-Anti-Strip Additive-Morlife 3300 - MWV SpecialtyChem","APS00011060","Ingevity Corporation - North Charleston, SC","1002M00220","ADAP","Anti-Strip Additive","Morlife 3300 - MWV SpecialtyChem",20490101]
["ADAP-APS00011060","APS00011060-1002M00220","APS00011060-Ingevity Corporation - North Charleston, SC","1002M00220-Anti-Strip Additive-Morlife 4400 - MWV SpecialtyChem","APS00011060","Ingevity Corporation - North Charleston, SC","1002M00220","ADAP","Anti-Strip Additive","Morlife 4400 - MWV SpecialtyChem",20130228]
["ADAP-APS00011060","APS00011060-1002M00220","APS00011060-Ingevity Corporation - North Charleston, SC","1002M00220-Anti-Strip Additive-Morlife 5000 - MWV SpecialtyChem","APS00011060","Ingevity Corporation - North Charleston, SC","1002M00220","ADAP","Anti-Strip Additive","Morlife 5000 - MWV SpecialtyChem",20490101]
["ADAP-APS00011060","APS00011060-1002M00220","APS00011060-Ingevity Corporation - North Charleston, SC","1002M00220-Anti-Strip Additive-Pave 192 - MWV SpecialtyChem","APS00011060","Ingevity Corporation - North Charleston, SC","1002M00220","ADAP","Anti-Strip Additive","Pave 192 - MWV SpecialtyChem",20490101]
["ADAP-APS00011060","APS00011060-1002M00220","APS00011060-Ingevity Corporation - North Charleston, SC","1002M00220-Anti-Strip Additive-Pave Bond Lite - MWV SpecialtyChem","APS00011060","Ingevity Corporation - North Charleston, SC","1002M00220","ADAP","Anti-Strip Additive","Pave Bond Lite - MWV SpecialtyChem",20490101]
["ADAP-APS00011060","APS00011060-1002M00270","APS00011060-Ingevity Corporation - North Charleston, SC","1002M00270-Warm Mix Asphalt Chemical Additive-Evotherm 3G- Ingevity Corp-Charleston","APS00011060","Ingevity Corporation - North Charleston, SC","1002M00270","ADAP","Warm Mix Asphalt Chemical Additive","Evotherm 3G- Ingevity Corp-Charleston",20490101]
["ADAP-APS00011510","APS00011510-1002M00220","APS00011510-Zydex, Inc. - Morrisville, NC","1002M00220-Anti-Strip Additive-ZycoTherm - Zydex, Inc.","APS00011510","Zydex, Inc. - Morrisville, NC","1002M00220","ADAP","Anti-Strip Additive","ZycoTherm - Zydex, Inc.",20180919]
["ADAP-APS00011510","APS00011510-1002M00220","APS00011510-Zydex, Inc. - Morrisville, NC","1002M00220-Anti-Strip Additive-ZycoTherm SP2 - Zydex, Inc.","APS00011510","Zydex, Inc. - Morrisville, NC","1002M00220","ADAP","Anti-Strip Additive","ZycoTherm SP2 - Zydex, Inc.",20490101]
["ADAP-APS00011510","APS00011510-1002M00220","APS00011510-Zydex, Inc. - Morrisville, NC","1002M00220-Anti-Strip Additive-ZycoTherm-EZ - Zydex,, Inc","APS00011510","Zydex, Inc. - Morrisville, NC","1002M00220","ADAP","Anti-Strip Additive","ZycoTherm-EZ - Zydex,, Inc",20490101]
["ADAP-APS00011510","APS00011510-1002M00220","APS00011510-Zydex, Inc. - Morrisville, NC","1002M00220-Anti-Strip Additive-ZycoTherm-SP - Zydex, Inc","APS00011510","Zydex, Inc. - Morrisville, NC","1002M00220","ADAP","Anti-Strip Additive","ZycoTherm-SP - Zydex, Inc",20490101]
["ADAP-APS00011510","APS00011510-1002M00220","APS00011510-Zydex, Inc. - Morrisville, NC","1002M00220-Anti-Strip Additive-Zycosoil - Zydex, Inc.","APS00011510","Zydex, Inc. - Morrisville, NC","1002M00220","ADAP","Anti-Strip Additive","Zycosoil - Zydex, Inc.",20490101]
["ADAP-APS00011670","APS00011670-1002M00220","APS00011670-Maxxchem, LLC - East Point, GA","1002M00220-Anti-Strip Additive-Kohere AS 1000 - Maxxchem, LLC","APS00011670","Maxxchem, LLC - East Point, GA","1002M00220","ADAP","Anti-Strip Additive","Kohere AS 1000 - Maxxchem, LLC",20490101]
["ADAP-APS00011670","APS00011670-1002M00220","APS00011670-Maxxchem, LLC - East Point, GA","1002M00220-Anti-Strip Additive-Kohere AS 700 - Maxxchem, LLC","APS00011670","Maxxchem, LLC - East Point, GA","1002M00220","ADAP","Anti-Strip Additive","Kohere AS 700 - Maxxchem, LLC",20490101]
["ADAP-APS00011670","APS00011670-1002M00220","APS00011670-Maxxchem, LLC - East Point, GA","1002M00220-Anti-Strip Additive-Kohere AT 1000 - Maxxchem, LLC","APS00011670","Maxxchem, LLC - East Point, GA","1002M00220","ADAP","Anti-Strip Additive","Kohere AT 1000 - Maxxchem, LLC",20490101]
["ADAP-APS00012210","APS00012210-1002M00270","APS00012210-PQ Corporation - Valley Forge, PA","1002M00270-Warm Mix Asphalt Chemical Additive-Advera WMA - PQ Corp-Valley Forge, PA","APS00012210","PQ Corporation - Valley Forge, PA","1002M00270","ADAP","Warm Mix Asphalt Chemical Additive","Advera WMA - PQ Corp-Valley Forge, PA",20490101]
["ADAP-APS00012220","APS00012220-1002M00270","APS00012220-ASPHA-MIN - Charlotte, NC","1002M00270-Warm Mix Asphalt Chemical Additive-Aspha-min - ASPHA MIN-Charlotte, NC","APS00012220","ASPHA-MIN - Charlotte, NC","1002M00270","ADAP","Warm Mix Asphalt Chemical Additive","Aspha-min - ASPHA MIN-Charlotte, NC",20490101]
["ADAP-APS00012240","APS00012240-1002M00270","APS00012240-Sasol Wax North America Corp - Hiram, GA","1002M00270-Warm Mix Asphalt Chemical Additive-Sasobit -Sasol Wax N. America Corp-Hiram","APS00012240","Sasol Wax North America Corp - Hiram, GA","1002M00270","ADAP","Warm Mix Asphalt Chemical Additive","Sasobit -Sasol Wax N. America Corp-Hiram",20490101]
["ADAP-APS00012410","APS00012410-1002M00220","APS00012410-Cargill - Chicago, IL","1002M00220-Anti-Strip Additive-Anova 1410 - Cargill","APS00012410","Cargill - Chicago, IL","1002M00220","ADAP","Anti-Strip Additive","Anova 1410 - Cargill",20490101]
["ADAP-APS00012690","APS00012690-1002M00220","APS00012690-Surfax S.A.de C.V. - Tlajomulco, Jalisco","1002M00220-Anti-Strip Additive-Surfax AS-500 - Surfax S.A. de C.V","APS00012690","Surfax S.A.de C.V. - Tlajomulco, Jalisco","1002M00220","ADAP","Anti-Strip Additive","Surfax AS-500 - Surfax S.A. de C.V",20490101]
["ADAP-APS00012750","APS00012750-1002M00220","APS00012750-Road Science, Division of ArrMaz - Mulberry, FL","1002M00220-Anti-Strip Additive-NovaGrip 1016 - Road Science ArrMaz","APS00012750","Road Science, Division of ArrMaz - Mulberry, FL","1002M00220","ADAP","Anti-Strip Additive","NovaGrip 1016 - Road Science ArrMaz",20210824]
["ADAP-APS00012750","APS00012750-1002M00220","APS00012750-Road Science, Division of ArrMaz - Mulberry, FL","1002M00220-Anti-Strip Additive-NovaGrip 1212 - Road Science ArrMaz","APS00012750","Road Science, Division of ArrMaz - Mulberry, FL","1002M00220","ADAP","Anti-Strip Additive","NovaGrip 1212 - Road Science ArrMaz",20490101]
["ADAP-APS00014510","APS00014510-1002M00220","APS00014510-Nouryon - Chicago, IL","1002M00220-Anti-Strip Additive-Kling Beta 2550 (HM) - Nouryon","APS00014510","Nouryon - Chicago, IL","1002M00220","ADAP","Anti-Strip Additive","Kling Beta 2550 (HM) - Nouryon",20490101]
["ADAP-APS00014510","APS00014510-1002M00220","APS00014510-Nouryon - Chicago, IL","1002M00220-Anti-Strip Additive-Kling Beta 2700 - Nouryon","APS00014510","Nouryon - Chicago, IL","1002M00220","ADAP","Anti-Strip Additive","Kling Beta 2700 - Nouryon",20490101]
["ADAP-APS00014510","APS00014510-1002M00220","APS00014510-Nouryon - Chicago, IL","1002M00220-Anti-Strip Additive-Kling Beta 2912 - Nouryon","APS00014510","Nouryon - Chicago, IL","1002M00220","ADAP","Anti-Strip Additive","Kling Beta 2912 - Nouryon",20490101]
["ADAP-APS00014510","APS00014510-1002M00220","APS00014510-Nouryon - Chicago, IL","1002M00220-Anti-Strip Additive-Perma-Tac 99 - Nouryon","APS00014510","Nouryon - Chicago, IL","1002M00220","ADAP","Anti-Strip Additive","Perma-Tac 99 - Nouryon",20490101]
["ADAP-APS00014510","APS00014510-1002M00220","APS00014510-Nouryon - Chicago, IL","1002M00220-Anti-Strip Additive-Perma-Tac 99-5 - Nouryon","APS00014510","Nouryon - Chicago, IL","1002M00220","ADAP","Anti-Strip Additive","Perma-Tac 99-5 - Nouryon",20490101]
["ADAP-APS00014510","APS00014510-1002M00220","APS00014510-Nouryon - Chicago, IL","1002M00220-Anti-Strip Additive-Redicote 82S-1 - Nouryon","APS00014510","Nouryon - Chicago, IL","1002M00220","ADAP","Anti-Strip Additive","Redicote 82S-1 - Nouryon",20490101]
["ADAP-APS00014510","APS00014510-1002M00220","APS00014510-Nouryon - Chicago, IL","1002M00220-Anti-Strip Additive-Redicote E-6 - Nouryon","APS00014510","Nouryon - Chicago, IL","1002M00220","ADAP","Anti-Strip Additive","Redicote E-6 - Nouryon",20490101]
["ADAP-APS00014510","APS00014510-1002M00220","APS00014510-Nouryon - Chicago, IL","1002M00220-Anti-Strip Additive-Rediset 1102C- Nouryon","APS00014510","Nouryon - Chicago, IL","1002M00220","ADAP","Anti-Strip Additive","Rediset 1102C- Nouryon",20210513]
["ADAP-APS00014510","APS00014510-1002M00220","APS00014510-Nouryon - Chicago, IL","1002M00220-Anti-Strip Additive-Rediset LQ-1200- Nouryon","APS00014510","Nouryon - Chicago, IL","1002M00220","ADAP","Anti-Strip Additive","Rediset LQ-1200- Nouryon",20210522]
["ADAP-APS00014510","APS00014510-1002M00220","APS00014510-Nouryon - Chicago, IL","1002M00220-Anti-Strip Additive-Rediset LQ1106 - Nouryon","APS00014510","Nouryon - Chicago, IL","1002M00220","ADAP","Anti-Strip Additive","Rediset LQ1106 - Nouryon",20490101]
["ADAP-APS00014510","APS00014510-1002M00220","APS00014510-Nouryon - Chicago, IL","1002M00220-Anti-Strip Additive-Wetfix 312 - Nouryon","APS00014510","Nouryon - Chicago, IL","1002M00220","ADAP","Anti-Strip Additive","Wetfix 312 - Nouryon",20490101]
["ADAP-APS00014510","APS00014510-1002M00270","APS00014510-Nouryon - Chicago, IL","1002M00270-Warm Mix Asphalt Chemical Additive-Rediset WMX - Nouryon","APS00014510","Nouryon - Chicago, IL","1002M00270","ADAP","Warm Mix Asphalt Chemical Additive","Rediset WMX - Nouryon",20490101]
["ADAP-APS00014940","APS00014940-1002M00220","APS00014940-Arkema-Road Science - Convent","1002M00220-Anti-Strip Additive-AD-Here Ultra P - Arkema-Road Science","APS00014940","Arkema-Road Science - Convent","1002M00220","ADAP","Anti-Strip Additive","AD-Here Ultra P - Arkema-Road Science",20490101]
[{"$f":"H67&\"-\"&E67","v":"ADAP-APS00014940"},{"$f":"E67&\"-\"&G67","v":"APS00014940-1002M00220"},{"$f":"E67&\"-\"&F67","v":"APS00014940-Arkema-Road Science - Convent"},{"$f":"G67&\"-\"&I67&IF(J67<>\"\", \"-\"&J67, \"\")","v":"1002M00220-Anti-Strip Additive-Ad-Her 62-40 - Arkema-Road Science "},"APS00014940","Arkema-Road Science - Convent","1002M00220","ADAP","Anti-Strip Additive","Ad-Her 62-40 - Arkema-Road Science ",20490101]
["ADAP-APS00014940","APS00014940-1002M00220","APS00014940-Arkema-Road Science - Convent","1002M00220-Anti-Strip Additive-Ad-Here HP Plus - Arkema-Road Science","APS00014940","Arkema-Road Science - Convent","1002M00220","ADAP","Anti-Strip Additive","Ad-Here HP Plus - Arkema-Road Science",20490101]
["ADAP-APS00014940","APS00014940-1002M00220","APS00014940-Arkema-Road Science - Convent","1002M00220-Anti-Strip Additive-Ad-Here LA - Arkema-Road Science","APS00014940","Arkema-Road Science - Convent","1002M00220","ADAP","Anti-Strip Additive","Ad-Here LA - Arkema-Road Science",20490101]
["ADAP-APS00014940","APS00014940-1002M00220","APS00014940-Arkema-Road Science - Convent","1002M00220-Anti-Strip Additive-Ad-Here LA 2 - Arkema-Road Science","APS00014940","Arkema-Road Science - Convent","1002M00220","ADAP","Anti-Strip Additive","Ad-Here LA 2 - Arkema-Road Science",20490101]
["ADAP-APS00014940","APS00014940-1002M00220","APS00014940-Arkema-Road Science - Convent","1002M00220-Anti-Strip Additive-Ad-Here LOF 65-00LS -Arkema-Road Science","APS00014940","Arkema-Road Science - Convent","1002M00220","ADAP","Anti-Strip Additive","Ad-Here LOF 65-00LS -Arkema-Road Science",20490101]
["ADAP-APS00014940","APS00014940-1002M00220","APS00014940-Arkema-Road Science - Convent","1002M00220-Anti-Strip Additive-Ad-Here LOF-65-00 - Arkema-Road Science","APS00014940","Arkema-Road Science - Convent","1002M00220","ADAP","Anti-Strip Additive","Ad-Here LOF-65-00 - Arkema-Road Science",20490101]
["ADAP-PS00000520","PS00000520-1002M00230","PS00000520-Contractor Supplied","1002M00230-Cellulose Fibers","PS00000520","Contractor Supplied","1002M00230","ADAP","Cellulose Fibers"]
["ADAP-PS00000520","PS00000520-1002M00240","PS00000520-Contractor Supplied","1002M00240-Mineral Fibers","PS00000520","Contractor Supplied","1002M00240","ADAP","Mineral Fibers"]
["ADAP-PS00000520","PS00000520-1002M00290","PS00000520-Contractor Supplied","1002M00290-Waste Tire Crumb Rubber","PS00000520","Contractor Supplied","1002M00290","ADAP","Waste Tire Crumb Rubber"]
["ADAP-PS00000520","PS00000520-1002M00300","PS00000520-Contractor Supplied","1002M00300-Latex Additive","PS00000520","Contractor Supplied","1002M00300","ADAP","Latex Additive"]
["ADAP-PS00004680","PS00004680-1002M00230","PS00004680-Hi-Tech Asphalt Solutions, Inc. - Mechanicsville, ","1002M00230-Cellulose Fibers","PS00004680","Hi-Tech Asphalt Solutions, Inc. - Mechanicsville, ","1002M00230","ADAP","Cellulose Fibers"]
["ADAP-PS00004710","PS00004710-1002M00300","PS00004710-BASF Corp - Dispersants and Pigments - Charlotte","1002M00300-Latex Additive","PS00004710","BASF Corp - Dispersants and Pigments - Charlotte","1002M00300","ADAP","Latex Additive"]
["ADAP-PS00004720","PS00004720-1002M00290","PS00004720-Genan, Inc. - Houston, TX","1002M00290-Waste Tire Crumb Rubber","PS00004720","Genan, Inc. - Houston, TX","1002M00290","ADAP","Waste Tire Crumb Rubber"]
["ADAP-PS00005130","PS00005130-1002M00290","PS00005130-Lehigh Technologies - Tucker, GA","1002M00290-Waste Tire Crumb Rubber-MicroDyne 400-TR","PS00005130","Lehigh Technologies - Tucker, GA","1002M00290","ADAP","Waste Tire Crumb Rubber","MicroDyne 400-TR",20490101]
["ADAP-PS00005130","PS00005130-1002M00290","PS00005130-Lehigh Technologies - Tucker, GA","1002M00290-Waste Tire Crumb Rubber-MicroDyne 400-TRXP","PS00005130","Lehigh Technologies - Tucker, GA","1002M00290","ADAP","Waste Tire Crumb Rubber","MicroDyne 400-TRXP",20490101]
["ADAP-PS00005160","PS00005160-1002M00290","PS00005160-EVR International - Vidalia","1002M00290-Waste Tire Crumb Rubber-EVR 535 - EVR International","PS00005160","EVR International - Vidalia","1002M00290","ADAP","Waste Tire Crumb Rubber","EVR 535 - EVR International",20490101]
["ADAP-PS00013630","PS00013630-1002M00230","PS00013630-Iterchimica Srl","1002M00230-Cellulose Fibers-Iterfibra C Plus","PS00013630","Iterchimica Srl","1002M00230","ADAP","Cellulose Fibers","Iterfibra C Plus",20490101]
["AGGR-APS00001930","APS00001930-1018M00130","APS00001930-Mississippi Lime Company - St. Genevieve, MO","1018M00130-Lime, Hydrated-Hydrated Lime Mississippi Lime","APS00001930","Mississippi Lime Company - St. Genevieve, MO","1018M00130","AGGR","Lime, Hydrated","Hydrated Lime Mississippi Lime",20490101]
["AGGR-APS00001940","APS00001940-1003M01800","APS00001940-National Cement Company - Pell City, AL","1003M01800-Mineral Filler for AsphConc-MinFiller AspConc National Cement Co","APS00001940","National Cement Company - Pell City, AL","1003M01800","AGGR","Mineral Filler for AsphConc","MinFiller AspConc National Cement Co",20490101]
["AGGR-APS00002200","APS00002200-1003M00110","APS00002200-Bear Industries - Port Allen, LA","1003M00110-Agg, Fine  - HMAC-FnSandHMAC Bear Industries-Port Allen","APS00002200","Bear Industries - Port Allen, LA","1003M00110","AGGR","Agg, Fine  - HMAC","FnSandHMAC Bear Industries-Port Allen",20490101]
["AGGR-APS00004890","APS00004890-1018M00130","APS00004890-Lhoist North America  - New BraunfelsTX","1018M00130-Lime, Hydrated-Hydrated Lime - Lhoist N.A. New Braunfel","APS00004890","Lhoist North America  - New BraunfelsTX","1018M00130","AGGR","Lime, Hydrated","Hydrated Lime - Lhoist N.A. New Braunfel",20490101]
["AGGR-APS00004900","APS00004900-1018M00130","APS00004900-Arkansas Lime Company - Batesville, AR","1018M00130-Lime, Hydrated-Hydrated Lime - Arkansas Lime Co","APS00004900","Arkansas Lime Company - Batesville, AR","1018M00130","AGGR","Lime, Hydrated","Hydrated Lime - Arkansas Lime Co",20490101]
["AGGR-APS00004910","APS00004910-1018M00130","APS00004910-Austin White Lime Company - Austin, TX","1018M00130-Lime, Hydrated-Hydrated Lime - Austin White Lime Co.","APS00004910","Austin White Lime Company - Austin, TX","1018M00130","AGGR","Lime, Hydrated","Hydrated Lime - Austin White Lime Co.",20490101]
["AGGR-APS00004920","APS00004920-1018M00130","APS00004920-Carmeuse Lime and Stone - Baton Rouge, LA","1018M00130-Lime, Hydrated-Hydrated Lime - Carmeuse Baton Rouge","APS00004920","Carmeuse Lime and Stone - Baton Rouge, LA","1018M00130","AGGR","Lime, Hydrated","Hydrated Lime - Carmeuse Baton Rouge",20490101]
["AGGR-APS00004940","APS00004940-1018M00130","APS00004940-Lhoist North America - Clifton, TX","1018M00130-Lime, Hydrated-Hydrated Lime - Lhoist N.A. CliftonTX","APS00004940","Lhoist North America - Clifton, TX","1018M00130","AGGR","Lime, Hydrated","Hydrated Lime - Lhoist N.A. CliftonTX",20490101]
["AGGR-APS00004970","APS00004970-1018M00130","APS00004970-Falco Lime, Inc. - Vicksburg, MS","1018M00130-Lime, Hydrated-Hydrated Lime Falco/Chemical Lime","APS00004970","Falco Lime, Inc. - Vicksburg, MS","1018M00130","AGGR","Lime, Hydrated","Hydrated Lime Falco/Chemical Lime",20490101]
["AGGR-APS00004990","APS00004990-1003M01800","APS00004990-Texas Lime Company - Cleburne, TX","1003M01800-Mineral Filler for AsphConc-MinFiller AspConc Texas Lime Co","APS00004990","Texas Lime Company - Cleburne, TX","1003M01800","AGGR","Mineral Filler for AsphConc","MinFiller AspConc Texas Lime Co",20490101]
["AGGR-APS00004990","APS00004990-1018M00130","APS00004990-Texas Lime Company - Cleburne, TX","1018M00130-Lime, Hydrated-Hydrated Lime - Texas Lime","APS00004990","Texas Lime Company - Cleburne, TX","1018M00130","AGGR","Lime, Hydrated","Hydrated Lime - Texas Lime",20490101]
["AGGR-APS00005000","APS00005000-1018M00130","APS00005000-U.S. Lime Company - Shreveport","1018M00130-Lime, Hydrated-Hydrated Lime - US Lime Shreveport","APS00005000","U.S. Lime Company - Shreveport","1018M00130","AGGR","Lime, Hydrated","Hydrated Lime - US Lime Shreveport",20490101]
["AGGR-APS00005700","APS00005700-1003M00110","APS00005700-Accardo Materials, Inc-Franklinton,LA","1003M00110-Agg, Fine  - HMAC-FnSandHMAC AccardoMatlsFranklinLA","APS00005700","Accardo Materials, Inc-Franklinton,LA","1003M00110","AGGR","Agg, Fine  - HMAC","FnSandHMAC AccardoMatlsFranklinLA",20490101]
["AGGR-APS00005700","APS00005700-1003M00120","APS00005700-Accardo Materials, Inc-Franklinton,LA","1003M00120-Agg, Coarse - HMAC-Agg, Coarse - HMAC Accardo Matls","APS00005700","Accardo Materials, Inc-Franklinton,LA","1003M00120","AGGR","Agg, Coarse - HMAC","Agg, Coarse - HMAC Accardo Matls",20490101]
["AGGR-APS00005710","APS00005710-1003M00110","APS00005710-Agrecasa Del Caribe-San Pedro Sula, HON","1003M00110-Agg, Fine  - HMAC-FnSandHMAC Agrecasa Del Caribe","APS00005710","Agrecasa Del Caribe-San Pedro Sula, HON","1003M00110","AGGR","Agg, Fine  - HMAC","FnSandHMAC Agrecasa Del Caribe",20490101]
["AGGR-APS00005710","APS00005710-1003M00110","APS00005710-Agrecasa Del Caribe-San Pedro Sula, HON","1003M00110-Agg, Fine  - HMAC-FnSandHMAC AgrecasaDelCaribeHON","APS00005710","Agrecasa Del Caribe-San Pedro Sula, HON","1003M00110","AGGR","Agg, Fine  - HMAC","FnSandHMAC AgrecasaDelCaribeHON",20150528]
["AGGR-APS00005710","APS00005710-1003M00120","APS00005710-Agrecasa Del Caribe-San Pedro Sula, HON","1003M00120-Agg, Coarse - HMAC-Agg, Coarse - HMAC - AgrecasaDelCaribe","APS00005710","Agrecasa Del Caribe-San Pedro Sula, HON","1003M00120","AGGR","Agg, Coarse - HMAC","Agg, Coarse - HMAC - AgrecasaDelCaribe",20490101]
["AGGR-APS00005730","APS00005730-1003M00110","APS00005730-Alabama Sand and Gravel-Prattville, AL","1003M00110-Agg, Fine  - HMAC-FnSandHMAC AlabamaSandGrvlPrattvil","APS00005730","Alabama Sand and Gravel-Prattville, AL","1003M00110","AGGR","Agg, Fine  - HMAC","FnSandHMAC AlabamaSandGrvlPrattvil",20490101]
["AGGR-APS00005730","APS00005730-1003M00120","APS00005730-Alabama Sand and Gravel-Prattville, AL","1003M00120-Agg, Coarse - HMAC-Agg, Coarse - HMAC - Alabama S&G","APS00005730","Alabama Sand and Gravel-Prattville, AL","1003M00120","AGGR","Agg, Coarse - HMAC","Agg, Coarse - HMAC - Alabama S&G",20490101]
["AGGR-APS00005740","APS00005740-1003M00110","APS00005740-Alliance Sand and Gravel, LLC-Phil Campbell, AL","1003M00110-Agg, Fine  - HMAC-FnSandHMAC AllianceSndGrvlPhilCampbell","APS00005740","Alliance Sand and Gravel, LLC-Phil Campbell, AL","1003M00110","AGGR","Agg, Fine  - HMAC","FnSandHMAC AllianceSndGrvlPhilCampbell",20490101]
["AGGR-APS00005750","APS00005750-1003M00110","APS00005750-Allstate Deatsville, LLC-Deatsville, AL","1003M00110-Agg, Fine  - HMAC-FnSandHMAC AllstateDeatsvilleAL","APS00005750","Allstate Deatsville, LLC-Deatsville, AL","1003M00110","AGGR","Agg, Fine  - HMAC","FnSandHMAC AllstateDeatsvilleAL",20490101]
["AGGR-APS00005770","APS00005770-1003M00110","APS00005770-APAC - Brickey's Stone-Bloomsdale, MO - Burlington","1003M00110-Agg, Fine  - HMAC-FnSandHMAC APAC-Brickeys Stn Burlington","APS00005770","APAC - Brickey's Stone-Bloomsdale, MO - Burlington","1003M00110","AGGR","Agg, Fine  - HMAC","FnSandHMAC APAC-Brickeys Stn Burlington",20150528]
["AGGR-APS00005770","APS00005770-1003M00110","APS00005770-APAC - Brickey's Stone-Bloomsdale, MO - Burlington","1003M00110-Agg, Fine  - HMAC-FnSandHMAC APACBrickey'sStone Burlington","APS00005770","APAC - Brickey's Stone-Bloomsdale, MO - Burlington","1003M00110","AGGR","Agg, Fine  - HMAC","FnSandHMAC APACBrickey'sStone Burlington",20490101]
["AGGR-APS00005770","APS00005770-1003M00120","APS00005770-APAC - Brickey's Stone-Bloomsdale, MO - Burlington","1003M00120-Agg, Coarse - HMAC-Agg-CoarseHMAC - APAC Brickey's Stone","APS00005770","APAC - Brickey's Stone-Bloomsdale, MO - Burlington","1003M00120","AGGR","Agg, Coarse - HMAC","Agg-CoarseHMAC - APAC Brickey's Stone",20490101]
["AGGR-APS00005780","APS00005780-1003M00110","APS00005780-Arkansas Gravel Company, Inc.-Hampton, AR","1003M00110-Agg, Fine  - HMAC-FnSandHMAC ArkansasGravel-Hampton,AR","APS00005780","Arkansas Gravel Company, Inc.-Hampton, AR","1003M00110","AGGR","Agg, Fine  - HMAC","FnSandHMAC ArkansasGravel-Hampton,AR",20490101]
["AGGR-APS00005780","APS00005780-1003M00120","APS00005780-Arkansas Gravel Company, Inc.-Hampton, AR","1003M00120-Agg, Coarse - HMAC-Agg, Coarse - HMAC Arkansas Gravel Co","APS00005780","Arkansas Gravel Company, Inc.-Hampton, AR","1003M00120","AGGR","Agg, Coarse - HMAC","Agg, Coarse - HMAC Arkansas Gravel Co",20490101]
["AGGR-APS00005790","APS00005790-1003M00110","APS00005790-B & B Gravel & Trucking Co.-Bearden, AR","1003M00110-Agg, Fine  - HMAC-FnSandHMAC B&BTruckingBeardenAR","APS00005790","B & B Gravel & Trucking Co.-Bearden, AR","1003M00110","AGGR","Agg, Fine  - HMAC","FnSandHMAC B&BTruckingBeardenAR",20490101]
["AGGR-APS00005790","APS00005790-1003M00120","APS00005790-B & B Gravel & Trucking Co.-Bearden, AR","1003M00120-Agg, Coarse - HMAC-Agg, Coarse - HMAC B & B Grav&Trucking","APS00005790","B & B Gravel & Trucking Co.-Bearden, AR","1003M00120","AGGR","Agg, Coarse - HMAC","Agg, Coarse - HMAC B & B Grav&Trucking",20490101]
["AGGR-APS00005830","APS00005830-1003M00110","APS00005830-Baldwin Sand & Gravel-Crystal Springs,MS","1003M00110-Agg, Fine  - HMAC-FnSandHMAC BaldwinSandGrvlCrystalSpr","APS00005830","Baldwin Sand & Gravel-Crystal Springs,MS","1003M00110","AGGR","Agg, Fine  - HMAC","FnSandHMAC BaldwinSandGrvlCrystalSpr",20490101]
["AGGR-APS00005830","APS00005830-1003M00120","APS00005830-Baldwin Sand & Gravel-Crystal Springs,MS","1003M00120-Agg, Coarse - HMAC-Agg, Coarse - HMAC Baldwin S&G CrySprgs","APS00005830","Baldwin Sand & Gravel-Crystal Springs,MS","1003M00120","AGGR","Agg, Coarse - HMAC","Agg, Coarse - HMAC Baldwin S&G CrySprgs",20490101]
["AGGR-APS00005870","APS00005870-1003M00110","APS00005870-Bass Sand & Gravel-Bogalusa, LA","1003M00110-Agg, Fine  - HMAC-FnSandHMAC BassSandGravelBogalusa","APS00005870","Bass Sand & Gravel-Bogalusa, LA","1003M00110","AGGR","Agg, Fine  - HMAC","FnSandHMAC BassSandGravelBogalusa",20490101]
["AGGR-APS00005870","APS00005870-1003M00120","APS00005870-Bass Sand & Gravel-Bogalusa, LA","1003M00120-Agg, Coarse - HMAC-Agg, Coarse - HMAC - Bass S & G","APS00005870","Bass Sand & Gravel-Bogalusa, LA","1003M00120","AGGR","Agg, Coarse - HMAC","Agg, Coarse - HMAC - Bass S & G",20490101]
["AGGR-APS00005920","APS00005920-1003M00110","APS00005920-Blackwell Aggregates, Inc.-Nicholson, MS","1003M00110-Agg, Fine  - HMAC-FnSandHMAC BlackwellAggJacksonLanding","APS00005920","Blackwell Aggregates, Inc.-Nicholson, MS","1003M00110","AGGR","Agg, Fine  - HMAC","FnSandHMAC BlackwellAggJacksonLanding",20490101]
["AGGR-APS00005920","APS00005920-1003M00120","APS00005920-Blackwell Aggregates, Inc.-Nicholson, MS","1003M00120-Agg, Coarse - HMAC-Agg, Coarse HMAC Blackwell Agg Jackson","APS00005920","Blackwell Aggregates, Inc.-Nicholson, MS","1003M00120","AGGR","Agg, Coarse - HMAC","Agg, Coarse HMAC Blackwell Agg Jackson",20490101]
["AGGR-APS00005930","APS00005930-1003M00110","APS00005930-Blain Sand & Gravel, Inc.-Natchez, MS","1003M00110-Agg, Fine  - HMAC-FnSandHMAC BlainSandGravelCloverhill","APS00005930","Blain Sand & Gravel, Inc.-Natchez, MS","1003M00110","AGGR","Agg, Fine  - HMAC","FnSandHMAC BlainSandGravelCloverhill",20490101]
["AGGR-APS00005930","APS00005930-1003M00120","APS00005930-Blain Sand & Gravel, Inc.-Natchez, MS","1003M00120-Agg, Coarse - HMAC-Agg, Coarse - HMAC - BlainSand&Grav","APS00005930","Blain Sand & Gravel, Inc.-Natchez, MS","1003M00120","AGGR","Agg, Coarse - HMAC","Agg, Coarse - HMAC - BlainSand&Grav",20490101]
["AGGR-APS00005940","APS00005940-1003M00110","APS00005940-Blain Sand & Gravel, Inc.-Crystal Springs, MS","1003M00110-Agg, Fine  - HMAC-FnSandHMAC BlainSandGrvlCrystalSprings","APS00005940","Blain Sand & Gravel, Inc.-Crystal Springs, MS","1003M00110","AGGR","Agg, Fine  - HMAC","FnSandHMAC BlainSandGrvlCrystalSprings",20490101]
["AGGR-APS00005940","APS00005940-1003M00120","APS00005940-Blain Sand & Gravel, Inc.-Crystal Springs, MS","1003M00120-Agg, Coarse - HMAC-Agg, Coarse HMAC Blain Sand&Gravel","APS00005940","Blain Sand & Gravel, Inc.-Crystal Springs, MS","1003M00120","AGGR","Agg, Coarse - HMAC","Agg, Coarse HMAC Blain Sand&Gravel",20490101]
["AGGR-APS00005950","APS00005950-1003M00110","APS00005950-Bunch Sand and Gravel #1 - Clinton, LA","1003M00110-Agg, Fine  - HMAC-FnSandHMAC Bunch Gravel  #1 Clinton","APS00005950","Bunch Sand and Gravel #1 - Clinton, LA","1003M00110","AGGR","Agg, Fine  - HMAC","FnSandHMAC Bunch Gravel  #1 Clinton",20490101]
["AGGR-APS00005950","APS00005950-1003M00120","APS00005950-Bunch Sand and Gravel #1 - Clinton, LA","1003M00120-Agg, Coarse - HMAC-Agg, Coarse - HMAC - Bunch's Gravel","APS00005950","Bunch Sand and Gravel #1 - Clinton, LA","1003M00120","AGGR","Agg, Coarse - HMAC","Agg, Coarse - HMAC - Bunch's Gravel",20490101]
["AGGR-APS00005960","APS00005960-1003M00110","APS00005960-Winn Materials of Kentucky-Grand Rivers,KY-StLouis","1003M00110-Agg, Fine  - HMAC-FnSandHMAC CalxResourcesGrandRivers","APS00005960","Winn Materials of Kentucky-Grand Rivers,KY-StLouis","1003M00110","AGGR","Agg, Fine  - HMAC","FnSandHMAC CalxResourcesGrandRivers",20160804]
["AGGR-APS00005960","APS00005960-1003M00110","APS00005960-Winn Materials of Kentucky-Grand Rivers,KY-StLouis","1003M00110-Agg, Fine  - HMAC-FnSandHMAC Winn Matls of KY ChaudetCreek","APS00005960","Winn Materials of Kentucky-Grand Rivers,KY-StLouis","1003M00110","AGGR","Agg, Fine  - HMAC","FnSandHMAC Winn Matls of KY ChaudetCreek",20490101]
["AGGR-APS00005960","APS00005960-1003M00120","APS00005960-Winn Materials of Kentucky-Grand Rivers,KY-StLouis","1003M00120-Agg, Coarse - HMAC-Agg-CoarseHMAC - Winn Matls of KY","APS00005960","Winn Materials of Kentucky-Grand Rivers,KY-StLouis","1003M00120","AGGR","Agg, Coarse - HMAC","Agg-CoarseHMAC - Winn Matls of KY",20490101]
["AGGR-APS00005970","APS00005970-1003M00110","APS00005970-Oldcastle Materials - Burnet, TX","1003M00110-Agg, Fine  - HMAC-FnSandHMAC Capital Aggs Marble Falls","APS00005970","Oldcastle Materials - Burnet, TX","1003M00110","AGGR","Agg, Fine  - HMAC","FnSandHMAC Capital Aggs Marble Falls",20490101]
["AGGR-APS00005970","APS00005970-1003M00110","APS00005970-Oldcastle Materials - Burnet, TX","1003M00110-Agg, Fine  - HMAC-FnSandHMAC CapitalAggMarbleFalls","APS00005970","Oldcastle Materials - Burnet, TX","1003M00110","AGGR","Agg, Fine  - HMAC","FnSandHMAC CapitalAggMarbleFalls",20150601]
["AGGR-APS00005970","APS00005970-1003M00120","APS00005970-Oldcastle Materials - Burnet, TX","1003M00120-Agg, Coarse - HMAC-Agg-CoarseHMAC -Capital Aggs MarbleFalls","APS00005970","Oldcastle Materials - Burnet, TX","1003M00120","AGGR","Agg, Coarse - HMAC","Agg-CoarseHMAC -Capital Aggs MarbleFalls",20490101]
["AGGR-APS00005990","APS00005990-1003M00110","APS00005990-Cash Sand & Gravel, Inc.-Denham Springs, LA","1003M00110-Agg, Fine  - HMAC-FnSandHMAC CashSand&GravelEasterly","APS00005990","Cash Sand & Gravel, Inc.-Denham Springs, LA","1003M00110","AGGR","Agg, Fine  - HMAC","FnSandHMAC CashSand&GravelEasterly",20490101]
[{"$f":"H131&\"-\"&E131","v":"AGGR-APS00005990"},{"$f":"E131&\"-\"&G131","v":"APS00005990-1003M00120"},{"$f":"E131&\"-\"&F131","v":"APS00005990-Cash Sand & Gravel, Inc.-Denham Springs, LA"},{"$f":"G131&\"-\"&I131&IF(J131<>\"\", \"-\"&J131, \"\")","v":"1003M00120-Agg, Coarse - HMAC-Agg, Coarse - HMAC Cash S & G (Easterly)"},"APS00005990","Cash Sand & Gravel, Inc.-Denham Springs, LA","1003M00120","AGGR","Agg, Coarse - HMAC","Agg, Coarse - HMAC Cash S & G (Easterly)",20490101]
["AGGR-APS00006000","APS00006000-1003M00110","APS00006000-Century Ready Mix-Monroe, LA","1003M00110-Agg, Fine  - HMAC-FnSandHMAC Century Redy Mix MonroeLA","APS00006000","Century Ready Mix-Monroe, LA","1003M00110","AGGR","Agg, Fine  - HMAC","FnSandHMAC Century Redy Mix MonroeLA",20490101]
["AGGR-APS00006030","APS00006030-1003M00110","APS00006030-Cossatot Rock, LLC-Lockesburg, AR","1003M00110-Agg, Fine  - HMAC-FnSandHMAC CossatotRockLockesburgAR","APS00006030","Cossatot Rock, LLC-Lockesburg, AR","1003M00110","AGGR","Agg, Fine  - HMAC","FnSandHMAC CossatotRockLockesburgAR",20490101]
["AGGR-APS00006030","APS00006030-1003M00120","APS00006030-Cossatot Rock, LLC-Lockesburg, AR","1003M00120-Agg, Coarse - HMAC-Agg, Coarse HMAC - Cossatot Materials","APS00006030","Cossatot Rock, LLC-Lockesburg, AR","1003M00120","AGGR","Agg, Coarse - HMAC","Agg, Coarse HMAC - Cossatot Materials",20490101]
["AGGR-APS00006060","APS00006060-1003M00110","APS00006060-Crawford Aggregate Industr-Pine Grove,LA - Jenkins","1003M00110-Agg, Fine  - HMAC-FnSandHMAC CrawfordAggJenkinsPineGrove","APS00006060","Crawford Aggregate Industr-Pine Grove,LA - Jenkins","1003M00110","AGGR","Agg, Fine  - HMAC","FnSandHMAC CrawfordAggJenkinsPineGrove",20490101]
["AGGR-APS00006060","APS00006060-1003M00120","APS00006060-Crawford Aggregate Industr-Pine Grove,LA - Jenkins","1003M00120-Agg, Coarse - HMAC-Agg, Coarse - HMAC Crawford Agg(Jenkins)","APS00006060","Crawford Aggregate Industr-Pine Grove,LA - Jenkins","1003M00120","AGGR","Agg, Coarse - HMAC","Agg, Coarse - HMAC Crawford Agg(Jenkins)",20490101]
["AGGR-APS00006080","APS00006080-1003M00110","APS00006080-Crystal Hill Quarry-North Little Rock, AR","1003M00110-Agg, Fine  - HMAC-FnSandHMAC Crystal HillQuarry GraniteMtn","APS00006080","Crystal Hill Quarry-North Little Rock, AR","1003M00110","AGGR","Agg, Fine  - HMAC","FnSandHMAC Crystal HillQuarry GraniteMtn",20490101]
["AGGR-APS00006080","APS00006080-1003M00110","APS00006080-Crystal Hill Quarry-North Little Rock, AR","1003M00110-Agg, Fine  - HMAC-FnSandHMAC CrystalHillNorthLittleRock","APS00006080","Crystal Hill Quarry-North Little Rock, AR","1003M00110","AGGR","Agg, Fine  - HMAC","FnSandHMAC CrystalHillNorthLittleRock",20150601]
["AGGR-APS00006080","APS00006080-1003M00120","APS00006080-Crystal Hill Quarry-North Little Rock, AR","1003M00120-Agg, Coarse - HMAC-Agg-CoarseHMAC -Crystal Hill Quary","APS00006080","Crystal Hill Quarry-North Little Rock, AR","1003M00120","AGGR","Agg, Coarse - HMAC","Agg-CoarseHMAC -Crystal Hill Quary",20490101]
["AGGR-APS00006100","APS00006100-1003M00110","APS00006100-Daley Sand & Gravel-Roseland,LA","1003M00110-Agg, Fine  - HMAC-FnSandHMAC DaleySandGravelRoseland","APS00006100","Daley Sand & Gravel-Roseland,LA","1003M00110","AGGR","Agg, Fine  - HMAC","FnSandHMAC DaleySandGravelRoseland",20490101]
["AGGR-APS00006100","APS00006100-1003M00120","APS00006100-Daley Sand & Gravel-Roseland,LA","1003M00120-Agg, Coarse - HMAC-Agg, Coarse - HMAC - Daley S&G(Roseland)","APS00006100","Daley Sand & Gravel-Roseland,LA","1003M00120","AGGR","Agg, Coarse - HMAC","Agg, Coarse - HMAC - Daley S&G(Roseland)",20490101]
["AGGR-APS00006110","APS00006110-1003M00110","APS00006110-Dickerson & Bowen Riverside Gravel-Tylertown, MS","1003M00110-Agg, Fine  - HMAC-FnSandHMAC DickersonBowenRiverside","APS00006110","Dickerson & Bowen Riverside Gravel-Tylertown, MS","1003M00110","AGGR","Agg, Fine  - HMAC","FnSandHMAC DickersonBowenRiverside",20490101]
["AGGR-APS00006110","APS00006110-1003M00120","APS00006110-Dickerson & Bowen Riverside Gravel-Tylertown, MS","1003M00120-Agg, Coarse - HMAC-Agg, Coarse HMAC - Dickerson&Bowen ","APS00006110","Dickerson & Bowen Riverside Gravel-Tylertown, MS","1003M00120","AGGR","Agg, Coarse - HMAC","Agg, Coarse HMAC - Dickerson&Bowen ",20490101]
["AGGR-APS00006120","APS00006120-1003M00110","APS00006120-3M Industrial Minerals Prods Div. - Little Rock,AR","1003M00110-Agg, Fine  - HMAC-FnSandHMAC DonnaFillLittleRockAR","APS00006120","3M Industrial Minerals Prods Div. - Little Rock,AR","1003M00110","AGGR","Agg, Fine  - HMAC","FnSandHMAC DonnaFillLittleRockAR",20210207]
["AGGR-APS00006120","APS00006120-1003M00120","APS00006120-3M Industrial Minerals Prods Div. - Little Rock,AR","1003M00120-Agg, Coarse - HMAC-Agg, Coarse - HMAC - Donna Fill, Inc.","APS00006120","3M Industrial Minerals Prods Div. - Little Rock,AR","1003M00120","AGGR","Agg, Coarse - HMAC","Agg, Coarse - HMAC - Donna Fill, Inc.",20210207]
["AGGR-APS00006120","APS00006120-1003M00120","APS00006120-3M Industrial Minerals Prods Div. - Little Rock,AR","1003M00120-Agg, Coarse - HMAC-Agg, Coarse - HMAC -Donna Fill, Inc","APS00006120","3M Industrial Minerals Prods Div. - Little Rock,AR","1003M00120","AGGR","Agg, Coarse - HMAC","Agg, Coarse - HMAC -Donna Fill, Inc",20210207]
["AGGR-APS00006130","APS00006130-1003M00110","APS00006130-DSD Energy Services-Oakdale, LA","1003M00110-Agg, Fine  - HMAC-FnSandHMAC DSDEnergyServicesOakdale","APS00006130","DSD Energy Services-Oakdale, LA","1003M00110","AGGR","Agg, Fine  - HMAC","FnSandHMAC DSDEnergyServicesOakdale",20490101]
["AGGR-APS00006160","APS00006160-1003M00110","APS00006160-Dupont Sand, LLC-Carencro, LA","1003M00110-Agg, Fine  - HMAC-FnSandHMAC DupontSandCarencroLA","APS00006160","Dupont Sand, LLC-Carencro, LA","1003M00110","AGGR","Agg, Fine  - HMAC","FnSandHMAC DupontSandCarencroLA",20490101]
["AGGR-APS00006170","APS00006170-1003M00110","APS00006170-Brownstone Sand & Gravel - Franklinton, LA","1003M00110-Agg, Fine  - HMAC-FnSandHMAC Brownstone S&GFranklinton","APS00006170","Brownstone Sand & Gravel - Franklinton, LA","1003M00110","AGGR","Agg, Fine  - HMAC","FnSandHMAC Brownstone S&GFranklinton",20490101]
["AGGR-APS00006170","APS00006170-1003M00110","APS00006170-Brownstone Sand & Gravel - Franklinton, LA","1003M00110-Agg, Fine  - HMAC-FnSandHMAC ENONSandGravelFranklinton","APS00006170","Brownstone Sand & Gravel - Franklinton, LA","1003M00110","AGGR","Agg, Fine  - HMAC","FnSandHMAC ENONSandGravelFranklinton",20190313]
["AGGR-APS00006170","APS00006170-1003M00120","APS00006170-Brownstone Sand & Gravel - Franklinton, LA","1003M00120-Agg, Coarse - HMAC-Agg, Coarse - HMAC - BrownstoneS&G","APS00006170","Brownstone Sand & Gravel - Franklinton, LA","1003M00120","AGGR","Agg, Coarse - HMAC","Agg, Coarse - HMAC - BrownstoneS&G",20490101]
["AGGR-APS00006170","APS00006170-1003M00120","APS00006170-Brownstone Sand & Gravel - Franklinton, LA","1003M00120-Agg, Coarse - HMAC-Agg, Coarse - HMAC - Enon S & G","APS00006170","Brownstone Sand & Gravel - Franklinton, LA","1003M00120","AGGR","Agg, Coarse - HMAC","Agg, Coarse - HMAC - Enon S & G",20190313]
["AGGR-APS00006180","APS00006180-1003M00110","APS00006180-Feliciana Farms, Inc.-St. Francisville, LA","1003M00110-Agg, Fine  - HMAC-FnSandHMAC FelicianaFarmsBayouSara","APS00006180","Feliciana Farms, Inc.-St. Francisville, LA","1003M00110","AGGR","Agg, Fine  - HMAC","FnSandHMAC FelicianaFarmsBayouSara",20490101]
["AGGR-APS00006180","APS00006180-1003M00120","APS00006180-Feliciana Farms, Inc.-St. Francisville, LA","1003M00120-Agg, Coarse - HMAC-Agg, Coarse - HMAC - Feliciana Farms","APS00006180","Feliciana Farms, Inc.-St. Francisville, LA","1003M00120","AGGR","Agg, Coarse - HMAC","Agg, Coarse - HMAC - Feliciana Farms",20490101]
["AGGR-APS00006190","APS00006190-1003M00110","APS00006190-Florida Parishes Aggregate-Fluker, LA","1003M00110-Agg, Fine  - HMAC-FnSandHMAC FloridaParAggKentPitFluker","APS00006190","Florida Parishes Aggregate-Fluker, LA","1003M00110","AGGR","Agg, Fine  - HMAC","FnSandHMAC FloridaParAggKentPitFluker",20490101]
["AGGR-APS00006190","APS00006190-1003M00120","APS00006190-Florida Parishes Aggregate-Fluker, LA","1003M00120-Agg, Coarse - HMAC-Agg, Coarse - HMAC - FL Par Agg (Fluker)","APS00006190","Florida Parishes Aggregate-Fluker, LA","1003M00120","AGGR","Agg, Coarse - HMAC","Agg, Coarse - HMAC - FL Par Agg (Fluker)",20490101]
["AGGR-APS00006200","APS00006200-1003M00110","APS00006200-Foley Materials Co.-Phenix City, AL- Plant 501","1003M00110-Agg, Fine  - HMAC-FnSandHMAC FoleyMatlPl501PhenixCityAL","APS00006200","Foley Materials Co.-Phenix City, AL- Plant 501","1003M00110","AGGR","Agg, Fine  - HMAC","FnSandHMAC FoleyMatlPl501PhenixCityAL",20490101]
["AGGR-APS00006210","APS00006210-1003M00110","APS00006210-Foley Materials Co.-Phenix City, AL- Plant 505","1003M00110-Agg, Fine  - HMAC-FnSandHMAC FoleyMatlPl505PhenixCityAL","APS00006210","Foley Materials Co.-Phenix City, AL- Plant 505","1003M00110","AGGR","Agg, Fine  - HMAC","FnSandHMAC FoleyMatlPl505PhenixCityAL",20490101]
["AGGR-APS00006230","APS00006230-1003M00110","APS00006230-Fouke Sand & Gravel, LLC-Fouke, AR","1003M00110-Agg, Fine  - HMAC-FnSandHMAC FoukeSand&GravelFoukeAR","APS00006230","Fouke Sand & Gravel, LLC-Fouke, AR","1003M00110","AGGR","Agg, Fine  - HMAC","FnSandHMAC FoukeSand&GravelFoukeAR",20490101]
["AGGR-APS00006230","APS00006230-1003M00120","APS00006230-Fouke Sand & Gravel, LLC-Fouke, AR","1003M00120-Agg, Coarse - HMAC-Agg, Coarse HMAC - Fouke Aggregate","APS00006230","Fouke Sand & Gravel, LLC-Fouke, AR","1003M00120","AGGR","Agg, Coarse - HMAC","Agg, Coarse HMAC - Fouke Aggregate",20490101]
["AGGR-APS00006240","APS00006240-1003M00110","APS00006240-Gillman Enterprises, LLC-Independence, LA","1003M00110-Agg, Fine  - HMAC-FnSandHMAC GillmanIndependenceLA","APS00006240","Gillman Enterprises, LLC-Independence, LA","1003M00110","AGGR","Agg, Fine  - HMAC","FnSandHMAC GillmanIndependenceLA",20490101]
["AGGR-APS00006240","APS00006240-1003M00120","APS00006240-Gillman Enterprises, LLC-Independence, LA","1003M00120-Agg, Coarse - HMAC-Agg, Coarse - HMAC - Gillman Enterprises","APS00006240","Gillman Enterprises, LLC-Independence, LA","1003M00120","AGGR","Agg, Coarse - HMAC","Agg, Coarse - HMAC - Gillman Enterprises",20490101]
["AGGR-APS00006250","APS00006250-1003M00110","APS00006250-Granite Mountain Quarries-Little Rock, AR","1003M00110-Agg, Fine  - HMAC-FnSandHMAC Granite Mountain Quarries","APS00006250","Granite Mountain Quarries-Little Rock, AR","1003M00110","AGGR","Agg, Fine  - HMAC","FnSandHMAC Granite Mountain Quarries",20490101]
["AGGR-APS00006250","APS00006250-1003M00110","APS00006250-Granite Mountain Quarries-Little Rock, AR","1003M00110-Agg, Fine  - HMAC-FnSandHMAC GraniteMtnQuarLittleRock","APS00006250","Granite Mountain Quarries-Little Rock, AR","1003M00110","AGGR","Agg, Fine  - HMAC","FnSandHMAC GraniteMtnQuarLittleRock",20150604]
["AGGR-APS00006250","APS00006250-1003M00120","APS00006250-Granite Mountain Quarries-Little Rock, AR","1003M00120-Agg, Coarse - HMAC-Agg-CoarseHMAC - Granite Mntn Quarries","APS00006250","Granite Mountain Quarries-Little Rock, AR","1003M00120","AGGR","Agg, Coarse - HMAC","Agg-CoarseHMAC - Granite Mntn Quarries",20490101]
["AGGR-APS00006260","APS00006260-1003M00110","APS00006260-Green Brothers Gravel Co.-Hazlehurst, MS","1003M00110-Agg, Fine  - HMAC-FnSandHMAC GreenBrosP22Hazlehurst","APS00006260","Green Brothers Gravel Co.-Hazlehurst, MS","1003M00110","AGGR","Agg, Fine  - HMAC","FnSandHMAC GreenBrosP22Hazlehurst",20490101]
["AGGR-APS00006260","APS00006260-1003M00120","APS00006260-Green Brothers Gravel Co.-Hazlehurst, MS","1003M00120-Agg, Coarse - HMAC-Agg, Coarse - HMAC-Green Bros Grav #22","APS00006260","Green Brothers Gravel Co.-Hazlehurst, MS","1003M00120","AGGR","Agg, Coarse - HMAC","Agg, Coarse - HMAC-Green Bros Grav #22",20490101]
["AGGR-APS00006270","APS00006270-1003M00110","APS00006270-Green Brothers Gravel Co.-CrystalSprings, MS","1003M00110-Agg, Fine  - HMAC-FnSandHMAC GreenBrosP22CrystalSprg","APS00006270","Green Brothers Gravel Co.-CrystalSprings, MS","1003M00110","AGGR","Agg, Fine  - HMAC","FnSandHMAC GreenBrosP22CrystalSprg",20490101]
["AGGR-APS00006270","APS00006270-1003M00120","APS00006270-Green Brothers Gravel Co.-CrystalSprings, MS","1003M00120-Agg, Coarse - HMAC-Agg, Coarse - HMAC-Green Bros Grav #65","APS00006270","Green Brothers Gravel Co.-CrystalSprings, MS","1003M00120","AGGR","Agg, Coarse - HMAC","Agg, Coarse - HMAC-Green Bros Grav #65",20490101]
["AGGR-APS00006290","APS00006290-1003M00110","APS00006290-Hallet Materials-Porter,TX","1003M00110-Agg, Fine  - HMAC-FnSandHMAC HalletMatlsPorterTX","APS00006290","Hallet Materials-Porter,TX","1003M00110","AGGR","Agg, Fine  - HMAC","FnSandHMAC HalletMatlsPorterTX",20490101]
["AGGR-APS00006300","APS00006300-1003M00110","APS00006300-Hammett Gravel Company, Inc.-Bentonia, MS","1003M00110-Agg, Fine  - HMAC-FnSandHMAC HammettGravelYazooCity","APS00006300","Hammett Gravel Company, Inc.-Bentonia, MS","1003M00110","AGGR","Agg, Fine  - HMAC","FnSandHMAC HammettGravelYazooCity",20490101]
["AGGR-APS00006300","APS00006300-1003M00120","APS00006300-Hammett Gravel Company, Inc.-Bentonia, MS","1003M00120-Agg, Coarse - HMAC-Agg, Coarse - HMAC HammettGrav YazooCity","APS00006300","Hammett Gravel Company, Inc.-Bentonia, MS","1003M00120","AGGR","Agg, Coarse - HMAC","Agg, Coarse - HMAC HammettGrav YazooCity",20490101]
["AGGR-APS00006310","APS00006310-1003M00110","APS00006310-Hanson Aggregates-Bearden,AR","1003M00110-Agg, Fine  - HMAC-FnSandHMAC HansonAggEagleMillsBeardenAR","APS00006310","Hanson Aggregates-Bearden,AR","1003M00110","AGGR","Agg, Fine  - HMAC","FnSandHMAC HansonAggEagleMillsBeardenAR",20490101]
["AGGR-APS00006310","APS00006310-1003M00120","APS00006310-Hanson Aggregates-Bearden,AR","1003M00120-Agg, Coarse - HMAC-Agg, Coarse - HMAC-HansonAggsEagleMills","APS00006310","Hanson Aggregates-Bearden,AR","1003M00120","AGGR","Agg, Coarse - HMAC","Agg, Coarse - HMAC-HansonAggsEagleMills",20490101]
["AGGR-APS00006320","APS00006320-1003M00110","APS00006320-Hanson Aggregates-Ashdown,AR","1003M00110-Agg, Fine  - HMAC-FnSandHMAC HansonAggLittleRiverAshdownAR","APS00006320","Hanson Aggregates-Ashdown,AR","1003M00110","AGGR","Agg, Fine  - HMAC","FnSandHMAC HansonAggLittleRiverAshdownAR",20490101]
["AGGR-APS00006320","APS00006320-1003M00120","APS00006320-Hanson Aggregates-Ashdown,AR","1003M00120-Agg, Coarse - HMAC-Agg, Coarse - HMAC HansonAggsLittleRiver","APS00006320","Hanson Aggregates-Ashdown,AR","1003M00120","AGGR","Agg, Coarse - HMAC","Agg, Coarse - HMAC HansonAggsLittleRiver",20490101]
["AGGR-APS00006340","APS00006340-1003M00110","APS00006340-Hanson Aggregates-Perch Hill Plant-Chico,TX","1003M00110-Agg, Fine  - HMAC-FnSandHMAC Hanson Aggs Perch hill Plant","APS00006340","Hanson Aggregates-Perch Hill Plant-Chico,TX","1003M00110","AGGR","Agg, Fine  - HMAC","FnSandHMAC Hanson Aggs Perch hill Plant",20490101]
["AGGR-APS00006340","APS00006340-1003M00120","APS00006340-Hanson Aggregates-Perch Hill Plant-Chico,TX","1003M00120-Agg, Coarse - HMAC-Agg-CoarseHMAC - HansonAggs-PerchHill","APS00006340","Hanson Aggregates-Perch Hill Plant-Chico,TX","1003M00120","AGGR","Agg, Coarse - HMAC","Agg-CoarseHMAC - HansonAggs-PerchHill",20490101]
["AGGR-APS00006350","APS00006350-1003M00110","APS00006350-Hard Rock Sand & Gravel LLC - Franklinton, LA - #2","1003M00110-Agg, Fine  - HMAC-FnSandHMAC HardRockS&GFranklinton","APS00006350","Hard Rock Sand & Gravel LLC - Franklinton, LA - #2","1003M00110","AGGR","Agg, Fine  - HMAC","FnSandHMAC HardRockS&GFranklinton",20490101]
["AGGR-APS00006350","APS00006350-1003M00120","APS00006350-Hard Rock Sand & Gravel LLC - Franklinton, LA - #2","1003M00120-Agg, Coarse - HMAC-Agg, Coarse -HMAC - Hard Rock S%G #2","APS00006350","Hard Rock Sand & Gravel LLC - Franklinton, LA - #2","1003M00120","AGGR","Agg, Coarse - HMAC","Agg, Coarse -HMAC - Hard Rock S%G #2",20490101]
["AGGR-APS00006360","APS00006360-1003M00110","APS00006360-Hard Rock Sand & Gravel, LLC-Mt. Hermon,LA","1003M00110-Agg, Fine  - HMAC-FnSandHMAC HardRockS&GMtHermanLA","APS00006360","Hard Rock Sand & Gravel, LLC-Mt. Hermon,LA","1003M00110","AGGR","Agg, Fine  - HMAC","FnSandHMAC HardRockS&GMtHermanLA",20490101]
["AGGR-APS00006360","APS00006360-1003M00120","APS00006360-Hard Rock Sand & Gravel, LLC-Mt. Hermon,LA","1003M00120-Agg, Coarse - HMAC-Agg, Coarse -HMAC - HardRockS&GMt.Hermon","APS00006360","Hard Rock Sand & Gravel, LLC-Mt. Hermon,LA","1003M00120","AGGR","Agg, Coarse - HMAC","Agg, Coarse -HMAC - HardRockS&GMt.Hermon",20490101]
["AGGR-APS00006370","APS00006370-1003M00110","APS00006370-Hastie Mining Company-Cave-in-Rock,IL","1003M00110-Agg, Fine  - HMAC-FnSandHMAC  Hastie Mining Sandstone","APS00006370","Hastie Mining Company-Cave-in-Rock,IL","1003M00110","AGGR","Agg, Fine  - HMAC","FnSandHMAC  Hastie Mining Sandstone",20490101]
["AGGR-APS00006370","APS00006370-1003M00120","APS00006370-Hastie Mining Company-Cave-in-Rock,IL","1003M00120-Agg, Coarse - HMAC-Agg-CoarseHMAC-HastieMiningCo-CaveInRock","APS00006370","Hastie Mining Company-Cave-in-Rock,IL","1003M00120","AGGR","Agg, Coarse - HMAC","Agg-CoarseHMAC-HastieMiningCo-CaveInRock",20490101]
["AGGR-APS00006400","APS00006400-1003M00110","APS00006400-Hooper Road Dirt Pit-Baton Rouge, LA","1003M00110-Agg, Fine  - HMAC-FnSandHMAC HooperRoadDirtPitBRLA","APS00006400","Hooper Road Dirt Pit-Baton Rouge, LA","1003M00110","AGGR","Agg, Fine  - HMAC","FnSandHMAC HooperRoadDirtPitBRLA",20490101]
["AGGR-APS00006420","APS00006420-1003M00110","APS00006420-Huey Stockstill, LLC - Picayune, MS - 12 Oaks","1003M00110-Agg, Fine  - HMAC-FnSandHMAC HueyStockstillPicayuneMS","APS00006420","Huey Stockstill, LLC - Picayune, MS - 12 Oaks","1003M00110","AGGR","Agg, Fine  - HMAC","FnSandHMAC HueyStockstillPicayuneMS",20490101]
["AGGR-APS00006420","APS00006420-1003M00120","APS00006420-Huey Stockstill, LLC - Picayune, MS - 12 Oaks","1003M00120-Agg, Coarse - HMAC-Agg, Coarse - HMAC - Huey Stockstill","APS00006420","Huey Stockstill, LLC - Picayune, MS - 12 Oaks","1003M00120","AGGR","Agg, Coarse - HMAC","Agg, Coarse - HMAC - Huey Stockstill",20490101]
["AGGR-APS00006430","APS00006430-1003M00110","APS00006430-Huey P. Stockstill, LLC -Picayune, MS - Pine Grove","1003M00110-Agg, Fine  - HMAC-FnSandHMAC HutchinsonIslandPicayuneMS","APS00006430","Huey P. Stockstill, LLC -Picayune, MS - Pine Grove","1003M00110","AGGR","Agg, Fine  - HMAC","FnSandHMAC HutchinsonIslandPicayuneMS",20490101]
["AGGR-APS00006430","APS00006430-1003M00120","APS00006430-Huey P. Stockstill, LLC -Picayune, MS - Pine Grove","1003M00120-Agg, Coarse - HMAC-Agg, Coarse - HMAC HutchinsonIslPicayune","APS00006430","Huey P. Stockstill, LLC -Picayune, MS - Pine Grove","1003M00120","AGGR","Agg, Coarse - HMAC","Agg, Coarse - HMAC HutchinsonIslPicayune",20490101]
["AGGR-APS00006440","APS00006440-1003M00110","APS00006440-Ideal Domicana, SA-Santo Domingo, DR","1003M00110-Agg, Fine  - HMAC-FnSandHMAC  Ideal Dominicana","APS00006440","Ideal Domicana, SA-Santo Domingo, DR","1003M00110","AGGR","Agg, Fine  - HMAC","FnSandHMAC  Ideal Dominicana",20490101]
["AGGR-APS00006440","APS00006440-1003M00120","APS00006440-Ideal Domicana, SA-Santo Domingo, DR","1003M00120-Agg, Coarse - HMAC-Agg-CoarseHMAC-IdealDomicana,SA","APS00006440","Ideal Domicana, SA-Santo Domingo, DR","1003M00120","AGGR","Agg, Coarse - HMAC","Agg-CoarseHMAC-IdealDomicana,SA",20490101]
["AGGR-APS00006450","APS00006450-1003M00110","APS00006450-Industrial Aggregates, LLC-Franklinton, LA-Pine Cl","1003M00110-Agg, Fine  - HMAC-FnSandHMAC IndustrialAggFranklinton","APS00006450","Industrial Aggregates, LLC-Franklinton, LA-Pine Cl","1003M00110","AGGR","Agg, Fine  - HMAC","FnSandHMAC IndustrialAggFranklinton",20490101]
["AGGR-APS00006450","APS00006450-1003M00110","APS00006450-Industrial Aggregates, LLC-Franklinton, LA-Pine Cl","1003M00110-Agg, Fine  - HMAC-FnSandHMAC IndustriasdeAgregadosDomRep","APS00006450","Industrial Aggregates, LLC-Franklinton, LA-Pine Cl","1003M00110","AGGR","Agg, Fine  - HMAC","FnSandHMAC IndustriasdeAgregadosDomRep",20150513]
["AGGR-APS00006450","APS00006450-1003M00120","APS00006450-Industrial Aggregates, LLC-Franklinton, LA-Pine Cl","1003M00120-Agg, Coarse - HMAC-Agg, Coarse - HMAC Industrial Aggs","APS00006450","Industrial Aggregates, LLC-Franklinton, LA-Pine Cl","1003M00120","AGGR","Agg, Coarse - HMAC","Agg, Coarse - HMAC Industrial Aggs",20490101]
[{"$f":"H195&\"-\"&E195","v":"AGGR-APS00006480"},{"$f":"E195&\"-\"&G195","v":"APS00006480-1003M00110"},{"$f":"E195&\"-\"&F195","v":"APS00006480-Jamaica Aggregates Limited dba Lafarge"},{"$f":"G195&\"-\"&I195&IF(J195<>\"\", \"-\"&J195, \"\")","v":"1003M00110-Agg, Fine  - HMAC-FnSandHMAC Jamaica Aggs Ltd"},"APS00006480","Jamaica Aggregates Limited dba Lafarge","1003M00110","AGGR","Agg, Fine  - HMAC","FnSandHMAC Jamaica Aggs Ltd",20490101]
["AGGR-APS00006480","APS00006480-1003M00120","APS00006480-Jamaica Aggregates Limited dba Lafarge","1003M00120-Agg, Coarse - HMAC-Agg-CoarseHMAC-JamaicaAggsLtd dbaLafarge","APS00006480","Jamaica Aggregates Limited dba Lafarge","1003M00120","AGGR","Agg, Coarse - HMAC","Agg-CoarseHMAC-JamaicaAggsLtd dbaLafarge",20490101]
["AGGR-APS00006490","APS00006490-1003M00110","APS00006490-JJ Ferguson Sand & Gravel-Cruger, MS","1003M00110-Agg, Fine  - HMAC-FnSandHMAC JJFergusonS&GBlackhawk","APS00006490","JJ Ferguson Sand & Gravel-Cruger, MS","1003M00110","AGGR","Agg, Fine  - HMAC","FnSandHMAC JJFergusonS&GBlackhawk",20490101]
["AGGR-APS00006490","APS00006490-1003M00120","APS00006490-JJ Ferguson Sand & Gravel-Cruger, MS","1003M00120-Agg, Coarse - HMAC-Agg, Coarse - HMAC - JJ Ferguson","APS00006490","JJ Ferguson Sand & Gravel-Cruger, MS","1003M00120","AGGR","Agg, Coarse - HMAC","Agg, Coarse - HMAC - JJ Ferguson",20490101]
["AGGR-APS00006500","APS00006500-1003M00110","APS00006500-Johnsville Sand & Gravel-Hermitage, AR","1003M00110-Agg, Fine  - HMAC-FnSandHMAC JohnsvilleS&GHermitage","APS00006500","Johnsville Sand & Gravel-Hermitage, AR","1003M00110","AGGR","Agg, Fine  - HMAC","FnSandHMAC JohnsvilleS&GHermitage",20490101]
["AGGR-APS00006500","APS00006500-1003M00120","APS00006500-Johnsville Sand & Gravel-Hermitage, AR","1003M00120-Agg, Coarse - HMAC-Agg, Coarse - HMAC - Johnsville S&G","APS00006500","Johnsville Sand & Gravel-Hermitage, AR","1003M00120","AGGR","Agg, Coarse - HMAC","Agg, Coarse - HMAC - Johnsville S&G",20490101]
["AGGR-APS00006510","APS00006510-1003M00110","APS00006510-K & C Gravel-Independence,LA","1003M00110-Agg, Fine  - HMAC-FnSandHMAC K&CGravelIndependenceLA","APS00006510","K & C Gravel-Independence,LA","1003M00110","AGGR","Agg, Fine  - HMAC","FnSandHMAC K&CGravelIndependenceLA",20490101]
["AGGR-APS00006520","APS00006520-1003M00110","APS00006520-Kinder Sand Co.-Kinder, LA","1003M00110-Agg, Fine  - HMAC-FnSandHMAC KinderSandCoKinderLA","APS00006520","Kinder Sand Co.-Kinder, LA","1003M00110","AGGR","Agg, Fine  - HMAC","FnSandHMAC KinderSandCoKinderLA",20490101]
["AGGR-APS00006530","APS00006530-1003M00110","APS00006530-King Sand & Gravel-Kerens, TX","1003M00110-Agg, Fine  - HMAC-FnSandHMAC KingSandGravelKerensTX","APS00006530","King Sand & Gravel-Kerens, TX","1003M00110","AGGR","Agg, Fine  - HMAC","FnSandHMAC KingSandGravelKerensTX",20490101]
["AGGR-APS00006540","APS00006540-1003M00110","APS00006540-Krystal Gravel, Inc.-Crystal Springs, MS","1003M00110-Agg, Fine  - HMAC-FnSandHMAC KrystalGravelCrystalSpringsMS","APS00006540","Krystal Gravel, Inc.-Crystal Springs, MS","1003M00110","AGGR","Agg, Fine  - HMAC","FnSandHMAC KrystalGravelCrystalSpringsMS",20490101]
["AGGR-APS00006540","APS00006540-1003M00120","APS00006540-Krystal Gravel, Inc.-Crystal Springs, MS","1003M00120-Agg, Coarse - HMAC-Agg, Coarse - HMAC - Krystal Gravel","APS00006540","Krystal Gravel, Inc.-Crystal Springs, MS","1003M00120","AGGR","Agg, Coarse - HMAC","Agg, Coarse - HMAC - Krystal Gravel",20490101]
["AGGR-APS00006550","APS00006550-1003M00110","APS00006550-L & W Sand Pit, LLC-Carencro, LA","1003M00110-Agg, Fine  - HMAC-FnSandHMAC L&WSandPitCarencroLA","APS00006550","L & W Sand Pit, LLC-Carencro, LA","1003M00110","AGGR","Agg, Fine  - HMAC","FnSandHMAC L&WSandPitCarencroLA",20490101]
["AGGR-APS00006560","APS00006560-1003M00110","APS00006560-Lafarge Aggregates-Cave-In-Rock, IL - SandStone","1003M00110-Agg, Fine  - HMAC-FnSandHMAC  Lafarge Aggs Sandstone","APS00006560","Lafarge Aggregates-Cave-In-Rock, IL - SandStone","1003M00110","AGGR","Agg, Fine  - HMAC","FnSandHMAC  Lafarge Aggs Sandstone",20490101]
["AGGR-APS00006560","APS00006560-1003M00120","APS00006560-Lafarge Aggregates-Cave-In-Rock, IL - SandStone","1003M00120-Agg, Coarse - HMAC-Agg-CoarseHMAC-LafargeAggs-Sandstn","APS00006560","Lafarge Aggregates-Cave-In-Rock, IL - SandStone","1003M00120","AGGR","Agg, Coarse - HMAC","Agg-CoarseHMAC-LafargeAggs-Sandstn",20490101]
["AGGR-APS00006570","APS00006570-1003M00110","APS00006570-Lafarge Aggregates-Cave-In-Rock, IL - Sil. Limestn","1003M00110-Agg, Fine  - HMAC-FnSandHMAC  Lafarge Aggs Ledges 8-10","APS00006570","Lafarge Aggregates-Cave-In-Rock, IL - Sil. Limestn","1003M00110","AGGR","Agg, Fine  - HMAC","FnSandHMAC  Lafarge Aggs Ledges 8-10",20490101]
["AGGR-APS00006570","APS00006570-1003M00120","APS00006570-Lafarge Aggregates-Cave-In-Rock, IL - Sil. Limestn","1003M00120-Agg, Coarse - HMAC-Agg-CoarseHMAC-LafargeAggs-SilLmStn","APS00006570","Lafarge Aggregates-Cave-In-Rock, IL - Sil. Limestn","1003M00120","AGGR","Agg, Coarse - HMAC","Agg-CoarseHMAC-LafargeAggs-SilLmStn",20490101]
["AGGR-APS00006580","APS00006580-1003M00110","APS00006580-Lafarge Aggregates-Fredonia, KY","1003M00110-Agg, Fine  - HMAC-FnSandHMAC  Lafarge N.A. Fredonia","APS00006580","Lafarge Aggregates-Fredonia, KY","1003M00110","AGGR","Agg, Fine  - HMAC","FnSandHMAC  Lafarge N.A. Fredonia",20490101]
["AGGR-APS00006580","APS00006580-1003M00120","APS00006580-Lafarge Aggregates-Fredonia, KY","1003M00120-Agg, Coarse - HMAC-Agg-CoarseHMAC-LafargeAggs-Fredonia","APS00006580","Lafarge Aggregates-Fredonia, KY","1003M00120","AGGR","Agg, Coarse - HMAC","Agg-CoarseHMAC-LafargeAggs-Fredonia",20490101]
["AGGR-APS00006590","APS00006590-1003M00110","APS00006590-Lafarge Aggregates-Pearl River,LA","1003M00110-Agg, Fine  - HMAC-FnSandHMAC LafargeAggHoneyIsland","APS00006590","Lafarge Aggregates-Pearl River,LA","1003M00110","AGGR","Agg, Fine  - HMAC","FnSandHMAC LafargeAggHoneyIsland",20490101]
["AGGR-APS00006590","APS00006590-1003M00120","APS00006590-Lafarge Aggregates-Pearl River,LA","1003M00120-Agg, Coarse - HMAC-Agg, Coarse - HMAC-LafargeAggsHoney Isl","APS00006590","Lafarge Aggregates-Pearl River,LA","1003M00120","AGGR","Agg, Coarse - HMAC","Agg, Coarse - HMAC-LafargeAggsHoney Isl",20490101]
["AGGR-APS00006600","APS00006600-1003M00110","APS00006600-Lafarge Aggregates-Bogalusa,LA","1003M00110-Agg, Fine  - HMAC-FnSandHMAC LafargeAggIsabelBogalusa","APS00006600","Lafarge Aggregates-Bogalusa,LA","1003M00110","AGGR","Agg, Fine  - HMAC","FnSandHMAC LafargeAggIsabelBogalusa",20490101]
["AGGR-APS00006600","APS00006600-1003M00120","APS00006600-Lafarge Aggregates-Bogalusa,LA","1003M00120-Agg, Coarse - HMAC-Agg, Coarse - HMAC - Lafarge (Isabel)","APS00006600","Lafarge Aggregates-Bogalusa,LA","1003M00120","AGGR","Agg, Coarse - HMAC","Agg, Coarse - HMAC - Lafarge (Isabel)",20490101]
["AGGR-APS00006600","APS00006600-1003M00120","APS00006600-Lafarge Aggregates-Bogalusa,LA","1003M00120-Agg, Coarse - HMAC-Agg, Coarse - HMAC-Lafarge(Honey Island)","APS00006600","Lafarge Aggregates-Bogalusa,LA","1003M00120","AGGR","Agg, Coarse - HMAC","Agg, Coarse - HMAC-Lafarge(Honey Island)",20490101]
["AGGR-APS00006670","APS00006670-1003M00110","APS00006670-Lon Land Gravel Co.-Mt Hermon, LA","1003M00110-Agg, Fine  - HMAC-FnSandHMAC LonLandGravelMtHermonLA","APS00006670","Lon Land Gravel Co.-Mt Hermon, LA","1003M00110","AGGR","Agg, Fine  - HMAC","FnSandHMAC LonLandGravelMtHermonLA",20490101]
["AGGR-APS00006670","APS00006670-1003M00120","APS00006670-Lon Land Gravel Co.-Mt Hermon, LA","1003M00120-Agg, Coarse - HMAC-Agg, Coarse - HMAC - Lon-Land Gravel Co.","APS00006670","Lon Land Gravel Co.-Mt Hermon, LA","1003M00120","AGGR","Agg, Coarse - HMAC","Agg, Coarse - HMAC - Lon-Land Gravel Co.",20490101]
["AGGR-APS00006680","APS00006680-1003M00110","APS00006680-Marion Clay & Gravel, LLC-Columbia, MS","1003M00110-Agg, Fine  - HMAC-FnSandHMAC MarionClayGravelColumbiaMS","APS00006680","Marion Clay & Gravel, LLC-Columbia, MS","1003M00110","AGGR","Agg, Fine  - HMAC","FnSandHMAC MarionClayGravelColumbiaMS",20490101]
["AGGR-APS00006680","APS00006680-1003M00120","APS00006680-Marion Clay & Gravel, LLC-Columbia, MS","1003M00120-Agg, Coarse - HMAC-Agg, Coarse - HMAC - Marion Clay & Grav","APS00006680","Marion Clay & Gravel, LLC-Columbia, MS","1003M00120","AGGR","Agg, Coarse - HMAC","Agg, Coarse - HMAC - Marion Clay & Grav",20490101]
["AGGR-APS00006690","APS00006690-1003M00110","APS00006690-Martin Marietta Aggregates-Bahamas,BAH","1003M00110-Agg, Fine  - HMAC-FnSandHMAC Martin Marietta Aggs Bahama","APS00006690","Martin Marietta Aggregates-Bahamas,BAH","1003M00110","AGGR","Agg, Fine  - HMAC","FnSandHMAC Martin Marietta Aggs Bahama",20490101]
["AGGR-APS00006690","APS00006690-1003M00120","APS00006690-Martin Marietta Aggregates-Bahamas,BAH","1003M00120-Agg, Coarse - HMAC-Agg-CoarseHMAC-MartinMariettaAggsBahamas","APS00006690","Martin Marietta Aggregates-Bahamas,BAH","1003M00120","AGGR","Agg, Coarse - HMAC","Agg-CoarseHMAC-MartinMariettaAggsBahamas",20490101]
["AGGR-APS00006700","APS00006700-1003M00110","APS00006700-Martin Marietta Aggregates-Eagletown, OK","1003M00110-Agg, Fine  - HMAC-FnSandHMAC MartinMarietta(Broken Bow)","APS00006700","Martin Marietta Aggregates-Eagletown, OK","1003M00110","AGGR","Agg, Fine  - HMAC","FnSandHMAC MartinMarietta(Broken Bow)",20490101]
["AGGR-APS00006700","APS00006700-1003M00120","APS00006700-Martin Marietta Aggregates-Eagletown, OK","1003M00120-Agg, Coarse - HMAC-Agg, Coarse - HMAC -MartinMar Broken Bow","APS00006700","Martin Marietta Aggregates-Eagletown, OK","1003M00120","AGGR","Agg, Coarse - HMAC","Agg, Coarse - HMAC -MartinMar Broken Bow",20490101]
["AGGR-APS00006710","APS00006710-1003M00110","APS00006710-Martin Marietta Aggregates-Cove,AR","1003M00110-Agg, Fine  - HMAC-FnSandHMAC Martin Marietta Aggs Cove","APS00006710","Martin Marietta Aggregates-Cove,AR","1003M00110","AGGR","Agg, Fine  - HMAC","FnSandHMAC Martin Marietta Aggs Cove",20490101]
["AGGR-APS00006710","APS00006710-1003M00120","APS00006710-Martin Marietta Aggregates-Cove,AR","1003M00120-Agg, Coarse - HMAC-Agg-CoarseHMAC-MartinMariettaAggs-Cove","APS00006710","Martin Marietta Aggregates-Cove,AR","1003M00120","AGGR","Agg, Coarse - HMAC","Agg-CoarseHMAC-MartinMariettaAggs-Cove",20490101]
["AGGR-APS00006720","APS00006720-1003M00110","APS00006720-Martin Marietta Aggregates-Garwood,TX","1003M00110-Agg, Fine  - HMAC-FnSandHMAC Martin Marietta Agg Garwood","APS00006720","Martin Marietta Aggregates-Garwood,TX","1003M00110","AGGR","Agg, Fine  - HMAC","FnSandHMAC Martin Marietta Agg Garwood",20490101]
["AGGR-APS00006720","APS00006720-1003M00120","APS00006720-Martin Marietta Aggregates-Garwood,TX","1003M00120-Agg, Coarse - HMAC-Agg, Coarse - HMAC - MartinMar Garwood","APS00006720","Martin Marietta Aggregates-Garwood,TX","1003M00120","AGGR","Agg, Coarse - HMAC","Agg, Coarse - HMAC - MartinMar Garwood",20490101]
["AGGR-APS00006730","APS00006730-1003M00110","APS00006730-Martin Marietta Aggregates-Malvern, AR - SandStone","1003M00110-Agg, Fine  - HMAC-FnSandHMAC MartinMarietta-Jones Mill Pit","APS00006730","Martin Marietta Aggregates-Malvern, AR - SandStone","1003M00110","AGGR","Agg, Fine  - HMAC","FnSandHMAC MartinMarietta-Jones Mill Pit",20490101]
["AGGR-APS00006730","APS00006730-1003M00120","APS00006730-Martin Marietta Aggregates-Malvern, AR - SandStone","1003M00120-Agg, Coarse - HMAC-Agg.CoarseHMAC MartinMarietta-Jones Mill","APS00006730","Martin Marietta Aggregates-Malvern, AR - SandStone","1003M00120","AGGR","Agg, Coarse - HMAC","Agg.CoarseHMAC MartinMarietta-Jones Mill",20490101]
["AGGR-APS00006740","APS00006740-1003M00110","APS00006740-Martin Marietta Aggregates-Malvern, AR - Granite","1003M00110-Agg, Fine  - HMAC-FnSand HMAC MartinMariettaAggs Syenite","APS00006740","Martin Marietta Aggregates-Malvern, AR - Granite","1003M00110","AGGR","Agg, Fine  - HMAC","FnSand HMAC MartinMariettaAggs Syenite",20490101]
["AGGR-APS00006740","APS00006740-1003M00120","APS00006740-Martin Marietta Aggregates-Malvern, AR - Granite","1003M00120-Agg, Coarse - HMAC-Agg-CoarseHMAC-MartinMariettaAggs-Grnt","APS00006740","Martin Marietta Aggregates-Malvern, AR - Granite","1003M00120","AGGR","Agg, Coarse - HMAC","Agg-CoarseHMAC-MartinMariettaAggs-Grnt",20490101]
["AGGR-APS00006750","APS00006750-1003M00110","APS00006750-Martin Marietta Aggregates-Mulgrave, NS","1003M00110-Agg, Fine  - HMAC-FnSandHMAC Martin Marietta Aggs NovaScot","APS00006750","Martin Marietta Aggregates-Mulgrave, NS","1003M00110","AGGR","Agg, Fine  - HMAC","FnSandHMAC Martin Marietta Aggs NovaScot",20490101]
["AGGR-APS00006750","APS00006750-1003M00110","APS00006750-Martin Marietta Aggregates-Mulgrave, NS","1003M00110-Agg, Fine  - HMAC-FnSandHMAC MartinMarietta - Mulgrave","APS00006750","Martin Marietta Aggregates-Mulgrave, NS","1003M00110","AGGR","Agg, Fine  - HMAC","FnSandHMAC MartinMarietta - Mulgrave",20150618]
["AGGR-APS00006750","APS00006750-1003M00120","APS00006750-Martin Marietta Aggregates-Mulgrave, NS","1003M00120-Agg, Coarse - HMAC-Agg, Coarse - HMAC - Martin Marietta N.S","APS00006750","Martin Marietta Aggregates-Mulgrave, NS","1003M00120","AGGR","Agg, Coarse - HMAC","Agg, Coarse - HMAC - Martin Marietta N.S",20490101]
["AGGR-APS00006750","APS00006750-1003M00120","APS00006750-Martin Marietta Aggregates-Mulgrave, NS","1003M00120-Agg, Coarse - HMAC-Agg.CoarseHMAC MartinMarietta -Mulgrave","APS00006750","Martin Marietta Aggregates-Mulgrave, NS","1003M00120","AGGR","Agg, Coarse - HMAC","Agg.CoarseHMAC MartinMarietta -Mulgrave",20150618]
["AGGR-APS00006760","APS00006760-1003M00110","APS00006760-Martin Marietta Aggregates-Sawyer,OK","1003M00110-Agg, Fine  - HMAC-FnSand HMAC Martin Marietta Aggs Sawyer ","APS00006760","Martin Marietta Aggregates-Sawyer,OK","1003M00110","AGGR","Agg, Fine  - HMAC","FnSand HMAC Martin Marietta Aggs Sawyer ",20490101]
["AGGR-APS00006760","APS00006760-1003M00120","APS00006760-Martin Marietta Aggregates-Sawyer,OK","1003M00120-Agg, Coarse - HMAC-Agg, Coarse -HMAC- Martin Marietta Sawye","APS00006760","Martin Marietta Aggregates-Sawyer,OK","1003M00120","AGGR","Agg, Coarse - HMAC","Agg, Coarse -HMAC- Martin Marietta Sawye",20490101]
["AGGR-APS00006760","APS00006760-1003M00120","APS00006760-Martin Marietta Aggregates-Sawyer,OK","1003M00120-Agg, Coarse - HMAC-Agg-CoarseHMAC-MartinMariettaAggs-Sawyer","APS00006760","Martin Marietta Aggregates-Sawyer,OK","1003M00120","AGGR","Agg, Coarse - HMAC","Agg-CoarseHMAC-MartinMariettaAggs-Sawyer",20490101]
["AGGR-APS00006770","APS00006770-1003M00110","APS00006770-Mears Sand & Gravel-Denham Springs,LA","1003M00110-Agg, Fine  - HMAC-FnSandHMAC MearsSandGravelDennisMills","APS00006770","Mears Sand & Gravel-Denham Springs,LA","1003M00110","AGGR","Agg, Fine  - HMAC","FnSandHMAC MearsSandGravelDennisMills",20490101]
["AGGR-APS00006770","APS00006770-1003M00120","APS00006770-Mears Sand & Gravel-Denham Springs,LA","1003M00120-Agg, Coarse - HMAC-Agg, Coarse - HMAC - Mears S & G","APS00006770","Mears Sand & Gravel-Denham Springs,LA","1003M00120","AGGR","Agg, Coarse - HMAC","Agg, Coarse - HMAC - Mears S & G",20490101]
["AGGR-APS00006780","APS00006780-1003M00110","APS00006780-Memphis Stone & Gravel Co.-Nesbit, MS","1003M00110-Agg, Fine  - HMAC-FnSandHMAC MemphisStnGrvlAndersonPl","APS00006780","Memphis Stone & Gravel Co.-Nesbit, MS","1003M00110","AGGR","Agg, Fine  - HMAC","FnSandHMAC MemphisStnGrvlAndersonPl",20490101]
["AGGR-APS00006790","APS00006790-1003M00110","APS00006790-Memphis Stone & Gravel Co.-Senatobia, MS","1003M00110-Agg, Fine  - HMAC-FnSandHMAC MemphisStoneGravelPerryPl","APS00006790","Memphis Stone & Gravel Co.-Senatobia, MS","1003M00110","AGGR","Agg, Fine  - HMAC","FnSandHMAC MemphisStoneGravelPerryPl",20490101]
["AGGR-APS00006830","APS00006830-1003M00110","APS00006830-MRH Sand & Gravel-Benton, LA","1003M00110-Agg, Fine  - HMAC-FnSandHMAC MRHSandGravelBentonLA","APS00006830","MRH Sand & Gravel-Benton, LA","1003M00110","AGGR","Agg, Fine  - HMAC","FnSandHMAC MRHSandGravelBentonLA",20490101]
["AGGR-APS00006830","APS00006830-1003M00120","APS00006830-MRH Sand & Gravel-Benton, LA","1003M00120-Agg, Coarse - HMAC-Agg, Coarse - HMAC - MRH S&G","APS00006830","MRH Sand & Gravel-Benton, LA","1003M00120","AGGR","Agg, Coarse - HMAC","Agg, Coarse - HMAC - MRH S&G",20150428]
["AGGR-APS00006840","APS00006840-1003M00110","APS00006840-ODDEE Smith Constr.Inc.-Brookhaven, MS","1003M00110-Agg, Fine  - HMAC-FnSandHMAC ODDEE Smith Constr","APS00006840","ODDEE Smith Constr.Inc.-Brookhaven, MS","1003M00110","AGGR","Agg, Fine  - HMAC","FnSandHMAC ODDEE Smith Constr",20490101]
["AGGR-APS00006840","APS00006840-1003M00120","APS00006840-ODDEE Smith Constr.Inc.-Brookhaven, MS","1003M00120-Agg, Coarse - HMAC-Agg, Coarse - HMAC-ODDEESmithConstr-Brkh","APS00006840","ODDEE Smith Constr.Inc.-Brookhaven, MS","1003M00120","AGGR","Agg, Coarse - HMAC","Agg, Coarse - HMAC-ODDEESmithConstr-Brkh",20490101]
["AGGR-APS00006850","APS00006850-1003M00110","APS00006850-P & J Sand & Gravel, LLC-Independence, LA","1003M00110-Agg, Fine  - HMAC-FnSandHMAC P&JSndGrvlIndependenceLA","APS00006850","P & J Sand & Gravel, LLC-Independence, LA","1003M00110","AGGR","Agg, Fine  - HMAC","FnSandHMAC P&JSndGrvlIndependenceLA",20490101]
["AGGR-APS00006850","APS00006850-1003M00120","APS00006850-P & J Sand & Gravel, LLC-Independence, LA","1003M00120-Agg, Coarse - HMAC-Agg. Coarse - HMAC - P & J  Sand& Gravel","APS00006850","P & J Sand & Gravel, LLC-Independence, LA","1003M00120","AGGR","Agg, Coarse - HMAC","Agg. Coarse - HMAC - P & J  Sand& Gravel",20490101]
["AGGR-APS00006860","APS00006860-1003M00110","APS00006860-Perkinston Sand & Gravel-Perkinston, MS","1003M00110-Agg, Fine  - HMAC-FnSandHMAC PerkinstonS&GPerkinstonMS","APS00006860","Perkinston Sand & Gravel-Perkinston, MS","1003M00110","AGGR","Agg, Fine  - HMAC","FnSandHMAC PerkinstonS&GPerkinstonMS",20490101]
["AGGR-APS00006880","APS00006880-1003M00110","APS00006880-Pine Bluff Sand & Gravel-Deleware, AR","1003M00110-Agg, Fine  - HMAC-FnSandHMAC Pine Bluff S&G - Deleware","APS00006880","Pine Bluff Sand & Gravel-Deleware, AR","1003M00110","AGGR","Agg, Fine  - HMAC","FnSandHMAC Pine Bluff S&G - Deleware",20491231]
["AGGR-APS00006880","APS00006880-1003M00120","APS00006880-Pine Bluff Sand & Gravel-Deleware, AR","1003M00120-Agg, Coarse - HMAC-Agg.Coarse-HMAC Pine Bluff S&G- Deleware","APS00006880","Pine Bluff Sand & Gravel-Deleware, AR","1003M00120","AGGR","Agg, Coarse - HMAC","Agg.Coarse-HMAC Pine Bluff S&G- Deleware",20491231]
["AGGR-APS00006890","APS00006890-1003M00110","APS00006890-Pine Bluff Sand & Gravel-Salem,KY","1003M00110-Agg, Fine  - HMAC-FnSand HMAC Pine Bluff S&G Cumberland","APS00006890","Pine Bluff Sand & Gravel-Salem,KY","1003M00110","AGGR","Agg, Fine  - HMAC","FnSand HMAC Pine Bluff S&G Cumberland",20490101]
["AGGR-APS00006890","APS00006890-1003M00120","APS00006890-Pine Bluff Sand & Gravel-Salem,KY","1003M00120-Agg, Coarse - HMAC-Agg-CoarseHMAC-PineBluffSand&Grav-Salem","APS00006890","Pine Bluff Sand & Gravel-Salem,KY","1003M00120","AGGR","Agg, Coarse - HMAC","Agg-CoarseHMAC-PineBluffSand&Grav-Salem",20490101]
["AGGR-APS00006910","APS00006910-1003M00110","APS00006910-R & R Logging & Gravel-Columbia, MS","1003M00110-Agg, Fine  - HMAC-FnSandHMAC R&RLogging&GrColumbiaMS","APS00006910","R & R Logging & Gravel-Columbia, MS","1003M00110","AGGR","Agg, Fine  - HMAC","FnSandHMAC R&RLogging&GrColumbiaMS",20490101]
["AGGR-APS00006910","APS00006910-1003M00120","APS00006910-R & R Logging & Gravel-Columbia, MS","1003M00120-Agg, Coarse - HMAC-Agg, Coarse - HMAC - R & R Logging &Grav","APS00006910","R & R Logging & Gravel-Columbia, MS","1003M00120","AGGR","Agg, Coarse - HMAC","Agg, Coarse - HMAC - R & R Logging &Grav",20490101]
["AGGR-APS00006920","APS00006920-1003M00110","APS00006920-Ram Industries-Mt. Hermon, LA","1003M00110-Agg, Fine  - HMAC-FnSandHMAC RamIndustriesMtHermonLA","APS00006920","Ram Industries-Mt. Hermon, LA","1003M00110","AGGR","Agg, Fine  - HMAC","FnSandHMAC RamIndustriesMtHermonLA",20490101]
[{"$f":"H259&\"-\"&E259","v":"AGGR-APS00006920"},{"$f":"E259&\"-\"&G259","v":"APS00006920-1003M00120"},{"$f":"E259&\"-\"&F259","v":"APS00006920-Ram Industries-Mt. Hermon, LA"},{"$f":"G259&\"-\"&I259&IF(J259<>\"\", \"-\"&J259, \"\")","v":"1003M00120-Agg, Coarse - HMAC-Agg, Coarse - HMAC - Ram Industries"},"APS00006920","Ram Industries-Mt. Hermon, LA","1003M00120","AGGR","Agg, Coarse - HMAC","Agg, Coarse - HMAC - Ram Industries",20490101]
["AGGR-APS00006930","APS00006930-1003M00110","APS00006930-Riverside Sand & Gravel-Tylertown, MS","1003M00110-Agg, Fine  - HMAC-FnSandHMAC RiversideSndGrvlTylertownMS","APS00006930","Riverside Sand & Gravel-Tylertown, MS","1003M00110","AGGR","Agg, Fine  - HMAC","FnSandHMAC RiversideSndGrvlTylertownMS",20490101]
["AGGR-APS00006980","APS00006980-1003M00110","APS00006980-Simpson Materials Co.-Valley Park, MO","1003M00110-Agg, Fine  - HMAC-FnSandHMAC Simpson Materials Ranken Site","APS00006980","Simpson Materials Co.-Valley Park, MO","1003M00110","AGGR","Agg, Fine  - HMAC","FnSandHMAC Simpson Materials Ranken Site",20490101]
["AGGR-APS00006980","APS00006980-1003M00120","APS00006980-Simpson Materials Co.-Valley Park, MO","1003M00120-Agg, Coarse - HMAC-Agg, Coarse - HMAC - Simpson Materials ","APS00006980","Simpson Materials Co.-Valley Park, MO","1003M00120","AGGR","Agg, Coarse - HMAC","Agg, Coarse - HMAC - Simpson Materials ",20490101]
["AGGR-APS00006990","APS00006990-1003M00110","APS00006990-Smith Sand & Gravel-Franklinton,LA","1003M00110-Agg, Fine  - HMAC-FnSandHMAC SmithSndGrvlFranklintonLA","APS00006990","Smith Sand & Gravel-Franklinton,LA","1003M00110","AGGR","Agg, Fine  - HMAC","FnSandHMAC SmithSndGrvlFranklintonLA",20490101]
["AGGR-APS00006990","APS00006990-1003M00120","APS00006990-Smith Sand & Gravel-Franklinton,LA","1003M00120-Agg, Coarse - HMAC-Agg, Coarse - HMAC - Smith Sand&Gravel","APS00006990","Smith Sand & Gravel-Franklinton,LA","1003M00120","AGGR","Agg, Coarse - HMAC","Agg, Coarse - HMAC - Smith Sand&Gravel",20490101]
["AGGR-APS00007000","APS00007000-1003M00110","APS00007000-South Land Sand-Ringgold, LA","1003M00110-Agg, Fine  - HMAC-FnSandHMAC South Land Sand Ringgold","APS00007000","South Land Sand-Ringgold, LA","1003M00110","AGGR","Agg, Fine  - HMAC","FnSandHMAC South Land Sand Ringgold",20490101]
["AGGR-APS00007000","APS00007000-1003M00120","APS00007000-South Land Sand-Ringgold, LA","1003M00120-Agg, Coarse - HMAC-Agg. Coarse - HMAC - South Land Sand","APS00007000","South Land Sand-Ringgold, LA","1003M00120","AGGR","Agg, Coarse - HMAC","Agg. Coarse - HMAC - South Land Sand",20490101]
["AGGR-APS00007010","APS00007010-1003M00110","APS00007010-Southern Aggregates, LLC-Norwood,LA","1003M00110-Agg, Fine  - HMAC-FnSandHMAC SouthernAggNorwoodLA","APS00007010","Southern Aggregates, LLC-Norwood,LA","1003M00110","AGGR","Agg, Fine  - HMAC","FnSandHMAC SouthernAggNorwoodLA",20490101]
["AGGR-APS00007010","APS00007010-1003M00120","APS00007010-Southern Aggregates, LLC-Norwood,LA","1003M00120-Agg, Coarse - HMAC-Agg. Coarse - HMAC - Southern Aggs","APS00007010","Southern Aggregates, LLC-Norwood,LA","1003M00120","AGGR","Agg, Coarse - HMAC","Agg. Coarse - HMAC - Southern Aggs",20490101]
["AGGR-APS00007030","APS00007030-1003M00110","APS00007030-Southern Aggregates, LLC-DenhamSprings,LA-Plant7","1003M00110-Agg, Fine  - HMAC-FnSandHMAC SouthernAgg-DS-Plant7","APS00007030","Southern Aggregates, LLC-DenhamSprings,LA-Plant7","1003M00110","AGGR","Agg, Fine  - HMAC","FnSandHMAC SouthernAgg-DS-Plant7",20200227]
["AGGR-APS00007030","APS00007030-1003M00120","APS00007030-Southern Aggregates, LLC-DenhamSprings,LA-Plant7","1003M00120-Agg, Coarse - HMAC-Agg, Coarse - HMAC - Southern Aggs #7","APS00007030","Southern Aggregates, LLC-DenhamSprings,LA-Plant7","1003M00120","AGGR","Agg, Coarse - HMAC","Agg, Coarse - HMAC - Southern Aggs #7",20200227]
["AGGR-APS00007130","APS00007130-1003M00110","APS00007130-Swim Enterprises-Columbia, LA","1003M00110-Agg, Fine  - HMAC-FnSandHMAC SwimEnterprisesColumbiaLA","APS00007130","Swim Enterprises-Columbia, LA","1003M00110","AGGR","Agg, Fine  - HMAC","FnSandHMAC SwimEnterprisesColumbiaLA",20490101]
["AGGR-APS00007140","APS00007140-1003M00110","APS00007140-T & D Sand & Gravel, LLC-Independence, LA","1003M00110-Agg, Fine  - HMAC-FnSandHMAC T&DSndGrvlIndependenceLA","APS00007140","T & D Sand & Gravel, LLC-Independence, LA","1003M00110","AGGR","Agg, Fine  - HMAC","FnSandHMAC T&DSndGrvlIndependenceLA",20490101]
["AGGR-APS00007140","APS00007140-1003M00120","APS00007140-T & D Sand & Gravel, LLC-Independence, LA","1003M00120-Agg, Coarse - HMAC-Agg, Coarse - HMAC - T & D Sand &Gravel","APS00007140","T & D Sand & Gravel, LLC-Independence, LA","1003M00120","AGGR","Agg, Coarse - HMAC","Agg, Coarse - HMAC - T & D Sand &Gravel",20490101]
["AGGR-APS00007150","APS00007150-1003M00110","APS00007150-Tanner Heavy Equipment Co-Leesville, LA","1003M00110-Agg, Fine  - HMAC-FnSandHMAC TannerHeavyEquipLeesvilleLA","APS00007150","Tanner Heavy Equipment Co-Leesville, LA","1003M00110","AGGR","Agg, Fine  - HMAC","FnSandHMAC TannerHeavyEquipLeesvilleLA",20490101]
["AGGR-APS00007160","APS00007160-1003M00110","APS00007160-Texas Crushed Stone Co., Inc.-Georgetown, TX","1003M00110-Agg, Fine  - HMAC-FnSand HMAC Texas Crushed  Co","APS00007160","Texas Crushed Stone Co., Inc.-Georgetown, TX","1003M00110","AGGR","Agg, Fine  - HMAC","FnSand HMAC Texas Crushed  Co",20490101]
["AGGR-APS00007160","APS00007160-1003M00120","APS00007160-Texas Crushed Stone Co., Inc.-Georgetown, TX","1003M00120-Agg, Coarse - HMAC-Agg-CoarseHMAC-Texas Crushed Stone Co","APS00007160","Texas Crushed Stone Co., Inc.-Georgetown, TX","1003M00120","AGGR","Agg, Coarse - HMAC","Agg-CoarseHMAC-Texas Crushed Stone Co",20490101]
["AGGR-APS00007170","APS00007170-1003M00110","APS00007170-The Fordyce Co-Victoria, TX","1003M00110-Agg, Fine  - HMAC-FnSandHMAC FordyceCoVictoriaTX","APS00007170","The Fordyce Co-Victoria, TX","1003M00110","AGGR","Agg, Fine  - HMAC","FnSandHMAC FordyceCoVictoriaTX",20490101]
["AGGR-APS00007170","APS00007170-1003M00120","APS00007170-The Fordyce Co-Victoria, TX","1003M00120-Agg, Coarse - HMAC-Agg, Coarse - HMAC - FordyceCoVictoriaTX","APS00007170","The Fordyce Co-Victoria, TX","1003M00120","AGGR","Agg, Coarse - HMAC","Agg, Coarse - HMAC - FordyceCoVictoriaTX",20490101]
["AGGR-APS00007180","APS00007180-1003M00110","APS00007180-Tower Rock Stone Co-St.Genevieve, MO- Limestn Zn8","1003M00110-Agg, Fine  - HMAC-FnSand HMAC Tower Rock Stone Co","APS00007180","Tower Rock Stone Co-St.Genevieve, MO- Limestn Zn8","1003M00110","AGGR","Agg, Fine  - HMAC","FnSand HMAC Tower Rock Stone Co",20490101]
["AGGR-APS00007180","APS00007180-1003M00120","APS00007180-Tower Rock Stone Co-St.Genevieve, MO- Limestn Zn8","1003M00120-Agg, Coarse - HMAC-Agg-CoarseHMAC-Tower Rock Stone-Lmstn","APS00007180","Tower Rock Stone Co-St.Genevieve, MO- Limestn Zn8","1003M00120","AGGR","Agg, Coarse - HMAC","Agg-CoarseHMAC-Tower Rock Stone-Lmstn",20490101]
["AGGR-APS00007190","APS00007190-1003M00110","APS00007190-Tower Rock Stone Co-St.Genevieve, MO- Oolitic","1003M00110-Agg, Fine  - HMAC-FnSandHMAC Tower Rock Oolitic Columbia","APS00007190","Tower Rock Stone Co-St.Genevieve, MO- Oolitic","1003M00110","AGGR","Agg, Fine  - HMAC","FnSandHMAC Tower Rock Oolitic Columbia",20490101]
["AGGR-APS00007190","APS00007190-1003M00120","APS00007190-Tower Rock Stone Co-St.Genevieve, MO- Oolitic","1003M00120-Agg, Coarse - HMAC-Agg-CoarseHMAC-Tower Rock Stone -Oolitic","APS00007190","Tower Rock Stone Co-St.Genevieve, MO- Oolitic","1003M00120","AGGR","Agg, Coarse - HMAC","Agg-CoarseHMAC-Tower Rock Stone -Oolitic",20490101]
["AGGR-APS00007210","APS00007210-1003M00110","APS00007210-Triangle Aggregates, LLC-Jackson, AL","1003M00110-Agg, Fine  - HMAC-FnSandHMAC Triangle Aggs Jackson,AL","APS00007210","Triangle Aggregates, LLC-Jackson, AL","1003M00110","AGGR","Agg, Fine  - HMAC","FnSandHMAC Triangle Aggs Jackson,AL",20490101]
["AGGR-APS00007210","APS00007210-1003M00120","APS00007210-Triangle Aggregates, LLC-Jackson, AL","1003M00120-Agg, Coarse - HMAC-Agg, Coarse - HMAC - Triangle Aggs Inc","APS00007210","Triangle Aggregates, LLC-Jackson, AL","1003M00120","AGGR","Agg, Coarse - HMAC","Agg, Coarse - HMAC - Triangle Aggs Inc",20490101]
["AGGR-APS00007250","APS00007250-1003M00110","APS00007250-Trinity Materials-West Lockesburg, AR","1003M00110-Agg, Fine  - HMAC-FnSandHMAC TrinityMatlWestLockesburgAR","APS00007250","Trinity Materials-West Lockesburg, AR","1003M00110","AGGR","Agg, Fine  - HMAC","FnSandHMAC TrinityMatlWestLockesburgAR",20490101]
["AGGR-APS00007250","APS00007250-1003M00120","APS00007250-Trinity Materials-West Lockesburg, AR","1003M00120-Agg, Coarse - HMAC-Agg, Coarse-HMAC-TrinityMatlsWLockesburg","APS00007250","Trinity Materials-West Lockesburg, AR","1003M00120","AGGR","Agg, Coarse - HMAC","Agg, Coarse-HMAC-TrinityMatlsWLockesburg",20490101]
["AGGR-APS00007260","APS00007260-1003M00110","APS00007260-Martin Marietta - Bridgeport TX","1003M00110-Agg, Fine  - HMAC-FnSandHMAC MartinMariettaBridgeport","APS00007260","Martin Marietta - Bridgeport TX","1003M00110","AGGR","Agg, Fine  - HMAC","FnSandHMAC MartinMariettaBridgeport",20490101]
["AGGR-APS00007260","APS00007260-1003M00120","APS00007260-Martin Marietta - Bridgeport TX","1003M00120-Agg, Coarse - HMAC-Agg-CoarseHMAC-MartinMariettaBridgeport","APS00007260","Martin Marietta - Bridgeport TX","1003M00120","AGGR","Agg, Coarse - HMAC","Agg-CoarseHMAC-MartinMariettaBridgeport",20490101]
["AGGR-APS00007270","APS00007270-1003M00110","APS00007270-Martin Marietta - Perryville,LA","1003M00110-Agg, Fine  - HMAC-FnSandHMAC Martin Mar-Perryville","APS00007270","Martin Marietta - Perryville,LA","1003M00110","AGGR","Agg, Fine  - HMAC","FnSandHMAC Martin Mar-Perryville",20490101]
["AGGR-APS00007270","APS00007270-1003M00110","APS00007270-Martin Marietta - Perryville,LA","1003M00110-Agg, Fine  - HMAC-FnSandHMAC TXI-BastropLA","APS00007270","Martin Marietta - Perryville,LA","1003M00110","AGGR","Agg, Fine  - HMAC","FnSandHMAC TXI-BastropLA",20490101]
["AGGR-APS00007270","APS00007270-1003M00120","APS00007270-Martin Marietta - Perryville,LA","1003M00120-Agg, Coarse - HMAC-Agg, Coarse - HMAC - TXI -Bastrop","APS00007270","Martin Marietta - Perryville,LA","1003M00120","AGGR","Agg, Coarse - HMAC","Agg, Coarse - HMAC - TXI -Bastrop",20150511]
["AGGR-APS00007290","APS00007290-1003M00110","APS00007290-Martin Marietta - Jena, LA","1003M00110-Agg, Fine  - HMAC-FnSandHMAC Martin Mar - Jena","APS00007290","Martin Marietta - Jena, LA","1003M00110","AGGR","Agg, Fine  - HMAC","FnSandHMAC Martin Mar - Jena",20490101]
["AGGR-APS00007290","APS00007290-1003M00110","APS00007290-Martin Marietta - Jena, LA","1003M00110-Agg, Fine  - HMAC-FnSandHMAC TXI-JenaLA","APS00007290","Martin Marietta - Jena, LA","1003M00110","AGGR","Agg, Fine  - HMAC","FnSandHMAC TXI-JenaLA",20490101]
["AGGR-APS00007290","APS00007290-1003M00120","APS00007290-Martin Marietta - Jena, LA","1003M00120-Agg, Coarse - HMAC-Agg, Coarse - HMAC - Martin Mar - Jena","APS00007290","Martin Marietta - Jena, LA","1003M00120","AGGR","Agg, Coarse - HMAC","Agg, Coarse - HMAC - Martin Mar - Jena",20490101]
["AGGR-APS00007290","APS00007290-1003M00120","APS00007290-Martin Marietta - Jena, LA","1003M00120-Agg, Coarse - HMAC-Agg, Coarse - HMAC - TXI - Jena","APS00007290","Martin Marietta - Jena, LA","1003M00120","AGGR","Agg, Coarse - HMAC","Agg, Coarse - HMAC - TXI - Jena",20490101]
["AGGR-APS00007300","APS00007300-1003M00110","APS00007300-Martin Marietta - Woodworth, LA","1003M00110-Agg, Fine  - HMAC-FnSandHMAC TXI-WoodworthLA","APS00007300","Martin Marietta - Woodworth, LA","1003M00110","AGGR","Agg, Fine  - HMAC","FnSandHMAC TXI-WoodworthLA",20190116]
["AGGR-APS00007300","APS00007300-1003M00110","APS00007300-Martin Marietta - Woodworth, LA","1003M00110-Agg, Fine  - HMAC-rFnSandHMAC MartinMarWoodworth","APS00007300","Martin Marietta - Woodworth, LA","1003M00110","AGGR","Agg, Fine  - HMAC","rFnSandHMAC MartinMarWoodworth",20490101]
["AGGR-APS00007300","APS00007300-1003M00120","APS00007300-Martin Marietta - Woodworth, LA","1003M00120-Agg, Coarse - HMAC-Agg, Coarse - HMAC - TXI - Woodwoorth","APS00007300","Martin Marietta - Woodworth, LA","1003M00120","AGGR","Agg, Coarse - HMAC","Agg, Coarse - HMAC - TXI - Woodwoorth",20190116]
["AGGR-APS00007300","APS00007300-1003M00120","APS00007300-Martin Marietta - Woodworth, LA","1003M00120-Agg, Coarse - HMAC-Agg, Coarse -HMAC Martin Marr Woodwoorth","APS00007300","Martin Marietta - Woodworth, LA","1003M00120","AGGR","Agg, Coarse - HMAC","Agg, Coarse -HMAC Martin Marr Woodwoorth",20490101]
["AGGR-APS00007310","APS00007310-1003M00110","APS00007310-Vermillion Shell & Limestone Co. Inc.-Maurice, LA","1003M00110-Agg, Fine  - HMAC-FnSandHMAC VermillionShellMauriceLA","APS00007310","Vermillion Shell & Limestone Co. Inc.-Maurice, LA","1003M00110","AGGR","Agg, Fine  - HMAC","FnSandHMAC VermillionShellMauriceLA",20490101]
["AGGR-APS00007320","APS00007320-1003M00110","APS00007320-Village Sand, Inc.-Kinder, LA","1003M00110-Agg, Fine  - HMAC-FnSandHMAC VillageSandKinderLA","APS00007320","Village Sand, Inc.-Kinder, LA","1003M00110","AGGR","Agg, Fine  - HMAC","FnSandHMAC VillageSandKinderLA",20490101]
["AGGR-APS00007320","APS00007320-1003M00120","APS00007320-Village Sand, Inc.-Kinder, LA","1003M00120-Agg, Coarse - HMAC-Agg-CoarseHMAC-Village Sand, Inc-Kinder","APS00007320","Village Sand, Inc.-Kinder, LA","1003M00120","AGGR","Agg, Coarse - HMAC","Agg-CoarseHMAC-Village Sand, Inc-Kinder",20490101]
["AGGR-APS00007320","APS00007320-1003M00120","APS00007320-Village Sand, Inc.-Kinder, LA","1003M00120-Agg, Coarse - HMAC-Agg-CoarseHMAC-Vulcan Matls-Kinder, LA","APS00007320","Village Sand, Inc.-Kinder, LA","1003M00120","AGGR","Agg, Coarse - HMAC","Agg-CoarseHMAC-Vulcan Matls-Kinder, LA",20490101]
["AGGR-APS00007340","APS00007340-1003M00110","APS00007340-Vulcan Materials Co-Calera, AL","1003M00110-Agg, Fine  - HMAC-FnSandHMAC Vulcan Matls Co Calera","APS00007340","Vulcan Materials Co-Calera, AL","1003M00110","AGGR","Agg, Fine  - HMAC","FnSandHMAC Vulcan Matls Co Calera",20490101]
["AGGR-APS00007340","APS00007340-1003M00120","APS00007340-Vulcan Materials Co-Calera, AL","1003M00120-Agg, Coarse - HMAC-Agg-CoarseHMAC-Vulcan Matls-CaleraQuarry","APS00007340","Vulcan Materials Co-Calera, AL","1003M00120","AGGR","Agg, Coarse - HMAC","Agg-CoarseHMAC-Vulcan Matls-CaleraQuarry",20490101]
["AGGR-APS00007350","APS00007350-1003M00110","APS00007350-Vulcan Materials Co-Cancun, MEX","1003M00110-Agg, Fine  - HMAC-FnSandHMAC  Vulcan Matls Mexico","APS00007350","Vulcan Materials Co-Cancun, MEX","1003M00110","AGGR","Agg, Fine  - HMAC","FnSandHMAC  Vulcan Matls Mexico",20490101]
["AGGR-APS00007350","APS00007350-1003M00120","APS00007350-Vulcan Materials Co-Cancun, MEX","1003M00120-Agg, Coarse - HMAC-Agg-CoarseHMAC-Vulcan Matls-CancunSactun","APS00007350","Vulcan Materials Co-Cancun, MEX","1003M00120","AGGR","Agg, Coarse - HMAC","Agg-CoarseHMAC-Vulcan Matls-CancunSactun",20490101]
["AGGR-APS00007380","APS00007380-1003M00110","APS00007380-Vulcan Materials Co-Grand Rivers,KY- Ft Payne","1003M00110-Agg, Fine  - HMAC-FnSandHMAC Vulcan Matls - Ft. Payne","APS00007380","Vulcan Materials Co-Grand Rivers,KY- Ft Payne","1003M00110","AGGR","Agg, Fine  - HMAC","FnSandHMAC Vulcan Matls - Ft. Payne",20150728]
["AGGR-APS00007380","APS00007380-1003M00110","APS00007380-Vulcan Materials Co-Grand Rivers,KY- Ft Payne","1003M00110-Agg, Fine  - HMAC-FnSandHMAC Vulcan Matls Ft. Payne","APS00007380","Vulcan Materials Co-Grand Rivers,KY- Ft Payne","1003M00110","AGGR","Agg, Fine  - HMAC","FnSandHMAC Vulcan Matls Ft. Payne",20490101]
["AGGR-APS00007380","APS00007380-1003M00120","APS00007380-Vulcan Materials Co-Grand Rivers,KY- Ft Payne","1003M00120-Agg, Coarse - HMAC-Agg, Coarse - HMAC - VulcanMatlsFtPayne","APS00007380","Vulcan Materials Co-Grand Rivers,KY- Ft Payne","1003M00120","AGGR","Agg, Coarse - HMAC","Agg, Coarse - HMAC - VulcanMatlsFtPayne",20490101]
["AGGR-APS00007380","APS00007380-1003M00120","APS00007380-Vulcan Materials Co-Grand Rivers,KY- Ft Payne","1003M00120-Agg, Coarse - HMAC-Agg.CoarseHMAC VulcanMatls - Ft Payne","APS00007380","Vulcan Materials Co-Grand Rivers,KY- Ft Payne","1003M00120","AGGR","Agg, Coarse - HMAC","Agg.CoarseHMAC VulcanMatls - Ft Payne",20150728]
["AGGR-APS00007390","APS00007390-1003M00110","APS00007390-Vulcan Materials Co-Grand Rivers,KY- Warsaw","1003M00110-Agg, Fine  - HMAC-FnSandHMAC Vulcan Matls Warsaw","APS00007390","Vulcan Materials Co-Grand Rivers,KY- Warsaw","1003M00110","AGGR","Agg, Fine  - HMAC","FnSandHMAC Vulcan Matls Warsaw",20490101]
["AGGR-APS00007390","APS00007390-1003M00120","APS00007390-Vulcan Materials Co-Grand Rivers,KY- Warsaw","1003M00120-Agg, Coarse - HMAC-Agg-CoarseHMAC-Vulcan Matls-Warsaw","APS00007390","Vulcan Materials Co-Grand Rivers,KY- Warsaw","1003M00120","AGGR","Agg, Coarse - HMAC","Agg-CoarseHMAC-Vulcan Matls-Warsaw",20490101]
["AGGR-APS00007430","APS00007430-1003M00110","APS00007430-Vulcan Materials Co-Tuscumbia, AL- Pride Quarry","1003M00110-Agg, Fine  - HMAC-FnSandHMAC Vulcan Matls Pride Tuscambia","APS00007430","Vulcan Materials Co-Tuscumbia, AL- Pride Quarry","1003M00110","AGGR","Agg, Fine  - HMAC","FnSandHMAC Vulcan Matls Pride Tuscambia",20490101]
["AGGR-APS00007430","APS00007430-1003M00120","APS00007430-Vulcan Materials Co-Tuscumbia, AL- Pride Quarry","1003M00120-Agg, Coarse - HMAC-Agg-CoarseHMAC-Vulcan Matls-Pride Quarry","APS00007430","Vulcan Materials Co-Tuscumbia, AL- Pride Quarry","1003M00120","AGGR","Agg, Coarse - HMAC","Agg-CoarseHMAC-Vulcan Matls-Pride Quarry",20490101]
["AGGR-APS00007450","APS00007450-1003M00110","APS00007450-Vulcan Materials Co-Trinity, AL","1003M00110-Agg, Fine  - HMAC-FnSandHMAC Vulcan Matls Trinity Plant","APS00007450","Vulcan Materials Co-Trinity, AL","1003M00110","AGGR","Agg, Fine  - HMAC","FnSandHMAC Vulcan Matls Trinity Plant",20490101]
["AGGR-APS00007450","APS00007450-1003M00120","APS00007450-Vulcan Materials Co-Trinity, AL","1003M00120-Agg, Coarse - HMAC-Agg-CoarseHMAC-Vulcan Matls-Trinity, AL","APS00007450","Vulcan Materials Co-Trinity, AL","1003M00120","AGGR","Agg, Coarse - HMAC","Agg-CoarseHMAC-Vulcan Matls-Trinity, AL",20490101]
["AGGR-APS00007480","APS00007480-1003M00110","APS00007480-Warren Paving-Salem, KY-Slats Lucas Quarry","1003M00110-Agg, Fine  - HMAC-FnSandHMAC Warren Paving Lucas quarry","APS00007480","Warren Paving-Salem, KY-Slats Lucas Quarry","1003M00110","AGGR","Agg, Fine  - HMAC","FnSandHMAC Warren Paving Lucas quarry",20490101]
["AGGR-APS00007480","APS00007480-1003M00120","APS00007480-Warren Paving-Salem, KY-Slats Lucas Quarry","1003M00120-Agg, Coarse - HMAC-Agg-CoarseHMAC-Warren Paving-Slats Lucas","APS00007480","Warren Paving-Salem, KY-Slats Lucas Quarry","1003M00120","AGGR","Agg, Coarse - HMAC","Agg-CoarseHMAC-Warren Paving-Slats Lucas",20490101]
["AGGR-APS00007490","APS00007490-1003M00110","APS00007490-Willis Sand & Gravel-Bogalusa, LA","1003M00110-Agg, Fine  - HMAC-FnSandHMAC WillisSndGrvlBogalusaLA","APS00007490","Willis Sand & Gravel-Bogalusa, LA","1003M00110","AGGR","Agg, Fine  - HMAC","FnSandHMAC WillisSndGrvlBogalusaLA",20490101]
["AGGR-APS00007490","APS00007490-1003M00120","APS00007490-Willis Sand & Gravel-Bogalusa, LA","1003M00120-Agg, Coarse - HMAC-Agg, Coarse - HMAC - Willis Sand&Gravel","APS00007490","Willis Sand & Gravel-Bogalusa, LA","1003M00120","AGGR","Agg, Coarse - HMAC","Agg, Coarse - HMAC - Willis Sand&Gravel",20490101]
["AGGR-APS00007500","APS00007500-1003M00110","APS00007500-Winn Materials, Inc.-Clarksville, TN","1003M00110-Agg, Fine  - HMAC-FnSandHMAC Winn Materials Clarksville","APS00007500","Winn Materials, Inc.-Clarksville, TN","1003M00110","AGGR","Agg, Fine  - HMAC","FnSandHMAC Winn Materials Clarksville",20490101]
[{"$f":"H323&\"-\"&E323","v":"AGGR-APS00007500"},{"$f":"E323&\"-\"&G323","v":"APS00007500-1003M00120"},{"$f":"E323&\"-\"&F323","v":"APS00007500-Winn Materials, Inc.-Clarksville, TN"},{"$f":"G323&\"-\"&I323&IF(J323<>\"\", \"-\"&J323, \"\")","v":"1003M00120-Agg, Coarse - HMAC-Agg-CoarseHMAC-Winn Matls,IncClarksville"},"APS00007500","Winn Materials, Inc.-Clarksville, TN","1003M00120","AGGR","Agg, Coarse - HMAC","Agg-CoarseHMAC-Winn Matls,IncClarksville",20490101]
["AGGR-APS00007510","APS00007510-1003M00110","APS00007510-Wooten Sand & Gravel-Fouke,AR","1003M00110-Agg, Fine  - HMAC-FnSandHMAC WootenSandGravelFoukeAR","APS00007510","Wooten Sand & Gravel-Fouke,AR","1003M00110","AGGR","Agg, Fine  - HMAC","FnSandHMAC WootenSandGravelFoukeAR",20490101]
["AGGR-APS00007510","APS00007510-1003M00120","APS00007510-Wooten Sand & Gravel-Fouke,AR","1003M00120-Agg, Coarse - HMAC-Agg, Coarse - HMAC - Wooten Sand&Gravel","APS00007510","Wooten Sand & Gravel-Fouke,AR","1003M00120","AGGR","Agg, Coarse - HMAC","Agg, Coarse - HMAC - Wooten Sand&Gravel",20490101]
["AGGR-APS00007520","APS00007520-1003M00110","APS00007520-Delta Materials - Marble Falls, TX","1003M00110-Agg, Fine  - HMAC-FnSandHMAC Delta Materials Fairland","APS00007520","Delta Materials - Marble Falls, TX","1003M00110","AGGR","Agg, Fine  - HMAC","FnSandHMAC Delta Materials Fairland",20490101]
["AGGR-APS00007520","APS00007520-1003M00110","APS00007520-Delta Materials - Marble Falls, TX","1003M00110-Agg, Fine  - HMAC-FnSandHMAC Delta Matls - Marble Falls","APS00007520","Delta Materials - Marble Falls, TX","1003M00110","AGGR","Agg, Fine  - HMAC","FnSandHMAC Delta Matls - Marble Falls",20150601]
["AGGR-APS00007520","APS00007520-1003M00120","APS00007520-Delta Materials - Marble Falls, TX","1003M00120-Agg, Coarse - HMAC-Agg-CoarseHMAC-Delta Matls (Fairland)","APS00007520","Delta Materials - Marble Falls, TX","1003M00120","AGGR","Agg, Coarse - HMAC","Agg-CoarseHMAC-Delta Matls (Fairland)",20490101]
["AGGR-APS00011330","APS00011330-1003M00110","APS00011330-Blount Brothers Construction, Inc. -Shreveport, LA","1003M00110-Agg, Fine  - HMAC-FnSandHMAC BlountBrosShreveport","APS00011330","Blount Brothers Construction, Inc. -Shreveport, LA","1003M00110","AGGR","Agg, Fine  - HMAC","FnSandHMAC BlountBrosShreveport",20490101]
["AGGR-APS00011340","APS00011340-1003M00110","APS00011340-BMS, LLC - Amite, LA","1003M00110-Agg, Fine  - HMAC-FnSnadHMAC BMSLLC - Amite","APS00011340","BMS, LLC - Amite, LA","1003M00110","AGGR","Agg, Fine  - HMAC","FnSnadHMAC BMSLLC - Amite",20490101]
["AGGR-APS00011340","APS00011340-1003M00120","APS00011340-BMS, LLC - Amite, LA","1003M00120-Agg, Coarse - HMAC-Agg, Coarse - HMAC BMX, LLC (Amite) ","APS00011340","BMS, LLC - Amite, LA","1003M00120","AGGR","Agg, Coarse - HMAC","Agg, Coarse - HMAC BMX, LLC (Amite) ",20490101]
["AGGR-APS00011350","APS00011350-1003M00110","APS00011350-Eastern Oklahoma Quarries, LLC - Spiro, OK","1003M00110-Agg, Fine  - HMAC-FnSandHMAC Eastern OK Quarries Spiro","APS00011350","Eastern Oklahoma Quarries, LLC - Spiro, OK","1003M00110","AGGR","Agg, Fine  - HMAC","FnSandHMAC Eastern OK Quarries Spiro",20490101]
["AGGR-APS00011360","APS00011360-1003M00110","APS00011360-Shale Support Holdings, LLC - Nicholson, MS","1003M00110-Agg, Fine  - HMAC-FnSandHMAC FRAC Diamond Agg Nicholson","APS00011360","Shale Support Holdings, LLC - Nicholson, MS","1003M00110","AGGR","Agg, Fine  - HMAC","FnSandHMAC FRAC Diamond Agg Nicholson",20160719]
["AGGR-APS00011360","APS00011360-1003M00110","APS00011360-Shale Support Holdings, LLC - Nicholson, MS","1003M00110-Agg, Fine  - HMAC-FnSandHMAC Shale Supp Hldgs Nicholson","APS00011360","Shale Support Holdings, LLC - Nicholson, MS","1003M00110","AGGR","Agg, Fine  - HMAC","FnSandHMAC Shale Supp Hldgs Nicholson",20490101]
["AGGR-APS00011360","APS00011360-1003M00120","APS00011360-Shale Support Holdings, LLC - Nicholson, MS","1003M00120-Agg, Coarse - HMAC-Agg, Coarse HMAC - FRAC Diamond","APS00011360","Shale Support Holdings, LLC - Nicholson, MS","1003M00120","AGGR","Agg, Coarse - HMAC","Agg, Coarse HMAC - FRAC Diamond",20160719]
["AGGR-APS00011360","APS00011360-1003M00120","APS00011360-Shale Support Holdings, LLC - Nicholson, MS","1003M00120-Agg, Coarse - HMAC-Agg, Coarse-HMAC ShaleSuppHldgs Nic'son","APS00011360","Shale Support Holdings, LLC - Nicholson, MS","1003M00120","AGGR","Agg, Coarse - HMAC","Agg, Coarse-HMAC ShaleSuppHldgs Nic'son",20490101]
["AGGR-APS00011380","APS00011380-1003M00110","APS00011380-South Gate Aggregates, LLC - Nicholson, MS","1003M00110-Agg, Fine  - HMAC-FnSandHMAC SGate Agg Burge NicholsonMS","APS00011380","South Gate Aggregates, LLC - Nicholson, MS","1003M00110","AGGR","Agg, Fine  - HMAC","FnSandHMAC SGate Agg Burge NicholsonMS",20490101]
["AGGR-APS00011380","APS00011380-1003M00120","APS00011380-South Gate Aggregates, LLC - Nicholson, MS","1003M00120-Agg, Coarse - HMAC-Agg, Coarse - HMAC - South Gate Aggs","APS00011380","South Gate Aggregates, LLC - Nicholson, MS","1003M00120","AGGR","Agg, Coarse - HMAC","Agg, Coarse - HMAC - South Gate Aggs",20490101]
["AGGR-APS00011410","APS00011410-1003M00110","APS00011410-Hard Rock Sand & Gravel LLC - Franklinton, LA - #1","1003M00110-Agg, Fine  - HMAC-FnSandHMAC HardRockS&G#2 Franklinton","APS00011410","Hard Rock Sand & Gravel LLC - Franklinton, LA - #1","1003M00110","AGGR","Agg, Fine  - HMAC","FnSandHMAC HardRockS&G#2 Franklinton",20490101]
["AGGR-APS00011410","APS00011410-1003M00120","APS00011410-Hard Rock Sand & Gravel LLC - Franklinton, LA - #1","1003M00120-Agg, Coarse - HMAC-Agg, Coarse -HMAC-Hard Rock S&G #1","APS00011410","Hard Rock Sand & Gravel LLC - Franklinton, LA - #1","1003M00120","AGGR","Agg, Coarse - HMAC","Agg, Coarse -HMAC-Hard Rock S&G #1",20490101]
["AGGR-APS00011430","APS00011430-1003M00110","APS00011430-APAC - Brickey's Stone-Bloomsdale, MO - Plattin","1003M00110-Agg, Fine  - HMAC-FnSandHMAC APAC Brickeys Stn Plattin","APS00011430","APAC - Brickey's Stone-Bloomsdale, MO - Plattin","1003M00110","AGGR","Agg, Fine  - HMAC","FnSandHMAC APAC Brickeys Stn Plattin",20150528]
["AGGR-APS00011430","APS00011430-1003M00110","APS00011430-APAC - Brickey's Stone-Bloomsdale, MO - Plattin","1003M00110-Agg, Fine  - HMAC-FnSandHMAC APACBrickey'sStone Plattin","APS00011430","APAC - Brickey's Stone-Bloomsdale, MO - Plattin","1003M00110","AGGR","Agg, Fine  - HMAC","FnSandHMAC APACBrickey'sStone Plattin",20490101]
["AGGR-APS00011430","APS00011430-1003M00120","APS00011430-APAC - Brickey's Stone-Bloomsdale, MO - Plattin","1003M00120-Agg, Coarse - HMAC-Agg-CoarseHMAC-APAC-Brickey'sStn-Plattin","APS00011430","APAC - Brickey's Stone-Bloomsdale, MO - Plattin","1003M00120","AGGR","Agg, Coarse - HMAC","Agg-CoarseHMAC-APAC-Brickey'sStn-Plattin",20490101]
["AGGR-APS00011450","APS00011450-1003M00110","APS00011450-Huey P. Stockstill, LLC- Nicholson, MS","1003M00110-Agg, Fine  - HMAC- FnSandHMAC Huey Stockstill-Nicholson","APS00011450","Huey P. Stockstill, LLC- Nicholson, MS","1003M00110","AGGR","Agg, Fine  - HMAC"," FnSandHMAC Huey Stockstill-Nicholson",20490101]
["AGGR-APS00011460","APS00011460-1003M00110","APS00011460-Hunt Gravel - Franklinton, LA","1003M00110-Agg, Fine  - HMAC-FnSandHMAC Hunt Gravel Franklinton","APS00011460","Hunt Gravel - Franklinton, LA","1003M00110","AGGR","Agg, Fine  - HMAC","FnSandHMAC Hunt Gravel Franklinton",20490101]
["AGGR-APS00011460","APS00011460-1003M00120","APS00011460-Hunt Gravel - Franklinton, LA","1003M00120-Agg, Coarse - HMAC-Agg, Coarse-HMAC-Hunt Gravel Franklinton","APS00011460","Hunt Gravel - Franklinton, LA","1003M00120","AGGR","Agg, Coarse - HMAC","Agg, Coarse-HMAC-Hunt Gravel Franklinton",20490101]
["AGGR-APS00011470","APS00011470-1003M00110","APS00011470-Eastern Oklahoma Quarries - Garland, AR","1003M00110-Agg, Fine  - HMAC-FnSandHMAC Eastern OK Quarries GarlandAR","APS00011470","Eastern Oklahoma Quarries - Garland, AR","1003M00110","AGGR","Agg, Fine  - HMAC","FnSandHMAC Eastern OK Quarries GarlandAR",20490101]
["AGGR-APS00011520","APS00011520-1003M00110","APS00011520-Industrial Mining Plant 5 - Tickfaw, LA","1003M00110-Agg, Fine  - HMAC-FnSandHMAC IndMinningPlt5-Tickfaw","APS00011520","Industrial Mining Plant 5 - Tickfaw, LA","1003M00110","AGGR","Agg, Fine  - HMAC","FnSandHMAC IndMinningPlt5-Tickfaw",20490101]
["AGGR-APS00011520","APS00011520-1003M00120","APS00011520-Industrial Mining Plant 5 - Tickfaw, LA","1003M00120-Agg, Coarse - HMAC-Agg, Coarse - HMAC Industrial Mining","APS00011520","Industrial Mining Plant 5 - Tickfaw, LA","1003M00120","AGGR","Agg, Coarse - HMAC","Agg, Coarse - HMAC Industrial Mining",20490101]
["AGGR-APS00011620","APS00011620-1003M00110","APS00011620-Central Stone Co - Farmington, MO","1003M00110-Agg, Fine  - HMAC-FnSandHMAC Central Stone Butler Hill","APS00011620","Central Stone Co - Farmington, MO","1003M00110","AGGR","Agg, Fine  - HMAC","FnSandHMAC Central Stone Butler Hill",20490101]
["AGGR-APS00011620","APS00011620-1003M00110","APS00011620-Central Stone Co - Farmington, MO","1003M00110-Agg, Fine  - HMAC-FnSandHMAC Central Stone Farmington","APS00011620","Central Stone Co - Farmington, MO","1003M00110","AGGR","Agg, Fine  - HMAC","FnSandHMAC Central Stone Farmington",20150601]
["AGGR-APS00011620","APS00011620-1003M00120","APS00011620-Central Stone Co - Farmington, MO","1003M00120-Agg, Coarse - HMAC-Agg, Coarse - HMAC- Central Stone Co","APS00011620","Central Stone Co - Farmington, MO","1003M00120","AGGR","Agg, Coarse - HMAC","Agg, Coarse - HMAC- Central Stone Co",20490101]
["AGGR-APS00011630","APS00011630-1003M00110","APS00011630-Hanson Aggregate - Ennis, TX","1003M00110-Agg, Fine  - HMAC-FnSandHMAC HansonAgg Bristol Ennis","APS00011630","Hanson Aggregate - Ennis, TX","1003M00110","AGGR","Agg, Fine  - HMAC","FnSandHMAC HansonAgg Bristol Ennis",20150520]
["AGGR-APS00011640","APS00011640-1003M00110","APS00011640-Fleniken Sand & Gravel Inc - Clinton, LA","1003M00110-Agg, Fine  - HMAC-FnSandHMAC BarberBros Clinton","APS00011640","Fleniken Sand & Gravel Inc - Clinton, LA","1003M00110","AGGR","Agg, Fine  - HMAC","FnSandHMAC BarberBros Clinton",20490101]
["AGGR-APS00011640","APS00011640-1003M00120","APS00011640-Fleniken Sand & Gravel Inc - Clinton, LA","1003M00120-Agg, Coarse - HMAC-Agg, Coarse - HMAC- Barber Bros.-Clinton","APS00011640","Fleniken Sand & Gravel Inc - Clinton, LA","1003M00120","AGGR","Agg, Coarse - HMAC","Agg, Coarse - HMAC- Barber Bros.-Clinton",20490101]
["AGGR-APS00011650","APS00011650-1003M00110","APS00011650-Dolese Bros-St.HelenaSand&Gravel - Pine Grove, LA","1003M00110-Agg, Fine  - HMAC-FnSandHMAC DoleseBro Pine Grove","APS00011650","Dolese Bros-St.HelenaSand&Gravel - Pine Grove, LA","1003M00110","AGGR","Agg, Fine  - HMAC","FnSandHMAC DoleseBro Pine Grove",20200829]
["AGGR-APS00011650","APS00011650-1003M00120","APS00011650-Dolese Bros-St.HelenaSand&Gravel - Pine Grove, LA","1003M00120-Agg, Coarse - HMAC-Agg, Coarse - HMAC - Dolese Bros","APS00011650","Dolese Bros-St.HelenaSand&Gravel - Pine Grove, LA","1003M00120","AGGR","Agg, Coarse - HMAC","Agg, Coarse - HMAC - Dolese Bros",20200829]
["AGGR-APS00011660","APS00011660-1003M00110","APS00011660-Perero Co. DBA-DND Landscape - Broussard, LA","1003M00110-Agg, Fine  - HMAC-FnSandHMAC Perero Co DND Landscape","APS00011660","Perero Co. DBA-DND Landscape - Broussard, LA","1003M00110","AGGR","Agg, Fine  - HMAC","FnSandHMAC Perero Co DND Landscape",20490101]
["AGGR-APS00011680","APS00011680-1003M00110","APS00011680-Larry Grayson & Son Trucking, LLC -Forest Hill, LA","1003M00110-Agg, Fine  - HMAC-FnSandHMAC Larry Grayson&Son-Ahtus Pit","APS00011680","Larry Grayson & Son Trucking, LLC -Forest Hill, LA","1003M00110","AGGR","Agg, Fine  - HMAC","FnSandHMAC Larry Grayson&Son-Ahtus Pit",20490101]
["AGGR-APS00011680","APS00011680-1003M00120","APS00011680-Larry Grayson & Son Trucking, LLC -Forest Hill, LA","1003M00120-Agg, Coarse - HMAC-Agg, Coarse - HMAC - Larry Grayson","APS00011680","Larry Grayson & Son Trucking, LLC -Forest Hill, LA","1003M00120","AGGR","Agg, Coarse - HMAC","Agg, Coarse - HMAC - Larry Grayson",20490101]
["AGGR-APS00011690","APS00011690-1003M00110","APS00011690-Hammett & Green Aggregates - Vicksburg, MS","1003M00110-Agg, Fine  - HMAC-FnSandHMAC Hammett&Green Vicksburg","APS00011690","Hammett & Green Aggregates - Vicksburg, MS","1003M00110","AGGR","Agg, Fine  - HMAC","FnSandHMAC Hammett&Green Vicksburg",20490101]
["AGGR-APS00011690","APS00011690-1003M00120","APS00011690-Hammett & Green Aggregates - Vicksburg, MS","1003M00120-Agg, Coarse - HMAC-Agg, Coarse - HMAC-Hamm&GreenAgg Vicksbg","APS00011690","Hammett & Green Aggregates - Vicksburg, MS","1003M00120","AGGR","Agg, Coarse - HMAC","Agg, Coarse - HMAC-Hamm&GreenAgg Vicksbg",20490101]
["AGGR-APS00011700","APS00011700-1003M00110","APS00011700-Madden Roseland, LA Gravel Pit - Roseland, LA","1003M00110-Agg, Fine  - HMAC-FnSandHMAC DiamondB Drude Roseland","APS00011700","Madden Roseland, LA Gravel Pit - Roseland, LA","1003M00110","AGGR","Agg, Fine  - HMAC","FnSandHMAC DiamondB Drude Roseland",20221117]
["AGGR-APS00011700","APS00011700-1003M00110","APS00011700-Madden Roseland, LA Gravel Pit - Roseland, LA","1003M00110-Agg, Fine  - HMAC-FnSandHMAC Madden Roseland Grav Pit","APS00011700","Madden Roseland, LA Gravel Pit - Roseland, LA","1003M00110","AGGR","Agg, Fine  - HMAC","FnSandHMAC Madden Roseland Grav Pit",20490101]
["AGGR-APS00011700","APS00011700-1003M00120","APS00011700-Madden Roseland, LA Gravel Pit - Roseland, LA","1003M00120-Agg, Coarse - HMAC-Agg, Coarse - HMAC - Diamond B(Roseland)","APS00011700","Madden Roseland, LA Gravel Pit - Roseland, LA","1003M00120","AGGR","Agg, Coarse - HMAC","Agg, Coarse - HMAC - Diamond B(Roseland)",20221117]
["AGGR-APS00011700","APS00011700-1003M00120","APS00011700-Madden Roseland, LA Gravel Pit - Roseland, LA","1003M00120-Agg, Coarse - HMAC-Agg, Coarse - HMAC -Madden Roseland","APS00011700","Madden Roseland, LA Gravel Pit - Roseland, LA","1003M00120","AGGR","Agg, Coarse - HMAC","Agg, Coarse - HMAC -Madden Roseland",20490101]
["AGGR-APS00011710","APS00011710-1003M00110","APS00011710-Diamond B Construction Co.,LLC - Boyce, LA","1003M00110-Agg, Fine  - HMAC-FnSandHMAC Dia B Wells/Gard Boyce","APS00011710","Diamond B Construction Co.,LLC - Boyce, LA","1003M00110","AGGR","Agg, Fine  - HMAC","FnSandHMAC Dia B Wells/Gard Boyce",20490101]
["AGGR-APS00011720","APS00011720-1003M00110","APS00011720-Diamond B Construction Co., LLC  Woodworth, LA","1003M00110-Agg, Fine  - HMAC-FnSandHMAC Diamond B Woodworth","APS00011720","Diamond B Construction Co., LLC  Woodworth, LA","1003M00110","AGGR","Agg, Fine  - HMAC","FnSandHMAC Diamond B Woodworth",20490101]
["AGGR-APS00011760","APS00011760-1003M00110","APS00011760-Lafayette Sand & Fill - Lafayette, LA","1003M00110-Agg, Fine  - HMAC-FnSandHMAC Lafayette Sand&Fill-Carencro","APS00011760","Lafayette Sand & Fill - Lafayette, LA","1003M00110","AGGR","Agg, Fine  - HMAC","FnSandHMAC Lafayette Sand&Fill-Carencro",20490101]
["AGGR-APS00011790","APS00011790-1003M00110","APS00011790-Southern Aggregates - Amite, LA - #9","1003M00110-Agg, Fine  - HMAC-FnSandHMAC Southern Aggs - Amite","APS00011790","Southern Aggregates - Amite, LA - #9","1003M00110","AGGR","Agg, Fine  - HMAC","FnSandHMAC Southern Aggs - Amite",20200529]
["AGGR-APS00011790","APS00011790-1003M00120","APS00011790-Southern Aggregates - Amite, LA - #9","1003M00120-Agg, Coarse - HMAC-Agg, Coarse - HMAC - Southern Aggs #9","APS00011790","Southern Aggregates - Amite, LA - #9","1003M00120","AGGR","Agg, Coarse - HMAC","Agg, Coarse - HMAC - Southern Aggs #9",20200529]
["AGGR-APS00011800","APS00011800-1003M00110","APS00011800-Bunch's Sand and Gravel #2 - Greensburg, LA","1003M00110-Agg, Fine  - HMAC-FnSandHMAC Bunch Gravel#2 Grnsburg","APS00011800","Bunch's Sand and Gravel #2 - Greensburg, LA","1003M00110","AGGR","Agg, Fine  - HMAC","FnSandHMAC Bunch Gravel#2 Grnsburg",20490101]
["AGGR-APS00011800","APS00011800-1003M00120","APS00011800-Bunch's Sand and Gravel #2 - Greensburg, LA","1003M00120-Agg, Coarse - HMAC-Agg, Coarse - HMAC-Bunch's Gravel(Grnbg)","APS00011800","Bunch's Sand and Gravel #2 - Greensburg, LA","1003M00120","AGGR","Agg, Coarse - HMAC","Agg, Coarse - HMAC-Bunch's Gravel(Grnbg)",20490101]
["AGGR-APS00011810","APS00011810-1003M00110","APS00011810-Amberg Construction - Olla, LA","1003M00110-Agg, Fine  - HMAC-FnSandHMAC Amberg Constr-Aiwell-Olla","APS00011810","Amberg Construction - Olla, LA","1003M00110","AGGR","Agg, Fine  - HMAC","FnSandHMAC Amberg Constr-Aiwell-Olla",20220104]
["AGGR-APS00011810","APS00011810-1003M00120","APS00011810-Amberg Construction - Olla, LA","1003M00120-Agg, Coarse - HMAC-Agg, Coarse - HMAC  AmbergConstr Aimwell","APS00011810","Amberg Construction - Olla, LA","1003M00120","AGGR","Agg, Coarse - HMAC","Agg, Coarse - HMAC  AmbergConstr Aimwell",20220104]
["AGGR-APS00011870","APS00011870-1003M00110","APS00011870-Lafarge Aggregates-Smithland, KY-Three Rivers-S1","1003M00110-Agg, Fine  - HMAC-FnSandHMAC  Lafarge N. A. Pit #1 BenchS1","APS00011870","Lafarge Aggregates-Smithland, KY-Three Rivers-S1","1003M00110","AGGR","Agg, Fine  - HMAC","FnSandHMAC  Lafarge N. A. Pit #1 BenchS1",20490101]
["AGGR-APS00011870","APS00011870-1003M00110","APS00011870-Lafarge Aggregates-Smithland, KY-Three Rivers-S1","1003M00110-Agg, Fine  - HMAC-FnSandHMAC LafargeN.A.3RvrsS1-Smithland","APS00011870","Lafarge Aggregates-Smithland, KY-Three Rivers-S1","1003M00110","AGGR","Agg, Fine  - HMAC","FnSandHMAC LafargeN.A.3RvrsS1-Smithland",20150608]
["AGGR-APS00011870","APS00011870-1003M00120","APS00011870-Lafarge Aggregates-Smithland, KY-Three Rivers-S1","1003M00120-Agg, Coarse - HMAC-Agg.Coarse-HMAC Lafarge3RvrsS1-Smithland","APS00011870","Lafarge Aggregates-Smithland, KY-Three Rivers-S1","1003M00120","AGGR","Agg, Coarse - HMAC","Agg.Coarse-HMAC Lafarge3RvrsS1-Smithland",20220608]
["AGGR-APS00011910","APS00011910-1003M00110","APS00011910-Hat Creek Dirt Pit - Bossier City, LA","1003M00110-Agg, Fine  - HMAC-FnSandHMAC Hat Creek Dirt Pit - Bossier","APS00011910","Hat Creek Dirt Pit - Bossier City, LA","1003M00110","AGGR","Agg, Fine  - HMAC","FnSandHMAC Hat Creek Dirt Pit - Bossier",20490101]
["AGGR-APS00011920","APS00011920-1003M00110","APS00011920-Regional Sand & Gravel - Clinton, LA","1003M00110-Agg, Fine  - HMAC-FnSandHMAC Regional S&G Clinton","APS00011920","Regional Sand & Gravel - Clinton, LA","1003M00110","AGGR","Agg, Fine  - HMAC","FnSandHMAC Regional S&G Clinton",20490101]
["AGGR-APS00011920","APS00011920-1003M00120","APS00011920-Regional Sand & Gravel - Clinton, LA","1003M00120-Agg, Coarse - HMAC-Agg, Coarse - HMAC - Regional S&G","APS00011920","Regional Sand & Gravel - Clinton, LA","1003M00120","AGGR","Agg, Coarse - HMAC","Agg, Coarse - HMAC - Regional S&G",20490101]
["AGGR-APS00011940","APS00011940-1003M00110","APS00011940-Baldwin Redi-Mix Co. Inc.-Greensburg,H&LIsland Pit","1003M00110-Agg, Fine  - HMAC-FnSandHMAC Baldwin Redi-Mix-Grnbg","APS00011940","Baldwin Redi-Mix Co. Inc.-Greensburg,H&LIsland Pit","1003M00110","AGGR","Agg, Fine  - HMAC","FnSandHMAC Baldwin Redi-Mix-Grnbg",20490101]
["AGGR-APS00011940","APS00011940-1003M00120","APS00011940-Baldwin Redi-Mix Co. Inc.-Greensburg,H&LIsland Pit","1003M00120-Agg, Coarse - HMAC-Agg.Coarse-HMAC Baldwin Redi-Mix-Grnbg","APS00011940","Baldwin Redi-Mix Co. Inc.-Greensburg,H&LIsland Pit","1003M00120","AGGR","Agg, Coarse - HMAC","Agg.Coarse-HMAC Baldwin Redi-Mix-Grnbg",20490101]
["AGGR-APS00012000","APS00012000-1003M00110","APS00012000-Red Hawk Materials - Maurice, LA","1003M00110-Agg, Fine  - HMAC-FnSandHMAC Red Hawk Matls-Maurice","APS00012000","Red Hawk Materials - Maurice, LA","1003M00110","AGGR","Agg, Fine  - HMAC","FnSandHMAC Red Hawk Matls-Maurice",20490101]
["AGGR-APS00012100","APS00012100-1003M00110","APS00012100-Lake Area Materials, LLC - DeRidder","1003M00110-Agg, Fine  - HMAC- FnSandHMAC Lake Area Matls-DeRidder","APS00012100","Lake Area Materials, LLC - DeRidder","1003M00110","AGGR","Agg, Fine  - HMAC"," FnSandHMAC Lake Area Matls-DeRidder",20490101]
["AGGR-APS00012100","APS00012100-1003M00110","APS00012100-Lake Area Materials, LLC - DeRidder","1003M00110-Agg, Fine  - HMAC-FnSandHMAC Lake Area Materials-DeRidder","APS00012100","Lake Area Materials, LLC - DeRidder","1003M00110","AGGR","Agg, Fine  - HMAC","FnSandHMAC Lake Area Materials-DeRidder",20490101]
[{"$f":"H387&\"-\"&E387","v":"AGGR-APS00012100"},{"$f":"E387&\"-\"&G387","v":"APS00012100-1003M00120"},{"$f":"E387&\"-\"&F387","v":"APS00012100-Lake Area Materials, LLC - DeRidder"},{"$f":"G387&\"-\"&I387&IF(J387<>\"\", \"-\"&J387, \"\")","v":"1003M00120-Agg, Coarse - HMAC-Agg, Coarse-HMAC LakeAreaMatls Deridde4"},"APS00012100","Lake Area Materials, LLC - DeRidder","1003M00120","AGGR","Agg, Coarse - HMAC","Agg, Coarse-HMAC LakeAreaMatls Deridde4",20490101]
["AGGR-APS00012130","APS00012130-1003M00110","APS00012130-Tower Rock Stone Co-St.Genevieve, MO- Limestn Zn12","1003M00110-Agg, Fine  - HMAC-FnSandHMAC Tower Rock Limestone St. Gen","APS00012130","Tower Rock Stone Co-St.Genevieve, MO- Limestn Zn12","1003M00110","AGGR","Agg, Fine  - HMAC","FnSandHMAC Tower Rock Limestone St. Gen",20490101]
["AGGR-APS00012130","APS00012130-1003M00120","APS00012130-Tower Rock Stone Co-St.Genevieve, MO- Limestn Zn12","1003M00120-Agg, Coarse - HMAC-Agg, Coarse-HMAC Tower Rock Ledge 12","APS00012130","Tower Rock Stone Co-St.Genevieve, MO- Limestn Zn12","1003M00120","AGGR","Agg, Coarse - HMAC","Agg, Coarse-HMAC Tower Rock Ledge 12",20490101]
["AGGR-APS00012150","APS00012150-1003M00110","APS00012150-Trinity Materials, Inc. - Waco, TX","1003M00110-Agg, Fine  - HMAC-FnSandHMAC Trinity Materials Pit 1588","APS00012150","Trinity Materials, Inc. - Waco, TX","1003M00110","AGGR","Agg, Fine  - HMAC","FnSandHMAC Trinity Materials Pit 1588",20490101]
["AGGR-APS00012150","APS00012150-1003M00120","APS00012150-Trinity Materials, Inc. - Waco, TX","1003M00120-Agg, Coarse - HMAC-Agg, Coarse - HMAC Trinity Matls - Waco","APS00012150","Trinity Materials, Inc. - Waco, TX","1003M00120","AGGR","Agg, Coarse - HMAC","Agg, Coarse - HMAC Trinity Matls - Waco",20490101]
["AGGR-APS00012160","APS00012160-1003M00110","APS00012160-Dickerson & Bowen Co., Inc - Brookhaven, MS","1003M00110-Agg, Fine  - HMAC-FnSandHMAC Dickerson & Bowen Longhaven","APS00012160","Dickerson & Bowen Co., Inc - Brookhaven, MS","1003M00110","AGGR","Agg, Fine  - HMAC","FnSandHMAC Dickerson & Bowen Longhaven",20490101]
["AGGR-APS00012160","APS00012160-1003M00120","APS00012160-Dickerson & Bowen Co., Inc - Brookhaven, MS","1003M00120-Agg, Coarse - HMAC-Agg, Coarse - HMAC-Dick.&BowenBrookhaven","APS00012160","Dickerson & Bowen Co., Inc - Brookhaven, MS","1003M00120","AGGR","Agg, Coarse - HMAC","Agg, Coarse - HMAC-Dick.&BowenBrookhaven",20490101]
["AGGR-APS00012170","APS00012170-1003M00110","APS00012170-Red Hawk Materials, LLC - Carencro, LA","1003M00110-Agg, Fine  - HMAC-FnSandHMAC Red Hawk Materials Carencro","APS00012170","Red Hawk Materials, LLC - Carencro, LA","1003M00110","AGGR","Agg, Fine  - HMAC","FnSandHMAC Red Hawk Materials Carencro",20490101]
["AGGR-APS00012190","APS00012190-1003M00110","APS00012190-Elite Sand - Longville, LA","1003M00110-Agg, Fine  - HMAC-FnSandHMAC Elite Sand - Longville","APS00012190","Elite Sand - Longville, LA","1003M00110","AGGR","Agg, Fine  - HMAC","FnSandHMAC Elite Sand - Longville",20210919]
["AGGR-APS00012300","APS00012300-1003M00110","APS00012300-Vulcan Materials Co-West Loachapoka, AL","1003M00110-Agg, Fine  - HMAC-FnSandHMAC Vulcan Matls Notsulga Quarry","APS00012300","Vulcan Materials Co-West Loachapoka, AL","1003M00110","AGGR","Agg, Fine  - HMAC","FnSandHMAC Vulcan Matls Notsulga Quarry",20490101]
["AGGR-APS00012300","APS00012300-1003M00120","APS00012300-Vulcan Materials Co-West Loachapoka, AL","1003M00120-Agg, Coarse - HMAC-Agg, Coarse-HMAC Vulcan Matls Notsulga","APS00012300","Vulcan Materials Co-West Loachapoka, AL","1003M00120","AGGR","Agg, Coarse - HMAC","Agg, Coarse-HMAC Vulcan Matls Notsulga",20490101]
["AGGR-APS00012310","APS00012310-1003M00110","APS00012310-SiteWurx Sand - Sibley, LA","1003M00110-Agg, Fine  - HMAC-FnSandHMAC SiteWurx Sand - Sibley","APS00012310","SiteWurx Sand - Sibley, LA","1003M00110","AGGR","Agg, Fine  - HMAC","FnSandHMAC SiteWurx Sand - Sibley",20490101]
["AGGR-APS00012320","APS00012320-1003M00110","APS00012320-Winn Materials of Kentucky-Grand Rivers,KY-Warsaw","1003M00110-Agg, Fine  - HMAC-FnSandHMAC Winn Matls of KY Warsaw","APS00012320","Winn Materials of Kentucky-Grand Rivers,KY-Warsaw","1003M00110","AGGR","Agg, Fine  - HMAC","FnSandHMAC Winn Matls of KY Warsaw",20490101]
["AGGR-APS00012320","APS00012320-1003M00120","APS00012320-Winn Materials of Kentucky-Grand Rivers,KY-Warsaw","1003M00120-Agg, Coarse - HMAC-Agg, Coarse-HMAC Winn Matls of KY Warsaw","APS00012320","Winn Materials of Kentucky-Grand Rivers,KY-Warsaw","1003M00120","AGGR","Agg, Coarse - HMAC","Agg, Coarse-HMAC Winn Matls of KY Warsaw",20490101]
["AGGR-APS00012340","APS00012340-1003M00110","APS00012340-River Road Rock - Franklinton, LA","1003M00110-Agg, Fine  - HMAC","APS00012340","River Road Rock - Franklinton, LA","1003M00110","AGGR","Agg, Fine  - HMAC"]
["AGGR-APS00012340","APS00012340-1003M00120","APS00012340-River Road Rock - Franklinton, LA","1003M00120-Agg, Coarse - HMAC-Agg, Coarse - HMAC - River Road Rock ","APS00012340","River Road Rock - Franklinton, LA","1003M00120","AGGR","Agg, Coarse - HMAC","Agg, Coarse - HMAC - River Road Rock ",20490101]
["AGGR-APS00012380","APS00012380-1003M00110","APS00012380-LeHigh Hanson - Garwood, TX","1003M00110-Agg, Fine  - HMAC-FnSandHMAC LeHigh Hanson - Garwood","APS00012380","LeHigh Hanson - Garwood, TX","1003M00110","AGGR","Agg, Fine  - HMAC","FnSandHMAC LeHigh Hanson - Garwood",20490101]
["AGGR-APS00012390","APS00012390-1003M00110","APS00012390-Gator Aggregates - Deridder, LA","1003M00110-Agg, Fine  - HMAC-FnSandHMAC Gator Aggs - Pippin-Deridder","APS00012390","Gator Aggregates - Deridder, LA","1003M00110","AGGR","Agg, Fine  - HMAC","FnSandHMAC Gator Aggs - Pippin-Deridder",20490101]
["AGGR-APS00012390","APS00012390-1003M00120","APS00012390-Gator Aggregates - Deridder, LA","1003M00120-Agg, Coarse - HMAC-Agg, Coarse-HMAC-Gator Aggs-Deridder","APS00012390","Gator Aggregates - Deridder, LA","1003M00120","AGGR","Agg, Coarse - HMAC","Agg, Coarse-HMAC-Gator Aggs-Deridder",20490101]
["AGGR-APS00012420","APS00012420-1003M00110","APS00012420-Tate Construction, LLC - Franklinton, LA","1003M00110-Agg, Fine  - HMAC-FnSandHMAC Tate Construction-Franklinton","APS00012420","Tate Construction, LLC - Franklinton, LA","1003M00110","AGGR","Agg, Fine  - HMAC","FnSandHMAC Tate Construction-Franklinton",20490101]
["AGGR-APS00012420","APS00012420-1003M00120","APS00012420-Tate Construction, LLC - Franklinton, LA","1003M00120-Agg, Coarse - HMAC-Agg, Coarse-HMAC-Tate Constr-Franklinton","APS00012420","Tate Construction, LLC - Franklinton, LA","1003M00120","AGGR","Agg, Coarse - HMAC","Agg, Coarse-HMAC-Tate Constr-Franklinton",20490101]
["AGGR-APS00012510","APS00012510-1003M00110","APS00012510-Industrial Aggregates, LLC - Covington, LA - #2","1003M00110-Agg, Fine  - HMAC-FnSandHMAC Industrial Aggs #2 Covingoton","APS00012510","Industrial Aggregates, LLC - Covington, LA - #2","1003M00110","AGGR","Agg, Fine  - HMAC","FnSandHMAC Industrial Aggs #2 Covingoton",20490101]
["AGGR-APS00012510","APS00012510-1003M00120","APS00012510-Industrial Aggregates, LLC - Covington, LA - #2","1003M00120-Agg, Coarse - HMAC-Agg, Coarse - HMAC - Industrial Aggs #2","APS00012510","Industrial Aggregates, LLC - Covington, LA - #2","1003M00120","AGGR","Agg, Coarse - HMAC","Agg, Coarse - HMAC - Industrial Aggs #2",20490101]
["AGGR-APS00012530","APS00012530-1003M00110","APS00012530-Dennis Stewart Equipment Rental,Inc Baton Rouge,LA","1003M00110-Agg, Fine  - HMAC-FnSandHMAC DennisStewartEqup Joor Rd-BR","APS00012530","Dennis Stewart Equipment Rental,Inc Baton Rouge,LA","1003M00110","AGGR","Agg, Fine  - HMAC","FnSandHMAC DennisStewartEqup Joor Rd-BR",20490101]
["AGGR-APS00012600","APS00012600-1003M00110","APS00012600-Martin Marietta - MMR - Hondo, TX","1003M00110-Agg, Fine  - HMAC-FnSandHMAC Martin Marietta Hondo","APS00012600","Martin Marietta - MMR - Hondo, TX","1003M00110","AGGR","Agg, Fine  - HMAC","FnSandHMAC Martin Marietta Hondo",20490101]
["AGGR-APS00012600","APS00012600-1003M00120","APS00012600-Martin Marietta - MMR - Hondo, TX","1003M00120-Agg, Coarse - HMAC-Agg, Coarse-HMAC-MartinMariettaHondo","APS00012600","Martin Marietta - MMR - Hondo, TX","1003M00120","AGGR","Agg, Coarse - HMAC","Agg, Coarse-HMAC-MartinMariettaHondo",20490101]
["AGGR-APS00012620","APS00012620-1003M00110","APS00012620-Industrial Aggregates - Franklinton, LA","1003M00110-Agg, Fine  - HMAC-FnSandHMAC Ind Agg PineCliff-Franklinton","APS00012620","Industrial Aggregates - Franklinton, LA","1003M00110","AGGR","Agg, Fine  - HMAC","FnSandHMAC Ind Agg PineCliff-Franklinton",20490101]
["AGGR-APS00012620","APS00012620-1003M00120","APS00012620-Industrial Aggregates - Franklinton, LA","1003M00120-Agg, Coarse - HMAC-Agg, Coarse HMAC-Ind Agg-Franklinton","APS00012620","Industrial Aggregates - Franklinton, LA","1003M00120","AGGR","Agg, Coarse - HMAC","Agg, Coarse HMAC-Ind Agg-Franklinton",20490101]
["AGGR-APS00012660","APS00012660-1003M00110","APS00012660-Skyplex Trucking -Bentley, LA","1003M00110-Agg, Fine  - HMAC-FnSandHMAC Skyplex Trucking - Natchitoch","APS00012660","Skyplex Trucking -Bentley, LA","1003M00110","AGGR","Agg, Fine  - HMAC","FnSandHMAC Skyplex Trucking - Natchitoch",20490101]
["AGGR-APS00012680","APS00012680-1003M00110","APS00012680-Warren Paving-Salem, KY-Lower Warsaw Formation","1003M00110-Agg, Fine  - HMAC-FnSandHMAC Warren Paving Lower Warsaw","APS00012680","Warren Paving-Salem, KY-Lower Warsaw Formation","1003M00110","AGGR","Agg, Fine  - HMAC","FnSandHMAC Warren Paving Lower Warsaw",20170522]
["AGGR-APS00012680","APS00012680-1003M00120","APS00012680-Warren Paving-Salem, KY-Lower Warsaw Formation","1003M00120-Agg, Coarse - HMAC-Agg, Coarse-Warren Paving Salem-Warsaw","APS00012680","Warren Paving-Salem, KY-Lower Warsaw Formation","1003M00120","AGGR","Agg, Coarse - HMAC","Agg, Coarse-Warren Paving Salem-Warsaw",20490101]
["AGGR-APS00012880","APS00012880-1003M00110","APS00012880-Lafarge Aggregates-Smithland, KY-Three Rivers-S2","1003M00110-Agg, Fine  - HMAC-FnSandHMAC Lafarge N.A. -SL Bench S2","APS00012880","Lafarge Aggregates-Smithland, KY-Three Rivers-S2","1003M00110","AGGR","Agg, Fine  - HMAC","FnSandHMAC Lafarge N.A. -SL Bench S2",20490101]
["AGGR-APS00012880","APS00012880-1003M00120","APS00012880-Lafarge Aggregates-Smithland, KY-Three Rivers-S2","1003M00120-Agg, Coarse - HMAC-Agg-CoarseHMAC-LafargeN.A.-SLBenchS2","APS00012880","Lafarge Aggregates-Smithland, KY-Three Rivers-S2","1003M00120","AGGR","Agg, Coarse - HMAC","Agg-CoarseHMAC-LafargeN.A.-SLBenchS2",20490101]
["AGGR-APS00012890","APS00012890-1003M00110","APS00012890-D & J Construction Company, LLC - West Monroe","1003M00110-Agg, Fine  - HMAC-FnSandHMAC D & J Constr - W Monroe","APS00012890","D & J Construction Company, LLC - West Monroe","1003M00110","AGGR","Agg, Fine  - HMAC","FnSandHMAC D & J Constr - W Monroe",20490101]
["AGGR-APS00012930","APS00012930-1003M00110","APS00012930-Regional Sand & Gravel, LLC #2 - Clinton","1003M00110-Agg, Fine  - HMAC-FnSandHMAC RegionalS&G GwellSpr","APS00012930","Regional Sand & Gravel, LLC #2 - Clinton","1003M00110","AGGR","Agg, Fine  - HMAC","FnSandHMAC RegionalS&G GwellSpr",20490101]
["AGGR-APS00012930","APS00012930-1003M00120","APS00012930-Regional Sand & Gravel, LLC #2 - Clinton","1003M00120-Agg, Coarse - HMAC-Agg, Coarse - HMAC-RegionalS&G GwellSpr","APS00012930","Regional Sand & Gravel, LLC #2 - Clinton","1003M00120","AGGR","Agg, Coarse - HMAC","Agg, Coarse - HMAC-RegionalS&G GwellSpr",20490101]
["AGGR-APS00012960","APS00012960-1003M00110","APS00012960-R4 ObrusS.A. D.C.V. - Boca Del Rio, Mexico","1003M00110-Agg, Fine  - HMAC-FnSandHMAC APAC - R4 Obrus Boca Del Rio","APS00012960","R4 ObrusS.A. D.C.V. - Boca Del Rio, Mexico","1003M00110","AGGR","Agg, Fine  - HMAC","FnSandHMAC APAC - R4 Obrus Boca Del Rio",20490101]
["AGGR-APS00012960","APS00012960-1003M00120","APS00012960-R4 ObrusS.A. D.C.V. - Boca Del Rio, Mexico","1003M00120-Agg, Coarse - HMAC-Agg-CoarseHMAC - R4 Obrus Boca Del Rio","APS00012960","R4 ObrusS.A. D.C.V. - Boca Del Rio, Mexico","1003M00120","AGGR","Agg, Coarse - HMAC","Agg-CoarseHMAC - R4 Obrus Boca Del Rio",20490101]
["AGGR-APS00012980","APS00012980-1003M00110","APS00012980-Gulf Coast Sand & Gravel - Jackson, AL","1003M00110-Agg, Fine  - HMAC-FnSandHMAC  Gulf Coast-Jackson","APS00012980","Gulf Coast Sand & Gravel - Jackson, AL","1003M00110","AGGR","Agg, Fine  - HMAC","FnSandHMAC  Gulf Coast-Jackson",20490101]
["AGGR-APS00012980","APS00012980-1003M00110","APS00012980-Gulf Coast Sand & Gravel - Jackson, AL","1003M00110-Agg, Fine  - HMAC-FnSandHMAC Gulf Coast S&G - Jackson","APS00012980","Gulf Coast Sand & Gravel - Jackson, AL","1003M00110","AGGR","Agg, Fine  - HMAC","FnSandHMAC Gulf Coast S&G - Jackson",20490101]
["AGGR-APS00012980","APS00012980-1003M00110","APS00012980-Gulf Coast Sand & Gravel - Jackson, AL","1003M00110-Agg, Fine  - HMAC-FnSandHMAC Gulf Coast S&G-Jackson","APS00012980","Gulf Coast Sand & Gravel - Jackson, AL","1003M00110","AGGR","Agg, Fine  - HMAC","FnSandHMAC Gulf Coast S&G-Jackson",20490101]
["AGGR-APS00012980","APS00012980-1003M00120","APS00012980-Gulf Coast Sand & Gravel - Jackson, AL","1003M00120-Agg, Coarse - HMAC-Agg, Coarse - HMAC-Gulf Coast S&G","APS00012980","Gulf Coast Sand & Gravel - Jackson, AL","1003M00120","AGGR","Agg, Coarse - HMAC","Agg, Coarse - HMAC-Gulf Coast S&G",20490101]
["AGGR-APS00012980","APS00012980-1003M00120","APS00012980-Gulf Coast Sand & Gravel - Jackson, AL","1003M00120-Agg, Coarse - HMAC-Agg, Coarse - HMAC-GulfCoast S&G-Jackson","APS00012980","Gulf Coast Sand & Gravel - Jackson, AL","1003M00120","AGGR","Agg, Coarse - HMAC","Agg, Coarse - HMAC-GulfCoast S&G-Jackson",20490101]
["AGGR-APS00012980","APS00012980-1003M00120","APS00012980-Gulf Coast Sand & Gravel - Jackson, AL","1003M00120-Agg, Coarse - HMAC-Agg, Coarse - HMAC-GulfCoast-Jackson","APS00012980","Gulf Coast Sand & Gravel - Jackson, AL","1003M00120","AGGR","Agg, Coarse - HMAC","Agg, Coarse - HMAC-GulfCoast-Jackson",20490101]
["AGGR-APS00013080","APS00013080-1003M00110","APS00013080-Northern Sand & Gravel, L.L.C. - Independence","1003M00110-Agg, Fine  - HMAC-FnSandHMAC Gulf Coast S&G-Indep","APS00013080","Northern Sand & Gravel, L.L.C. - Independence","1003M00110","AGGR","Agg, Fine  - HMAC","FnSandHMAC Gulf Coast S&G-Indep",20490101]
["AGGR-APS00013080","APS00013080-1003M00120","APS00013080-Northern Sand & Gravel, L.L.C. - Independence","1003M00120-Agg, Coarse - HMAC-Agg, Coarse-HMAC-Gulf Coast S&G-Indep","APS00013080","Northern Sand & Gravel, L.L.C. - Independence","1003M00120","AGGR","Agg, Coarse - HMAC","Agg, Coarse-HMAC-Gulf Coast S&G-Indep",20490101]
["AGGR-APS00013130","APS00013130-1003M00110","APS00013130-South Louisiana Fill Materials - Vacherie Pt","1003M00110-Agg, Fine  - HMAC-FnSandHMAC SLAFillMaterials-Vacharie","APS00013130","South Louisiana Fill Materials - Vacherie Pt","1003M00110","AGGR","Agg, Fine  - HMAC","FnSandHMAC SLAFillMaterials-Vacharie",20490101]
["AGGR-APS00013250","APS00013250-1003M00110","APS00013250-R & S Dozer Service, LLC - Franklinton","1003M00110-Agg, Fine  - HMAC-FnSandHMAC  R&S Dozer Service","APS00013250","R & S Dozer Service, LLC - Franklinton","1003M00110","AGGR","Agg, Fine  - HMAC","FnSandHMAC  R&S Dozer Service",20210927]
["AGGR-APS00013250","APS00013250-1003M00120","APS00013250-R & S Dozer Service, LLC - Franklinton","1003M00120-Agg, Coarse - HMAC-Agg, Coarse - HMAC- R&S Dozer Service","APS00013250","R & S Dozer Service, LLC - Franklinton","1003M00120","AGGR","Agg, Coarse - HMAC","Agg, Coarse - HMAC- R&S Dozer Service",20490101]
["AGGR-APS00013340","APS00013340-1003M00110","APS00013340-Heritage Sand and Gravel - Columbia, MS","1003M00110-Agg, Fine  - HMAC-FnSandHMAC Heritage Sand & Grav","APS00013340","Heritage Sand and Gravel - Columbia, MS","1003M00110","AGGR","Agg, Fine  - HMAC","FnSandHMAC Heritage Sand & Grav",20490101]
["AGGR-APS00013340","APS00013340-1003M00120","APS00013340-Heritage Sand and Gravel - Columbia, MS","1003M00120-Agg, Coarse - HMAC-Agg, Coarse - HMAC - Heritage S & G","APS00013340","Heritage Sand and Gravel - Columbia, MS","1003M00120","AGGR","Agg, Coarse - HMAC","Agg, Coarse - HMAC - Heritage S & G",20150511]
["AGGR-APS00013370","APS00013370-1003M00110","APS00013370-Canteras LA Ponderosa S.A. - OoliticStnFormtn -5.1","1003M00110-Agg, Fine  - HMAC-FnSandHMAC Canteras LA Pond Formation5.1","APS00013370","Canteras LA Ponderosa S.A. - OoliticStnFormtn -5.1","1003M00110","AGGR","Agg, Fine  - HMAC","FnSandHMAC Canteras LA Pond Formation5.1",20490101]
["AGGR-APS00013370","APS00013370-1003M00110","APS00013370-Canteras LA Ponderosa S.A. - OoliticStnFormtn -5.1","1003M00110-Agg, Fine  - HMAC-FnSandHMAC CanterasLAPondForm12/20","APS00013370","Canteras LA Ponderosa S.A. - OoliticStnFormtn -5.1","1003M00110","AGGR","Agg, Fine  - HMAC","FnSandHMAC CanterasLAPondForm12/20",20490101]
["AGGR-APS00013370","APS00013370-1003M00120","APS00013370-Canteras LA Ponderosa S.A. - OoliticStnFormtn -5.1","1003M00120-Agg, Coarse - HMAC-Agg-CoarseHMAC-Canteras LA PondForm5.1","APS00013370","Canteras LA Ponderosa S.A. - OoliticStnFormtn -5.1","1003M00120","AGGR","Agg, Coarse - HMAC","Agg-CoarseHMAC-Canteras LA PondForm5.1",20490101]
["AGGR-APS00013370","APS00013370-1003M00120","APS00013370-Canteras LA Ponderosa S.A. - OoliticStnFormtn -5.1","1003M00120-Agg, Coarse - HMAC-Agg-CoarseHMAC-CanterasLAPondForm12/20","APS00013370","Canteras LA Ponderosa S.A. - OoliticStnFormtn -5.1","1003M00120","AGGR","Agg, Coarse - HMAC","Agg-CoarseHMAC-CanterasLAPondForm12/20",20490101]
["AGGR-APS00013390","APS00013390-1003M00110","APS00013390-L & C Gravel, LLC - Plant #6 - Fluker","1003M00110-Agg, Fine  - HMAC-FnSandHMAC L&C Gravel Plt 6-Amite","APS00013390","L & C Gravel, LLC - Plant #6 - Fluker","1003M00110","AGGR","Agg, Fine  - HMAC","FnSandHMAC L&C Gravel Plt 6-Amite",20490101]
["AGGR-APS00013390","APS00013390-1003M00120","APS00013390-L & C Gravel, LLC - Plant #6 - Fluker","1003M00120-Agg, Coarse - HMAC","APS00013390","L & C Gravel, LLC - Plant #6 - Fluker","1003M00120","AGGR","Agg, Coarse - HMAC"]
["AGGR-APS00014030","APS00014030-1003M00110","APS00014030-Sierra FRAC Sand - Plain Dealing","1003M00110-Agg, Fine  - HMAC-FnSandHMAC LionelBoudreauxTrucking","APS00014030","Sierra FRAC Sand - Plain Dealing","1003M00110","AGGR","Agg, Fine  - HMAC","FnSandHMAC LionelBoudreauxTrucking",20490101]
["AGGR-APS00014030","APS00014030-1003M00110","APS00014030-Sierra FRAC Sand - Plain Dealing","1003M00110-Agg, Fine  - HMAC-FnSandHMAC SierraFracSand CedarBluff","APS00014030","Sierra FRAC Sand - Plain Dealing","1003M00110","AGGR","Agg, Fine  - HMAC","FnSandHMAC SierraFracSand CedarBluff",20490101]
["AGGR-APS00014110","APS00014110-1003M00110","APS00014110-Rogers Group - Lacey's Springs Quarry","1003M00110-Agg, Fine  - HMAC-FnSandHMAC Rogers Grp Lacey Sprgs Quarry","APS00014110","Rogers Group - Lacey's Springs Quarry","1003M00110","AGGR","Agg, Fine  - HMAC","FnSandHMAC Rogers Grp Lacey Sprgs Quarry",20490101]
["AGGR-APS00014110","APS00014110-1003M00120","APS00014110-Rogers Group - Lacey's Springs Quarry","1003M00120-Agg, Coarse - HMAC-Agg, Coarse - HMAC - RogersGrp LaceySprg","APS00014110","Rogers Group - Lacey's Springs Quarry","1003M00120","AGGR","Agg, Coarse - HMAC","Agg, Coarse - HMAC - RogersGrp LaceySprg",20490101]
["AGGR-APS00014150","APS00014150-1003M00110","APS00014150-Lionel Boudreaux Trucking, LLC - St. Francisville","1003M00110-Agg, Fine  - HMAC","APS00014150","Lionel Boudreaux Trucking, LLC - St. Francisville","1003M00110","AGGR","Agg, Fine  - HMAC"]
["AGGR-APS00014180","APS00014180-1003M00110","APS00014180-Ivey Enterprises, LLC - Greenwell Springs, LA","1003M00110-Agg, Fine  - HMAC-FnSandHMAC Ivey Enterprises GSLA","APS00014180","Ivey Enterprises, LLC - Greenwell Springs, LA","1003M00110","AGGR","Agg, Fine  - HMAC","FnSandHMAC Ivey Enterprises GSLA",20490101]
["AGGR-APS00014180","APS00014180-1003M00120","APS00014180-Ivey Enterprises, LLC - Greenwell Springs, LA","1003M00120-Agg, Coarse - HMAC-Agg. Coarse - HMAC - Ivey Enterprs GSLA","APS00014180","Ivey Enterprises, LLC - Greenwell Springs, LA","1003M00120","AGGR","Agg, Coarse - HMAC","Agg. Coarse - HMAC - Ivey Enterprs GSLA",20490101]
[{"$f":"H451&\"-\"&E451","v":"AGGR-APS00014300"},{"$f":"E451&\"-\"&G451","v":"APS00014300-1003M00110"},{"$f":"E451&\"-\"&F451","v":"APS00014300-Southern Aggregates, LLC Plant 31 - Franklinton"},{"$f":"G451&\"-\"&I451&IF(J451<>\"\", \"-\"&J451, \"\")","v":"1003M00110-Agg, Fine  - HMAC-FnSandHMAC Southern Agg Plant 31"},"APS00014300","Southern Aggregates, LLC Plant 31 - Franklinton","1003M00110","AGGR","Agg, Fine  - HMAC","FnSandHMAC Southern Agg Plant 31",20490101]
["AGGR-APS00014300","APS00014300-1003M00120","APS00014300-Southern Aggregates, LLC Plant 31 - Franklinton","1003M00120-Agg, Coarse - HMAC-Agg, Coarse - HMAC Southern Agg Plant 31","APS00014300","Southern Aggregates, LLC Plant 31 - Franklinton","1003M00120","AGGR","Agg, Coarse - HMAC","Agg, Coarse - HMAC Southern Agg Plant 31",20490101]
["AGGR-APS00014340","APS00014340-1003M00110","APS00014340-Lafarge Aggregates-Smithland, KY-Upper Fredonia","1003M00110-Agg, Fine  - HMAC-FnSandHMAC Lafarge UF 3 Rivers","APS00014340","Lafarge Aggregates-Smithland, KY-Upper Fredonia","1003M00110","AGGR","Agg, Fine  - HMAC","FnSandHMAC Lafarge UF 3 Rivers",20490101]
["AGGR-APS00014340","APS00014340-1003M00120","APS00014340-Lafarge Aggregates-Smithland, KY-Upper Fredonia","1003M00120-Agg, Coarse - HMAC-Agg, Coarse - HMAC Lafarge UF 3 Rivers","APS00014340","Lafarge Aggregates-Smithland, KY-Upper Fredonia","1003M00120","AGGR","Agg, Coarse - HMAC","Agg, Coarse - HMAC Lafarge UF 3 Rivers",20490101]
["AGGR-APS00014350","APS00014350-1003M00110","APS00014350-Barriere Construction Co., LLC - Independence, LA","1003M00110-Agg, Fine  - HMAC-FnSandHMAC Barriere Const-Candiotto","APS00014350","Barriere Construction Co., LLC - Independence, LA","1003M00110","AGGR","Agg, Fine  - HMAC","FnSandHMAC Barriere Const-Candiotto",20490101]
["AGGR-APS00014350","APS00014350-1003M00120","APS00014350-Barriere Construction Co., LLC - Independence, LA","1003M00120-Agg, Coarse - HMAC-Agg, Coarse- HMAC-BarriereConCandiotto","APS00014350","Barriere Construction Co., LLC - Independence, LA","1003M00120","AGGR","Agg, Coarse - HMAC","Agg, Coarse- HMAC-BarriereConCandiotto",20490101]
["AGGR-APS00014360","APS00014360-1003M00110","APS00014360-Arcosa Aggregates - Anacoco Plant 1391-Merryville","1003M00110-Agg, Fine  - HMAC-FnSandHMAC Arcosa Agg Plt 1391","APS00014360","Arcosa Aggregates - Anacoco Plant 1391-Merryville","1003M00110","AGGR","Agg, Fine  - HMAC","FnSandHMAC Arcosa Agg Plt 1391",20201006]
["AGGR-APS00014360","APS00014360-1003M00110","APS00014360-Arcosa Aggregates - Anacoco Plant 1391-Merryville","1003M00110-Agg, Fine  - HMAC-FnSandHMAC ArcosaAggs Anacoco1391","APS00014360","Arcosa Aggregates - Anacoco Plant 1391-Merryville","1003M00110","AGGR","Agg, Fine  - HMAC","FnSandHMAC ArcosaAggs Anacoco1391",20490101]
["AGGR-APS00014360","APS00014360-1003M00120","APS00014360-Arcosa Aggregates - Anacoco Plant 1391-Merryville","1003M00120-Agg, Coarse - HMAC-Agg, Coarse - HMAC-Arcosa Agg Plt 1391","APS00014360","Arcosa Aggregates - Anacoco Plant 1391-Merryville","1003M00120","AGGR","Agg, Coarse - HMAC","Agg, Coarse - HMAC-Arcosa Agg Plt 1391",20490101]
["AGGR-APS00014360","APS00014360-1003M00120","APS00014360-Arcosa Aggregates - Anacoco Plant 1391-Merryville","1003M00120-Agg, Coarse - HMAC-Agg. Coarse - HMAC ArcosaAggs  #1391","APS00014360","Arcosa Aggregates - Anacoco Plant 1391-Merryville","1003M00120","AGGR","Agg, Coarse - HMAC","Agg. Coarse - HMAC ArcosaAggs  #1391",20200613]
["AGGR-APS00014370","APS00014370-1003M00110","APS00014370-Arcosa Aggregates - Indian Village Plant 1284","1003M00110-Agg, Fine  - HMAC-FnSandHMAC ArcosaAggs IndVillage1284","APS00014370","Arcosa Aggregates - Indian Village Plant 1284","1003M00110","AGGR","Agg, Fine  - HMAC","FnSandHMAC ArcosaAggs IndVillage1284",20490101]
["AGGR-APS00014410","APS00014410-1003M00110","APS00014410-Arcosa Aggregates - Pearl River Plant 1725","1003M00110-Agg, Fine  - HMAC-FnSandHMAC Arcosa Aggs Plant 1725","APS00014410","Arcosa Aggregates - Pearl River Plant 1725","1003M00110","AGGR","Agg, Fine  - HMAC","FnSandHMAC Arcosa Aggs Plant 1725",20490101]
["AGGR-APS00014410","APS00014410-1003M00120","APS00014410-Arcosa Aggregates - Pearl River Plant 1725","1003M00120-Agg, Coarse - HMAC-Agg. Coarse - HMAC -ArcosaAggsPlant1725","APS00014410","Arcosa Aggregates - Pearl River Plant 1725","1003M00120","AGGR","Agg, Coarse - HMAC","Agg. Coarse - HMAC -ArcosaAggsPlant1725",20490101]
["AGGR-APS00014440","APS00014440-1003M00110","APS00014440-Cenla Materials - Forest Hill, LA","1003M00110-Agg, Fine  - HMAC-FnSandHMAC CenlaMatls - Forest Hill","APS00014440","Cenla Materials - Forest Hill, LA","1003M00110","AGGR","Agg, Fine  - HMAC","FnSandHMAC CenlaMatls - Forest Hill",20490101]
["AGGR-APS00014440","APS00014440-1003M00120","APS00014440-Cenla Materials - Forest Hill, LA","1003M00120-Agg, Coarse - HMAC-Agg, Coarse - HMAC-CenlaMatlsForest Hill","APS00014440","Cenla Materials - Forest Hill, LA","1003M00120","AGGR","Agg, Coarse - HMAC","Agg, Coarse - HMAC-CenlaMatlsForest Hill",20490101]
["AGGR-APS00014470","APS00014470-1003M00110","APS00014470-Merryville Aggregate, LLC - Evans, LA","1003M00110-Agg, Fine  - HMAC-FnSandHMAC - Merryville Aggs-Evans","APS00014470","Merryville Aggregate, LLC - Evans, LA","1003M00110","AGGR","Agg, Fine  - HMAC","FnSandHMAC - Merryville Aggs-Evans",20490101]
["AGGR-APS00014470","APS00014470-1003M00120","APS00014470-Merryville Aggregate, LLC - Evans, LA","1003M00120-Agg, Coarse - HMAC","APS00014470","Merryville Aggregate, LLC - Evans, LA","1003M00120","AGGR","Agg, Coarse - HMAC"]
["AGGR-APS00014530","APS00014530-1003M00110","APS00014530-Martin Marietta - Mill Creek - Granite","1003M00110-Agg, Fine  - HMAC-FnSand Martin Mar Mill Creek Granite","APS00014530","Martin Marietta - Mill Creek - Granite","1003M00110","AGGR","Agg, Fine  - HMAC","FnSand Martin Mar Mill Creek Granite",20490101]
["AGGR-APS00014530","APS00014530-1003M00120","APS00014530-Martin Marietta - Mill Creek - Granite","1003M00120-Agg, Coarse - HMAC-Agg-CoarseHMAC-MartMarMillCreek Grnt","APS00014530","Martin Marietta - Mill Creek - Granite","1003M00120","AGGR","Agg, Coarse - HMAC","Agg-CoarseHMAC-MartMarMillCreek Grnt",20490101]
["AGGR-APS00014540","APS00014540-1003M00110","APS00014540-Martin Marietta - Mill Creek - Limestone","1003M00110-Agg, Fine  - HMAC-FnSandHMAC MartMarMill Creek Lmstn","APS00014540","Martin Marietta - Mill Creek - Limestone","1003M00110","AGGR","Agg, Fine  - HMAC","FnSandHMAC MartMarMill Creek Lmstn",20490101]
["AGGR-APS00014540","APS00014540-1003M00120","APS00014540-Martin Marietta - Mill Creek - Limestone","1003M00120-Agg, Coarse - HMAC-Agg. Coarse - HMAC MartMarMillCreekLmstn","APS00014540","Martin Marietta - Mill Creek - Limestone","1003M00120","AGGR","Agg, Coarse - HMAC","Agg. Coarse - HMAC MartMarMillCreekLmstn",20490101]
["AGGR-APS00014560","APS00014560-1003M00110","APS00014560-Shorline Aggregates Inc. -  South Brook Quarry","1003M00110-Agg, Fine  - HMAC-FnSandHNAC Shoreline Agg South Brook","APS00014560","Shorline Aggregates Inc. -  South Brook Quarry","1003M00110","AGGR","Agg, Fine  - HMAC","FnSandHNAC Shoreline Agg South Brook",20490101]
["AGGR-APS00014560","APS00014560-1003M00120","APS00014560-Shorline Aggregates Inc. -  South Brook Quarry","1003M00120-Agg, Coarse - HMAC-Agg-CoarseHMAC-ShorelineAgg SBrook","APS00014560","Shorline Aggregates Inc. -  South Brook Quarry","1003M00120","AGGR","Agg, Coarse - HMAC","Agg-CoarseHMAC-ShorelineAgg SBrook",20490101]
["AGGR-APS00014570","APS00014570-1003M00110","APS00014570-Arkansas Granufill Supply - Hot Springs, AR","1003M00110-Agg, Fine  - HMAC-FnSandHMAC Arkansas Granufill Supply","APS00014570","Arkansas Granufill Supply - Hot Springs, AR","1003M00110","AGGR","Agg, Fine  - HMAC","FnSandHMAC Arkansas Granufill Supply",20490101]
["AGGR-APS00014700","APS00014700-1003M00110","APS00014700-Hanson Aggregates - Servtex Quarry - New Braunfels","1003M00110-Agg, Fine  - HMAC-FnSandHMAC Hanson Aggs Servtex Quarry","APS00014700","Hanson Aggregates - Servtex Quarry - New Braunfels","1003M00110","AGGR","Agg, Fine  - HMAC","FnSandHMAC Hanson Aggs Servtex Quarry",20230130]
["AGGR-APS00014700","APS00014700-1003M00110","APS00014700-Hanson Aggregates - Servtex Quarry - New Braunfels","1003M00110-Agg, Fine  - HMAC-FnSandHMAC Heidelberg Servtex Quarry","APS00014700","Hanson Aggregates - Servtex Quarry - New Braunfels","1003M00110","AGGR","Agg, Fine  - HMAC","FnSandHMAC Heidelberg Servtex Quarry",20490101]
["AGGR-APS00014700","APS00014700-1003M00120","APS00014700-Hanson Aggregates - Servtex Quarry - New Braunfels","1003M00120-Agg, Coarse - HMAC-Agg-CoarseHMAC-Hanson Aggs Servtex","APS00014700","Hanson Aggregates - Servtex Quarry - New Braunfels","1003M00120","AGGR","Agg, Coarse - HMAC","Agg-CoarseHMAC-Hanson Aggs Servtex",20230130]
["AGGR-APS00014700","APS00014700-1003M00120","APS00014700-Hanson Aggregates - Servtex Quarry - New Braunfels","1003M00120-Agg, Coarse - HMAC-Agg-CoarseHMAC-Heidelberg Servtex","APS00014700","Hanson Aggregates - Servtex Quarry - New Braunfels","1003M00120","AGGR","Agg, Coarse - HMAC","Agg-CoarseHMAC-Heidelberg Servtex",20490101]
["AGGR-APS00014740","APS00014740-1003M00110","APS00014740-Hanson Aggregates - Burnet Quarry - Burnet, TX","1003M00110-Agg, Fine  - HMAC-FnSand Hanson Aggs Brunet Quarry","APS00014740","Hanson Aggregates - Burnet Quarry - Burnet, TX","1003M00110","AGGR","Agg, Fine  - HMAC","FnSand Hanson Aggs Brunet Quarry",20490101]
["AGGR-APS00014740","APS00014740-1003M00120","APS00014740-Hanson Aggregates - Burnet Quarry - Burnet, TX","1003M00120-Agg, Coarse - HMAC-Agg-CoarseHMAC-Hanson Aggs Brunet","APS00014740","Hanson Aggregates - Burnet Quarry - Burnet, TX","1003M00120","AGGR","Agg, Coarse - HMAC","Agg-CoarseHMAC-Hanson Aggs Brunet",20490101]
["AGGR-APS00014750","APS00014750-1003M00110","APS00014750-Rock Island Sand and Gravel - Harrell Pit-Hampton","1003M00110-Agg, Fine  - HMAC-FnSandHMAC Rock Island S&G Harrell","APS00014750","Rock Island Sand and Gravel - Harrell Pit-Hampton","1003M00110","AGGR","Agg, Fine  - HMAC","FnSandHMAC Rock Island S&G Harrell",20490101]
["AGGR-APS00014750","APS00014750-1003M00120","APS00014750-Rock Island Sand and Gravel - Harrell Pit-Hampton","1003M00120-Agg, Coarse - HMAC-Agg. Coarse - HMAC RockIslandS&G Harrell","APS00014750","Rock Island Sand and Gravel - Harrell Pit-Hampton","1003M00120","AGGR","Agg, Coarse - HMAC","Agg. Coarse - HMAC RockIslandS&G Harrell",20490101]
["AGGR-APS00014780","APS00014780-1003M00110","APS00014780-Cash Sand & Gravel, Inc. - Kemp Plant -D.S., LA","1003M00110-Agg, Fine  - HMAC-FnSandHMAC Cash S&G-Kemp","APS00014780","Cash Sand & Gravel, Inc. - Kemp Plant -D.S., LA","1003M00110","AGGR","Agg, Fine  - HMAC","FnSandHMAC Cash S&G-Kemp",20490101]
["AGGR-APS00014780","APS00014780-1003M00120","APS00014780-Cash Sand & Gravel, Inc. - Kemp Plant -D.S., LA","1003M00120-Agg, Coarse - HMAC-Agg. Coarse -Cash S&G-Kemp","APS00014780","Cash Sand & Gravel, Inc. - Kemp Plant -D.S., LA","1003M00120","AGGR","Agg, Coarse - HMAC","Agg. Coarse -Cash S&G-Kemp",20490101]
["AGGR-APS00014850","APS00014850-1003M00110","APS00014850-Superior Sand & Gravel - Plant 1 - Clinton, LA","1003M00110-Agg, Fine  - HMAC-FnSandHMAC Superior S&G Plt1","APS00014850","Superior Sand & Gravel - Plant 1 - Clinton, LA","1003M00110","AGGR","Agg, Fine  - HMAC","FnSandHMAC Superior S&G Plt1",20490101]
["AGGR-APS00014850","APS00014850-1003M00120","APS00014850-Superior Sand & Gravel - Plant 1 - Clinton, LA","1003M00120-Agg, Coarse - HMAC-Agg. Coarse -Superior S&G Plt1","APS00014850","Superior Sand & Gravel - Plant 1 - Clinton, LA","1003M00120","AGGR","Agg, Coarse - HMAC","Agg. Coarse -Superior S&G Plt1",20490101]
["AGGR-APS00014860","APS00014860-1003M00110","APS00014860-Superior Sand & Gravel - Plant 2 - Clinton","1003M00110-Agg, Fine  - HMAC-FnSandHMAC Superior S&G Plt2","APS00014860","Superior Sand & Gravel - Plant 2 - Clinton","1003M00110","AGGR","Agg, Fine  - HMAC","FnSandHMAC Superior S&G Plt2",20490101]
["AGGR-APS00014860","APS00014860-1003M00120","APS00014860-Superior Sand & Gravel - Plant 2 - Clinton","1003M00120-Agg, Coarse - HMAC-Agg. Coarse -Superior S&G Plt2","APS00014860","Superior Sand & Gravel - Plant 2 - Clinton","1003M00120","AGGR","Agg, Coarse - HMAC","Agg. Coarse -Superior S&G Plt2",20490101]
["AGGR-APS00014890","APS00014890-1003M00110","APS00014890-Longville Sand and Gravel - Longville, LA","1003M00110-Agg, Fine  - HMAC-FnSandHMAC Longvilee S&G - Longville","APS00014890","Longville Sand and Gravel - Longville, LA","1003M00110","AGGR","Agg, Fine  - HMAC","FnSandHMAC Longvilee S&G - Longville",20490101]
["AGGR-APS00014900","APS00014900-1003M00110","APS00014900-Neely's Landing LLC.- Jackson, MO","1003M00110-Agg, Fine  - HMAC-FnSand HMAC Neely's Landing-JacksonMO","APS00014900","Neely's Landing LLC.- Jackson, MO","1003M00110","AGGR","Agg, Fine  - HMAC","FnSand HMAC Neely's Landing-JacksonMO",20210717]
["AGGR-APS00014900","APS00014900-1003M00120","APS00014900-Neely's Landing LLC.- Jackson, MO","1003M00120-Agg, Coarse - HMAC-Agg-CoarseHMAC-Neely'sLanding-JacksonMO","APS00014900","Neely's Landing LLC.- Jackson, MO","1003M00120","AGGR","Agg, Coarse - HMAC","Agg-CoarseHMAC-Neely'sLanding-JacksonMO",20210717]
["AGGR-APS00014950","APS00014950-1003M00110","APS00014950-Star Silica LLC. - West Monroe, LA","1003M00110-Agg, Fine  - HMAC-FnSandHMAC Star Silica W. Monroe","APS00014950","Star Silica LLC. - West Monroe, LA","1003M00110","AGGR","Agg, Fine  - HMAC","FnSandHMAC Star Silica W. Monroe",20490101]
["AGGR-APS00014950","APS00014950-1003M00120","APS00014950-Star Silica LLC. - West Monroe, LA","1003M00120-Agg, Coarse - HMAC-Agg. Coarse -Star Silica W. Monroe","APS00014950","Star Silica LLC. - West Monroe, LA","1003M00120","AGGR","Agg, Coarse - HMAC","Agg. Coarse -Star Silica W. Monroe",20490101]
["AGGR-APS00014960","APS00014960-1003M00110","APS00014960-Arcosa Aggregates - West Merryville, LA","1003M00110-Agg, Fine  - HMAC-FnSandHMAC Arcosa Aggs Plant2228","APS00014960","Arcosa Aggregates - West Merryville, LA","1003M00110","AGGR","Agg, Fine  - HMAC","FnSandHMAC Arcosa Aggs Plant2228",20490101]
["AGGR-APS00014960","APS00014960-1003M00120","APS00014960-Arcosa Aggregates - West Merryville, LA","1003M00120-Agg, Coarse - HMAC-Agg. Coarse - HMAC -ArcosaAggsPlant2228","APS00014960","Arcosa Aggregates - West Merryville, LA","1003M00120","AGGR","Agg, Coarse - HMAC","Agg. Coarse - HMAC -ArcosaAggsPlant2228",20490101]
["AGGR-APS00014970","APS00014970-1003M00110","APS00014970-Gulf Coast Sand - Nicholson, MS","1003M00110-Agg, Fine  - HMAC-FnSandHMAC Gulf Coast Sands Nicholson","APS00014970","Gulf Coast Sand - Nicholson, MS","1003M00110","AGGR","Agg, Fine  - HMAC","FnSandHMAC Gulf Coast Sands Nicholson",20490101]
["AGGR-APS00014970","APS00014970-1003M00120","APS00014970-Gulf Coast Sand - Nicholson, MS","1003M00120-Agg, Coarse - HMAC-Agg. Coarse -Gulf Coast Sands Nicholson","APS00014970","Gulf Coast Sand - Nicholson, MS","1003M00120","AGGR","Agg, Coarse - HMAC","Agg. Coarse -Gulf Coast Sands Nicholson",20490101]
["AGGR-APS00014990","APS00014990-1003M00110","APS00014990-Barriere Construction Co. LLC - Miley Pit","1003M00110-Agg, Fine  - HMAC-FnSandHMAC Barriere Miley Pit","APS00014990","Barriere Construction Co. LLC - Miley Pit","1003M00110","AGGR","Agg, Fine  - HMAC","FnSandHMAC Barriere Miley Pit",20490101]
["AGGR-APS00014990","APS00014990-1003M00120","APS00014990-Barriere Construction Co. LLC - Miley Pit","1003M00120-Agg, Coarse - HMAC-Agg. Coarse - Barriere Miley Pit","APS00014990","Barriere Construction Co. LLC - Miley Pit","1003M00120","AGGR","Agg, Coarse - HMAC","Agg. Coarse - Barriere Miley Pit",20490101]
["AGGR-APS00015000","APS00015000-1003M00110","APS00015000-Barriere Construction Co. LLC - Map Pit","1003M00110-Agg, Fine  - HMAC-FnSandHMAC Barriere Constr-Map","APS00015000","Barriere Construction Co. LLC - Map Pit","1003M00110","AGGR","Agg, Fine  - HMAC","FnSandHMAC Barriere Constr-Map",20490101]
["AGGR-APS00015000","APS00015000-1003M00120","APS00015000-Barriere Construction Co. LLC - Map Pit","1003M00120-Agg, Coarse - HMAC-Agg. Coarse -Barriere Constr-Map","APS00015000","Barriere Construction Co. LLC - Map Pit","1003M00120","AGGR","Agg, Coarse - HMAC","Agg. Coarse -Barriere Constr-Map",20490101]
["AGGR-APS00015010","APS00015010-1003M00110","APS00015010-Island Sand & Gravel - Crossett, AR","1003M00110-Agg, Fine  - HMAC","APS00015010","Island Sand & Gravel - Crossett, AR","1003M00110","AGGR","Agg, Fine  - HMAC"]
["AGGR-APS00015010","APS00015010-1003M00120","APS00015010-Island Sand & Gravel - Crossett, AR","1003M00120-Agg, Coarse - HMAC-Agg. Coarse -Island S&G-Miley","APS00015010","Island Sand & Gravel - Crossett, AR","1003M00120","AGGR","Agg, Coarse - HMAC","Agg. Coarse -Island S&G-Miley",20490101]
["AGGR-APS00015020","APS00015020-1003M00110","APS00015020-APAC Brickey Stone - Bloomdale - Kimmswick","1003M00110-Agg, Fine  - HMAC-FnSand APAC Brickey-Bloomsdale","APS00015020","APAC Brickey Stone - Bloomdale - Kimmswick","1003M00110","AGGR","Agg, Fine  - HMAC","FnSand APAC Brickey-Bloomsdale",20490101]
["AGGR-APS00015020","APS00015020-1003M00120","APS00015020-APAC Brickey Stone - Bloomdale - Kimmswick","1003M00120-Agg, Coarse - HMAC-Agg-CoarseHMAC-APAC Brickey-Bloomsdale","APS00015020","APAC Brickey Stone - Bloomdale - Kimmswick","1003M00120","AGGR","Agg, Coarse - HMAC","Agg-CoarseHMAC-APAC Brickey-Bloomsdale",20490101]
["AGGR-APS00015030","APS00015030-1003M00110","APS00015030-Amberg Construction, LLC. - Jena","1003M00110-Agg, Fine  - HMAC-FnSandHMAC Amberg Constr Aimwell","APS00015030","Amberg Construction, LLC. - Jena","1003M00110","AGGR","Agg, Fine  - HMAC","FnSandHMAC Amberg Constr Aimwell",20490101]
["AGGR-APS00015030","APS00015030-1003M00120","APS00015030-Amberg Construction, LLC. - Jena","1003M00120-Agg, Coarse - HMAC-Agg. Coarse -Amberg Constr Aimwell","APS00015030","Amberg Construction, LLC. - Jena","1003M00120","AGGR","Agg, Coarse - HMAC","Agg. Coarse -Amberg Constr Aimwell",20490101]
["AGGR-APS00015080","APS00015080-1003M00110","APS00015080-B & D Materials, LLC - Parks, LA","1003M00110-Agg, Fine  - HMAC-FnSandHMAC B&D Materials-Parks","APS00015080","B & D Materials, LLC - Parks, LA","1003M00110","AGGR","Agg, Fine  - HMAC","FnSandHMAC B&D Materials-Parks",20490101]
["AGGR-APS00015080","APS00015080-1003M00120","APS00015080-B & D Materials, LLC - Parks, LA","1003M00120-Agg, Coarse - HMAC","APS00015080","B & D Materials, LLC - Parks, LA","1003M00120","AGGR","Agg, Coarse - HMAC"]
["AGGR-APS00015090","APS00015090-1003M00110","APS00015090-D & J Construction Co., LLC - Aimwell, LA","1003M00110-Agg, Fine  - HMAC-FnSandHMAC D&J Constr Co-Aimwell","APS00015090","D & J Construction Co., LLC - Aimwell, LA","1003M00110","AGGR","Agg, Fine  - HMAC","FnSandHMAC D&J Constr Co-Aimwell",20490101]
["AGGR-APS00015110","APS00015110-1003M00110","APS00015110-Lafarge Aggregates-Cave-In-Rock, IL-Dolomite Ledge","1003M00110-Agg, Fine  - HMAC-FnSand HMAC Lafarge-Dolomite Ledge","APS00015110","Lafarge Aggregates-Cave-In-Rock, IL-Dolomite Ledge","1003M00110","AGGR","Agg, Fine  - HMAC","FnSand HMAC Lafarge-Dolomite Ledge",20490101]
["AGGR-APS00015110","APS00015110-1003M00120","APS00015110-Lafarge Aggregates-Cave-In-Rock, IL-Dolomite Ledge","1003M00120-Agg, Coarse - HMAC-Agg-CoarseHMAC-Lafarge-Dolomite Ledge","APS00015110","Lafarge Aggregates-Cave-In-Rock, IL-Dolomite Ledge","1003M00120","AGGR","Agg, Coarse - HMAC","Agg-CoarseHMAC-Lafarge-Dolomite Ledge",20490101]
["AGGR-APS00015120","APS00015120-1003M00110","APS00015120-Lafarge Aggrs-Cave-In-Rock, IL-Upper St. Gen Ledge","1003M00110-Agg, Fine  - HMAC-FnSand HMAC Lafarge-UpperStGenevieve","APS00015120","Lafarge Aggrs-Cave-In-Rock, IL-Upper St. Gen Ledge","1003M00110","AGGR","Agg, Fine  - HMAC","FnSand HMAC Lafarge-UpperStGenevieve",20490101]
["AGGR-APS00015120","APS00015120-1003M00120","APS00015120-Lafarge Aggrs-Cave-In-Rock, IL-Upper St. Gen Ledge","1003M00120-Agg, Coarse - HMAC-Agg-CoarseHMAC-LafargeUpperStGenevieve","APS00015120","Lafarge Aggrs-Cave-In-Rock, IL-Upper St. Gen Ledge","1003M00120","AGGR","Agg, Coarse - HMAC","Agg-CoarseHMAC-LafargeUpperStGenevieve",20490101]
[{"$f":"H515&\"-\"&E515","v":"AGGR-APS00015130"},{"$f":"E515&\"-\"&G515","v":"APS00015130-1003M00110"},{"$f":"E515&\"-\"&F515","v":"APS00015130-Lafarge Aggs - Cave-In-Rock, IL - Transition Ledge"},{"$f":"G515&\"-\"&I515&IF(J515<>\"\", \"-\"&J515, \"\")","v":"1003M00110-Agg, Fine  - HMAC-FnSand HMAC Lafarge-Transition Ledge"},"APS00015130","Lafarge Aggs - Cave-In-Rock, IL - Transition Ledge","1003M00110","AGGR","Agg, Fine  - HMAC","FnSand HMAC Lafarge-Transition Ledge",20490101]
["AGGR-APS00015130","APS00015130-1003M00120","APS00015130-Lafarge Aggs - Cave-In-Rock, IL - Transition Ledge","1003M00120-Agg, Coarse - HMAC-Agg-CoarseHMAC-Lafarge-TransitionLedge","APS00015130","Lafarge Aggs - Cave-In-Rock, IL - Transition Ledge","1003M00120","AGGR","Agg, Coarse - HMAC","Agg-CoarseHMAC-Lafarge-TransitionLedge",20490101]
["AGGR-APS00015140","APS00015140-1003M00110","APS00015140-Arcosa Aggregates - Plant LA 1343 - DeRidder","1003M00110-Agg, Fine  - HMAC-FnSandHMAC - Arcosa Plant 1343","APS00015140","Arcosa Aggregates - Plant LA 1343 - DeRidder","1003M00110","AGGR","Agg, Fine  - HMAC","FnSandHMAC - Arcosa Plant 1343",20490101]
["AGGR-APS00015140","APS00015140-1003M00120","APS00015140-Arcosa Aggregates - Plant LA 1343 - DeRidder","1003M00120-Agg, Coarse - HMAC-Agg, Coarse - HMAC-Arcosa Plant 1343","APS00015140","Arcosa Aggregates - Plant LA 1343 - DeRidder","1003M00120","AGGR","Agg, Coarse - HMAC","Agg, Coarse - HMAC-Arcosa Plant 1343",20490101]
["AGGR-APS00015150","APS00015150-1003M00110","APS00015150-Arcosa Aggregates - Plant LA 1342 - Clinton Pit","1003M00110-Agg, Fine  - HMAC-FnSandHMAC Arcosa Plant 1342-Clinton","APS00015150","Arcosa Aggregates - Plant LA 1342 - Clinton Pit","1003M00110","AGGR","Agg, Fine  - HMAC","FnSandHMAC Arcosa Plant 1342-Clinton",20490101]
["AGGR-APS00015150","APS00015150-1003M00120","APS00015150-Arcosa Aggregates - Plant LA 1342 - Clinton Pit","1003M00120-Agg, Coarse - HMAC-Agg. Coarse - HMAC Arcosa Plt1342Clinton","APS00015150","Arcosa Aggregates - Plant LA 1342 - Clinton Pit","1003M00120","AGGR","Agg, Coarse - HMAC","Agg. Coarse - HMAC Arcosa Plt1342Clinton",20490101]
["AGGR-APS00015160","APS00015160-1003M00110","APS00015160-Arcosa Aggregates - Plant LA 1349 - Pearl River","1003M00110-Agg, Fine  - HMAC-FnSandHMAC Arcosa Plant 1349","APS00015160","Arcosa Aggregates - Plant LA 1349 - Pearl River","1003M00110","AGGR","Agg, Fine  - HMAC","FnSandHMAC Arcosa Plant 1349",20490101]
["AGGR-APS00015160","APS00015160-1003M00120","APS00015160-Arcosa Aggregates - Plant LA 1349 - Pearl River","1003M00120-Agg, Coarse - HMAC-Agg, Coarse - HMAC  Arcosa Plant 1349","APS00015160","Arcosa Aggregates - Plant LA 1349 - Pearl River","1003M00120","AGGR","Agg, Coarse - HMAC","Agg, Coarse - HMAC  Arcosa Plant 1349",20490101]
["AGGR-APS00015170","APS00015170-1003M00110","APS00015170-Arcosa Aggregates - Plant LA 1341 - Independence","1003M00110-Agg, Fine  - HMAC-FnSandHMAC Arcosa Plant 1341","APS00015170","Arcosa Aggregates - Plant LA 1341 - Independence","1003M00110","AGGR","Agg, Fine  - HMAC","FnSandHMAC Arcosa Plant 1341",20490101]
["AGGR-APS00015170","APS00015170-1003M00120","APS00015170-Arcosa Aggregates - Plant LA 1341 - Independence","1003M00120-Agg, Coarse - HMAC-Agg. Coarse - HMAC - Arcosa Plant 1341","APS00015170","Arcosa Aggregates - Plant LA 1341 - Independence","1003M00120","AGGR","Agg, Coarse - HMAC","Agg. Coarse - HMAC - Arcosa Plant 1341",20490101]
["AGGR-APS00015180","APS00015180-1003M00110","APS00015180-Arcosa Aggregates - Plant 1347 - Hattiesburg, MS","1003M00110-Agg, Fine  - HMAC-FnSandHMAC Arcosa Plant 1347","APS00015180","Arcosa Aggregates - Plant 1347 - Hattiesburg, MS","1003M00110","AGGR","Agg, Fine  - HMAC","FnSandHMAC Arcosa Plant 1347",20490101]
["AGGR-APS00015180","APS00015180-1003M00120","APS00015180-Arcosa Aggregates - Plant 1347 - Hattiesburg, MS","1003M00120-Agg, Coarse - HMAC-Agg, Coarse - HMAC-Arcosa Plant 1347","APS00015180","Arcosa Aggregates - Plant 1347 - Hattiesburg, MS","1003M00120","AGGR","Agg, Coarse - HMAC","Agg, Coarse - HMAC-Arcosa Plant 1347",20490101]
["AGGR-APS00015190","APS00015190-1003M00110","APS00015190-Arcosa Aggregates - Plant 1348 - Columbia, MS","1003M00110-Agg, Fine  - HMAC-FnSandHMAC Arcosa Plant 1348","APS00015190","Arcosa Aggregates - Plant 1348 - Columbia, MS","1003M00110","AGGR","Agg, Fine  - HMAC","FnSandHMAC Arcosa Plant 1348",20490101]
["AGGR-APS00015190","APS00015190-1003M00120","APS00015190-Arcosa Aggregates - Plant 1348 - Columbia, MS","1003M00120-Agg, Coarse - HMAC-Agg, Coarse-HMAC-Arcosa Plant 1348","APS00015190","Arcosa Aggregates - Plant 1348 - Columbia, MS","1003M00120","AGGR","Agg, Coarse - HMAC","Agg, Coarse-HMAC-Arcosa Plant 1348",20490101]
["AGGR-APS00015200","APS00015200-1003M00110","APS00015200-Arcosa Aggregates - Plant LA 1345 - Franklinton","1003M00110-Agg, Fine  - HMAC-FnSandHMAC Arcosa Plant 1345","APS00015200","Arcosa Aggregates - Plant LA 1345 - Franklinton","1003M00110","AGGR","Agg, Fine  - HMAC","FnSandHMAC Arcosa Plant 1345",20490101]
["AGGR-APS00015200","APS00015200-1003M00120","APS00015200-Arcosa Aggregates - Plant LA 1345 - Franklinton","1003M00120-Agg, Coarse - HMAC-Agg. Coarse - HMAC Arcosa Plant 1345","APS00015200","Arcosa Aggregates - Plant LA 1345 - Franklinton","1003M00120","AGGR","Agg, Coarse - HMAC","Agg. Coarse - HMAC Arcosa Plant 1345",20490101]
["AGGR-APS00015210","APS00015210-1003M00110","APS00015210-Arcosa Aggregates - Plant LA 1340 - Denham Springs","1003M00110-Agg, Fine  - HMAC-FnSandHMAC Arcosa Plant 1340","APS00015210","Arcosa Aggregates - Plant LA 1340 - Denham Springs","1003M00110","AGGR","Agg, Fine  - HMAC","FnSandHMAC Arcosa Plant 1340",20490101]
["AGGR-APS00015210","APS00015210-1003M00120","APS00015210-Arcosa Aggregates - Plant LA 1340 - Denham Springs","1003M00120-Agg, Coarse - HMAC-Agg, Coarse - HMAC-Arcosa Plant 1340","APS00015210","Arcosa Aggregates - Plant LA 1340 - Denham Springs","1003M00120","AGGR","Agg, Coarse - HMAC","Agg, Coarse - HMAC-Arcosa Plant 1340",20490101]
["AGGR-APS00015230","APS00015230-1003M00110","APS00015230-Shoreline Agg., Inc. - Point Rousse Quarry","1003M00110-Agg, Fine  - HMAC-FnSandHMAC Shoreline Agg.,Inc-Pt. Rousse","APS00015230","Shoreline Agg., Inc. - Point Rousse Quarry","1003M00110","AGGR","Agg, Fine  - HMAC","FnSandHMAC Shoreline Agg.,Inc-Pt. Rousse",20490101]
["AGGR-APS00015230","APS00015230-1003M00120","APS00015230-Shoreline Agg., Inc. - Point Rousse Quarry","1003M00120-Agg, Coarse - HMAC-Agg-CoarseHMAC-ShorelineAggIncPt.Rousse","APS00015230","Shoreline Agg., Inc. - Point Rousse Quarry","1003M00120","AGGR","Agg, Coarse - HMAC","Agg-CoarseHMAC-ShorelineAggIncPt.Rousse",20490101]
["AGGR-APS00015250","APS00015250-1003M00110","APS00015250-Beverly Industries, LLC. - Bridge City","1003M00110-Agg, Fine  - HMAC-FnSandHMAC Beverly-Bridge City","APS00015250","Beverly Industries, LLC. - Bridge City","1003M00110","AGGR","Agg, Fine  - HMAC","FnSandHMAC Beverly-Bridge City",20490101]
["AGGR-APS00015280","APS00015280-1003M00110","APS00015280-Benton & Brown, LLC. #2 - Bossier City","1003M00110-Agg, Fine  - HMAC-FnSandHMAC Benton&Brown-Doddridge","APS00015280","Benton & Brown, LLC. #2 - Bossier City","1003M00110","AGGR","Agg, Fine  - HMAC","FnSandHMAC Benton&Brown-Doddridge",20490101]
["AGGR-APS00015310","APS00015310-1003M00110","APS00015310-Hastie Mining and Trucking #2 - Cave-In-Rock, IL","1003M00110-Agg, Fine  - HMAC-FnSand HMAC Hastie Mining-CaveInRock","APS00015310","Hastie Mining and Trucking #2 - Cave-In-Rock, IL","1003M00110","AGGR","Agg, Fine  - HMAC","FnSand HMAC Hastie Mining-CaveInRock",20490101]
["AGGR-APS00015310","APS00015310-1003M00120","APS00015310-Hastie Mining and Trucking #2 - Cave-In-Rock, IL","1003M00120-Agg, Coarse - HMAC-Agg-CoarseHMAC-Hastie Mining-CaveInRock","APS00015310","Hastie Mining and Trucking #2 - Cave-In-Rock, IL","1003M00120","AGGR","Agg, Coarse - HMAC","Agg-CoarseHMAC-Hastie Mining-CaveInRock",20490101]
["AGGR-APS00015320","APS00015320-1003M00110","APS00015320-Hard Rock Sand & Gravel - Plant 30952 - Richton,MS","1003M00110-Agg, Fine  - HMAC-FnSandHMAC Hard Rock S&G #30952","APS00015320","Hard Rock Sand & Gravel - Plant 30952 - Richton,MS","1003M00110","AGGR","Agg, Fine  - HMAC","FnSandHMAC Hard Rock S&G #30952",20490101]
["AGGR-APS00015320","APS00015320-1003M00120","APS00015320-Hard Rock Sand & Gravel - Plant 30952 - Richton,MS","1003M00120-Agg, Coarse - HMAC-Agg. Coarse -Hard Rock S&G #30952","APS00015320","Hard Rock Sand & Gravel - Plant 30952 - Richton,MS","1003M00120","AGGR","Agg, Coarse - HMAC","Agg. Coarse -Hard Rock S&G #30952",20490101]
["AGGR-APS00015340","APS00015340-1003M00110","APS00015340-P&K Stone LLC - Mill Creek","1003M00110-Agg, Fine  - HMAC-FnSandHMAC P&K Stone-Mill Creek","APS00015340","P&K Stone LLC - Mill Creek","1003M00110","AGGR","Agg, Fine  - HMAC","FnSandHMAC P&K Stone-Mill Creek",20490101]
["AGGR-APS00015340","APS00015340-1003M00120","APS00015340-P&K Stone LLC - Mill Creek","1003M00120-Agg, Coarse - HMAC-Agg-CoarseHMAC-P&K Stone-Mill Creek","APS00015340","P&K Stone LLC - Mill Creek","1003M00120","AGGR","Agg, Coarse - HMAC","Agg-CoarseHMAC-P&K Stone-Mill Creek",20490101]
["AGGR-PS00000560","PS00000560-1003M01000","PS00000560-Barriere Construction Company, LLC - Boutte","1003M01000-Agg, RAP for Asphaltic Mixtures","PS00000560","Barriere Construction Company, LLC - Boutte","1003M01000","AGGR","Agg, RAP for Asphaltic Mixtures"]
["AGGR-PS00000570","PS00000570-1003M01000","PS00000570-Huey Stockstill Contractors, Inc. - Houma","1003M01000-Agg, RAP for Asphaltic Mixtures","PS00000570","Huey Stockstill Contractors, Inc. - Houma","1003M01000","AGGR","Agg, RAP for Asphaltic Mixtures"]
["AGGR-PS00000590","PS00000590-1003M01000","PS00000590-Prairie Contractors, Inc. - Opelousas","1003M01000-Agg, RAP for Asphaltic Mixtures","PS00000590","Prairie Contractors, Inc. - Opelousas","1003M01000","AGGR","Agg, RAP for Asphaltic Mixtures"]
["AGGR-PS00000600","PS00000600-1003M01000","PS00000600-Glen Lege Construction - Abbeville","1003M01000-Agg, RAP for Asphaltic Mixtures","PS00000600","Glen Lege Construction - Abbeville","1003M01000","AGGR","Agg, RAP for Asphaltic Mixtures"]
["AGGR-PS00000610","PS00000610-1003M01000","PS00000610-Prairie Contractors, Inc. - New Iberia","1003M01000-Agg, RAP for Asphaltic Mixtures","PS00000610","Prairie Contractors, Inc. - New Iberia","1003M01000","AGGR","Agg, RAP for Asphaltic Mixtures"]
["AGGR-PS00000630","PS00000630-1003M01000","PS00000630-Prairie Contractors, Inc. - Lafayette","1003M01000-Agg, RAP for Asphaltic Mixtures","PS00000630","Prairie Contractors, Inc. - Lafayette","1003M01000","AGGR","Agg, RAP for Asphaltic Mixtures"]
["AGGR-PS00000640","PS00000640-1003M01000","PS00000640-Benton & Brown - Bossier City","1003M01000-Agg, RAP for Asphaltic Mixtures","PS00000640","Benton & Brown - Bossier City","1003M01000","AGGR","Agg, RAP for Asphaltic Mixtures"]
["AGGR-PS00000650","PS00000650-1003M01000","PS00000650-Madden Contracting Company - Sibley","1003M01000-Agg, RAP for Asphaltic Mixtures","PS00000650","Madden Contracting Company - Sibley","1003M01000","AGGR","Agg, RAP for Asphaltic Mixtures"]
["AGGR-PS00000660","PS00000660-1003M01000","PS00000660-Madden Contracting Company - Shreveport","1003M01000-Agg, RAP for Asphaltic Mixtures","PS00000660","Madden Contracting Company - Shreveport","1003M01000","AGGR","Agg, RAP for Asphaltic Mixtures"]
["AGGR-PS00000670","PS00000670-1003M01000","PS00000670-Madden Contracting Company - Mansfield","1003M01000-Agg, RAP for Asphaltic Mixtures","PS00000670","Madden Contracting Company - Mansfield","1003M01000","AGGR","Agg, RAP for Asphaltic Mixtures"]
["AGGR-PS00000680","PS00000680-1003M01000","PS00000680-Amethyst Construction Company - Ruston","1003M01000-Agg, RAP for Asphaltic Mixtures","PS00000680","Amethyst Construction Company - Ruston","1003M01000","AGGR","Agg, RAP for Asphaltic Mixtures"]
["AGGR-PS00000700","PS00000700-1003M01000","PS00000700-D & J Construction Company, Inc. - Tallulah","1003M01000-Agg, RAP for Asphaltic Mixtures","PS00000700","D & J Construction Company, Inc. - Tallulah","1003M01000","AGGR","Agg, RAP for Asphaltic Mixtures"]
["AGGR-PS00000710","PS00000710-1003M01000","PS00000710-D & J Construction Company, Inc. - West Monroe","1003M01000-Agg, RAP for Asphaltic Mixtures","PS00000710","D & J Construction Company, Inc. - West Monroe","1003M01000","AGGR","Agg, RAP for Asphaltic Mixtures"]
["AGGR-PS00000720","PS00000720-1003M01000","PS00000720-Diamond B Construction Company, LLC - Monroe","1003M01000-Agg, RAP for Asphaltic Mixtures","PS00000720","Diamond B Construction Company, LLC - Monroe","1003M01000","AGGR","Agg, RAP for Asphaltic Mixtures"]
["AGGR-PS00000750","PS00000750-1003M01000","PS00000750-Prairie Contractors, Inc. - Westlake","1003M01000-Agg, RAP for Asphaltic Mixtures","PS00000750","Prairie Contractors, Inc. - Westlake","1003M01000","AGGR","Agg, RAP for Asphaltic Mixtures"]
["AGGR-PS00000760","PS00000760-1003M01000","PS00000760-R. E. Heidt #2 - Westlake","1003M01000-Agg, RAP for Asphaltic Mixtures","PS00000760","R. E. Heidt #2 - Westlake","1003M01000","AGGR","Agg, RAP for Asphaltic Mixtures"]
["AGGR-PS00000780","PS00000780-1003M01000","PS00000780-Diamond B Construction Company, LLC - Alexandria","1003M01000-Agg, RAP for Asphaltic Mixtures","PS00000780","Diamond B Construction Company, LLC - Alexandria","1003M01000","AGGR","Agg, RAP for Asphaltic Mixtures"]
["AGGR-PS00000800","PS00000800-1003M01000","PS00000800-Gilchrist Construction #6293 - Alexandria","1003M01000-Agg, RAP for Asphaltic Mixtures","PS00000800","Gilchrist Construction #6293 - Alexandria","1003M01000","AGGR","Agg, RAP for Asphaltic Mixtures"]
["AGGR-PS00000810","PS00000810-1003M01000","PS00000810-Madden Construction Company #AP16 - Campti","1003M01000-Agg, RAP for Asphaltic Mixtures","PS00000810","Madden Construction Company #AP16 - Campti","1003M01000","AGGR","Agg, RAP for Asphaltic Mixtures"]
["AGGR-PS00000850","PS00000850-1003M01000","PS00000850-Barber Brothers #1 - Darrow","1003M01000-Agg, RAP for Asphaltic Mixtures","PS00000850","Barber Brothers #1 - Darrow","1003M01000","AGGR","Agg, RAP for Asphaltic Mixtures"]
["AGGR-PS00000860","PS00000860-1003M00110","PS00000860-Barber Brothers #6 - Port Allen","1003M00110-Agg, Fine  - HMAC-FnSandHMAC DonnaFillBarberPlant","PS00000860","Barber Brothers #6 - Port Allen","1003M00110","AGGR","Agg, Fine  - HMAC","FnSandHMAC DonnaFillBarberPlant",20220301]
["AGGR-PS00000860","PS00000860-1003M01000","PS00000860-Barber Brothers #6 - Port Allen","1003M01000-Agg, RAP for Asphaltic Mixtures","PS00000860","Barber Brothers #6 - Port Allen","1003M01000","AGGR","Agg, RAP for Asphaltic Mixtures"]
["AGGR-PS00000890","PS00000890-1003M01000","PS00000890-R. J. Daigle & Son - Geismar","1003M01000-Agg, RAP for Asphaltic Mixtures","PS00000890","R. J. Daigle & Son - Geismar","1003M01000","AGGR","Agg, RAP for Asphaltic Mixtures"]
["AGGR-PS00000940","PS00000940-1003M01000","PS00000940-Huey Stockstill #1 - Picayune","1003M01000-Agg, RAP for Asphaltic Mixtures","PS00000940","Huey Stockstill #1 - Picayune","1003M01000","AGGR","Agg, RAP for Asphaltic Mixtures"]
["AGGR-PS00000970","PS00000970-1003M01000","PS00000970-Gilchrist Construction #1 - Walker","1003M01000-Agg, RAP for Asphaltic Mixtures","PS00000970","Gilchrist Construction #1 - Walker","1003M01000","AGGR","Agg, RAP for Asphaltic Mixtures"]
["AGGR-PS00003940","PS00003940-1003M01000","PS00003940-Barber Brothers Corporation - New Orleans East","1003M01000-Agg, RAP for Asphaltic Mixtures","PS00003940","Barber Brothers Corporation - New Orleans East","1003M01000","AGGR","Agg, RAP for Asphaltic Mixtures"]
["AGGR-PS00003960","PS00003960-1003M01000","PS00003960-R. J. Daigle - Baton Rouge, LA","1003M01000-Agg, RAP for Asphaltic Mixtures","PS00003960","R. J. Daigle - Baton Rouge, LA","1003M01000","AGGR","Agg, RAP for Asphaltic Mixtures"]
["AGGR-PS00004140","PS00004140-1003M01000","PS00004140-Prairie Contractors, Inc. - Leesville","1003M01000-Agg, RAP for Asphaltic Mixtures","PS00004140","Prairie Contractors, Inc. - Leesville","1003M01000","AGGR","Agg, RAP for Asphaltic Mixtures"]
["AGGR-PS00004190","PS00004190-1003M01000","PS00004190-Boh Brothers H230 - New Orleans East","1003M01000-Agg, RAP for Asphaltic Mixtures","PS00004190","Boh Brothers H230 - New Orleans East","1003M01000","AGGR","Agg, RAP for Asphaltic Mixtures"]
["AGGR-PS00004260","PS00004260-1003M00110","PS00004260-Wood Materials, LLC - Harahan, LA (SAND)","1003M00110-Agg, Fine  - HMAC-FnSandHMAC Harahan Sand Wood Matls","PS00004260","Wood Materials, LLC - Harahan, LA (SAND)","1003M00110","AGGR","Agg, Fine  - HMAC","FnSandHMAC Harahan Sand Wood Matls",20180620]
["AGGR-PS00004380","PS00004380-1003M01000","PS00004380-D&J Construction, Inc. - Harrisonburg","1003M01000-Agg, RAP for Asphaltic Mixtures","PS00004380","D&J Construction, Inc. - Harrisonburg","1003M01000","AGGR","Agg, RAP for Asphaltic Mixtures"]
["AGGR-PS00004850","PS00004850-1003M00110","PS00004850-Benton & Brown, LLC","1003M00110-Agg, Fine  - HMAC- FnSandHMAC Benton & Brown","PS00004850","Benton & Brown, LLC","1003M00110","AGGR","Agg, Fine  - HMAC"," FnSandHMAC Benton & Brown",20231121]
["AGGR-PS00005710","PS00005710-1003M01000","PS00005710-Elliott Construction - Breaux Bridge, LA","1003M01000-Agg, RAP for Asphaltic Mixtures","PS00005710","Elliott Construction - Breaux Bridge, LA","1003M01000","AGGR","Agg, RAP for Asphaltic Mixtures"]
["AGGR-PS00005820","PS00005820-1003M00110","PS00005820-KanAgg Recycling - Harvey, TX","1003M00110-Agg, Fine  - HMAC","PS00005820","KanAgg Recycling - Harvey, TX","1003M00110","AGGR","Agg, Fine  - HMAC"]
["AGGR-PS00005840","PS00005840-1003M01000","PS00005840-Barriere Construction (CRH Company) - Franklinton","1003M01000-Agg, RAP for Asphaltic Mixtures","PS00005840","Barriere Construction (CRH Company) - Franklinton","1003M01000","AGGR","Agg, RAP for Asphaltic Mixtures"]
["AGGR-PS00005850","PS00005850-1003M01000","PS00005850-Madden Contracting - Port Allen, LA","1003M01000-Agg, RAP for Asphaltic Mixtures","PS00005850","Madden Contracting - Port Allen, LA","1003M01000","AGGR","Agg, RAP for Asphaltic Mixtures"]
[{"$f":"H579&\"-\"&E579","v":"AGGR-PS00005860"},{"$f":"E579&\"-\"&G579","v":"PS00005860-1003M01000"},{"$f":"E579&\"-\"&F579","v":"PS00005860-Barriere Construction a CRH Company - Baton Rouge"},{"$f":"G579&\"-\"&I579&IF(J579<>\"\", \"-\"&J579, \"\")","v":"1003M01000-Agg, RAP for Asphaltic Mixtures"},"PS00005860","Barriere Construction a CRH Company - Baton Rouge","1003M01000","AGGR","Agg, RAP for Asphaltic Mixtures"]
["AGGR-PS00005870","PS00005870-1003M01000","PS00005870-Madden Contracting Company, LLC - Amite","1003M01000-Agg, RAP for Asphaltic Mixtures","PS00005870","Madden Contracting Company, LLC - Amite","1003M01000","AGGR","Agg, RAP for Asphaltic Mixtures"]
["AGGR-PS00005880","PS00005880-1003M01000","PS00005880-Madden Contracting Company LLC - Westwego","1003M01000-Agg, RAP for Asphaltic Mixtures","PS00005880","Madden Contracting Company LLC - Westwego","1003M01000","AGGR","Agg, RAP for Asphaltic Mixtures"]
["AGGR-PS00005890","PS00005890-1003M01000","PS00005890-Barriere Construction a CRH Company - Boutte","1003M01000-Agg, RAP for Asphaltic Mixtures","PS00005890","Barriere Construction a CRH Company - Boutte","1003M01000","AGGR","Agg, RAP for Asphaltic Mixtures"]
["AGGR-PS00005970","PS00005970-1003M01000","PS00005970-Heritage Materials, LLC - Beaumont, TX","1003M01000-Agg, RAP for Asphaltic Mixtures","PS00005970","Heritage Materials, LLC - Beaumont, TX","1003M01000","AGGR","Agg, RAP for Asphaltic Mixtures"]
["AGGR-PS99999999","PS99999999-1003M01000","PS99999999-ZYX Test Plant - Baton Rouge, LA","1003M01000-Agg, RAP for Asphaltic Mixtures","PS99999999","ZYX Test Plant - Baton Rouge, LA","1003M01000","AGGR","Agg, RAP for Asphaltic Mixtures"]
["ASPH-PS00000520","PS00000520-0502M00020","PS00000520-Contractor Supplied","0502M00020-Base Course, Level 1, 1.0\"","PS00000520","Contractor Supplied","0502M00020","ASPH","Base Course, Level 1, 1.0\""]
["ASPH-PS00000560","PS00000560-0501M00010","PS00000560-Barriere Construction Company, LLC - Boutte","0501M00010-Thin Asphalt Concrete","PS00000560","Barriere Construction Company, LLC - Boutte","0501M00010","ASPH","Thin Asphalt Concrete"]
["ASPH-PS00000560","PS00000560-0502M00010","PS00000560-Barriere Construction Company, LLC - Boutte","0502M00010-Asphalt Concrete","PS00000560","Barriere Construction Company, LLC - Boutte","0502M00010","ASPH","Asphalt Concrete"]
["ASPH-PS00000570","PS00000570-0501M00010","PS00000570-Huey Stockstill Contractors, Inc. - Houma","0501M00010-Thin Asphalt Concrete","PS00000570","Huey Stockstill Contractors, Inc. - Houma","0501M00010","ASPH","Thin Asphalt Concrete"]
["ASPH-PS00000570","PS00000570-0502M00010","PS00000570-Huey Stockstill Contractors, Inc. - Houma","0502M00010-Asphalt Concrete","PS00000570","Huey Stockstill Contractors, Inc. - Houma","0502M00010","ASPH","Asphalt Concrete"]
["ASPH-PS00000590","PS00000590-0501M00010","PS00000590-Prairie Contractors, Inc. - Opelousas","0501M00010-Thin Asphalt Concrete","PS00000590","Prairie Contractors, Inc. - Opelousas","0501M00010","ASPH","Thin Asphalt Concrete"]
["ASPH-PS00000590","PS00000590-0502M00010","PS00000590-Prairie Contractors, Inc. - Opelousas","0502M00010-Asphalt Concrete","PS00000590","Prairie Contractors, Inc. - Opelousas","0502M00010","ASPH","Asphalt Concrete"]
["ASPH-PS00000600","PS00000600-0501M00010","PS00000600-Glen Lege Construction - Abbeville","0501M00010-Thin Asphalt Concrete","PS00000600","Glen Lege Construction - Abbeville","0501M00010","ASPH","Thin Asphalt Concrete"]
["ASPH-PS00000600","PS00000600-0502M00010","PS00000600-Glen Lege Construction - Abbeville","0502M00010-Asphalt Concrete","PS00000600","Glen Lege Construction - Abbeville","0502M00010","ASPH","Asphalt Concrete"]
["ASPH-PS00000610","PS00000610-0501M00010","PS00000610-Prairie Contractors, Inc. - New Iberia","0501M00010-Thin Asphalt Concrete","PS00000610","Prairie Contractors, Inc. - New Iberia","0501M00010","ASPH","Thin Asphalt Concrete"]
["ASPH-PS00000610","PS00000610-0502M00010","PS00000610-Prairie Contractors, Inc. - New Iberia","0502M00010-Asphalt Concrete","PS00000610","Prairie Contractors, Inc. - New Iberia","0502M00010","ASPH","Asphalt Concrete"]
["ASPH-PS00000630","PS00000630-0501M00010","PS00000630-Prairie Contractors, Inc. - Lafayette","0501M00010-Thin Asphalt Concrete","PS00000630","Prairie Contractors, Inc. - Lafayette","0501M00010","ASPH","Thin Asphalt Concrete"]
["ASPH-PS00000630","PS00000630-0502M00010","PS00000630-Prairie Contractors, Inc. - Lafayette","0502M00010-Asphalt Concrete","PS00000630","Prairie Contractors, Inc. - Lafayette","0502M00010","ASPH","Asphalt Concrete"]
["ASPH-PS00000640","PS00000640-0502M00010","PS00000640-Benton & Brown - Bossier City","0502M00010-Asphalt Concrete","PS00000640","Benton & Brown - Bossier City","0502M00010","ASPH","Asphalt Concrete"]
["ASPH-PS00000650","PS00000650-0501M00010","PS00000650-Madden Contracting Company - Sibley","0501M00010-Thin Asphalt Concrete","PS00000650","Madden Contracting Company - Sibley","0501M00010","ASPH","Thin Asphalt Concrete"]
["ASPH-PS00000650","PS00000650-0502M00010","PS00000650-Madden Contracting Company - Sibley","0502M00010-Asphalt Concrete","PS00000650","Madden Contracting Company - Sibley","0502M00010","ASPH","Asphalt Concrete"]
["ASPH-PS00000660","PS00000660-0501M00010","PS00000660-Madden Contracting Company - Shreveport","0501M00010-Thin Asphalt Concrete","PS00000660","Madden Contracting Company - Shreveport","0501M00010","ASPH","Thin Asphalt Concrete"]
["ASPH-PS00000660","PS00000660-0502M00010","PS00000660-Madden Contracting Company - Shreveport","0502M00010-Asphalt Concrete","PS00000660","Madden Contracting Company - Shreveport","0502M00010","ASPH","Asphalt Concrete"]
["ASPH-PS00000670","PS00000670-0501M00010","PS00000670-Madden Contracting Company - Mansfield","0501M00010-Thin Asphalt Concrete","PS00000670","Madden Contracting Company - Mansfield","0501M00010","ASPH","Thin Asphalt Concrete"]
["ASPH-PS00000670","PS00000670-0502M00010","PS00000670-Madden Contracting Company - Mansfield","0502M00010-Asphalt Concrete","PS00000670","Madden Contracting Company - Mansfield","0502M00010","ASPH","Asphalt Concrete"]
["ASPH-PS00000680","PS00000680-0501M00010","PS00000680-Amethyst Construction Company - Ruston","0501M00010-Thin Asphalt Concrete","PS00000680","Amethyst Construction Company - Ruston","0501M00010","ASPH","Thin Asphalt Concrete"]
["ASPH-PS00000680","PS00000680-0502M00010","PS00000680-Amethyst Construction Company - Ruston","0502M00010-Asphalt Concrete","PS00000680","Amethyst Construction Company - Ruston","0502M00010","ASPH","Asphalt Concrete"]
["ASPH-PS00000700","PS00000700-0501M00010","PS00000700-D & J Construction Company, Inc. - Tallulah","0501M00010-Thin Asphalt Concrete","PS00000700","D & J Construction Company, Inc. - Tallulah","0501M00010","ASPH","Thin Asphalt Concrete"]
["ASPH-PS00000700","PS00000700-0502M00010","PS00000700-D & J Construction Company, Inc. - Tallulah","0502M00010-Asphalt Concrete","PS00000700","D & J Construction Company, Inc. - Tallulah","0502M00010","ASPH","Asphalt Concrete"]
["ASPH-PS00000710","PS00000710-0501M00010","PS00000710-D & J Construction Company, Inc. - West Monroe","0501M00010-Thin Asphalt Concrete","PS00000710","D & J Construction Company, Inc. - West Monroe","0501M00010","ASPH","Thin Asphalt Concrete"]
["ASPH-PS00000710","PS00000710-0502M00010","PS00000710-D & J Construction Company, Inc. - West Monroe","0502M00010-Asphalt Concrete","PS00000710","D & J Construction Company, Inc. - West Monroe","0502M00010","ASPH","Asphalt Concrete"]
["ASPH-PS00000720","PS00000720-0501M00010","PS00000720-Diamond B Construction Company, LLC - Monroe","0501M00010-Thin Asphalt Concrete","PS00000720","Diamond B Construction Company, LLC - Monroe","0501M00010","ASPH","Thin Asphalt Concrete"]
["ASPH-PS00000720","PS00000720-0502M00010","PS00000720-Diamond B Construction Company, LLC - Monroe","0502M00010-Asphalt Concrete","PS00000720","Diamond B Construction Company, LLC - Monroe","0502M00010","ASPH","Asphalt Concrete"]
["ASPH-PS00000730","PS00000730-0501M00010","PS00000730-Dreher Contracting Company, - Bastrop","0501M00010-Thin Asphalt Concrete","PS00000730","Dreher Contracting Company, - Bastrop","0501M00010","ASPH","Thin Asphalt Concrete"]
["ASPH-PS00000730","PS00000730-0502M00010","PS00000730-Dreher Contracting Company, - Bastrop","0502M00010-Asphalt Concrete","PS00000730","Dreher Contracting Company, - Bastrop","0502M00010","ASPH","Asphalt Concrete"]
["ASPH-PS00000750","PS00000750-0501M00010","PS00000750-Prairie Contractors, Inc. - Westlake","0501M00010-Thin Asphalt Concrete","PS00000750","Prairie Contractors, Inc. - Westlake","0501M00010","ASPH","Thin Asphalt Concrete"]
["ASPH-PS00000750","PS00000750-0502M00010","PS00000750-Prairie Contractors, Inc. - Westlake","0502M00010-Asphalt Concrete","PS00000750","Prairie Contractors, Inc. - Westlake","0502M00010","ASPH","Asphalt Concrete"]
["ASPH-PS00000760","PS00000760-0501M00010","PS00000760-R. E. Heidt #2 - Westlake","0501M00010-Thin Asphalt Concrete","PS00000760","R. E. Heidt #2 - Westlake","0501M00010","ASPH","Thin Asphalt Concrete"]
["ASPH-PS00000760","PS00000760-0502M00010","PS00000760-R. E. Heidt #2 - Westlake","0502M00010-Asphalt Concrete","PS00000760","R. E. Heidt #2 - Westlake","0502M00010","ASPH","Asphalt Concrete"]
["ASPH-PS00000780","PS00000780-0501M00010","PS00000780-Diamond B Construction Company, LLC - Alexandria","0501M00010-Thin Asphalt Concrete","PS00000780","Diamond B Construction Company, LLC - Alexandria","0501M00010","ASPH","Thin Asphalt Concrete"]
["ASPH-PS00000780","PS00000780-0502M00010","PS00000780-Diamond B Construction Company, LLC - Alexandria","0502M00010-Asphalt Concrete","PS00000780","Diamond B Construction Company, LLC - Alexandria","0502M00010","ASPH","Asphalt Concrete"]
["ASPH-PS00000800","PS00000800-0501M00010","PS00000800-Gilchrist Construction #6293 - Alexandria","0501M00010-Thin Asphalt Concrete","PS00000800","Gilchrist Construction #6293 - Alexandria","0501M00010","ASPH","Thin Asphalt Concrete"]
["ASPH-PS00000800","PS00000800-0502M00010","PS00000800-Gilchrist Construction #6293 - Alexandria","0502M00010-Asphalt Concrete","PS00000800","Gilchrist Construction #6293 - Alexandria","0502M00010","ASPH","Asphalt Concrete"]
["ASPH-PS00000810","PS00000810-0501M00010","PS00000810-Madden Construction Company #AP16 - Campti","0501M00010-Thin Asphalt Concrete","PS00000810","Madden Construction Company #AP16 - Campti","0501M00010","ASPH","Thin Asphalt Concrete"]
["ASPH-PS00000810","PS00000810-0502M00010","PS00000810-Madden Construction Company #AP16 - Campti","0502M00010-Asphalt Concrete","PS00000810","Madden Construction Company #AP16 - Campti","0502M00010","ASPH","Asphalt Concrete"]
["ASPH-PS00000850","PS00000850-0501M00010","PS00000850-Barber Brothers #1 - Darrow","0501M00010-Thin Asphalt Concrete","PS00000850","Barber Brothers #1 - Darrow","0501M00010","ASPH","Thin Asphalt Concrete"]
["ASPH-PS00000850","PS00000850-0502M00010","PS00000850-Barber Brothers #1 - Darrow","0502M00010-Asphalt Concrete","PS00000850","Barber Brothers #1 - Darrow","0502M00010","ASPH","Asphalt Concrete"]
["ASPH-PS00000860","PS00000860-0501M00010","PS00000860-Barber Brothers #6 - Port Allen","0501M00010-Thin Asphalt Concrete","PS00000860","Barber Brothers #6 - Port Allen","0501M00010","ASPH","Thin Asphalt Concrete"]
["ASPH-PS00000860","PS00000860-0502M00010","PS00000860-Barber Brothers #6 - Port Allen","0502M00010-Asphalt Concrete","PS00000860","Barber Brothers #6 - Port Allen","0502M00010","ASPH","Asphalt Concrete"]
["ASPH-PS00000890","PS00000890-0501M00010","PS00000890-R. J. Daigle & Son - Geismar","0501M00010-Thin Asphalt Concrete","PS00000890","R. J. Daigle & Son - Geismar","0501M00010","ASPH","Thin Asphalt Concrete"]
["ASPH-PS00000890","PS00000890-0502M00010","PS00000890-R. J. Daigle & Son - Geismar","0502M00010-Asphalt Concrete","PS00000890","R. J. Daigle & Son - Geismar","0502M00010","ASPH","Asphalt Concrete"]
["ASPH-PS00000940","PS00000940-0501M00010","PS00000940-Huey Stockstill #1 - Picayune","0501M00010-Thin Asphalt Concrete","PS00000940","Huey Stockstill #1 - Picayune","0501M00010","ASPH","Thin Asphalt Concrete"]
["ASPH-PS00000940","PS00000940-0502M00010","PS00000940-Huey Stockstill #1 - Picayune","0502M00010-Asphalt Concrete","PS00000940","Huey Stockstill #1 - Picayune","0502M00010","ASPH","Asphalt Concrete"]
["ASPH-PS00000940","PS00000940-0502M00020","PS00000940-Huey Stockstill #1 - Picayune","0502M00020-Base Course, Level 1, 1.0\"","PS00000940","Huey Stockstill #1 - Picayune","0502M00020","ASPH","Base Course, Level 1, 1.0\""]
["ASPH-PS00003940","PS00003940-0502M00010","PS00003940-Barber Brothers Corporation - New Orleans East","0502M00010-Asphalt Concrete","PS00003940","Barber Brothers Corporation - New Orleans East","0502M00010","ASPH","Asphalt Concrete"]
["ASPH-PS00003960","PS00003960-0501M00010","PS00003960-R. J. Daigle - Baton Rouge, LA","0501M00010-Thin Asphalt Concrete","PS00003960","R. J. Daigle - Baton Rouge, LA","0501M00010","ASPH","Thin Asphalt Concrete"]
["ASPH-PS00003960","PS00003960-0502M00010","PS00003960-R. J. Daigle - Baton Rouge, LA","0502M00010-Asphalt Concrete","PS00003960","R. J. Daigle - Baton Rouge, LA","0502M00010","ASPH","Asphalt Concrete"]
["ASPH-PS00004140","PS00004140-0501M00010","PS00004140-Prairie Contractors, Inc. - Leesville","0501M00010-Thin Asphalt Concrete","PS00004140","Prairie Contractors, Inc. - Leesville","0501M00010","ASPH","Thin Asphalt Concrete"]
["ASPH-PS00004140","PS00004140-0502M00010","PS00004140-Prairie Contractors, Inc. - Leesville","0502M00010-Asphalt Concrete","PS00004140","Prairie Contractors, Inc. - Leesville","0502M00010","ASPH","Asphalt Concrete"]
["ASPH-PS00004190","PS00004190-0501M00010","PS00004190-Boh Brothers H230 - New Orleans East","0501M00010-Thin Asphalt Concrete","PS00004190","Boh Brothers H230 - New Orleans East","0501M00010","ASPH","Thin Asphalt Concrete"]
["ASPH-PS00004190","PS00004190-0502M00010","PS00004190-Boh Brothers H230 - New Orleans East","0502M00010-Asphalt Concrete","PS00004190","Boh Brothers H230 - New Orleans East","0502M00010","ASPH","Asphalt Concrete"]
["ASPH-PS00004380","PS00004380-0502M00010","PS00004380-D&J Construction, Inc. - Harrisonburg","0502M00010-Asphalt Concrete","PS00004380","D&J Construction, Inc. - Harrisonburg","0502M00010","ASPH","Asphalt Concrete"]
["ASPH-PS00005710","PS00005710-0502M00010","PS00005710-Elliott Construction - Breaux Bridge, LA","0502M00010-Asphalt Concrete","PS00005710","Elliott Construction - Breaux Bridge, LA","0502M00010","ASPH","Asphalt Concrete"]
[{"$f":"H643&\"-\"&E643","v":"ASPH-PS00005840"},{"$f":"E643&\"-\"&G643","v":"PS00005840-0501M00010"},{"$f":"E643&\"-\"&F643","v":"PS00005840-Barriere Construction (CRH Company) - Franklinton"},{"$f":"G643&\"-\"&I643&IF(J643<>\"\", \"-\"&J643, \"\")","v":"0501M00010-Thin Asphalt Concrete"},"PS00005840","Barriere Construction (CRH Company) - Franklinton","0501M00010","ASPH","Thin Asphalt Concrete"]
["ASPH-PS00005840","PS00005840-0502M00010","PS00005840-Barriere Construction (CRH Company) - Franklinton","0502M00010-Asphalt Concrete","PS00005840","Barriere Construction (CRH Company) - Franklinton","0502M00010","ASPH","Asphalt Concrete"]
["ASPH-PS00005850","PS00005850-0501M00010","PS00005850-Madden Contracting - Port Allen, LA","0501M00010-Thin Asphalt Concrete","PS00005850","Madden Contracting - Port Allen, LA","0501M00010","ASPH","Thin Asphalt Concrete"]
["ASPH-PS00005850","PS00005850-0502M00010","PS00005850-Madden Contracting - Port Allen, LA","0502M00010-Asphalt Concrete","PS00005850","Madden Contracting - Port Allen, LA","0502M00010","ASPH","Asphalt Concrete"]
["ASPH-PS00005860","PS00005860-0501M00010","PS00005860-Barriere Construction a CRH Company - Baton Rouge","0501M00010-Thin Asphalt Concrete","PS00005860","Barriere Construction a CRH Company - Baton Rouge","0501M00010","ASPH","Thin Asphalt Concrete"]
["ASPH-PS00005860","PS00005860-0502M00010","PS00005860-Barriere Construction a CRH Company - Baton Rouge","0502M00010-Asphalt Concrete","PS00005860","Barriere Construction a CRH Company - Baton Rouge","0502M00010","ASPH","Asphalt Concrete"]
["ASPH-PS00005870","PS00005870-0501M00010","PS00005870-Madden Contracting Company, LLC - Amite","0501M00010-Thin Asphalt Concrete","PS00005870","Madden Contracting Company, LLC - Amite","0501M00010","ASPH","Thin Asphalt Concrete"]
["ASPH-PS00005870","PS00005870-0502M00010","PS00005870-Madden Contracting Company, LLC - Amite","0502M00010-Asphalt Concrete","PS00005870","Madden Contracting Company, LLC - Amite","0502M00010","ASPH","Asphalt Concrete"]
["ASPH-PS00005880","PS00005880-0501M00010","PS00005880-Madden Contracting Company LLC - Westwego","0501M00010-Thin Asphalt Concrete","PS00005880","Madden Contracting Company LLC - Westwego","0501M00010","ASPH","Thin Asphalt Concrete"]
["ASPH-PS00005880","PS00005880-0502M00010","PS00005880-Madden Contracting Company LLC - Westwego","0502M00010-Asphalt Concrete","PS00005880","Madden Contracting Company LLC - Westwego","0502M00010","ASPH","Asphalt Concrete"]
["ASPH-PS00005890","PS00005890-0501M00010","PS00005890-Barriere Construction a CRH Company - Boutte","0501M00010-Thin Asphalt Concrete","PS00005890","Barriere Construction a CRH Company - Boutte","0501M00010","ASPH","Thin Asphalt Concrete"]
["ASPH-PS00005890","PS00005890-0502M00010","PS00005890-Barriere Construction a CRH Company - Boutte","0502M00010-Asphalt Concrete","PS00005890","Barriere Construction a CRH Company - Boutte","0502M00010","ASPH","Asphalt Concrete"]
["ASPH-PS00005970","PS00005970-0501M00010","PS00005970-Heritage Materials, LLC - Beaumont, TX","0501M00010-Thin Asphalt Concrete","PS00005970","Heritage Materials, LLC - Beaumont, TX","0501M00010","ASPH","Thin Asphalt Concrete"]
["ASPH-PS00005970","PS00005970-0502M00010","PS00005970-Heritage Materials, LLC - Beaumont, TX","0502M00010-Asphalt Concrete","PS00005970","Heritage Materials, LLC - Beaumont, TX","0502M00010","ASPH","Asphalt Concrete"]
["ASPH-PS00005970","PS00005970-0502M00020","PS00005970-Heritage Materials, LLC - Beaumont, TX","0502M00020-Base Course, Level 1, 1.0\"","PS00005970","Heritage Materials, LLC - Beaumont, TX","0502M00020","ASPH","Base Course, Level 1, 1.0\""]
["ASPH-PS99999999","PS99999999-0501M00010","PS99999999-ZYX Test Plant - Baton Rouge, LA","0501M00010-Thin Asphalt Concrete","PS99999999","ZYX Test Plant - Baton Rouge, LA","0501M00010","ASPH","Thin Asphalt Concrete"]
["ASPH-PS99999999","PS99999999-0502M00010","PS99999999-ZYX Test Plant - Baton Rouge, LA","0502M00010-Asphalt Concrete","PS99999999","ZYX Test Plant - Baton Rouge, LA","0502M00010","ASPH","Asphalt Concrete"]
["ASPH-PS9999LTRC","PS9999LTRC-0501M00010","PS9999LTRC-LTRC - Baton Rouge, LA","0501M00010-Thin Asphalt Concrete","PS9999LTRC","LTRC - Baton Rouge, LA","0501M00010","ASPH","Thin Asphalt Concrete"]
["ASPH-PS9999LTRC","PS9999LTRC-0502M00010","PS9999LTRC-LTRC - Baton Rouge, LA","0502M00010-Asphalt Concrete","PS9999LTRC","LTRC - Baton Rouge, LA","0502M00010","ASPH","Asphalt Concrete"]
["BIND-APS00000330","APS00000330-1002M00320","APS00000330-Asphalt Products Unlimited, Inc. - Port Allen, LA","1002M00320-Binder Non-TrackHotAppPol(NTHAP)TackCoat-NTHAP Underseal LA Asphalt Products","APS00000330","Asphalt Products Unlimited, Inc. - Port Allen, LA","1002M00320","BIND","Binder Non-TrackHotAppPol(NTHAP)TackCoat","NTHAP Underseal LA Asphalt Products",20490101]
["BIND-APS00000340","APS00000340-1002M00030","APS00000340-Blacklidge Emulsions, Inc. - Gulfport, MS","1002M00030-Binder PG 64-22-Binder PG 64-22 Blacklidge","APS00000340","Blacklidge Emulsions, Inc. - Gulfport, MS","1002M00030","BIND","Binder PG 64-22","Binder PG 64-22 Blacklidge",20200904]
["BIND-APS00000340","APS00000340-1002M00035","APS00000340-Blacklidge Emulsions, Inc. - Gulfport, MS","1002M00035-Binder PG 67-22-Binder PG 67-22 Blacklidge","APS00000340","Blacklidge Emulsions, Inc. - Gulfport, MS","1002M00035","BIND","Binder PG 67-22","Binder PG 67-22 Blacklidge",20490101]
["BIND-APS00000340","APS00000340-1002M00050","APS00000340-Blacklidge Emulsions, Inc. - Gulfport, MS","1002M00050-Binder PG 76-22m-Binder PG 76-22m Blacklide Emul-Gulfport","APS00000340","Blacklidge Emulsions, Inc. - Gulfport, MS","1002M00050","BIND","Binder PG 76-22m","Binder PG 76-22m Blacklide Emul-Gulfport",20490101]
["BIND-APS00000340","APS00000340-1002M00065","APS00000340-Blacklidge Emulsions, Inc. - Gulfport, MS","1002M00065-Binder PG 82-22rm-Binder PG 82-22RM Blacklidge","APS00000340","Blacklidge Emulsions, Inc. - Gulfport, MS","1002M00065","BIND","Binder PG 82-22rm","Binder PG 82-22RM Blacklidge",20490101]
["BIND-APS00000340","APS00000340-1002M00320","APS00000340-Blacklidge Emulsions, Inc. - Gulfport, MS","1002M00320-Binder Non-TrackHotAppPol(NTHAP)TackCoat-NTHAP UltraFuse - Blacklidge","APS00000340","Blacklidge Emulsions, Inc. - Gulfport, MS","1002M00320","BIND","Binder Non-TrackHotAppPol(NTHAP)TackCoat","NTHAP UltraFuse - Blacklidge",20490101]
["BIND-APS00000360","APS00000360-1002M00030","APS00000360-Ergon Refining, Inc. - Vicksburg, MS","1002M00030-Binder PG 64-22-Binder PG 64-22 Ergon Vicksburg","APS00000360","Ergon Refining, Inc. - Vicksburg, MS","1002M00030","BIND","Binder PG 64-22","Binder PG 64-22 Ergon Vicksburg",20200904]
["BIND-APS00000360","APS00000360-1002M00035","APS00000360-Ergon Refining, Inc. - Vicksburg, MS","1002M00035-Binder PG 67-22-Binder PG 67-22 Ergon Vicksburg","APS00000360","Ergon Refining, Inc. - Vicksburg, MS","1002M00035","BIND","Binder PG 67-22","Binder PG 67-22 Ergon Vicksburg",20490101]
["BIND-APS00000360","APS00000360-1002M00040","APS00000360-Ergon Refining, Inc. - Vicksburg, MS","1002M00040-Binder PG 70-22m-Binder PG 70-22m Ergon - Vicksburg","APS00000360","Ergon Refining, Inc. - Vicksburg, MS","1002M00040","BIND","Binder PG 70-22m","Binder PG 70-22m Ergon - Vicksburg",20491231]
["BIND-APS00000360","APS00000360-1002M00050","APS00000360-Ergon Refining, Inc. - Vicksburg, MS","1002M00050-Binder PG 76-22m-Binder PG 76-22m Ergon - Vicksburg","APS00000360","Ergon Refining, Inc. - Vicksburg, MS","1002M00050","BIND","Binder PG 76-22m","Binder PG 76-22m Ergon - Vicksburg",20490101]
["BIND-APS00000360","APS00000360-1002M00320","APS00000360-Ergon Refining, Inc. - Vicksburg, MS","1002M00320-Binder Non-TrackHotAppPol(NTHAP)TackCoat-NTHAP - eTac - HB Ergon, - Vicksburg ","APS00000360","Ergon Refining, Inc. - Vicksburg, MS","1002M00320","BIND","Binder Non-TrackHotAppPol(NTHAP)TackCoat","NTHAP - eTac - HB Ergon, - Vicksburg ",20490101]
["BIND-APS00000385","APS00000385-1002M00020","APS00000385-Hunt-Southland Refining Company - Heidelberg, MS","1002M00020-Binder PG 58-28-Binder PG 58-28 HuntSouthland Heidelberg","APS00000385","Hunt-Southland Refining Company - Heidelberg, MS","1002M00020","BIND","Binder PG 58-28","Binder PG 58-28 HuntSouthland Heidelberg",20490101]
["BIND-APS00000385","APS00000385-1002M00030","APS00000385-Hunt-Southland Refining Company - Heidelberg, MS","1002M00030-Binder PG 64-22-Binder PG 64-22 Hunt-Southland Heidelbg","APS00000385","Hunt-Southland Refining Company - Heidelberg, MS","1002M00030","BIND","Binder PG 64-22","Binder PG 64-22 Hunt-Southland Heidelbg",20200904]
["BIND-APS00000385","APS00000385-1002M00035","APS00000385-Hunt-Southland Refining Company - Heidelberg, MS","1002M00035-Binder PG 67-22-Binder PG 67-22 Hunt-Southland Heidelbg","APS00000385","Hunt-Southland Refining Company - Heidelberg, MS","1002M00035","BIND","Binder PG 67-22","Binder PG 67-22 Hunt-Southland Heidelbg",20490101]
["BIND-APS00000385","APS00000385-1002M00040","APS00000385-Hunt-Southland Refining Company - Heidelberg, MS","1002M00040-Binder PG 70-22m-Binder PG 70-22m Hunt-Southland Heidelbg","APS00000385","Hunt-Southland Refining Company - Heidelberg, MS","1002M00040","BIND","Binder PG 70-22m","Binder PG 70-22m Hunt-Southland Heidelbg",20490101]
["BIND-APS00000385","APS00000385-1002M00050","APS00000385-Hunt-Southland Refining Company - Heidelberg, MS","1002M00050-Binder PG 76-22m-Binder PG 76-22m Hunt Southland Ref MS","APS00000385","Hunt-Southland Refining Company - Heidelberg, MS","1002M00050","BIND","Binder PG 76-22m","Binder PG 76-22m Hunt Southland Ref MS",20490101]
["BIND-APS00000390","APS00000390-1002M00020","APS00000390-Delek US Asphalt-TrinityAsphFacility Henderson, TX","1002M00020-Binder PG 58-28-Binder PG 58-28 DK Asphalt  - Henderson","APS00000390","Delek US Asphalt-TrinityAsphFacility Henderson, TX","1002M00020","BIND","Binder PG 58-28","Binder PG 58-28 DK Asphalt  - Henderson",20210907]
["BIND-APS00000390","APS00000390-1002M00030","APS00000390-Delek US Asphalt-TrinityAsphFacility Henderson, TX","1002M00030-Binder PG 64-22-Binder PG 64-22 Lion Oil","APS00000390","Delek US Asphalt-TrinityAsphFacility Henderson, TX","1002M00030","BIND","Binder PG 64-22","Binder PG 64-22 Lion Oil",20150518]
["BIND-APS00000390","APS00000390-1002M00035","APS00000390-Delek US Asphalt-TrinityAsphFacility Henderson, TX","1002M00035-Binder PG 67-22-Binder PG 67-22 DK Asphalt - Henderson","APS00000390","Delek US Asphalt-TrinityAsphFacility Henderson, TX","1002M00035","BIND","Binder PG 67-22","Binder PG 67-22 DK Asphalt - Henderson",20490101]
["BIND-APS00000390","APS00000390-1002M00035","APS00000390-Delek US Asphalt-TrinityAsphFacility Henderson, TX","1002M00035-Binder PG 67-22-Binder PG 67-22 Lion Oil","APS00000390","Delek US Asphalt-TrinityAsphFacility Henderson, TX","1002M00035","BIND","Binder PG 67-22","Binder PG 67-22 Lion Oil",20150518]
["BIND-APS00000390","APS00000390-1002M00035","APS00000390-Delek US Asphalt-TrinityAsphFacility Henderson, TX","1002M00035-Binder PG 67-22-Binder PG 67-22 Lion Oil - Henderson","APS00000390","Delek US Asphalt-TrinityAsphFacility Henderson, TX","1002M00035","BIND","Binder PG 67-22","Binder PG 67-22 Lion Oil - Henderson",20190106]
["BIND-APS00000390","APS00000390-1002M00040","APS00000390-Delek US Asphalt-TrinityAsphFacility Henderson, TX","1002M00040-Binder PG 70-22m-Binder PG 70-22m DK Asphalt - Henderson","APS00000390","Delek US Asphalt-TrinityAsphFacility Henderson, TX","1002M00040","BIND","Binder PG 70-22m","Binder PG 70-22m DK Asphalt - Henderson",20490101]
["BIND-APS00000390","APS00000390-1002M00040","APS00000390-Delek US Asphalt-TrinityAsphFacility Henderson, TX","1002M00040-Binder PG 70-22m-Binder PG 70-22m Lion Oil ","APS00000390","Delek US Asphalt-TrinityAsphFacility Henderson, TX","1002M00040","BIND","Binder PG 70-22m","Binder PG 70-22m Lion Oil ",20150518]
["BIND-APS00000390","APS00000390-1002M00040","APS00000390-Delek US Asphalt-TrinityAsphFacility Henderson, TX","1002M00040-Binder PG 70-22m-Binder PG 70-22m Lion Oil - Henderson","APS00000390","Delek US Asphalt-TrinityAsphFacility Henderson, TX","1002M00040","BIND","Binder PG 70-22m","Binder PG 70-22m Lion Oil - Henderson",20190106]
["BIND-APS00000390","APS00000390-1002M00050","APS00000390-Delek US Asphalt-TrinityAsphFacility Henderson, TX","1002M00050-Binder PG 76-22m-Binder PG 76-22m DK Asphalt - Henderson","APS00000390","Delek US Asphalt-TrinityAsphFacility Henderson, TX","1002M00050","BIND","Binder PG 76-22m","Binder PG 76-22m DK Asphalt - Henderson",20490101]
["BIND-APS00000390","APS00000390-1002M00050","APS00000390-Delek US Asphalt-TrinityAsphFacility Henderson, TX","1002M00050-Binder PG 76-22m-Binder PG 76-22m Lion Oil","APS00000390","Delek US Asphalt-TrinityAsphFacility Henderson, TX","1002M00050","BIND","Binder PG 76-22m","Binder PG 76-22m Lion Oil",20150518]
["BIND-APS00000390","APS00000390-1002M00050","APS00000390-Delek US Asphalt-TrinityAsphFacility Henderson, TX","1002M00050-Binder PG 76-22m-Binder PG 76-22m Lion Oil - Henderson","APS00000390","Delek US Asphalt-TrinityAsphFacility Henderson, TX","1002M00050","BIND","Binder PG 76-22m","Binder PG 76-22m Lion Oil - Henderson",20190106]
["BIND-APS00000400","APS00000400-1002M00020","APS00000400-Marathon Petroleum Company - Garyville, LA","1002M00020-Binder PG 58-28-Binder PG 58-28 Marathon - Garyville","APS00000400","Marathon Petroleum Company - Garyville, LA","1002M00020","BIND","Binder PG 58-28","Binder PG 58-28 Marathon - Garyville",20490101]
["BIND-APS00000400","APS00000400-1002M00030","APS00000400-Marathon Petroleum Company - Garyville, LA","1002M00030-Binder PG 64-22-Binder PG 64-22 Marathon - Garyville","APS00000400","Marathon Petroleum Company - Garyville, LA","1002M00030","BIND","Binder PG 64-22","Binder PG 64-22 Marathon - Garyville",20200904]
["BIND-APS00000400","APS00000400-1002M00035","APS00000400-Marathon Petroleum Company - Garyville, LA","1002M00035-Binder PG 67-22-Binder PG 67-22 Marathon - Garyville","APS00000400","Marathon Petroleum Company - Garyville, LA","1002M00035","BIND","Binder PG 67-22","Binder PG 67-22 Marathon - Garyville",20490101]
["BIND-APS00000400","APS00000400-1002M00035","APS00000400-Marathon Petroleum Company - Garyville, LA","1002M00035-Binder PG 67-22-Binder PG 67-22x Marathon - Garyville","APS00000400","Marathon Petroleum Company - Garyville, LA","1002M00035","BIND","Binder PG 67-22","Binder PG 67-22x Marathon - Garyville",20490101]
["BIND-APS00000400","APS00000400-1002M00040","APS00000400-Marathon Petroleum Company - Garyville, LA","1002M00040-Binder PG 70-22m-Binder PG 70-22m Marathon - Garyville","APS00000400","Marathon Petroleum Company - Garyville, LA","1002M00040","BIND","Binder PG 70-22m","Binder PG 70-22m Marathon - Garyville",20490101]
["BIND-APS00000400","APS00000400-1002M00050","APS00000400-Marathon Petroleum Company - Garyville, LA","1002M00050-Binder PG 76-22m-Binder PG 76-22m Marathon - Garyville","APS00000400","Marathon Petroleum Company - Garyville, LA","1002M00050","BIND","Binder PG 76-22m","Binder PG 76-22m Marathon - Garyville",20490101]
["BIND-APS00000510","APS00000510-1002M00020","APS00000510-Valero Marketing and Supply - St. James, LA","1002M00020-Binder PG 58-28-Binder PG 58-28 Valero Mktg - St. James","APS00000510","Valero Marketing and Supply - St. James, LA","1002M00020","BIND","Binder PG 58-28","Binder PG 58-28 Valero Mktg - St. James",20490101]
["BIND-APS00000510","APS00000510-1002M00030","APS00000510-Valero Marketing and Supply - St. James, LA","1002M00030-Binder PG 64-22-Binder PG 64-22 Valero Mktg - St. James","APS00000510","Valero Marketing and Supply - St. James, LA","1002M00030","BIND","Binder PG 64-22","Binder PG 64-22 Valero Mktg - St. James",20200904]
["BIND-APS00000510","APS00000510-1002M00035","APS00000510-Valero Marketing and Supply - St. James, LA","1002M00035-Binder PG 67-22-Binder PG 67-22 Valero Mktg - St. James","APS00000510","Valero Marketing and Supply - St. James, LA","1002M00035","BIND","Binder PG 67-22","Binder PG 67-22 Valero Mktg - St. James",20490101]
["BIND-APS00000510","APS00000510-1002M00040","APS00000510-Valero Marketing and Supply - St. James, LA","1002M00040-Binder PG 70-22m-Binder PG 70-22m Valero Marketing","APS00000510","Valero Marketing and Supply - St. James, LA","1002M00040","BIND","Binder PG 70-22m","Binder PG 70-22m Valero Marketing",20490101]
["BIND-APS00000510","APS00000510-1002M00050","APS00000510-Valero Marketing and Supply - St. James, LA","1002M00050-Binder PG 76-22m-Binder PG 76-22m Valero Marketing","APS00000510","Valero Marketing and Supply - St. James, LA","1002M00050","BIND","Binder PG 76-22m","Binder PG 76-22m Valero Marketing",20490101]
["BIND-APS00002480","APS00002480-1002M00030","APS00002480-Calumet Laboratories/Lubricants - Shreveport, LA","1002M00030-Binder PG 64-22-Binder PG 64-22 Calumet","APS00002480","Calumet Laboratories/Lubricants - Shreveport, LA","1002M00030","BIND","Binder PG 64-22","Binder PG 64-22 Calumet",20200904]
["BIND-APS00002480","APS00002480-1002M00035","APS00002480-Calumet Laboratories/Lubricants - Shreveport, LA","1002M00035-Binder PG 67-22-Binder PG 67-22 Calumet","APS00002480","Calumet Laboratories/Lubricants - Shreveport, LA","1002M00035","BIND","Binder PG 67-22","Binder PG 67-22 Calumet",20490101]
["BIND-APS00010280","APS00010280-1002M00035","APS00010280-Ergon Asphalt & Emulsions - Memphis, TN","1002M00035-Binder PG 67-22-Binder PG 67-22 Ergon - Memphis","APS00010280","Ergon Asphalt & Emulsions - Memphis, TN","1002M00035","BIND","Binder PG 67-22","Binder PG 67-22 Ergon - Memphis",20490101]
["BIND-APS00010280","APS00010280-1002M00040","APS00010280-Ergon Asphalt & Emulsions - Memphis, TN","1002M00040-Binder PG 70-22m-Binder PG 70-22m Ergon - Memphis","APS00010280","Ergon Asphalt & Emulsions - Memphis, TN","1002M00040","BIND","Binder PG 70-22m","Binder PG 70-22m Ergon - Memphis",20490101]
["BIND-APS00010280","APS00010280-1002M00050","APS00010280-Ergon Asphalt & Emulsions - Memphis, TN","1002M00050-Binder PG 76-22m-Binder PG 76-22m Ergon - Memphis","APS00010280","Ergon Asphalt & Emulsions - Memphis, TN","1002M00050","BIND","Binder PG 76-22m","Binder PG 76-22m Ergon - Memphis",20490101]
["BIND-APS00010660","APS00010660-1002M00030","APS00010660-Martin Asphalt Company - South Houston, TX","1002M00030-Binder PG 64-22-Binder PG 64-22 MartinAsphaltSHouston","APS00010660","Martin Asphalt Company - South Houston, TX","1002M00030","BIND","Binder PG 64-22","Binder PG 64-22 MartinAsphaltSHouston",20200904]
["BIND-APS00010660","APS00010660-1002M00035","APS00010660-Martin Asphalt Company - South Houston, TX","1002M00035-Binder PG 67-22-Binder PG 67-22 MartinAsphaltSHouston","APS00010660","Martin Asphalt Company - South Houston, TX","1002M00035","BIND","Binder PG 67-22","Binder PG 67-22 MartinAsphaltSHouston",20490101]
[{"$f":"H707&\"-\"&E707","v":"BIND-APS00010660"},{"$f":"E707&\"-\"&G707","v":"APS00010660-1002M00040"},{"$f":"E707&\"-\"&F707","v":"APS00010660-Martin Asphalt Company - South Houston, TX"},{"$f":"G707&\"-\"&I707&IF(J707<>\"\", \"-\"&J707, \"\")","v":"1002M00040-Binder PG 70-22m-Binder PG 70-22m MartinAsphaltSHouston"},"APS00010660","Martin Asphalt Company - South Houston, TX","1002M00040","BIND","Binder PG 70-22m","Binder PG 70-22m MartinAsphaltSHouston",20490101]
["BIND-APS00010660","APS00010660-1002M00050","APS00010660-Martin Asphalt Company - South Houston, TX","1002M00050-Binder PG 76-22m-Binder PG 76-22m MartinAsphaltSHouston","APS00010660","Martin Asphalt Company - South Houston, TX","1002M00050","BIND","Binder PG 76-22m","Binder PG 76-22m MartinAsphaltSHouston",20490101]
["BIND-APS00010660","APS00010660-1002M00055","APS00010660-Martin Asphalt Company - South Houston, TX","1002M00055-Binder PG 76-22rm-Binder 76-22rm - MartinAsphaltSHouston","APS00010660","Martin Asphalt Company - South Houston, TX","1002M00055","BIND","Binder PG 76-22rm","Binder 76-22rm - MartinAsphaltSHouston",20181024]
["BIND-APS00010660","APS00010660-1002M00065","APS00010660-Martin Asphalt Company - South Houston, TX","1002M00065-Binder PG 82-22rm-Binder PG 82-22rm Martin Asph-S Houston","APS00010660","Martin Asphalt Company - South Houston, TX","1002M00065","BIND","Binder PG 82-22rm","Binder PG 82-22rm Martin Asph-S Houston",20490101]
["BIND-APS00010870","APS00010870-1002M00030","APS00010870-Martin Asphalt Company Stanolind - Beaumont, TX","1002M00030-Binder PG 64-22-Binder PG 64-22 MartinAsphaltStanolind","APS00010870","Martin Asphalt Company Stanolind - Beaumont, TX","1002M00030","BIND","Binder PG 64-22","Binder PG 64-22 MartinAsphaltStanolind",20200904]
["BIND-APS00010870","APS00010870-1002M00035","APS00010870-Martin Asphalt Company Stanolind - Beaumont, TX","1002M00035-Binder PG 67-22-Binder PG 67-22 MartinAsphaltStanolind","APS00010870","Martin Asphalt Company Stanolind - Beaumont, TX","1002M00035","BIND","Binder PG 67-22","Binder PG 67-22 MartinAsphaltStanolind",20490101]
["BIND-APS00010880","APS00010880-1002M00030","APS00010880-Martin Asphalt Company Neches - Beaumont, TX","1002M00030-Binder PG 64-22-Binder PG 64-22 MartinAsphaltNeches","APS00010880","Martin Asphalt Company Neches - Beaumont, TX","1002M00030","BIND","Binder PG 64-22","Binder PG 64-22 MartinAsphaltNeches",20200904]
["BIND-APS00010880","APS00010880-1002M00035","APS00010880-Martin Asphalt Company Neches - Beaumont, TX","1002M00035-Binder PG 67-22-Binder PG 67-22 Martin AsphaltNeches","APS00010880","Martin Asphalt Company Neches - Beaumont, TX","1002M00035","BIND","Binder PG 67-22","Binder PG 67-22 Martin AsphaltNeches",20490101]
["BIND-APS00011110","APS00011110-1002M00050","APS00011110-Ergon Asphalt & Emulsion - Mulga, AL","1002M00050-Binder PG 76-22m-Binder PG 76-22m ErgonAsph&EmulAL","APS00011110","Ergon Asphalt & Emulsion - Mulga, AL","1002M00050","BIND","Binder PG 76-22m","Binder PG 76-22m ErgonAsph&EmulAL",20490101]
["BIND-APS00011610","APS00011610-1002M00030","APS00011610-Valero Marketing and Supply Co., - Houston, TX","1002M00030-Binder PG 64-22-Binder PG 64-22 Valero Mktg - Houston","APS00011610","Valero Marketing and Supply Co., - Houston, TX","1002M00030","BIND","Binder PG 64-22","Binder PG 64-22 Valero Mktg - Houston",20200904]
["BIND-APS00011610","APS00011610-1002M00035","APS00011610-Valero Marketing and Supply Co., - Houston, TX","1002M00035-Binder PG 67-22-Binder PG 67-22 Valero Mktg - Houston","APS00011610","Valero Marketing and Supply Co., - Houston, TX","1002M00035","BIND","Binder PG 67-22","Binder PG 67-22 Valero Mktg - Houston",20490101]
["BIND-APS00012550","APS00012550-1002M00035","APS00012550-PBF Energy - Parsippany, NJ","1002M00035-Binder PG 67-22-Binder 67-22 PBF Energy - Parsippany","APS00012550","PBF Energy - Parsippany, NJ","1002M00035","BIND","Binder PG 67-22","Binder 67-22 PBF Energy - Parsippany",20490101]
["BIND-APS00013110","APS00013110-1002M00055","APS00013110-Asphalt & Wax Innovations, LLC - Gulfport, MS","1002M00055-Binder PG 76-22rm-Binder 76-22rm - Asphalt & Wax","APS00013110","Asphalt & Wax Innovations, LLC - Gulfport, MS","1002M00055","BIND","Binder PG 76-22rm","Binder 76-22rm - Asphalt & Wax",20181010]
["BIND-APS00013110","APS00013110-1002M00285","APS00013110-Asphalt & Wax Innovations, LLC - Gulfport, MS","1002M00285-Binder PG 76-22rm Plant-Blended-Binder PG76-22rm Plant-Blend-Asphalt&Wax","APS00013110","Asphalt & Wax Innovations, LLC - Gulfport, MS","1002M00285","BIND","Binder PG 76-22rm Plant-Blended","Binder PG76-22rm Plant-Blend-Asphalt&Wax",20181010]
["BIND-APS00013110","APS00013110-1002M00320","APS00013110-Asphalt & Wax Innovations, LLC - Gulfport, MS","1002M00320-Binder Non-TrackHotAppPol(NTHAP)TackCoat-Asphalt&Wax Drive-on-Tack (DOT-C-LT)","APS00013110","Asphalt & Wax Innovations, LLC - Gulfport, MS","1002M00320","BIND","Binder Non-TrackHotAppPol(NTHAP)TackCoat","Asphalt&Wax Drive-on-Tack (DOT-C-LT)",20490101]
["BIND-APS00013120","APS00013120-1002M00035","APS00013120-Hunt Refining Company - Dallas, TX","1002M00035-Binder PG 67-22-Binder 67-22 Hunt Refining - Dallas","APS00013120","Hunt Refining Company - Dallas, TX","1002M00035","BIND","Binder PG 67-22","Binder 67-22 Hunt Refining - Dallas",20490101]
["BIND-APS00013150","APS00013150-1002M00035","APS00013150-Hunt Refining Company - Tuscaloosa, AL","1002M00035-Binder PG 67-22-Binder PG 67-22 Hunt Refining Tuscaloosa","APS00013150","Hunt Refining Company - Tuscaloosa, AL","1002M00035","BIND","Binder PG 67-22","Binder PG 67-22 Hunt Refining Tuscaloosa",20490101]
["BIND-APS00014390","APS00014390-1002M00035","APS00014390-Hunt Refining Co. - Zenith Terminal - Mobile, AL","1002M00035-Binder PG 67-22-Binder PG 67-22 - Hunt Refining Mobile","APS00014390","Hunt Refining Co. - Zenith Terminal - Mobile, AL","1002M00035","BIND","Binder PG 67-22","Binder PG 67-22 - Hunt Refining Mobile",20490101]
["BIND-APS00014390","APS00014390-1002M00050","APS00014390-Hunt Refining Co. - Zenith Terminal - Mobile, AL","1002M00050-Binder PG 76-22m-Binder PG 76-22m - Hunt Refining Mobile","APS00014390","Hunt Refining Co. - Zenith Terminal - Mobile, AL","1002M00050","BIND","Binder PG 76-22m","Binder PG 76-22m - Hunt Refining Mobile",20490101]
["BIND-APS00014430","APS00014430-1002M00035","APS00014430-Martin Asphalt Company - St. Rose, LA","1002M00035-Binder PG 67-22-Binder PG 67-22 Martin Asphalt -St. Rose","APS00014430","Martin Asphalt Company - St. Rose, LA","1002M00035","BIND","Binder PG 67-22","Binder PG 67-22 Martin Asphalt -St. Rose",20490101]
["BIND-APS00015040","APS00015040-1002M00320","APS00015040-Blacklidge Emulsions, Inc. - Fairfield, TX","1002M00320-Binder Non-TrackHotAppPol(NTHAP)TackCoat-NTHAP Ultrafuse Blacklidge - Fairfield","APS00015040","Blacklidge Emulsions, Inc. - Fairfield, TX","1002M00320","BIND","Binder Non-TrackHotAppPol(NTHAP)TackCoat","NTHAP Ultrafuse Blacklidge - Fairfield",20490101]
["BIND-PS00000560","PS00000560-1002M00250","PS00000560-Barriere Construction Company, LLC - Boutte","1002M00250-Binder PG 70-22m Plant-Blended","PS00000560","Barriere Construction Company, LLC - Boutte","1002M00250","BIND","Binder PG 70-22m Plant-Blended"]
["BIND-PS00000560","PS00000560-1002M00260","PS00000560-Barriere Construction Company, LLC - Boutte","1002M00260-Binder PG 82-22rm Plant-Blended","PS00000560","Barriere Construction Company, LLC - Boutte","1002M00260","BIND","Binder PG 82-22rm Plant-Blended"]
["BIND-PS00000590","PS00000590-1002M00250","PS00000590-Prairie Contractors, Inc. - Opelousas","1002M00250-Binder PG 70-22m Plant-Blended","PS00000590","Prairie Contractors, Inc. - Opelousas","1002M00250","BIND","Binder PG 70-22m Plant-Blended"]
["BIND-PS00000590","PS00000590-1002M00260","PS00000590-Prairie Contractors, Inc. - Opelousas","1002M00260-Binder PG 82-22rm Plant-Blended","PS00000590","Prairie Contractors, Inc. - Opelousas","1002M00260","BIND","Binder PG 82-22rm Plant-Blended"]
["BIND-PS00000600","PS00000600-1002M00250","PS00000600-Glen Lege Construction - Abbeville","1002M00250-Binder PG 70-22m Plant-Blended","PS00000600","Glen Lege Construction - Abbeville","1002M00250","BIND","Binder PG 70-22m Plant-Blended"]
["BIND-PS00000600","PS00000600-1002M00260","PS00000600-Glen Lege Construction - Abbeville","1002M00260-Binder PG 82-22rm Plant-Blended","PS00000600","Glen Lege Construction - Abbeville","1002M00260","BIND","Binder PG 82-22rm Plant-Blended"]
["BIND-PS00000610","PS00000610-1002M00250","PS00000610-Prairie Contractors, Inc. - New Iberia","1002M00250-Binder PG 70-22m Plant-Blended","PS00000610","Prairie Contractors, Inc. - New Iberia","1002M00250","BIND","Binder PG 70-22m Plant-Blended"]
["BIND-PS00000610","PS00000610-1002M00260","PS00000610-Prairie Contractors, Inc. - New Iberia","1002M00260-Binder PG 82-22rm Plant-Blended","PS00000610","Prairie Contractors, Inc. - New Iberia","1002M00260","BIND","Binder PG 82-22rm Plant-Blended"]
["BIND-PS00000630","PS00000630-1002M00250","PS00000630-Prairie Contractors, Inc. - Lafayette","1002M00250-Binder PG 70-22m Plant-Blended","PS00000630","Prairie Contractors, Inc. - Lafayette","1002M00250","BIND","Binder PG 70-22m Plant-Blended"]
["BIND-PS00000630","PS00000630-1002M00260","PS00000630-Prairie Contractors, Inc. - Lafayette","1002M00260-Binder PG 82-22rm Plant-Blended","PS00000630","Prairie Contractors, Inc. - Lafayette","1002M00260","BIND","Binder PG 82-22rm Plant-Blended"]
["BIND-PS00000720","PS00000720-1002M00250","PS00000720-Diamond B Construction Company, LLC - Monroe","1002M00250-Binder PG 70-22m Plant-Blended","PS00000720","Diamond B Construction Company, LLC - Monroe","1002M00250","BIND","Binder PG 70-22m Plant-Blended"]
["BIND-PS00000720","PS00000720-1002M00260","PS00000720-Diamond B Construction Company, LLC - Monroe","1002M00260-Binder PG 82-22rm Plant-Blended","PS00000720","Diamond B Construction Company, LLC - Monroe","1002M00260","BIND","Binder PG 82-22rm Plant-Blended"]
["BIND-PS00000750","PS00000750-1002M00250","PS00000750-Prairie Contractors, Inc. - Westlake","1002M00250-Binder PG 70-22m Plant-Blended","PS00000750","Prairie Contractors, Inc. - Westlake","1002M00250","BIND","Binder PG 70-22m Plant-Blended"]
["BIND-PS00000750","PS00000750-1002M00260","PS00000750-Prairie Contractors, Inc. - Westlake","1002M00260-Binder PG 82-22rm Plant-Blended","PS00000750","Prairie Contractors, Inc. - Westlake","1002M00260","BIND","Binder PG 82-22rm Plant-Blended"]
["BIND-PS00000780","PS00000780-1002M00250","PS00000780-Diamond B Construction Company, LLC - Alexandria","1002M00250-Binder PG 70-22m Plant-Blended","PS00000780","Diamond B Construction Company, LLC - Alexandria","1002M00250","BIND","Binder PG 70-22m Plant-Blended"]
["BIND-PS00000780","PS00000780-1002M00260","PS00000780-Diamond B Construction Company, LLC - Alexandria","1002M00260-Binder PG 82-22rm Plant-Blended","PS00000780","Diamond B Construction Company, LLC - Alexandria","1002M00260","BIND","Binder PG 82-22rm Plant-Blended"]
["BIND-PS00000800","PS00000800-1002M00250","PS00000800-Gilchrist Construction #6293 - Alexandria","1002M00250-Binder PG 70-22m Plant-Blended","PS00000800","Gilchrist Construction #6293 - Alexandria","1002M00250","BIND","Binder PG 70-22m Plant-Blended"]
["BIND-PS00000800","PS00000800-1002M00260","PS00000800-Gilchrist Construction #6293 - Alexandria","1002M00260-Binder PG 82-22rm Plant-Blended","PS00000800","Gilchrist Construction #6293 - Alexandria","1002M00260","BIND","Binder PG 82-22rm Plant-Blended"]
["BIND-PS00000850","PS00000850-1002M00250","PS00000850-Barber Brothers #1 - Darrow","1002M00250-Binder PG 70-22m Plant-Blended","PS00000850","Barber Brothers #1 - Darrow","1002M00250","BIND","Binder PG 70-22m Plant-Blended"]
["BIND-PS00000850","PS00000850-1002M00260","PS00000850-Barber Brothers #1 - Darrow","1002M00260-Binder PG 82-22rm Plant-Blended","PS00000850","Barber Brothers #1 - Darrow","1002M00260","BIND","Binder PG 82-22rm Plant-Blended"]
["BIND-PS00000860","PS00000860-1002M00250","PS00000860-Barber Brothers #6 - Port Allen","1002M00250-Binder PG 70-22m Plant-Blended","PS00000860","Barber Brothers #6 - Port Allen","1002M00250","BIND","Binder PG 70-22m Plant-Blended"]
["BIND-PS00000860","PS00000860-1002M00260","PS00000860-Barber Brothers #6 - Port Allen","1002M00260-Binder PG 82-22rm Plant-Blended","PS00000860","Barber Brothers #6 - Port Allen","1002M00260","BIND","Binder PG 82-22rm Plant-Blended"]
["BIND-PS00003960","PS00003960-1002M00250","PS00003960-R. J. Daigle - Baton Rouge, LA","1002M00250-Binder PG 70-22m Plant-Blended","PS00003960","R. J. Daigle - Baton Rouge, LA","1002M00250","BIND","Binder PG 70-22m Plant-Blended"]
["BIND-PS00003960","PS00003960-1002M00260","PS00003960-R. J. Daigle - Baton Rouge, LA","1002M00260-Binder PG 82-22rm Plant-Blended","PS00003960","R. J. Daigle - Baton Rouge, LA","1002M00260","BIND","Binder PG 82-22rm Plant-Blended"]
["BIND-PS00004140","PS00004140-1002M00250","PS00004140-Prairie Contractors, Inc. - Leesville","1002M00250-Binder PG 70-22m Plant-Blended","PS00004140","Prairie Contractors, Inc. - Leesville","1002M00250","BIND","Binder PG 70-22m Plant-Blended"]
["BIND-PS00004140","PS00004140-1002M00260","PS00004140-Prairie Contractors, Inc. - Leesville","1002M00260-Binder PG 82-22rm Plant-Blended","PS00004140","Prairie Contractors, Inc. - Leesville","1002M00260","BIND","Binder PG 82-22rm Plant-Blended"]
["BIND-PS00005840","PS00005840-1002M00250","PS00005840-Barriere Construction (CRH Company) - Franklinton","1002M00250-Binder PG 70-22m Plant-Blended","PS00005840","Barriere Construction (CRH Company) - Franklinton","1002M00250","BIND","Binder PG 70-22m Plant-Blended"]
["BIND-PS00005840","PS00005840-1002M00260","PS00005840-Barriere Construction (CRH Company) - Franklinton","1002M00260-Binder PG 82-22rm Plant-Blended","PS00005840","Barriere Construction (CRH Company) - Franklinton","1002M00260","BIND","Binder PG 82-22rm Plant-Blended"]
["BIND-PS00005850","PS00005850-1002M00250","PS00005850-Madden Contracting - Port Allen, LA","1002M00250-Binder PG 70-22m Plant-Blended","PS00005850","Madden Contracting - Port Allen, LA","1002M00250","BIND","Binder PG 70-22m Plant-Blended"]
["BIND-PS00005850","PS00005850-1002M00260","PS00005850-Madden Contracting - Port Allen, LA","1002M00260-Binder PG 82-22rm Plant-Blended","PS00005850","Madden Contracting - Port Allen, LA","1002M00260","BIND","Binder PG 82-22rm Plant-Blended"]
["BIND-PS00005850","PS00005850-1002M00280","PS00005850-Madden Contracting - Port Allen, LA","1002M00280-Binder PG 76-22m Plant-Blended","PS00005850","Madden Contracting - Port Allen, LA","1002M00280","BIND","Binder PG 76-22m Plant-Blended"]
["BIND-PS00005860","PS00005860-1002M00250","PS00005860-Barriere Construction a CRH Company - Baton Rouge","1002M00250-Binder PG 70-22m Plant-Blended","PS00005860","Barriere Construction a CRH Company - Baton Rouge","1002M00250","BIND","Binder PG 70-22m Plant-Blended"]
["BIND-PS00005860","PS00005860-1002M00260","PS00005860-Barriere Construction a CRH Company - Baton Rouge","1002M00260-Binder PG 82-22rm Plant-Blended","PS00005860","Barriere Construction a CRH Company - Baton Rouge","1002M00260","BIND","Binder PG 82-22rm Plant-Blended"]
["BIND-PS00005860","PS00005860-1002M00280","PS00005860-Barriere Construction a CRH Company - Baton Rouge","1002M00280-Binder PG 76-22m Plant-Blended","PS00005860","Barriere Construction a CRH Company - Baton Rouge","1002M00280","BIND","Binder PG 76-22m Plant-Blended"]
["BIND-PS00005870","PS00005870-1002M00250","PS00005870-Madden Contracting Company, LLC - Amite","1002M00250-Binder PG 70-22m Plant-Blended","PS00005870","Madden Contracting Company, LLC - Amite","1002M00250","BIND","Binder PG 70-22m Plant-Blended"]
["BIND-PS00005870","PS00005870-1002M00260","PS00005870-Madden Contracting Company, LLC - Amite","1002M00260-Binder PG 82-22rm Plant-Blended","PS00005870","Madden Contracting Company, LLC - Amite","1002M00260","BIND","Binder PG 82-22rm Plant-Blended"]
["BIND-PS00005870","PS00005870-1002M00280","PS00005870-Madden Contracting Company, LLC - Amite","1002M00280-Binder PG 76-22m Plant-Blended","PS00005870","Madden Contracting Company, LLC - Amite","1002M00280","BIND","Binder PG 76-22m Plant-Blended"]
["BIND-PS00005880","PS00005880-1002M00250","PS00005880-Madden Contracting Company LLC - Westwego","1002M00250-Binder PG 70-22m Plant-Blended","PS00005880","Madden Contracting Company LLC - Westwego","1002M00250","BIND","Binder PG 70-22m Plant-Blended"]
["BIND-PS00005880","PS00005880-1002M00280","PS00005880-Madden Contracting Company LLC - Westwego","1002M00280-Binder PG 76-22m Plant-Blended","PS00005880","Madden Contracting Company LLC - Westwego","1002M00280","BIND","Binder PG 76-22m Plant-Blended"]
["BIND-PS00005890","PS00005890-1002M00250","PS00005890-Barriere Construction a CRH Company - Boutte","1002M00250-Binder PG 70-22m Plant-Blended","PS00005890","Barriere Construction a CRH Company - Boutte","1002M00250","BIND","Binder PG 70-22m Plant-Blended"]
["BIND-PS00005890","PS00005890-1002M00260","PS00005890-Barriere Construction a CRH Company - Boutte","1002M00260-Binder PG 82-22rm Plant-Blended","PS00005890","Barriere Construction a CRH Company - Boutte","1002M00260","BIND","Binder PG 82-22rm Plant-Blended"]
["BIND-PS99999999","PS99999999-1002M00250","PS99999999-ZYX Test Plant - Baton Rouge, LA","1002M00250-Binder PG 70-22m Plant-Blended","PS99999999","ZYX Test Plant - Baton Rouge, LA","1002M00250","BIND","Binder PG 70-22m Plant-Blended"]
["BIND-PS99999999","PS99999999-1002M00260","PS99999999-ZYX Test Plant - Baton Rouge, LA","1002M00260-Binder PG 82-22rm Plant-Blended","PS99999999","ZYX Test Plant - Baton Rouge, LA","1002M00260","BIND","Binder PG 82-22rm Plant-Blended"]