{"text_format":"1","workbook":"xlsx","n_sheets":26,"sheets":["Instructions","Reporting","Material Setup","Project","Optimum AC Test Results","Comp. Grad. and FAA Input","Moisture Susceptibility Design","JMF Input","JMF","JMF CHECK","Validation Input","Validation","Plant Report-Val","Acceptance Input","Lot Report","Acceptance Report","Project Summary","QC","Acceptance","Verification","setup","Signature","Admin","Authentication","PS","MAT"],"not_rendered":{"charts":4,"images":1,"macros":1,"external_links":0,"defined_names":25,"comments":10,"pivot_tables":0},"unopened":[],"bounds":{"document_bytes":16777216,"sheet_cells":100000,"rows_first":2000,"rows_last":500,"rows_between":2000,"halvings":0,"cell_chars":16384,"cell_head_chars":4096},"cells_cut":0,"cells_raw":0,"read":"whole","date_system":"1900"}

{"sheet":"Instructions","index":0,"n_rows":0,"n_cols":0,"rows_kept":0,"cut":false,"hidden":false,"merged":[]}

{"sheet":"Reporting","index":1,"n_rows":27,"n_cols":15,"rows_kept":27,"cut":false,"hidden":false,"merged":[[9,14,9,15],[10,14,10,15],[14,7,14,12],[25,7,25,12],[26,7,26,12],[17,7,17,12],[18,7,18,12],[19,7,19,12],[21,7,21,12],[22,7,22,12],[9,7,9,12],[13,7,13,12],[12,7,12,12],[11,7,11,12],[10,7,10,12]]}
[]
[]
[]
[]
[]
[]
[]
[]
[]
[null,null,null,null,null,null,"Y","Optimum AC and Verification Samples data",null,null,null,null,null,null,"SMM codes updated"]
[null,null,null,null,null,null,"Y","Optimum AC charts",null,null,null,null,null,null,"2023-03-31"]
[null,null,null,null,null,null,"Y","Combined Gradation"]
[null,null,null,null,null,null,"Y","0.45 Curve"]
[null,null,null,null,null,null,"Y","Ignition Oven Correction Factors and Verification Gradations"]
[null,null,null,null,null,null,"Y","LWT Design"]
[]
[]
[null,null,null,null,null,null,"Y","JMF Input"]
[null,null,null,null,null,null,"Y","JMF"]
[null,null,null,null,null,null,"Y","JMF Check"]
[]
[null,null,null,null,null,null,"Y","Validation Input"]
[null,null,null,null,null,null,"Y","Validation Report"]
[]
[]
[null,null,null,null,null,null,"Y","Acceptance Input"]
[null,null,null,null,null,null,"Y","Acceptance Report"]

{"sheet":"Material Setup","index":2,"n_rows":73,"n_cols":31,"rows_kept":73,"cut":false,"hidden":false,"merged":[[0,0,1,3]]}
["This page is used to select commonly used materials by the asphalt producer, the dropdown fields throughout LaPave will be populated with the options selected here and the default parameters entered for each option"]
[]
[null,null,"*"," = expired material"]
[]
["Asphalt Prodr"]
[]
["Anti-Strips","Producer/Supplier",{"$f":"COUNTA(D8:D11)","v":0},"Material","Custom Name/Identifier","Anti-Strip %"]
[1,null,{"$f":"IF(AC8<NOW(),\"*\",\"\")","v":""},null,null,null,null,null,null,null,null,null,null,null,null,null,null,null,null,null,null,null,null,null,"ADAP",{"$f":"\"MAT!\"&ADDRESS(VLOOKUP(B8,INDIRECT(\"PS!\"&ADDRESS(VLOOKUP(Y8,PS!$I$2:$M$32,2,FALSE),3)&\":\"&ADDRESS(VLOOKUP(Y8,PS!$I$2:$M$32,2,FALSE)+VLOOKUP(Y8,PS!$I$2:$M$32,3,FALSE)-1,7)),4,FALSE),4)&\":\"&ADDRESS(VLOOKUP(B8,INDIRECT(\"PS!\"&ADDRESS(VLOOKUP(Y8,PS!$I$2:$M$32,2,FALSE),3)&\":\"&ADDRESS(VLOOKUP(Y8,PS!$I$2:$M$32,2,FALSE)+VLOOKUP(Y8,PS!$I$2:$M$32,3,FALSE)-1,7)),4,FALSE)+VLOOKUP(B8,INDIRECT(\"PS!\"&ADDRESS(VLOOKUP(Y8,PS!$I$2:$M$32,2,FALSE),3)&\":\"&ADDRESS(VLOOKUP(Y8,PS!$I$2:$M$32,2,FALSE)+VLOOKUP(Y8,PS!$I$2:$M$32,3,FALSE)-1,7)),5,FALSE)-1,4)","v":{"$error":"#N/A"}},{"$f":"IFERROR(VLOOKUP(D8,MAT!$D$2:$K$100000,7,FALSE),\"\")","v":""},{"$f":"IFERROR(VLOOKUP(D8,MAT!$D$2:$K$100000,8,FALSE),\"\")","v":""},{"$f":"IFERROR(DATE(LEFT(AB8,4),MID(AB8,5,2),RIGHT(AB8,2)),\"\")","v":""},{"$f":"IFERROR(VLOOKUP(D8,MAT!$D$2:$K$100000,2,FALSE),\"\")","v":""},{"$f":"IF(LEN(D8)>10,LEFT(D8,10)&\"-\"&E8,\"\")","v":""}]
[2,null,{"$f":"IF(AC9<NOW(),\"*\",\"\")","v":""},null,null,null,null,null,null,null,null,null,null,null,null,null,null,null,null,null,null,null,null,null,"ADAP",{"$f":"\"MAT!\"&ADDRESS(VLOOKUP(B9,INDIRECT(\"PS!\"&ADDRESS(VLOOKUP(Y9,PS!$I$2:$M$32,2,FALSE),3)&\":\"&ADDRESS(VLOOKUP(Y9,PS!$I$2:$M$32,2,FALSE)+VLOOKUP(Y9,PS!$I$2:$M$32,3,FALSE)-1,7)),4,FALSE),4)&\":\"&ADDRESS(VLOOKUP(B9,INDIRECT(\"PS!\"&ADDRESS(VLOOKUP(Y9,PS!$I$2:$M$32,2,FALSE),3)&\":\"&ADDRESS(VLOOKUP(Y9,PS!$I$2:$M$32,2,FALSE)+VLOOKUP(Y9,PS!$I$2:$M$32,3,FALSE)-1,7)),4,FALSE)+VLOOKUP(B9,INDIRECT(\"PS!\"&ADDRESS(VLOOKUP(Y9,PS!$I$2:$M$32,2,FALSE),3)&\":\"&ADDRESS(VLOOKUP(Y9,PS!$I$2:$M$32,2,FALSE)+VLOOKUP(Y9,PS!$I$2:$M$32,3,FALSE)-1,7)),5,FALSE)-1,4)","v":{"$error":"#N/A"}},{"$f":"IFERROR(VLOOKUP(D9,MAT!$D$2:$K$100000,7,FALSE),\"\")","v":""},{"$f":"IFERROR(VLOOKUP(D9,MAT!$D$2:$K$100000,8,FALSE),\"\")","v":""},{"$f":"IFERROR(DATE(LEFT(AB9,4),MID(AB9,5,2),RIGHT(AB9,2)),\"\")","v":""},{"$f":"IFERROR(VLOOKUP(D9,MAT!$D$2:$K$100000,2,FALSE),\"\")","v":""},{"$f":"IF(LEN(D9)>10,LEFT(D9,10)&\"-\"&E9,\"\")","v":""}]
[3,null,"",null,null,null,null,null,null,null,null,null,null,null,null,null,null,null,null,null,null,null,null,null,"ADAP",{"$f":"\"MAT!\"&ADDRESS(VLOOKUP(B10,INDIRECT(\"PS!\"&ADDRESS(VLOOKUP(Y10,PS!$I$2:$M$32,2,FALSE),3)&\":\"&ADDRESS(VLOOKUP(Y10,PS!$I$2:$M$32,2,FALSE)+VLOOKUP(Y10,PS!$I$2:$M$32,3,FALSE)-1,7)),4,FALSE),4)&\":\"&ADDRESS(VLOOKUP(B10,INDIRECT(\"PS!\"&ADDRESS(VLOOKUP(Y10,PS!$I$2:$M$32,2,FALSE),3)&\":\"&ADDRESS(VLOOKUP(Y10,PS!$I$2:$M$32,2,FALSE)+VLOOKUP(Y10,PS!$I$2:$M$32,3,FALSE)-1,7)),4,FALSE)+VLOOKUP(B10,INDIRECT(\"PS!\"&ADDRESS(VLOOKUP(Y10,PS!$I$2:$M$32,2,FALSE),3)&\":\"&ADDRESS(VLOOKUP(Y10,PS!$I$2:$M$32,2,FALSE)+VLOOKUP(Y10,PS!$I$2:$M$32,3,FALSE)-1,7)),5,FALSE)-1,4)","v":{"$error":"#N/A"}},{"$f":"IFERROR(VLOOKUP(D10,MAT!$D$2:$K$100000,7,FALSE),\"\")","v":""},{"$f":"IFERROR(VLOOKUP(D10,MAT!$D$2:$K$100000,8,FALSE),\"\")","v":""},"",{"$f":"IFERROR(VLOOKUP(D10,MAT!$D$2:$K$100000,2,FALSE),\"\")","v":""},""]
[4,null,"",null,null,null,null,null,null,null,null,null,null,null,null,null,null,null,null,null,null,null,null,null,"ADAP",{"$f":"\"MAT!\"&ADDRESS(VLOOKUP(B11,INDIRECT(\"PS!\"&ADDRESS(VLOOKUP(Y11,PS!$I$2:$M$32,2,FALSE),3)&\":\"&ADDRESS(VLOOKUP(Y11,PS!$I$2:$M$32,2,FALSE)+VLOOKUP(Y11,PS!$I$2:$M$32,3,FALSE)-1,7)),4,FALSE),4)&\":\"&ADDRESS(VLOOKUP(B11,INDIRECT(\"PS!\"&ADDRESS(VLOOKUP(Y11,PS!$I$2:$M$32,2,FALSE),3)&\":\"&ADDRESS(VLOOKUP(Y11,PS!$I$2:$M$32,2,FALSE)+VLOOKUP(Y11,PS!$I$2:$M$32,3,FALSE)-1,7)),4,FALSE)+VLOOKUP(B11,INDIRECT(\"PS!\"&ADDRESS(VLOOKUP(Y11,PS!$I$2:$M$32,2,FALSE),3)&\":\"&ADDRESS(VLOOKUP(Y11,PS!$I$2:$M$32,2,FALSE)+VLOOKUP(Y11,PS!$I$2:$M$32,3,FALSE)-1,7)),5,FALSE)-1,4)","v":{"$error":"#N/A"}},{"$f":"IFERROR(VLOOKUP(D11,MAT!$D$2:$K$100000,7,FALSE),\"\")","v":""},{"$f":"IFERROR(VLOOKUP(D11,MAT!$D$2:$K$100000,8,FALSE),\"\")","v":""},"",{"$f":"IFERROR(VLOOKUP(D11,MAT!$D$2:$K$100000,2,FALSE),\"\")","v":""},""]
[]
["Warm Mix Ad","Producer/Supplier",{"$f":"COUNTA(D14:D17)","v":0},"Material","Custom Name/Identifier","Method","Rate"]
[1,null,{"$f":"IF(AC14<NOW(),\"*\",\"\")","v":""},null,null,null,null,null,null,null,null,null,null,null,null,null,null,null,null,null,null,null,null,null,"ADAP",{"$f":"\"MAT!\"&ADDRESS(VLOOKUP(B14,INDIRECT(\"PS!\"&ADDRESS(VLOOKUP(Y14,PS!$I$2:$M$32,2,FALSE),3)&\":\"&ADDRESS(VLOOKUP(Y14,PS!$I$2:$M$32,2,FALSE)+VLOOKUP(Y14,PS!$I$2:$M$32,3,FALSE)-1,7)),4,FALSE),4)&\":\"&ADDRESS(VLOOKUP(B14,INDIRECT(\"PS!\"&ADDRESS(VLOOKUP(Y14,PS!$I$2:$M$32,2,FALSE),3)&\":\"&ADDRESS(VLOOKUP(Y14,PS!$I$2:$M$32,2,FALSE)+VLOOKUP(Y14,PS!$I$2:$M$32,3,FALSE)-1,7)),4,FALSE)+VLOOKUP(B14,INDIRECT(\"PS!\"&ADDRESS(VLOOKUP(Y14,PS!$I$2:$M$32,2,FALSE),3)&\":\"&ADDRESS(VLOOKUP(Y14,PS!$I$2:$M$32,2,FALSE)+VLOOKUP(Y14,PS!$I$2:$M$32,3,FALSE)-1,7)),5,FALSE)-1,4)","v":{"$error":"#N/A"}},{"$f":"IFERROR(VLOOKUP(D14,MAT!$D$2:$K$100000,7,FALSE),\"\")","v":""},{"$f":"IFERROR(VLOOKUP(D14,MAT!$D$2:$K$100000,8,FALSE),\"\")","v":""},{"$f":"IFERROR(DATE(LEFT(AB14,4),MID(AB14,5,2),RIGHT(AB14,2)),\"\")","v":""},{"$f":"IFERROR(VLOOKUP(D14,MAT!$D$2:$K$100000,2,FALSE),\"\")","v":""},{"$f":"IF(LEN(D14)>10,LEFT(D14,10)&\"-\"&E14,\"\")","v":""}]
[2,null,"",null,null,null,null,null,null,null,null,null,null,null,null,null,null,null,null,null,null,null,null,null,"ADAP",{"$f":"\"MAT!\"&ADDRESS(VLOOKUP(B15,INDIRECT(\"PS!\"&ADDRESS(VLOOKUP(Y15,PS!$I$2:$M$32,2,FALSE),3)&\":\"&ADDRESS(VLOOKUP(Y15,PS!$I$2:$M$32,2,FALSE)+VLOOKUP(Y15,PS!$I$2:$M$32,3,FALSE)-1,7)),4,FALSE),4)&\":\"&ADDRESS(VLOOKUP(B15,INDIRECT(\"PS!\"&ADDRESS(VLOOKUP(Y15,PS!$I$2:$M$32,2,FALSE),3)&\":\"&ADDRESS(VLOOKUP(Y15,PS!$I$2:$M$32,2,FALSE)+VLOOKUP(Y15,PS!$I$2:$M$32,3,FALSE)-1,7)),4,FALSE)+VLOOKUP(B15,INDIRECT(\"PS!\"&ADDRESS(VLOOKUP(Y15,PS!$I$2:$M$32,2,FALSE),3)&\":\"&ADDRESS(VLOOKUP(Y15,PS!$I$2:$M$32,2,FALSE)+VLOOKUP(Y15,PS!$I$2:$M$32,3,FALSE)-1,7)),5,FALSE)-1,4)","v":{"$error":"#N/A"}},{"$f":"IFERROR(VLOOKUP(D15,MAT!$D$2:$K$100000,7,FALSE),\"\")","v":""},{"$f":"IFERROR(VLOOKUP(D15,MAT!$D$2:$K$100000,8,FALSE),\"\")","v":""},"",{"$f":"IFERROR(VLOOKUP(D15,MAT!$D$2:$K$100000,2,FALSE),\"\")","v":""},""]
[3,null,"",null,null,null,null,null,null,null,null,null,null,null,null,null,null,null,null,null,null,null,null,null,"ADAP",{"$f":"\"MAT!\"&ADDRESS(VLOOKUP(B16,INDIRECT(\"PS!\"&ADDRESS(VLOOKUP(Y16,PS!$I$2:$M$32,2,FALSE),3)&\":\"&ADDRESS(VLOOKUP(Y16,PS!$I$2:$M$32,2,FALSE)+VLOOKUP(Y16,PS!$I$2:$M$32,3,FALSE)-1,7)),4,FALSE),4)&\":\"&ADDRESS(VLOOKUP(B16,INDIRECT(\"PS!\"&ADDRESS(VLOOKUP(Y16,PS!$I$2:$M$32,2,FALSE),3)&\":\"&ADDRESS(VLOOKUP(Y16,PS!$I$2:$M$32,2,FALSE)+VLOOKUP(Y16,PS!$I$2:$M$32,3,FALSE)-1,7)),4,FALSE)+VLOOKUP(B16,INDIRECT(\"PS!\"&ADDRESS(VLOOKUP(Y16,PS!$I$2:$M$32,2,FALSE),3)&\":\"&ADDRESS(VLOOKUP(Y16,PS!$I$2:$M$32,2,FALSE)+VLOOKUP(Y16,PS!$I$2:$M$32,3,FALSE)-1,7)),5,FALSE)-1,4)","v":{"$error":"#N/A"}},{"$f":"IFERROR(VLOOKUP(D16,MAT!$D$2:$K$100000,7,FALSE),\"\")","v":""},{"$f":"IFERROR(VLOOKUP(D16,MAT!$D$2:$K$100000,8,FALSE),\"\")","v":""},"",{"$f":"IFERROR(VLOOKUP(D16,MAT!$D$2:$K$100000,2,FALSE),\"\")","v":""},""]
[4,null,"",null,null,null,null,null,null,null,null,null,null,null,null,null,null,null,null,null,null,null,null,null,"ADAP",{"$f":"\"MAT!\"&ADDRESS(VLOOKUP(B17,INDIRECT(\"PS!\"&ADDRESS(VLOOKUP(Y17,PS!$I$2:$M$32,2,FALSE),3)&\":\"&ADDRESS(VLOOKUP(Y17,PS!$I$2:$M$32,2,FALSE)+VLOOKUP(Y17,PS!$I$2:$M$32,3,FALSE)-1,7)),4,FALSE),4)&\":\"&ADDRESS(VLOOKUP(B17,INDIRECT(\"PS!\"&ADDRESS(VLOOKUP(Y17,PS!$I$2:$M$32,2,FALSE),3)&\":\"&ADDRESS(VLOOKUP(Y17,PS!$I$2:$M$32,2,FALSE)+VLOOKUP(Y17,PS!$I$2:$M$32,3,FALSE)-1,7)),4,FALSE)+VLOOKUP(B17,INDIRECT(\"PS!\"&ADDRESS(VLOOKUP(Y17,PS!$I$2:$M$32,2,FALSE),3)&\":\"&ADDRESS(VLOOKUP(Y17,PS!$I$2:$M$32,2,FALSE)+VLOOKUP(Y17,PS!$I$2:$M$32,3,FALSE)-1,7)),5,FALSE)-1,4)","v":{"$error":"#N/A"}},{"$f":"IFERROR(VLOOKUP(D17,MAT!$D$2:$K$100000,7,FALSE),\"\")","v":""},{"$f":"IFERROR(VLOOKUP(D17,MAT!$D$2:$K$100000,8,FALSE),\"\")","v":""},"",{"$f":"IFERROR(VLOOKUP(D17,MAT!$D$2:$K$100000,2,FALSE),\"\")","v":""},""]
[]
["Fibers","Producer/Supplier",{"$f":"COUNTA(D20:D23)","v":0},"Material","Custom Name/Identifier","Fiber Type","Rate %"]
[1,null,{"$f":"IF(AC20<NOW(),\"*\",\"\")","v":""},null,"Cellulose",null,null,null,null,null,null,null,null,null,null,null,null,null,null,null,null,null,null,null,"ADAP",{"$f":"\"MAT!\"&ADDRESS(VLOOKUP(B20,INDIRECT(\"PS!\"&ADDRESS(VLOOKUP(Y20,PS!$I$2:$M$32,2,FALSE),3)&\":\"&ADDRESS(VLOOKUP(Y20,PS!$I$2:$M$32,2,FALSE)+VLOOKUP(Y20,PS!$I$2:$M$32,3,FALSE)-1,7)),4,FALSE),4)&\":\"&ADDRESS(VLOOKUP(B20,INDIRECT(\"PS!\"&ADDRESS(VLOOKUP(Y20,PS!$I$2:$M$32,2,FALSE),3)&\":\"&ADDRESS(VLOOKUP(Y20,PS!$I$2:$M$32,2,FALSE)+VLOOKUP(Y20,PS!$I$2:$M$32,3,FALSE)-1,7)),4,FALSE)+VLOOKUP(B20,INDIRECT(\"PS!\"&ADDRESS(VLOOKUP(Y20,PS!$I$2:$M$32,2,FALSE),3)&\":\"&ADDRESS(VLOOKUP(Y20,PS!$I$2:$M$32,2,FALSE)+VLOOKUP(Y20,PS!$I$2:$M$32,3,FALSE)-1,7)),5,FALSE)-1,4)","v":{"$error":"#N/A"}},{"$f":"IFERROR(VLOOKUP(D20,MAT!$D$2:$K$100000,7,FALSE),\"\")","v":""},{"$f":"IFERROR(VLOOKUP(D20,MAT!$D$2:$K$100000,8,FALSE),\"\")","v":""},{"$f":"IFERROR(DATE(LEFT(AB20,4),MID(AB20,5,2),RIGHT(AB20,2)),\"\")","v":""},{"$f":"IFERROR(VLOOKUP(D20,MAT!$D$2:$K$100000,2,FALSE),\"\")","v":""},{"$f":"IF(LEN(D20)>10,LEFT(D20,10)&\"-\"&E20,\"\")","v":""}]
[2,null,"",null,null,null,null,null,null,null,null,null,null,null,null,null,null,null,null,null,null,null,null,null,"ADAP",{"$f":"\"MAT!\"&ADDRESS(VLOOKUP(B21,INDIRECT(\"PS!\"&ADDRESS(VLOOKUP(Y21,PS!$I$2:$M$32,2,FALSE),3)&\":\"&ADDRESS(VLOOKUP(Y21,PS!$I$2:$M$32,2,FALSE)+VLOOKUP(Y21,PS!$I$2:$M$32,3,FALSE)-1,7)),4,FALSE),4)&\":\"&ADDRESS(VLOOKUP(B21,INDIRECT(\"PS!\"&ADDRESS(VLOOKUP(Y21,PS!$I$2:$M$32,2,FALSE),3)&\":\"&ADDRESS(VLOOKUP(Y21,PS!$I$2:$M$32,2,FALSE)+VLOOKUP(Y21,PS!$I$2:$M$32,3,FALSE)-1,7)),4,FALSE)+VLOOKUP(B21,INDIRECT(\"PS!\"&ADDRESS(VLOOKUP(Y21,PS!$I$2:$M$32,2,FALSE),3)&\":\"&ADDRESS(VLOOKUP(Y21,PS!$I$2:$M$32,2,FALSE)+VLOOKUP(Y21,PS!$I$2:$M$32,3,FALSE)-1,7)),5,FALSE)-1,4)","v":{"$error":"#N/A"}},{"$f":"IFERROR(VLOOKUP(D21,MAT!$D$2:$K$100000,7,FALSE),\"\")","v":""},{"$f":"IFERROR(VLOOKUP(D21,MAT!$D$2:$K$100000,8,FALSE),\"\")","v":""},"",{"$f":"IFERROR(VLOOKUP(D21,MAT!$D$2:$K$100000,2,FALSE),\"\")","v":""},""]
[3,null,"",null,null,null,null,null,null,null,null,null,null,null,null,null,null,null,null,null,null,null,null,null,"ADAP",{"$f":"\"MAT!\"&ADDRESS(VLOOKUP(B22,INDIRECT(\"PS!\"&ADDRESS(VLOOKUP(Y22,PS!$I$2:$M$32,2,FALSE),3)&\":\"&ADDRESS(VLOOKUP(Y22,PS!$I$2:$M$32,2,FALSE)+VLOOKUP(Y22,PS!$I$2:$M$32,3,FALSE)-1,7)),4,FALSE),4)&\":\"&ADDRESS(VLOOKUP(B22,INDIRECT(\"PS!\"&ADDRESS(VLOOKUP(Y22,PS!$I$2:$M$32,2,FALSE),3)&\":\"&ADDRESS(VLOOKUP(Y22,PS!$I$2:$M$32,2,FALSE)+VLOOKUP(Y22,PS!$I$2:$M$32,3,FALSE)-1,7)),4,FALSE)+VLOOKUP(B22,INDIRECT(\"PS!\"&ADDRESS(VLOOKUP(Y22,PS!$I$2:$M$32,2,FALSE),3)&\":\"&ADDRESS(VLOOKUP(Y22,PS!$I$2:$M$32,2,FALSE)+VLOOKUP(Y22,PS!$I$2:$M$32,3,FALSE)-1,7)),5,FALSE)-1,4)","v":{"$error":"#N/A"}},{"$f":"IFERROR(VLOOKUP(D22,MAT!$D$2:$K$100000,7,FALSE),\"\")","v":""},{"$f":"IFERROR(VLOOKUP(D22,MAT!$D$2:$K$100000,8,FALSE),\"\")","v":""},"",{"$f":"IFERROR(VLOOKUP(D22,MAT!$D$2:$K$100000,2,FALSE),\"\")","v":""},""]
[4,null,"",null,null,null,null,null,null,null,null,null,null,null,null,null,null,null,null,null,null,null,null,null,"ADAP",{"$f":"\"MAT!\"&ADDRESS(VLOOKUP(B23,INDIRECT(\"PS!\"&ADDRESS(VLOOKUP(Y23,PS!$I$2:$M$32,2,FALSE),3)&\":\"&ADDRESS(VLOOKUP(Y23,PS!$I$2:$M$32,2,FALSE)+VLOOKUP(Y23,PS!$I$2:$M$32,3,FALSE)-1,7)),4,FALSE),4)&\":\"&ADDRESS(VLOOKUP(B23,INDIRECT(\"PS!\"&ADDRESS(VLOOKUP(Y23,PS!$I$2:$M$32,2,FALSE),3)&\":\"&ADDRESS(VLOOKUP(Y23,PS!$I$2:$M$32,2,FALSE)+VLOOKUP(Y23,PS!$I$2:$M$32,3,FALSE)-1,7)),4,FALSE)+VLOOKUP(B23,INDIRECT(\"PS!\"&ADDRESS(VLOOKUP(Y23,PS!$I$2:$M$32,2,FALSE),3)&\":\"&ADDRESS(VLOOKUP(Y23,PS!$I$2:$M$32,2,FALSE)+VLOOKUP(Y23,PS!$I$2:$M$32,3,FALSE)-1,7)),5,FALSE)-1,4)","v":{"$error":"#N/A"}},{"$f":"IFERROR(VLOOKUP(D23,MAT!$D$2:$K$100000,7,FALSE),\"\")","v":""},{"$f":"IFERROR(VLOOKUP(D23,MAT!$D$2:$K$100000,8,FALSE),\"\")","v":""},"",{"$f":"IFERROR(VLOOKUP(D23,MAT!$D$2:$K$100000,2,FALSE),\"\")","v":""},""]
[]
["Asphalt Bind","Producer/Supplier",{"$f":"COUNTA(D26:D33)","v":0},"Material","Custom Name/Identifier","Grade"]
[1,null,{"$f":"IF(AC26<NOW(),\"*\",\"\")","v":""},null,null,{"$f":"IF(IFERROR(FIND(\"64-22\",D26),0),\"64-22\",IF(IFERROR(FIND(\"58-28\",D26),0),\"58-28\",IF(IFERROR(FIND(\"70-22m\",D26),0),\"70-22m\",IF(IFERROR(FIND(\"70-22\",D26),0),\"70-22\",IF(IFERROR(FIND(\"67-22\",D26),0),\"67-22\",IF(IFERROR(FIND(\"76-22m\",D26),0),\"76-22m\",IF(IFERROR(FIND(\"76-22\",D26),0),\"76-22\",IF(IFERROR(FIND(\"82-22RM\",D26),0),\"82-22RM\",IF(IFERROR(FIND(\"82-22rm\",D26),0),\"82-22rm\",IF(IFERROR(FIND(\"82-22\",D26),0),\"82-22\",\"\"))))))))))","v":""},null,null,null,null,null,null,null,null,null,null,null,null,null,null,null,null,null,null,"BIND",{"$f":"\"MAT!\"&ADDRESS(VLOOKUP(B26,INDIRECT(\"PS!\"&ADDRESS(VLOOKUP(Y26,PS!$I$2:$M$32,2,FALSE),3)&\":\"&ADDRESS(VLOOKUP(Y26,PS!$I$2:$M$32,2,FALSE)+VLOOKUP(Y26,PS!$I$2:$M$32,3,FALSE)-1,7)),4,FALSE),4)&\":\"&ADDRESS(VLOOKUP(B26,INDIRECT(\"PS!\"&ADDRESS(VLOOKUP(Y26,PS!$I$2:$M$32,2,FALSE),3)&\":\"&ADDRESS(VLOOKUP(Y26,PS!$I$2:$M$32,2,FALSE)+VLOOKUP(Y26,PS!$I$2:$M$32,3,FALSE)-1,7)),4,FALSE)+VLOOKUP(B26,INDIRECT(\"PS!\"&ADDRESS(VLOOKUP(Y26,PS!$I$2:$M$32,2,FALSE),3)&\":\"&ADDRESS(VLOOKUP(Y26,PS!$I$2:$M$32,2,FALSE)+VLOOKUP(Y26,PS!$I$2:$M$32,3,FALSE)-1,7)),5,FALSE)-1,4)","v":{"$error":"#N/A"}},{"$f":"IFERROR(VLOOKUP(D26,MAT!$D$2:$K$100000,7,FALSE),\"\")","v":""},{"$f":"IFERROR(VLOOKUP(D26,MAT!$D$2:$K$100000,8,FALSE),\"\")","v":""},{"$f":"IFERROR(DATE(LEFT(AB26,4),MID(AB26,5,2),RIGHT(AB26,2)),\"\")","v":""},{"$f":"IFERROR(VLOOKUP(D26,MAT!$D$2:$K$100000,2,FALSE),\"\")","v":""},{"$f":"IF(LEN(D26)>10,LEFT(D26,10)&\"-\"&E26,\"\")","v":""}]
[2,null,"",null,null,{"$f":"IF(IFERROR(FIND(\"64-22\",D27),0),\"64-22\",IF(IFERROR(FIND(\"58-28\",D27),0),\"58-28\",IF(IFERROR(FIND(\"70-22m\",D27),0),\"70-22m\",IF(IFERROR(FIND(\"70-22\",D27),0),\"70-22\",IF(IFERROR(FIND(\"67-22\",D27),0),\"67-22\",IF(IFERROR(FIND(\"76-22m\",D27),0),\"76-22m\",IF(IFERROR(FIND(\"76-22\",D27),0),\"76-22\",IF(IFERROR(FIND(\"82-22RM\",D27),0),\"82-22RM\",IF(IFERROR(FIND(\"82-22rm\",D27),0),\"82-22rm\",IF(IFERROR(FIND(\"82-22\",D27),0),\"82-22\",\"\"))))))))))","v":""},null,null,null,null,null,null,null,null,null,null,null,null,null,null,null,null,null,null,"BIND",{"$f":"\"MAT!\"&ADDRESS(VLOOKUP(B27,INDIRECT(\"PS!\"&ADDRESS(VLOOKUP(Y27,PS!$I$2:$M$32,2,FALSE),3)&\":\"&ADDRESS(VLOOKUP(Y27,PS!$I$2:$M$32,2,FALSE)+VLOOKUP(Y27,PS!$I$2:$M$32,3,FALSE)-1,7)),4,FALSE),4)&\":\"&ADDRESS(VLOOKUP(B27,INDIRECT(\"PS!\"&ADDRESS(VLOOKUP(Y27,PS!$I$2:$M$32,2,FALSE),3)&\":\"&ADDRESS(VLOOKUP(Y27,PS!$I$2:$M$32,2,FALSE)+VLOOKUP(Y27,PS!$I$2:$M$32,3,FALSE)-1,7)),4,FALSE)+VLOOKUP(B27,INDIRECT(\"PS!\"&ADDRESS(VLOOKUP(Y27,PS!$I$2:$M$32,2,FALSE),3)&\":\"&ADDRESS(VLOOKUP(Y27,PS!$I$2:$M$32,2,FALSE)+VLOOKUP(Y27,PS!$I$2:$M$32,3,FALSE)-1,7)),5,FALSE)-1,4)","v":{"$error":"#N/A"}},{"$f":"IFERROR(VLOOKUP(D27,MAT!$D$2:$K$100000,7,FALSE),\"\")","v":""},{"$f":"IFERROR(VLOOKUP(D27,MAT!$D$2:$K$100000,8,FALSE),\"\")","v":""},"",{"$f":"IFERROR(VLOOKUP(D27,MAT!$D$2:$K$100000,2,FALSE),\"\")","v":""},""]
[3,null,"",null,null,"",null,null,null,null,null,null,null,null,null,null,null,null,null,null,null,null,null,null,"BIND",{"$f":"\"MAT!\"&ADDRESS(VLOOKUP(B28,INDIRECT(\"PS!\"&ADDRESS(VLOOKUP(Y28,PS!$I$2:$M$32,2,FALSE),3)&\":\"&ADDRESS(VLOOKUP(Y28,PS!$I$2:$M$32,2,FALSE)+VLOOKUP(Y28,PS!$I$2:$M$32,3,FALSE)-1,7)),4,FALSE),4)&\":\"&ADDRESS(VLOOKUP(B28,INDIRECT(\"PS!\"&ADDRESS(VLOOKUP(Y28,PS!$I$2:$M$32,2,FALSE),3)&\":\"&ADDRESS(VLOOKUP(Y28,PS!$I$2:$M$32,2,FALSE)+VLOOKUP(Y28,PS!$I$2:$M$32,3,FALSE)-1,7)),4,FALSE)+VLOOKUP(B28,INDIRECT(\"PS!\"&ADDRESS(VLOOKUP(Y28,PS!$I$2:$M$32,2,FALSE),3)&\":\"&ADDRESS(VLOOKUP(Y28,PS!$I$2:$M$32,2,FALSE)+VLOOKUP(Y28,PS!$I$2:$M$32,3,FALSE)-1,7)),5,FALSE)-1,4)","v":{"$error":"#N/A"}},{"$f":"IFERROR(VLOOKUP(D28,MAT!$D$2:$K$100000,7,FALSE),\"\")","v":""},{"$f":"IFERROR(VLOOKUP(D28,MAT!$D$2:$K$100000,8,FALSE),\"\")","v":""},"",{"$f":"IFERROR(VLOOKUP(D28,MAT!$D$2:$K$100000,2,FALSE),\"\")","v":""},""]
[4,null,"",null,null,"",null,null,null,null,null,null,null,null,null,null,null,null,null,null,null,null,null,null,"BIND",{"$f":"\"MAT!\"&ADDRESS(VLOOKUP(B29,INDIRECT(\"PS!\"&ADDRESS(VLOOKUP(Y29,PS!$I$2:$M$32,2,FALSE),3)&\":\"&ADDRESS(VLOOKUP(Y29,PS!$I$2:$M$32,2,FALSE)+VLOOKUP(Y29,PS!$I$2:$M$32,3,FALSE)-1,7)),4,FALSE),4)&\":\"&ADDRESS(VLOOKUP(B29,INDIRECT(\"PS!\"&ADDRESS(VLOOKUP(Y29,PS!$I$2:$M$32,2,FALSE),3)&\":\"&ADDRESS(VLOOKUP(Y29,PS!$I$2:$M$32,2,FALSE)+VLOOKUP(Y29,PS!$I$2:$M$32,3,FALSE)-1,7)),4,FALSE)+VLOOKUP(B29,INDIRECT(\"PS!\"&ADDRESS(VLOOKUP(Y29,PS!$I$2:$M$32,2,FALSE),3)&\":\"&ADDRESS(VLOOKUP(Y29,PS!$I$2:$M$32,2,FALSE)+VLOOKUP(Y29,PS!$I$2:$M$32,3,FALSE)-1,7)),5,FALSE)-1,4)","v":{"$error":"#N/A"}},{"$f":"IFERROR(VLOOKUP(D29,MAT!$D$2:$K$100000,7,FALSE),\"\")","v":""},{"$f":"IFERROR(VLOOKUP(D29,MAT!$D$2:$K$100000,8,FALSE),\"\")","v":""},"",{"$f":"IFERROR(VLOOKUP(D29,MAT!$D$2:$K$100000,2,FALSE),\"\")","v":""},""]
[5,null,"",null,null,"",null,null,null,null,null,null,null,null,null,null,null,null,null,null,null,null,null,null,"BIND",{"$f":"\"MAT!\"&ADDRESS(VLOOKUP(B30,INDIRECT(\"PS!\"&ADDRESS(VLOOKUP(Y30,PS!$I$2:$M$32,2,FALSE),3)&\":\"&ADDRESS(VLOOKUP(Y30,PS!$I$2:$M$32,2,FALSE)+VLOOKUP(Y30,PS!$I$2:$M$32,3,FALSE)-1,7)),4,FALSE),4)&\":\"&ADDRESS(VLOOKUP(B30,INDIRECT(\"PS!\"&ADDRESS(VLOOKUP(Y30,PS!$I$2:$M$32,2,FALSE),3)&\":\"&ADDRESS(VLOOKUP(Y30,PS!$I$2:$M$32,2,FALSE)+VLOOKUP(Y30,PS!$I$2:$M$32,3,FALSE)-1,7)),4,FALSE)+VLOOKUP(B30,INDIRECT(\"PS!\"&ADDRESS(VLOOKUP(Y30,PS!$I$2:$M$32,2,FALSE),3)&\":\"&ADDRESS(VLOOKUP(Y30,PS!$I$2:$M$32,2,FALSE)+VLOOKUP(Y30,PS!$I$2:$M$32,3,FALSE)-1,7)),5,FALSE)-1,4)","v":{"$error":"#N/A"}},{"$f":"IFERROR(VLOOKUP(D30,MAT!$D$2:$K$100000,7,FALSE),\"\")","v":""},{"$f":"IFERROR(VLOOKUP(D30,MAT!$D$2:$K$100000,8,FALSE),\"\")","v":""},"",{"$f":"IFERROR(VLOOKUP(D30,MAT!$D$2:$K$100000,2,FALSE),\"\")","v":""},""]
[6,null,"",null,null,"",null,null,null,null,null,null,null,null,null,null,null,null,null,null,null,null,null,null,"BIND",{"$f":"\"MAT!\"&ADDRESS(VLOOKUP(B31,INDIRECT(\"PS!\"&ADDRESS(VLOOKUP(Y31,PS!$I$2:$M$32,2,FALSE),3)&\":\"&ADDRESS(VLOOKUP(Y31,PS!$I$2:$M$32,2,FALSE)+VLOOKUP(Y31,PS!$I$2:$M$32,3,FALSE)-1,7)),4,FALSE),4)&\":\"&ADDRESS(VLOOKUP(B31,INDIRECT(\"PS!\"&ADDRESS(VLOOKUP(Y31,PS!$I$2:$M$32,2,FALSE),3)&\":\"&ADDRESS(VLOOKUP(Y31,PS!$I$2:$M$32,2,FALSE)+VLOOKUP(Y31,PS!$I$2:$M$32,3,FALSE)-1,7)),4,FALSE)+VLOOKUP(B31,INDIRECT(\"PS!\"&ADDRESS(VLOOKUP(Y31,PS!$I$2:$M$32,2,FALSE),3)&\":\"&ADDRESS(VLOOKUP(Y31,PS!$I$2:$M$32,2,FALSE)+VLOOKUP(Y31,PS!$I$2:$M$32,3,FALSE)-1,7)),5,FALSE)-1,4)","v":{"$error":"#N/A"}},{"$f":"IFERROR(VLOOKUP(D31,MAT!$D$2:$K$100000,7,FALSE),\"\")","v":""},{"$f":"IFERROR(VLOOKUP(D31,MAT!$D$2:$K$100000,8,FALSE),\"\")","v":""},"",{"$f":"IFERROR(VLOOKUP(D31,MAT!$D$2:$K$100000,2,FALSE),\"\")","v":""},""]
[7,null,"",null,null,"",null,null,null,null,null,null,null,null,null,null,null,null,null,null,null,null,null,null,"BIND",{"$f":"\"MAT!\"&ADDRESS(VLOOKUP(B32,INDIRECT(\"PS!\"&ADDRESS(VLOOKUP(Y32,PS!$I$2:$M$32,2,FALSE),3)&\":\"&ADDRESS(VLOOKUP(Y32,PS!$I$2:$M$32,2,FALSE)+VLOOKUP(Y32,PS!$I$2:$M$32,3,FALSE)-1,7)),4,FALSE),4)&\":\"&ADDRESS(VLOOKUP(B32,INDIRECT(\"PS!\"&ADDRESS(VLOOKUP(Y32,PS!$I$2:$M$32,2,FALSE),3)&\":\"&ADDRESS(VLOOKUP(Y32,PS!$I$2:$M$32,2,FALSE)+VLOOKUP(Y32,PS!$I$2:$M$32,3,FALSE)-1,7)),4,FALSE)+VLOOKUP(B32,INDIRECT(\"PS!\"&ADDRESS(VLOOKUP(Y32,PS!$I$2:$M$32,2,FALSE),3)&\":\"&ADDRESS(VLOOKUP(Y32,PS!$I$2:$M$32,2,FALSE)+VLOOKUP(Y32,PS!$I$2:$M$32,3,FALSE)-1,7)),5,FALSE)-1,4)","v":{"$error":"#N/A"}},{"$f":"IFERROR(VLOOKUP(D32,MAT!$D$2:$K$100000,7,FALSE),\"\")","v":""},{"$f":"IFERROR(VLOOKUP(D32,MAT!$D$2:$K$100000,8,FALSE),\"\")","v":""},"",{"$f":"IFERROR(VLOOKUP(D32,MAT!$D$2:$K$100000,2,FALSE),\"\")","v":""},""]
[8,null,"",null,null,"",null,null,null,null,null,null,null,null,null,null,null,null,null,null,null,null,null,null,"BIND",{"$f":"\"MAT!\"&ADDRESS(VLOOKUP(B33,INDIRECT(\"PS!\"&ADDRESS(VLOOKUP(Y33,PS!$I$2:$M$32,2,FALSE),3)&\":\"&ADDRESS(VLOOKUP(Y33,PS!$I$2:$M$32,2,FALSE)+VLOOKUP(Y33,PS!$I$2:$M$32,3,FALSE)-1,7)),4,FALSE),4)&\":\"&ADDRESS(VLOOKUP(B33,INDIRECT(\"PS!\"&ADDRESS(VLOOKUP(Y33,PS!$I$2:$M$32,2,FALSE),3)&\":\"&ADDRESS(VLOOKUP(Y33,PS!$I$2:$M$32,2,FALSE)+VLOOKUP(Y33,PS!$I$2:$M$32,3,FALSE)-1,7)),4,FALSE)+VLOOKUP(B33,INDIRECT(\"PS!\"&ADDRESS(VLOOKUP(Y33,PS!$I$2:$M$32,2,FALSE),3)&\":\"&ADDRESS(VLOOKUP(Y33,PS!$I$2:$M$32,2,FALSE)+VLOOKUP(Y33,PS!$I$2:$M$32,3,FALSE)-1,7)),5,FALSE)-1,4)","v":{"$error":"#N/A"}},{"$f":"IFERROR(VLOOKUP(D33,MAT!$D$2:$K$100000,7,FALSE),\"\")","v":""},{"$f":"IFERROR(VLOOKUP(D33,MAT!$D$2:$K$100000,8,FALSE),\"\")","v":""},"",{"$f":"IFERROR(VLOOKUP(D33,MAT!$D$2:$K$100000,2,FALSE),\"\")","v":""},""]
[null,null,null,null,null,"Bulk"," ","FAA","Sand Eq.","Flat & Elong","CAA","Micro Deval","Friction","% Passing","% Passing","% Passing","% Passing","% Passing","% Passing","% Passing","% Passing","% Passing","% Passing","% Passing"]
["Coarse Agg","Producer/Supplier",{"$f":"COUNTA(D36:D50)","v":0},"Material","Custom Name/Identifier","Gravity","Absorption","Method A","- 4.75 mm","3:1",null,"% loss","Rating","   1\"","    3/4\"","    1/2\"","    3/8\"","  No 4","  No 8","  No 16","  No 30","  No 50","  No 100","  No 200"]
[1,null,{"$f":"IF(AC36<NOW(),\"*\",\"\")","v":""},null,null,null,null,null,null,null,null,null,null,null,null,null,null,null,null,null,null,null,null,null,"AGGR",{"$f":"\"MAT!\"&ADDRESS(VLOOKUP(B36,INDIRECT(\"PS!\"&ADDRESS(VLOOKUP(Y36,PS!$I$2:$M$32,2,FALSE),3)&\":\"&ADDRESS(VLOOKUP(Y36,PS!$I$2:$M$32,2,FALSE)+VLOOKUP(Y36,PS!$I$2:$M$32,3,FALSE)-1,7)),4,FALSE),4)&\":\"&ADDRESS(VLOOKUP(B36,INDIRECT(\"PS!\"&ADDRESS(VLOOKUP(Y36,PS!$I$2:$M$32,2,FALSE),3)&\":\"&ADDRESS(VLOOKUP(Y36,PS!$I$2:$M$32,2,FALSE)+VLOOKUP(Y36,PS!$I$2:$M$32,3,FALSE)-1,7)),4,FALSE)+VLOOKUP(B36,INDIRECT(\"PS!\"&ADDRESS(VLOOKUP(Y36,PS!$I$2:$M$32,2,FALSE),3)&\":\"&ADDRESS(VLOOKUP(Y36,PS!$I$2:$M$32,2,FALSE)+VLOOKUP(Y36,PS!$I$2:$M$32,3,FALSE)-1,7)),5,FALSE)-1,4)","v":{"$error":"#N/A"}},{"$f":"IFERROR(VLOOKUP(D36,MAT!$D$2:$K$100000,7,FALSE),\"\")","v":""},{"$f":"IFERROR(VLOOKUP(D36,MAT!$D$2:$K$100000,8,FALSE),\"\")","v":""},{"$f":"IFERROR(DATE(LEFT(AB36,4),MID(AB36,5,2),RIGHT(AB36,2)),\"\")","v":""},{"$f":"IFERROR(VLOOKUP(D36,MAT!$D$2:$K$100000,2,FALSE),\"\")","v":""},{"$f":"IF(LEN(D36)>10,LEFT(D36,10)&\"-\"&E36,\"\")","v":""}]
[2,null,"",null,null,null,null,null,null,null,null,null,null,null,null,null,null,null,null,null,null,null,null,null,"AGGR",{"$f":"\"MAT!\"&ADDRESS(VLOOKUP(B37,INDIRECT(\"PS!\"&ADDRESS(VLOOKUP(Y37,PS!$I$2:$M$32,2,FALSE),3)&\":\"&ADDRESS(VLOOKUP(Y37,PS!$I$2:$M$32,2,FALSE)+VLOOKUP(Y37,PS!$I$2:$M$32,3,FALSE)-1,7)),4,FALSE),4)&\":\"&ADDRESS(VLOOKUP(B37,INDIRECT(\"PS!\"&ADDRESS(VLOOKUP(Y37,PS!$I$2:$M$32,2,FALSE),3)&\":\"&ADDRESS(VLOOKUP(Y37,PS!$I$2:$M$32,2,FALSE)+VLOOKUP(Y37,PS!$I$2:$M$32,3,FALSE)-1,7)),4,FALSE)+VLOOKUP(B37,INDIRECT(\"PS!\"&ADDRESS(VLOOKUP(Y37,PS!$I$2:$M$32,2,FALSE),3)&\":\"&ADDRESS(VLOOKUP(Y37,PS!$I$2:$M$32,2,FALSE)+VLOOKUP(Y37,PS!$I$2:$M$32,3,FALSE)-1,7)),5,FALSE)-1,4)","v":{"$error":"#N/A"}},{"$f":"IFERROR(VLOOKUP(D37,MAT!$D$2:$K$100000,7,FALSE),\"\")","v":""},{"$f":"IFERROR(VLOOKUP(D37,MAT!$D$2:$K$100000,8,FALSE),\"\")","v":""},"",{"$f":"IFERROR(VLOOKUP(D37,MAT!$D$2:$K$100000,2,FALSE),\"\")","v":""},""]
[3,null,"",null,null,null,null,null,null,null,null,null,null,null,null,null,null,null,null,null,null,null,null,null,"AGGR",{"$f":"\"MAT!\"&ADDRESS(VLOOKUP(B38,INDIRECT(\"PS!\"&ADDRESS(VLOOKUP(Y38,PS!$I$2:$M$32,2,FALSE),3)&\":\"&ADDRESS(VLOOKUP(Y38,PS!$I$2:$M$32,2,FALSE)+VLOOKUP(Y38,PS!$I$2:$M$32,3,FALSE)-1,7)),4,FALSE),4)&\":\"&ADDRESS(VLOOKUP(B38,INDIRECT(\"PS!\"&ADDRESS(VLOOKUP(Y38,PS!$I$2:$M$32,2,FALSE),3)&\":\"&ADDRESS(VLOOKUP(Y38,PS!$I$2:$M$32,2,FALSE)+VLOOKUP(Y38,PS!$I$2:$M$32,3,FALSE)-1,7)),4,FALSE)+VLOOKUP(B38,INDIRECT(\"PS!\"&ADDRESS(VLOOKUP(Y38,PS!$I$2:$M$32,2,FALSE),3)&\":\"&ADDRESS(VLOOKUP(Y38,PS!$I$2:$M$32,2,FALSE)+VLOOKUP(Y38,PS!$I$2:$M$32,3,FALSE)-1,7)),5,FALSE)-1,4)","v":{"$error":"#N/A"}},{"$f":"IFERROR(VLOOKUP(D38,MAT!$D$2:$K$100000,7,FALSE),\"\")","v":""},{"$f":"IFERROR(VLOOKUP(D38,MAT!$D$2:$K$100000,8,FALSE),\"\")","v":""},"",{"$f":"IFERROR(VLOOKUP(D38,MAT!$D$2:$K$100000,2,FALSE),\"\")","v":""},""]
[4,null,"",null,null,null,null,null,null,null,null,null,null,null,null,null,null,null,null,null,null,null,null,null,"AGGR",{"$f":"\"MAT!\"&ADDRESS(VLOOKUP(B39,INDIRECT(\"PS!\"&ADDRESS(VLOOKUP(Y39,PS!$I$2:$M$32,2,FALSE),3)&\":\"&ADDRESS(VLOOKUP(Y39,PS!$I$2:$M$32,2,FALSE)+VLOOKUP(Y39,PS!$I$2:$M$32,3,FALSE)-1,7)),4,FALSE),4)&\":\"&ADDRESS(VLOOKUP(B39,INDIRECT(\"PS!\"&ADDRESS(VLOOKUP(Y39,PS!$I$2:$M$32,2,FALSE),3)&\":\"&ADDRESS(VLOOKUP(Y39,PS!$I$2:$M$32,2,FALSE)+VLOOKUP(Y39,PS!$I$2:$M$32,3,FALSE)-1,7)),4,FALSE)+VLOOKUP(B39,INDIRECT(\"PS!\"&ADDRESS(VLOOKUP(Y39,PS!$I$2:$M$32,2,FALSE),3)&\":\"&ADDRESS(VLOOKUP(Y39,PS!$I$2:$M$32,2,FALSE)+VLOOKUP(Y39,PS!$I$2:$M$32,3,FALSE)-1,7)),5,FALSE)-1,4)","v":{"$error":"#N/A"}},{"$f":"IFERROR(VLOOKUP(D39,MAT!$D$2:$K$100000,7,FALSE),\"\")","v":""},{"$f":"IFERROR(VLOOKUP(D39,MAT!$D$2:$K$100000,8,FALSE),\"\")","v":""},"",{"$f":"IFERROR(VLOOKUP(D39,MAT!$D$2:$K$100000,2,FALSE),\"\")","v":""},""]
[5,null,"",null,null,null,null,null,null,null,null,null,null,null,null,null,null,null,null,null,null,null,null,null,"AGGR",{"$f":"\"MAT!\"&ADDRESS(VLOOKUP(B40,INDIRECT(\"PS!\"&ADDRESS(VLOOKUP(Y40,PS!$I$2:$M$32,2,FALSE),3)&\":\"&ADDRESS(VLOOKUP(Y40,PS!$I$2:$M$32,2,FALSE)+VLOOKUP(Y40,PS!$I$2:$M$32,3,FALSE)-1,7)),4,FALSE),4)&\":\"&ADDRESS(VLOOKUP(B40,INDIRECT(\"PS!\"&ADDRESS(VLOOKUP(Y40,PS!$I$2:$M$32,2,FALSE),3)&\":\"&ADDRESS(VLOOKUP(Y40,PS!$I$2:$M$32,2,FALSE)+VLOOKUP(Y40,PS!$I$2:$M$32,3,FALSE)-1,7)),4,FALSE)+VLOOKUP(B40,INDIRECT(\"PS!\"&ADDRESS(VLOOKUP(Y40,PS!$I$2:$M$32,2,FALSE),3)&\":\"&ADDRESS(VLOOKUP(Y40,PS!$I$2:$M$32,2,FALSE)+VLOOKUP(Y40,PS!$I$2:$M$32,3,FALSE)-1,7)),5,FALSE)-1,4)","v":{"$error":"#N/A"}},{"$f":"IFERROR(VLOOKUP(D40,MAT!$D$2:$K$100000,7,FALSE),\"\")","v":""},{"$f":"IFERROR(VLOOKUP(D40,MAT!$D$2:$K$100000,8,FALSE),\"\")","v":""},"",{"$f":"IFERROR(VLOOKUP(D40,MAT!$D$2:$K$100000,2,FALSE),\"\")","v":""},""]
[6,null,"",null,null,null,null,null,null,null,null,null,null,null,null,null,null,null,null,null,null,null,null,null,"AGGR",{"$f":"\"MAT!\"&ADDRESS(VLOOKUP(B41,INDIRECT(\"PS!\"&ADDRESS(VLOOKUP(Y41,PS!$I$2:$M$32,2,FALSE),3)&\":\"&ADDRESS(VLOOKUP(Y41,PS!$I$2:$M$32,2,FALSE)+VLOOKUP(Y41,PS!$I$2:$M$32,3,FALSE)-1,7)),4,FALSE),4)&\":\"&ADDRESS(VLOOKUP(B41,INDIRECT(\"PS!\"&ADDRESS(VLOOKUP(Y41,PS!$I$2:$M$32,2,FALSE),3)&\":\"&ADDRESS(VLOOKUP(Y41,PS!$I$2:$M$32,2,FALSE)+VLOOKUP(Y41,PS!$I$2:$M$32,3,FALSE)-1,7)),4,FALSE)+VLOOKUP(B41,INDIRECT(\"PS!\"&ADDRESS(VLOOKUP(Y41,PS!$I$2:$M$32,2,FALSE),3)&\":\"&ADDRESS(VLOOKUP(Y41,PS!$I$2:$M$32,2,FALSE)+VLOOKUP(Y41,PS!$I$2:$M$32,3,FALSE)-1,7)),5,FALSE)-1,4)","v":{"$error":"#N/A"}},{"$f":"IFERROR(VLOOKUP(D41,MAT!$D$2:$K$100000,7,FALSE),\"\")","v":""},{"$f":"IFERROR(VLOOKUP(D41,MAT!$D$2:$K$100000,8,FALSE),\"\")","v":""},"",{"$f":"IFERROR(VLOOKUP(D41,MAT!$D$2:$K$100000,2,FALSE),\"\")","v":""},""]
[7,null,"",null,null,null,null,null,null,null,null,null,null,null,null,null,null,null,null,null,null,null,null,null,"AGGR",{"$f":"\"MAT!\"&ADDRESS(VLOOKUP(B42,INDIRECT(\"PS!\"&ADDRESS(VLOOKUP(Y42,PS!$I$2:$M$32,2,FALSE),3)&\":\"&ADDRESS(VLOOKUP(Y42,PS!$I$2:$M$32,2,FALSE)+VLOOKUP(Y42,PS!$I$2:$M$32,3,FALSE)-1,7)),4,FALSE),4)&\":\"&ADDRESS(VLOOKUP(B42,INDIRECT(\"PS!\"&ADDRESS(VLOOKUP(Y42,PS!$I$2:$M$32,2,FALSE),3)&\":\"&ADDRESS(VLOOKUP(Y42,PS!$I$2:$M$32,2,FALSE)+VLOOKUP(Y42,PS!$I$2:$M$32,3,FALSE)-1,7)),4,FALSE)+VLOOKUP(B42,INDIRECT(\"PS!\"&ADDRESS(VLOOKUP(Y42,PS!$I$2:$M$32,2,FALSE),3)&\":\"&ADDRESS(VLOOKUP(Y42,PS!$I$2:$M$32,2,FALSE)+VLOOKUP(Y42,PS!$I$2:$M$32,3,FALSE)-1,7)),5,FALSE)-1,4)","v":{"$error":"#N/A"}},{"$f":"IFERROR(VLOOKUP(D42,MAT!$D$2:$K$100000,7,FALSE),\"\")","v":""},{"$f":"IFERROR(VLOOKUP(D42,MAT!$D$2:$K$100000,8,FALSE),\"\")","v":""},"",{"$f":"IFERROR(VLOOKUP(D42,MAT!$D$2:$K$100000,2,FALSE),\"\")","v":""},""]
[8,null,"",null,null,null,null,null,null,null,null,null,null,null,null,null,null,null,null,null,null,null,null,null,"AGGR",{"$f":"\"MAT!\"&ADDRESS(VLOOKUP(B43,INDIRECT(\"PS!\"&ADDRESS(VLOOKUP(Y43,PS!$I$2:$M$32,2,FALSE),3)&\":\"&ADDRESS(VLOOKUP(Y43,PS!$I$2:$M$32,2,FALSE)+VLOOKUP(Y43,PS!$I$2:$M$32,3,FALSE)-1,7)),4,FALSE),4)&\":\"&ADDRESS(VLOOKUP(B43,INDIRECT(\"PS!\"&ADDRESS(VLOOKUP(Y43,PS!$I$2:$M$32,2,FALSE),3)&\":\"&ADDRESS(VLOOKUP(Y43,PS!$I$2:$M$32,2,FALSE)+VLOOKUP(Y43,PS!$I$2:$M$32,3,FALSE)-1,7)),4,FALSE)+VLOOKUP(B43,INDIRECT(\"PS!\"&ADDRESS(VLOOKUP(Y43,PS!$I$2:$M$32,2,FALSE),3)&\":\"&ADDRESS(VLOOKUP(Y43,PS!$I$2:$M$32,2,FALSE)+VLOOKUP(Y43,PS!$I$2:$M$32,3,FALSE)-1,7)),5,FALSE)-1,4)","v":{"$error":"#N/A"}},{"$f":"IFERROR(VLOOKUP(D43,MAT!$D$2:$K$100000,7,FALSE),\"\")","v":""},{"$f":"IFERROR(VLOOKUP(D43,MAT!$D$2:$K$100000,8,FALSE),\"\")","v":""},"",{"$f":"IFERROR(VLOOKUP(D43,MAT!$D$2:$K$100000,2,FALSE),\"\")","v":""},""]
[9,null,"",null,null,null,null,null,null,null,null,null,null,null,null,null,null,null,null,null,null,null,null,null,"AGGR",{"$f":"\"MAT!\"&ADDRESS(VLOOKUP(B44,INDIRECT(\"PS!\"&ADDRESS(VLOOKUP(Y44,PS!$I$2:$M$32,2,FALSE),3)&\":\"&ADDRESS(VLOOKUP(Y44,PS!$I$2:$M$32,2,FALSE)+VLOOKUP(Y44,PS!$I$2:$M$32,3,FALSE)-1,7)),4,FALSE),4)&\":\"&ADDRESS(VLOOKUP(B44,INDIRECT(\"PS!\"&ADDRESS(VLOOKUP(Y44,PS!$I$2:$M$32,2,FALSE),3)&\":\"&ADDRESS(VLOOKUP(Y44,PS!$I$2:$M$32,2,FALSE)+VLOOKUP(Y44,PS!$I$2:$M$32,3,FALSE)-1,7)),4,FALSE)+VLOOKUP(B44,INDIRECT(\"PS!\"&ADDRESS(VLOOKUP(Y44,PS!$I$2:$M$32,2,FALSE),3)&\":\"&ADDRESS(VLOOKUP(Y44,PS!$I$2:$M$32,2,FALSE)+VLOOKUP(Y44,PS!$I$2:$M$32,3,FALSE)-1,7)),5,FALSE)-1,4)","v":{"$error":"#N/A"}},{"$f":"IFERROR(VLOOKUP(D44,MAT!$D$2:$K$100000,7,FALSE),\"\")","v":""},{"$f":"IFERROR(VLOOKUP(D44,MAT!$D$2:$K$100000,8,FALSE),\"\")","v":""},"",{"$f":"IFERROR(VLOOKUP(D44,MAT!$D$2:$K$100000,2,FALSE),\"\")","v":""},""]
[10,null,"",null,null,null,null,null,null,null,null,null,null,null,null,null,null,null,null,null,null,null,null,null,"AGGR",{"$f":"\"MAT!\"&ADDRESS(VLOOKUP(B45,INDIRECT(\"PS!\"&ADDRESS(VLOOKUP(Y45,PS!$I$2:$M$32,2,FALSE),3)&\":\"&ADDRESS(VLOOKUP(Y45,PS!$I$2:$M$32,2,FALSE)+VLOOKUP(Y45,PS!$I$2:$M$32,3,FALSE)-1,7)),4,FALSE),4)&\":\"&ADDRESS(VLOOKUP(B45,INDIRECT(\"PS!\"&ADDRESS(VLOOKUP(Y45,PS!$I$2:$M$32,2,FALSE),3)&\":\"&ADDRESS(VLOOKUP(Y45,PS!$I$2:$M$32,2,FALSE)+VLOOKUP(Y45,PS!$I$2:$M$32,3,FALSE)-1,7)),4,FALSE)+VLOOKUP(B45,INDIRECT(\"PS!\"&ADDRESS(VLOOKUP(Y45,PS!$I$2:$M$32,2,FALSE),3)&\":\"&ADDRESS(VLOOKUP(Y45,PS!$I$2:$M$32,2,FALSE)+VLOOKUP(Y45,PS!$I$2:$M$32,3,FALSE)-1,7)),5,FALSE)-1,4)","v":{"$error":"#N/A"}},{"$f":"IFERROR(VLOOKUP(D45,MAT!$D$2:$K$100000,7,FALSE),\"\")","v":""},{"$f":"IFERROR(VLOOKUP(D45,MAT!$D$2:$K$100000,8,FALSE),\"\")","v":""},"",{"$f":"IFERROR(VLOOKUP(D45,MAT!$D$2:$K$100000,2,FALSE),\"\")","v":""},""]
[11,null,"",null,null,null,null,null,null,null,null,null,null,null,null,null,null,null,null,null,null,null,null,null,"AGGR",{"$f":"\"MAT!\"&ADDRESS(VLOOKUP(B46,INDIRECT(\"PS!\"&ADDRESS(VLOOKUP(Y46,PS!$I$2:$M$32,2,FALSE),3)&\":\"&ADDRESS(VLOOKUP(Y46,PS!$I$2:$M$32,2,FALSE)+VLOOKUP(Y46,PS!$I$2:$M$32,3,FALSE)-1,7)),4,FALSE),4)&\":\"&ADDRESS(VLOOKUP(B46,INDIRECT(\"PS!\"&ADDRESS(VLOOKUP(Y46,PS!$I$2:$M$32,2,FALSE),3)&\":\"&ADDRESS(VLOOKUP(Y46,PS!$I$2:$M$32,2,FALSE)+VLOOKUP(Y46,PS!$I$2:$M$32,3,FALSE)-1,7)),4,FALSE)+VLOOKUP(B46,INDIRECT(\"PS!\"&ADDRESS(VLOOKUP(Y46,PS!$I$2:$M$32,2,FALSE),3)&\":\"&ADDRESS(VLOOKUP(Y46,PS!$I$2:$M$32,2,FALSE)+VLOOKUP(Y46,PS!$I$2:$M$32,3,FALSE)-1,7)),5,FALSE)-1,4)","v":{"$error":"#N/A"}},{"$f":"IFERROR(VLOOKUP(D46,MAT!$D$2:$K$100000,7,FALSE),\"\")","v":""},{"$f":"IFERROR(VLOOKUP(D46,MAT!$D$2:$K$100000,8,FALSE),\"\")","v":""},"",{"$f":"IFERROR(VLOOKUP(D46,MAT!$D$2:$K$100000,2,FALSE),\"\")","v":""},""]
[12,null,"",null,null,null,null,null,null,null,null,null,null,null,null,null,null,null,null,null,null,null,null,null,"AGGR",{"$f":"\"MAT!\"&ADDRESS(VLOOKUP(B47,INDIRECT(\"PS!\"&ADDRESS(VLOOKUP(Y47,PS!$I$2:$M$32,2,FALSE),3)&\":\"&ADDRESS(VLOOKUP(Y47,PS!$I$2:$M$32,2,FALSE)+VLOOKUP(Y47,PS!$I$2:$M$32,3,FALSE)-1,7)),4,FALSE),4)&\":\"&ADDRESS(VLOOKUP(B47,INDIRECT(\"PS!\"&ADDRESS(VLOOKUP(Y47,PS!$I$2:$M$32,2,FALSE),3)&\":\"&ADDRESS(VLOOKUP(Y47,PS!$I$2:$M$32,2,FALSE)+VLOOKUP(Y47,PS!$I$2:$M$32,3,FALSE)-1,7)),4,FALSE)+VLOOKUP(B47,INDIRECT(\"PS!\"&ADDRESS(VLOOKUP(Y47,PS!$I$2:$M$32,2,FALSE),3)&\":\"&ADDRESS(VLOOKUP(Y47,PS!$I$2:$M$32,2,FALSE)+VLOOKUP(Y47,PS!$I$2:$M$32,3,FALSE)-1,7)),5,FALSE)-1,4)","v":{"$error":"#N/A"}},{"$f":"IFERROR(VLOOKUP(D47,MAT!$D$2:$K$100000,7,FALSE),\"\")","v":""},{"$f":"IFERROR(VLOOKUP(D47,MAT!$D$2:$K$100000,8,FALSE),\"\")","v":""},"",{"$f":"IFERROR(VLOOKUP(D47,MAT!$D$2:$K$100000,2,FALSE),\"\")","v":""},""]
[13,null,"",null,null,null,null,null,null,null,null,null,null,null,null,null,null,null,null,null,null,null,null,null,"AGGR",{"$f":"\"MAT!\"&ADDRESS(VLOOKUP(B48,INDIRECT(\"PS!\"&ADDRESS(VLOOKUP(Y48,PS!$I$2:$M$32,2,FALSE),3)&\":\"&ADDRESS(VLOOKUP(Y48,PS!$I$2:$M$32,2,FALSE)+VLOOKUP(Y48,PS!$I$2:$M$32,3,FALSE)-1,7)),4,FALSE),4)&\":\"&ADDRESS(VLOOKUP(B48,INDIRECT(\"PS!\"&ADDRESS(VLOOKUP(Y48,PS!$I$2:$M$32,2,FALSE),3)&\":\"&ADDRESS(VLOOKUP(Y48,PS!$I$2:$M$32,2,FALSE)+VLOOKUP(Y48,PS!$I$2:$M$32,3,FALSE)-1,7)),4,FALSE)+VLOOKUP(B48,INDIRECT(\"PS!\"&ADDRESS(VLOOKUP(Y48,PS!$I$2:$M$32,2,FALSE),3)&\":\"&ADDRESS(VLOOKUP(Y48,PS!$I$2:$M$32,2,FALSE)+VLOOKUP(Y48,PS!$I$2:$M$32,3,FALSE)-1,7)),5,FALSE)-1,4)","v":{"$error":"#N/A"}},{"$f":"IFERROR(VLOOKUP(D48,MAT!$D$2:$K$100000,7,FALSE),\"\")","v":""},{"$f":"IFERROR(VLOOKUP(D48,MAT!$D$2:$K$100000,8,FALSE),\"\")","v":""},"",{"$f":"IFERROR(VLOOKUP(D48,MAT!$D$2:$K$100000,2,FALSE),\"\")","v":""},""]
[14,null,"",null,null,null,null,null,null,null,null,null,null,null,null,null,null,null,null,null,null,null,null,null,"AGGR",{"$f":"\"MAT!\"&ADDRESS(VLOOKUP(B49,INDIRECT(\"PS!\"&ADDRESS(VLOOKUP(Y49,PS!$I$2:$M$32,2,FALSE),3)&\":\"&ADDRESS(VLOOKUP(Y49,PS!$I$2:$M$32,2,FALSE)+VLOOKUP(Y49,PS!$I$2:$M$32,3,FALSE)-1,7)),4,FALSE),4)&\":\"&ADDRESS(VLOOKUP(B49,INDIRECT(\"PS!\"&ADDRESS(VLOOKUP(Y49,PS!$I$2:$M$32,2,FALSE),3)&\":\"&ADDRESS(VLOOKUP(Y49,PS!$I$2:$M$32,2,FALSE)+VLOOKUP(Y49,PS!$I$2:$M$32,3,FALSE)-1,7)),4,FALSE)+VLOOKUP(B49,INDIRECT(\"PS!\"&ADDRESS(VLOOKUP(Y49,PS!$I$2:$M$32,2,FALSE),3)&\":\"&ADDRESS(VLOOKUP(Y49,PS!$I$2:$M$32,2,FALSE)+VLOOKUP(Y49,PS!$I$2:$M$32,3,FALSE)-1,7)),5,FALSE)-1,4)","v":{"$error":"#N/A"}},{"$f":"IFERROR(VLOOKUP(D49,MAT!$D$2:$K$100000,7,FALSE),\"\")","v":""},{"$f":"IFERROR(VLOOKUP(D49,MAT!$D$2:$K$100000,8,FALSE),\"\")","v":""},"",{"$f":"IFERROR(VLOOKUP(D49,MAT!$D$2:$K$100000,2,FALSE),\"\")","v":""},""]
[15,null,"",null,null,null,null,null,null,null,null,null,null,null,null,null,null,null,null,null,null,null,null,null,"AGGR",{"$f":"\"MAT!\"&ADDRESS(VLOOKUP(B50,INDIRECT(\"PS!\"&ADDRESS(VLOOKUP(Y50,PS!$I$2:$M$32,2,FALSE),3)&\":\"&ADDRESS(VLOOKUP(Y50,PS!$I$2:$M$32,2,FALSE)+VLOOKUP(Y50,PS!$I$2:$M$32,3,FALSE)-1,7)),4,FALSE),4)&\":\"&ADDRESS(VLOOKUP(B50,INDIRECT(\"PS!\"&ADDRESS(VLOOKUP(Y50,PS!$I$2:$M$32,2,FALSE),3)&\":\"&ADDRESS(VLOOKUP(Y50,PS!$I$2:$M$32,2,FALSE)+VLOOKUP(Y50,PS!$I$2:$M$32,3,FALSE)-1,7)),4,FALSE)+VLOOKUP(B50,INDIRECT(\"PS!\"&ADDRESS(VLOOKUP(Y50,PS!$I$2:$M$32,2,FALSE),3)&\":\"&ADDRESS(VLOOKUP(Y50,PS!$I$2:$M$32,2,FALSE)+VLOOKUP(Y50,PS!$I$2:$M$32,3,FALSE)-1,7)),5,FALSE)-1,4)","v":{"$error":"#N/A"}},{"$f":"IFERROR(VLOOKUP(D50,MAT!$D$2:$K$100000,7,FALSE),\"\")","v":""},{"$f":"IFERROR(VLOOKUP(D50,MAT!$D$2:$K$100000,8,FALSE),\"\")","v":""},"",{"$f":"IFERROR(VLOOKUP(D50,MAT!$D$2:$K$100000,2,FALSE),\"\")","v":""},""]
[null,null,null,null,null,"Bulk"," ","FAA","Sand Eq.","Flat & Elong","CAA","Micro Deval","Friction","% Passing","% Passing","% Passing","% Passing","% Passing","% Passing","% Passing","% Passing","% Passing","% Passing","% Passing"]
["Fine Agg","Producer/Supplier",{"$f":"COUNTA(D53:D67)","v":0},"Material","Custom Name/Identifier","Gravity","Absorption","Method A","- 4.75 mm","3:1",null,"% loss","Rating","   1\"","    3/4\"","    1/2\"","    3/8\"","  No 4","  No 8","  No 16","  No 30","  No 50","  No 100","  No 200"]
[1,null,{"$f":"IF(AC53<NOW(),\"*\",\"\")","v":""},null,null,null,null,null,null,null,null,null,null,null,null,null,null,null,null,null,null,null,null,null,"AGGR",{"$f":"\"MAT!\"&ADDRESS(VLOOKUP(B53,INDIRECT(\"PS!\"&ADDRESS(VLOOKUP(Y53,PS!$I$2:$M$32,2,FALSE),3)&\":\"&ADDRESS(VLOOKUP(Y53,PS!$I$2:$M$32,2,FALSE)+VLOOKUP(Y53,PS!$I$2:$M$32,3,FALSE)-1,7)),4,FALSE),4)&\":\"&ADDRESS(VLOOKUP(B53,INDIRECT(\"PS!\"&ADDRESS(VLOOKUP(Y53,PS!$I$2:$M$32,2,FALSE),3)&\":\"&ADDRESS(VLOOKUP(Y53,PS!$I$2:$M$32,2,FALSE)+VLOOKUP(Y53,PS!$I$2:$M$32,3,FALSE)-1,7)),4,FALSE)+VLOOKUP(B53,INDIRECT(\"PS!\"&ADDRESS(VLOOKUP(Y53,PS!$I$2:$M$32,2,FALSE),3)&\":\"&ADDRESS(VLOOKUP(Y53,PS!$I$2:$M$32,2,FALSE)+VLOOKUP(Y53,PS!$I$2:$M$32,3,FALSE)-1,7)),5,FALSE)-1,4)","v":{"$error":"#N/A"}},{"$f":"IFERROR(VLOOKUP(D53,MAT!$D$2:$K$100000,7,FALSE),\"\")","v":""},{"$f":"IFERROR(VLOOKUP(D53,MAT!$D$2:$K$100000,8,FALSE),\"\")","v":""},{"$f":"IFERROR(DATE(LEFT(AB53,4),MID(AB53,5,2),RIGHT(AB53,2)),\"\")","v":""},{"$f":"IFERROR(VLOOKUP(D53,MAT!$D$2:$K$100000,2,FALSE),\"\")","v":""},{"$f":"IF(LEN(D53)>10,LEFT(D53,10)&\"-\"&E53,\"\")","v":""}]
[2,null,"",null,null,null,null,null,null,null,null,null,null,null,null,null,null,null,null,null,null,null,null,null,"AGGR",{"$f":"\"MAT!\"&ADDRESS(VLOOKUP(B54,INDIRECT(\"PS!\"&ADDRESS(VLOOKUP(Y54,PS!$I$2:$M$32,2,FALSE),3)&\":\"&ADDRESS(VLOOKUP(Y54,PS!$I$2:$M$32,2,FALSE)+VLOOKUP(Y54,PS!$I$2:$M$32,3,FALSE)-1,7)),4,FALSE),4)&\":\"&ADDRESS(VLOOKUP(B54,INDIRECT(\"PS!\"&ADDRESS(VLOOKUP(Y54,PS!$I$2:$M$32,2,FALSE),3)&\":\"&ADDRESS(VLOOKUP(Y54,PS!$I$2:$M$32,2,FALSE)+VLOOKUP(Y54,PS!$I$2:$M$32,3,FALSE)-1,7)),4,FALSE)+VLOOKUP(B54,INDIRECT(\"PS!\"&ADDRESS(VLOOKUP(Y54,PS!$I$2:$M$32,2,FALSE),3)&\":\"&ADDRESS(VLOOKUP(Y54,PS!$I$2:$M$32,2,FALSE)+VLOOKUP(Y54,PS!$I$2:$M$32,3,FALSE)-1,7)),5,FALSE)-1,4)","v":{"$error":"#N/A"}},{"$f":"IFERROR(VLOOKUP(D54,MAT!$D$2:$K$100000,7,FALSE),\"\")","v":""},{"$f":"IFERROR(VLOOKUP(D54,MAT!$D$2:$K$100000,8,FALSE),\"\")","v":""},"",{"$f":"IFERROR(VLOOKUP(D54,MAT!$D$2:$K$100000,2,FALSE),\"\")","v":""},""]
[3,null,"",null,null,null,null,null,null,null,null,null,null,null,null,null,null,null,null,null,null,null,null,null,"AGGR",{"$f":"\"MAT!\"&ADDRESS(VLOOKUP(B55,INDIRECT(\"PS!\"&ADDRESS(VLOOKUP(Y55,PS!$I$2:$M$32,2,FALSE),3)&\":\"&ADDRESS(VLOOKUP(Y55,PS!$I$2:$M$32,2,FALSE)+VLOOKUP(Y55,PS!$I$2:$M$32,3,FALSE)-1,7)),4,FALSE),4)&\":\"&ADDRESS(VLOOKUP(B55,INDIRECT(\"PS!\"&ADDRESS(VLOOKUP(Y55,PS!$I$2:$M$32,2,FALSE),3)&\":\"&ADDRESS(VLOOKUP(Y55,PS!$I$2:$M$32,2,FALSE)+VLOOKUP(Y55,PS!$I$2:$M$32,3,FALSE)-1,7)),4,FALSE)+VLOOKUP(B55,INDIRECT(\"PS!\"&ADDRESS(VLOOKUP(Y55,PS!$I$2:$M$32,2,FALSE),3)&\":\"&ADDRESS(VLOOKUP(Y55,PS!$I$2:$M$32,2,FALSE)+VLOOKUP(Y55,PS!$I$2:$M$32,3,FALSE)-1,7)),5,FALSE)-1,4)","v":{"$error":"#N/A"}},{"$f":"IFERROR(VLOOKUP(D55,MAT!$D$2:$K$100000,7,FALSE),\"\")","v":""},{"$f":"IFERROR(VLOOKUP(D55,MAT!$D$2:$K$100000,8,FALSE),\"\")","v":""},"",{"$f":"IFERROR(VLOOKUP(D55,MAT!$D$2:$K$100000,2,FALSE),\"\")","v":""},""]
[4,null,"",null,null,null,null,null,null,null,null,null,null,null,null,null,null,null,null,null,null,null,null,null,"AGGR",{"$f":"\"MAT!\"&ADDRESS(VLOOKUP(B56,INDIRECT(\"PS!\"&ADDRESS(VLOOKUP(Y56,PS!$I$2:$M$32,2,FALSE),3)&\":\"&ADDRESS(VLOOKUP(Y56,PS!$I$2:$M$32,2,FALSE)+VLOOKUP(Y56,PS!$I$2:$M$32,3,FALSE)-1,7)),4,FALSE),4)&\":\"&ADDRESS(VLOOKUP(B56,INDIRECT(\"PS!\"&ADDRESS(VLOOKUP(Y56,PS!$I$2:$M$32,2,FALSE),3)&\":\"&ADDRESS(VLOOKUP(Y56,PS!$I$2:$M$32,2,FALSE)+VLOOKUP(Y56,PS!$I$2:$M$32,3,FALSE)-1,7)),4,FALSE)+VLOOKUP(B56,INDIRECT(\"PS!\"&ADDRESS(VLOOKUP(Y56,PS!$I$2:$M$32,2,FALSE),3)&\":\"&ADDRESS(VLOOKUP(Y56,PS!$I$2:$M$32,2,FALSE)+VLOOKUP(Y56,PS!$I$2:$M$32,3,FALSE)-1,7)),5,FALSE)-1,4)","v":{"$error":"#N/A"}},{"$f":"IFERROR(VLOOKUP(D56,MAT!$D$2:$K$100000,7,FALSE),\"\")","v":""},{"$f":"IFERROR(VLOOKUP(D56,MAT!$D$2:$K$100000,8,FALSE),\"\")","v":""},"",{"$f":"IFERROR(VLOOKUP(D56,MAT!$D$2:$K$100000,2,FALSE),\"\")","v":""},""]
[5,null,"",null,null,null,null,null,null,null,null,null,null,null,null,null,null,null,null,null,null,null,null,null,"AGGR",{"$f":"\"MAT!\"&ADDRESS(VLOOKUP(B57,INDIRECT(\"PS!\"&ADDRESS(VLOOKUP(Y57,PS!$I$2:$M$32,2,FALSE),3)&\":\"&ADDRESS(VLOOKUP(Y57,PS!$I$2:$M$32,2,FALSE)+VLOOKUP(Y57,PS!$I$2:$M$32,3,FALSE)-1,7)),4,FALSE),4)&\":\"&ADDRESS(VLOOKUP(B57,INDIRECT(\"PS!\"&ADDRESS(VLOOKUP(Y57,PS!$I$2:$M$32,2,FALSE),3)&\":\"&ADDRESS(VLOOKUP(Y57,PS!$I$2:$M$32,2,FALSE)+VLOOKUP(Y57,PS!$I$2:$M$32,3,FALSE)-1,7)),4,FALSE)+VLOOKUP(B57,INDIRECT(\"PS!\"&ADDRESS(VLOOKUP(Y57,PS!$I$2:$M$32,2,FALSE),3)&\":\"&ADDRESS(VLOOKUP(Y57,PS!$I$2:$M$32,2,FALSE)+VLOOKUP(Y57,PS!$I$2:$M$32,3,FALSE)-1,7)),5,FALSE)-1,4)","v":{"$error":"#N/A"}},{"$f":"IFERROR(VLOOKUP(D57,MAT!$D$2:$K$100000,7,FALSE),\"\")","v":""},{"$f":"IFERROR(VLOOKUP(D57,MAT!$D$2:$K$100000,8,FALSE),\"\")","v":""},"",{"$f":"IFERROR(VLOOKUP(D57,MAT!$D$2:$K$100000,2,FALSE),\"\")","v":""},""]
[6,null,"",null,null,null,null,null,null,null,null,null,null,null,null,null,null,null,null,null,null,null,null,null,"AGGR",{"$f":"\"MAT!\"&ADDRESS(VLOOKUP(B58,INDIRECT(\"PS!\"&ADDRESS(VLOOKUP(Y58,PS!$I$2:$M$32,2,FALSE),3)&\":\"&ADDRESS(VLOOKUP(Y58,PS!$I$2:$M$32,2,FALSE)+VLOOKUP(Y58,PS!$I$2:$M$32,3,FALSE)-1,7)),4,FALSE),4)&\":\"&ADDRESS(VLOOKUP(B58,INDIRECT(\"PS!\"&ADDRESS(VLOOKUP(Y58,PS!$I$2:$M$32,2,FALSE),3)&\":\"&ADDRESS(VLOOKUP(Y58,PS!$I$2:$M$32,2,FALSE)+VLOOKUP(Y58,PS!$I$2:$M$32,3,FALSE)-1,7)),4,FALSE)+VLOOKUP(B58,INDIRECT(\"PS!\"&ADDRESS(VLOOKUP(Y58,PS!$I$2:$M$32,2,FALSE),3)&\":\"&ADDRESS(VLOOKUP(Y58,PS!$I$2:$M$32,2,FALSE)+VLOOKUP(Y58,PS!$I$2:$M$32,3,FALSE)-1,7)),5,FALSE)-1,4)","v":{"$error":"#N/A"}},{"$f":"IFERROR(VLOOKUP(D58,MAT!$D$2:$K$100000,7,FALSE),\"\")","v":""},{"$f":"IFERROR(VLOOKUP(D58,MAT!$D$2:$K$100000,8,FALSE),\"\")","v":""},"",{"$f":"IFERROR(VLOOKUP(D58,MAT!$D$2:$K$100000,2,FALSE),\"\")","v":""},""]
[7,null,"",null,null,null,null,null,null,null,null,null,null,null,null,null,null,null,null,null,null,null,null,null,"AGGR",{"$f":"\"MAT!\"&ADDRESS(VLOOKUP(B59,INDIRECT(\"PS!\"&ADDRESS(VLOOKUP(Y59,PS!$I$2:$M$32,2,FALSE),3)&\":\"&ADDRESS(VLOOKUP(Y59,PS!$I$2:$M$32,2,FALSE)+VLOOKUP(Y59,PS!$I$2:$M$32,3,FALSE)-1,7)),4,FALSE),4)&\":\"&ADDRESS(VLOOKUP(B59,INDIRECT(\"PS!\"&ADDRESS(VLOOKUP(Y59,PS!$I$2:$M$32,2,FALSE),3)&\":\"&ADDRESS(VLOOKUP(Y59,PS!$I$2:$M$32,2,FALSE)+VLOOKUP(Y59,PS!$I$2:$M$32,3,FALSE)-1,7)),4,FALSE)+VLOOKUP(B59,INDIRECT(\"PS!\"&ADDRESS(VLOOKUP(Y59,PS!$I$2:$M$32,2,FALSE),3)&\":\"&ADDRESS(VLOOKUP(Y59,PS!$I$2:$M$32,2,FALSE)+VLOOKUP(Y59,PS!$I$2:$M$32,3,FALSE)-1,7)),5,FALSE)-1,4)","v":{"$error":"#N/A"}},{"$f":"IFERROR(VLOOKUP(D59,MAT!$D$2:$K$100000,7,FALSE),\"\")","v":""},{"$f":"IFERROR(VLOOKUP(D59,MAT!$D$2:$K$100000,8,FALSE),\"\")","v":""},"",{"$f":"IFERROR(VLOOKUP(D59,MAT!$D$2:$K$100000,2,FALSE),\"\")","v":""},""]
[8,null,"",null,null,null,null,null,null,null,null,null,null,null,null,null,null,null,null,null,null,null,null,null,"AGGR",{"$f":"\"MAT!\"&ADDRESS(VLOOKUP(B60,INDIRECT(\"PS!\"&ADDRESS(VLOOKUP(Y60,PS!$I$2:$M$32,2,FALSE),3)&\":\"&ADDRESS(VLOOKUP(Y60,PS!$I$2:$M$32,2,FALSE)+VLOOKUP(Y60,PS!$I$2:$M$32,3,FALSE)-1,7)),4,FALSE),4)&\":\"&ADDRESS(VLOOKUP(B60,INDIRECT(\"PS!\"&ADDRESS(VLOOKUP(Y60,PS!$I$2:$M$32,2,FALSE),3)&\":\"&ADDRESS(VLOOKUP(Y60,PS!$I$2:$M$32,2,FALSE)+VLOOKUP(Y60,PS!$I$2:$M$32,3,FALSE)-1,7)),4,FALSE)+VLOOKUP(B60,INDIRECT(\"PS!\"&ADDRESS(VLOOKUP(Y60,PS!$I$2:$M$32,2,FALSE),3)&\":\"&ADDRESS(VLOOKUP(Y60,PS!$I$2:$M$32,2,FALSE)+VLOOKUP(Y60,PS!$I$2:$M$32,3,FALSE)-1,7)),5,FALSE)-1,4)","v":{"$error":"#N/A"}},{"$f":"IFERROR(VLOOKUP(D60,MAT!$D$2:$K$100000,7,FALSE),\"\")","v":""},{"$f":"IFERROR(VLOOKUP(D60,MAT!$D$2:$K$100000,8,FALSE),\"\")","v":""},"",{"$f":"IFERROR(VLOOKUP(D60,MAT!$D$2:$K$100000,2,FALSE),\"\")","v":""},""]
[9,null,"",null,null,null,null,null,null,null,null,null,null,null,null,null,null,null,null,null,null,null,null,null,"AGGR",{"$f":"\"MAT!\"&ADDRESS(VLOOKUP(B61,INDIRECT(\"PS!\"&ADDRESS(VLOOKUP(Y61,PS!$I$2:$M$32,2,FALSE),3)&\":\"&ADDRESS(VLOOKUP(Y61,PS!$I$2:$M$32,2,FALSE)+VLOOKUP(Y61,PS!$I$2:$M$32,3,FALSE)-1,7)),4,FALSE),4)&\":\"&ADDRESS(VLOOKUP(B61,INDIRECT(\"PS!\"&ADDRESS(VLOOKUP(Y61,PS!$I$2:$M$32,2,FALSE),3)&\":\"&ADDRESS(VLOOKUP(Y61,PS!$I$2:$M$32,2,FALSE)+VLOOKUP(Y61,PS!$I$2:$M$32,3,FALSE)-1,7)),4,FALSE)+VLOOKUP(B61,INDIRECT(\"PS!\"&ADDRESS(VLOOKUP(Y61,PS!$I$2:$M$32,2,FALSE),3)&\":\"&ADDRESS(VLOOKUP(Y61,PS!$I$2:$M$32,2,FALSE)+VLOOKUP(Y61,PS!$I$2:$M$32,3,FALSE)-1,7)),5,FALSE)-1,4)","v":{"$error":"#N/A"}},{"$f":"IFERROR(VLOOKUP(D61,MAT!$D$2:$K$100000,7,FALSE),\"\")","v":""},{"$f":"IFERROR(VLOOKUP(D61,MAT!$D$2:$K$100000,8,FALSE),\"\")","v":""},"",{"$f":"IFERROR(VLOOKUP(D61,MAT!$D$2:$K$100000,2,FALSE),\"\")","v":""},""]
[10,null,"",null,null,null,null,null,null,null,null,null,null,null,null,null,null,null,null,null,null,null,null,null,"AGGR",{"$f":"\"MAT!\"&ADDRESS(VLOOKUP(B62,INDIRECT(\"PS!\"&ADDRESS(VLOOKUP(Y62,PS!$I$2:$M$32,2,FALSE),3)&\":\"&ADDRESS(VLOOKUP(Y62,PS!$I$2:$M$32,2,FALSE)+VLOOKUP(Y62,PS!$I$2:$M$32,3,FALSE)-1,7)),4,FALSE),4)&\":\"&ADDRESS(VLOOKUP(B62,INDIRECT(\"PS!\"&ADDRESS(VLOOKUP(Y62,PS!$I$2:$M$32,2,FALSE),3)&\":\"&ADDRESS(VLOOKUP(Y62,PS!$I$2:$M$32,2,FALSE)+VLOOKUP(Y62,PS!$I$2:$M$32,3,FALSE)-1,7)),4,FALSE)+VLOOKUP(B62,INDIRECT(\"PS!\"&ADDRESS(VLOOKUP(Y62,PS!$I$2:$M$32,2,FALSE),3)&\":\"&ADDRESS(VLOOKUP(Y62,PS!$I$2:$M$32,2,FALSE)+VLOOKUP(Y62,PS!$I$2:$M$32,3,FALSE)-1,7)),5,FALSE)-1,4)","v":{"$error":"#N/A"}},{"$f":"IFERROR(VLOOKUP(D62,MAT!$D$2:$K$100000,7,FALSE),\"\")","v":""},{"$f":"IFERROR(VLOOKUP(D62,MAT!$D$2:$K$100000,8,FALSE),\"\")","v":""},"",{"$f":"IFERROR(VLOOKUP(D62,MAT!$D$2:$K$100000,2,FALSE),\"\")","v":""},""]
[11,null,"",null,null,null,null,null,null,null,null,null,null,null,null,null,null,null,null,null,null,null,null,null,"AGGR",{"$f":"\"MAT!\"&ADDRESS(VLOOKUP(B63,INDIRECT(\"PS!\"&ADDRESS(VLOOKUP(Y63,PS!$I$2:$M$32,2,FALSE),3)&\":\"&ADDRESS(VLOOKUP(Y63,PS!$I$2:$M$32,2,FALSE)+VLOOKUP(Y63,PS!$I$2:$M$32,3,FALSE)-1,7)),4,FALSE),4)&\":\"&ADDRESS(VLOOKUP(B63,INDIRECT(\"PS!\"&ADDRESS(VLOOKUP(Y63,PS!$I$2:$M$32,2,FALSE),3)&\":\"&ADDRESS(VLOOKUP(Y63,PS!$I$2:$M$32,2,FALSE)+VLOOKUP(Y63,PS!$I$2:$M$32,3,FALSE)-1,7)),4,FALSE)+VLOOKUP(B63,INDIRECT(\"PS!\"&ADDRESS(VLOOKUP(Y63,PS!$I$2:$M$32,2,FALSE),3)&\":\"&ADDRESS(VLOOKUP(Y63,PS!$I$2:$M$32,2,FALSE)+VLOOKUP(Y63,PS!$I$2:$M$32,3,FALSE)-1,7)),5,FALSE)-1,4)","v":{"$error":"#N/A"}},{"$f":"IFERROR(VLOOKUP(D63,MAT!$D$2:$K$100000,7,FALSE),\"\")","v":""},{"$f":"IFERROR(VLOOKUP(D63,MAT!$D$2:$K$100000,8,FALSE),\"\")","v":""},"",{"$f":"IFERROR(VLOOKUP(D63,MAT!$D$2:$K$100000,2,FALSE),\"\")","v":""},""]
[12,null,"",null,null,null,null,null,null,null,null,null,null,null,null,null,null,null,null,null,null,null,null,null,"AGGR",{"$f":"\"MAT!\"&ADDRESS(VLOOKUP(B64,INDIRECT(\"PS!\"&ADDRESS(VLOOKUP(Y64,PS!$I$2:$M$32,2,FALSE),3)&\":\"&ADDRESS(VLOOKUP(Y64,PS!$I$2:$M$32,2,FALSE)+VLOOKUP(Y64,PS!$I$2:$M$32,3,FALSE)-1,7)),4,FALSE),4)&\":\"&ADDRESS(VLOOKUP(B64,INDIRECT(\"PS!\"&ADDRESS(VLOOKUP(Y64,PS!$I$2:$M$32,2,FALSE),3)&\":\"&ADDRESS(VLOOKUP(Y64,PS!$I$2:$M$32,2,FALSE)+VLOOKUP(Y64,PS!$I$2:$M$32,3,FALSE)-1,7)),4,FALSE)+VLOOKUP(B64,INDIRECT(\"PS!\"&ADDRESS(VLOOKUP(Y64,PS!$I$2:$M$32,2,FALSE),3)&\":\"&ADDRESS(VLOOKUP(Y64,PS!$I$2:$M$32,2,FALSE)+VLOOKUP(Y64,PS!$I$2:$M$32,3,FALSE)-1,7)),5,FALSE)-1,4)","v":{"$error":"#N/A"}},{"$f":"IFERROR(VLOOKUP(D64,MAT!$D$2:$K$100000,7,FALSE),\"\")","v":""},{"$f":"IFERROR(VLOOKUP(D64,MAT!$D$2:$K$100000,8,FALSE),\"\")","v":""},"",{"$f":"IFERROR(VLOOKUP(D64,MAT!$D$2:$K$100000,2,FALSE),\"\")","v":""},""]
[13,null,"",null,null,null,null,null,null,null,null,null,null,null,null,null,null,null,null,null,null,null,null,null,"AGGR",{"$f":"\"MAT!\"&ADDRESS(VLOOKUP(B65,INDIRECT(\"PS!\"&ADDRESS(VLOOKUP(Y65,PS!$I$2:$M$32,2,FALSE),3)&\":\"&ADDRESS(VLOOKUP(Y65,PS!$I$2:$M$32,2,FALSE)+VLOOKUP(Y65,PS!$I$2:$M$32,3,FALSE)-1,7)),4,FALSE),4)&\":\"&ADDRESS(VLOOKUP(B65,INDIRECT(\"PS!\"&ADDRESS(VLOOKUP(Y65,PS!$I$2:$M$32,2,FALSE),3)&\":\"&ADDRESS(VLOOKUP(Y65,PS!$I$2:$M$32,2,FALSE)+VLOOKUP(Y65,PS!$I$2:$M$32,3,FALSE)-1,7)),4,FALSE)+VLOOKUP(B65,INDIRECT(\"PS!\"&ADDRESS(VLOOKUP(Y65,PS!$I$2:$M$32,2,FALSE),3)&\":\"&ADDRESS(VLOOKUP(Y65,PS!$I$2:$M$32,2,FALSE)+VLOOKUP(Y65,PS!$I$2:$M$32,3,FALSE)-1,7)),5,FALSE)-1,4)","v":{"$error":"#N/A"}},{"$f":"IFERROR(VLOOKUP(D65,MAT!$D$2:$K$100000,7,FALSE),\"\")","v":""},{"$f":"IFERROR(VLOOKUP(D65,MAT!$D$2:$K$100000,8,FALSE),\"\")","v":""},"",{"$f":"IFERROR(VLOOKUP(D65,MAT!$D$2:$K$100000,2,FALSE),\"\")","v":""},""]
[14,null,"",null,null,null,null,null,null,null,null,null,null,null,null,null,null,null,null,null,null,null,null,null,"AGGR",{"$f":"\"MAT!\"&ADDRESS(VLOOKUP(B66,INDIRECT(\"PS!\"&ADDRESS(VLOOKUP(Y66,PS!$I$2:$M$32,2,FALSE),3)&\":\"&ADDRESS(VLOOKUP(Y66,PS!$I$2:$M$32,2,FALSE)+VLOOKUP(Y66,PS!$I$2:$M$32,3,FALSE)-1,7)),4,FALSE),4)&\":\"&ADDRESS(VLOOKUP(B66,INDIRECT(\"PS!\"&ADDRESS(VLOOKUP(Y66,PS!$I$2:$M$32,2,FALSE),3)&\":\"&ADDRESS(VLOOKUP(Y66,PS!$I$2:$M$32,2,FALSE)+VLOOKUP(Y66,PS!$I$2:$M$32,3,FALSE)-1,7)),4,FALSE)+VLOOKUP(B66,INDIRECT(\"PS!\"&ADDRESS(VLOOKUP(Y66,PS!$I$2:$M$32,2,FALSE),3)&\":\"&ADDRESS(VLOOKUP(Y66,PS!$I$2:$M$32,2,FALSE)+VLOOKUP(Y66,PS!$I$2:$M$32,3,FALSE)-1,7)),5,FALSE)-1,4)","v":{"$error":"#N/A"}},{"$f":"IFERROR(VLOOKUP(D66,MAT!$D$2:$K$100000,7,FALSE),\"\")","v":""},{"$f":"IFERROR(VLOOKUP(D66,MAT!$D$2:$K$100000,8,FALSE),\"\")","v":""},"",{"$f":"IFERROR(VLOOKUP(D66,MAT!$D$2:$K$100000,2,FALSE),\"\")","v":""},""]
[15,null,"",null,null,null,null,null,null,null,null,null,null,null,null,null,null,null,null,null,null,null,null,null,"AGGR",{"$f":"\"MAT!\"&ADDRESS(VLOOKUP(B67,INDIRECT(\"PS!\"&ADDRESS(VLOOKUP(Y67,PS!$I$2:$M$32,2,FALSE),3)&\":\"&ADDRESS(VLOOKUP(Y67,PS!$I$2:$M$32,2,FALSE)+VLOOKUP(Y67,PS!$I$2:$M$32,3,FALSE)-1,7)),4,FALSE),4)&\":\"&ADDRESS(VLOOKUP(B67,INDIRECT(\"PS!\"&ADDRESS(VLOOKUP(Y67,PS!$I$2:$M$32,2,FALSE),3)&\":\"&ADDRESS(VLOOKUP(Y67,PS!$I$2:$M$32,2,FALSE)+VLOOKUP(Y67,PS!$I$2:$M$32,3,FALSE)-1,7)),4,FALSE)+VLOOKUP(B67,INDIRECT(\"PS!\"&ADDRESS(VLOOKUP(Y67,PS!$I$2:$M$32,2,FALSE),3)&\":\"&ADDRESS(VLOOKUP(Y67,PS!$I$2:$M$32,2,FALSE)+VLOOKUP(Y67,PS!$I$2:$M$32,3,FALSE)-1,7)),5,FALSE)-1,4)","v":{"$error":"#N/A"}},{"$f":"IFERROR(VLOOKUP(D67,MAT!$D$2:$K$100000,7,FALSE),\"\")","v":""},{"$f":"IFERROR(VLOOKUP(D67,MAT!$D$2:$K$100000,8,FALSE),\"\")","v":""},"",{"$f":"IFERROR(VLOOKUP(D67,MAT!$D$2:$K$100000,2,FALSE),\"\")","v":""},""]
[null,null,null,null,null,"Bulk"," ","FAA","Sand Eq.","Flat & Elong","CAA","Micro Deval","Friction","% Passing","% Passing","% Passing","% Passing","% Passing","% Passing","% Passing","% Passing","% Passing","% Passing","% Passing"]
["RAP","Producer/Supplier",{"$f":"COUNTA(D70:D73)","v":0},"Material","Custom Name/Identifier","Gravity","Absorption","Method A","- 4.75 mm","3:1",null,"% loss","Rating","   1\"","    3/4\"","    1/2\"","    3/8\"","  No 4","  No 8","  No 16","  No 30","  No 50","  No 100","  No 200"]
[1,"PS00000870-Coastal Bridge Company - Convent",{"$f":"IF(AC70<NOW(),\"*\",\"\")","v":""},null,null,null,null,null,null,null,null,null,null,null,null,null,null,null,null,null,null,null,null,null,"AGGR",{"$f":"\"MAT!\"&ADDRESS(VLOOKUP(B70,INDIRECT(\"PS!\"&ADDRESS(VLOOKUP(Y70,PS!$I$2:$M$32,2,FALSE),3)&\":\"&ADDRESS(VLOOKUP(Y70,PS!$I$2:$M$32,2,FALSE)+VLOOKUP(Y70,PS!$I$2:$M$32,3,FALSE)-1,7)),4,FALSE),4)&\":\"&ADDRESS(VLOOKUP(B70,INDIRECT(\"PS!\"&ADDRESS(VLOOKUP(Y70,PS!$I$2:$M$32,2,FALSE),3)&\":\"&ADDRESS(VLOOKUP(Y70,PS!$I$2:$M$32,2,FALSE)+VLOOKUP(Y70,PS!$I$2:$M$32,3,FALSE)-1,7)),4,FALSE)+VLOOKUP(B70,INDIRECT(\"PS!\"&ADDRESS(VLOOKUP(Y70,PS!$I$2:$M$32,2,FALSE),3)&\":\"&ADDRESS(VLOOKUP(Y70,PS!$I$2:$M$32,2,FALSE)+VLOOKUP(Y70,PS!$I$2:$M$32,3,FALSE)-1,7)),5,FALSE)-1,4)","v":{"$error":"#N/A"}},{"$f":"IFERROR(VLOOKUP(D70,MAT!$D$2:$K$100000,7,FALSE),\"\")","v":""},{"$f":"IFERROR(VLOOKUP(D70,MAT!$D$2:$K$100000,8,FALSE),\"\")","v":""},{"$f":"IFERROR(DATE(LEFT(AB70,4),MID(AB70,5,2),RIGHT(AB70,2)),\"\")","v":""},{"$f":"IFERROR(VLOOKUP(D70,MAT!$D$2:$K$100000,2,FALSE),\"\")","v":""},{"$f":"IF(LEN(D70)>10,LEFT(D70,10)&\"-\"&E70,\"\")","v":""}]
[2,null,"",null,null,null,null,null,null,null,null,null,null,null,null,null,null,null,null,null,null,null,null,null,"AGGR",{"$f":"\"MAT!\"&ADDRESS(VLOOKUP(B71,INDIRECT(\"PS!\"&ADDRESS(VLOOKUP(Y71,PS!$I$2:$M$32,2,FALSE),3)&\":\"&ADDRESS(VLOOKUP(Y71,PS!$I$2:$M$32,2,FALSE)+VLOOKUP(Y71,PS!$I$2:$M$32,3,FALSE)-1,7)),4,FALSE),4)&\":\"&ADDRESS(VLOOKUP(B71,INDIRECT(\"PS!\"&ADDRESS(VLOOKUP(Y71,PS!$I$2:$M$32,2,FALSE),3)&\":\"&ADDRESS(VLOOKUP(Y71,PS!$I$2:$M$32,2,FALSE)+VLOOKUP(Y71,PS!$I$2:$M$32,3,FALSE)-1,7)),4,FALSE)+VLOOKUP(B71,INDIRECT(\"PS!\"&ADDRESS(VLOOKUP(Y71,PS!$I$2:$M$32,2,FALSE),3)&\":\"&ADDRESS(VLOOKUP(Y71,PS!$I$2:$M$32,2,FALSE)+VLOOKUP(Y71,PS!$I$2:$M$32,3,FALSE)-1,7)),5,FALSE)-1,4)","v":{"$error":"#N/A"}},{"$f":"IFERROR(VLOOKUP(D71,MAT!$D$2:$K$100000,7,FALSE),\"\")","v":""},{"$f":"IFERROR(VLOOKUP(D71,MAT!$D$2:$K$100000,8,FALSE),\"\")","v":""},"",{"$f":"IFERROR(VLOOKUP(D71,MAT!$D$2:$K$100000,2,FALSE),\"\")","v":""},""]
[3,null,"",null,null,null,null,null,null,null,null,null,null,null,null,null,null,null,null,null,null,null,null,null,"AGGR",{"$f":"\"MAT!\"&ADDRESS(VLOOKUP(B72,INDIRECT(\"PS!\"&ADDRESS(VLOOKUP(Y72,PS!$I$2:$M$32,2,FALSE),3)&\":\"&ADDRESS(VLOOKUP(Y72,PS!$I$2:$M$32,2,FALSE)+VLOOKUP(Y72,PS!$I$2:$M$32,3,FALSE)-1,7)),4,FALSE),4)&\":\"&ADDRESS(VLOOKUP(B72,INDIRECT(\"PS!\"&ADDRESS(VLOOKUP(Y72,PS!$I$2:$M$32,2,FALSE),3)&\":\"&ADDRESS(VLOOKUP(Y72,PS!$I$2:$M$32,2,FALSE)+VLOOKUP(Y72,PS!$I$2:$M$32,3,FALSE)-1,7)),4,FALSE)+VLOOKUP(B72,INDIRECT(\"PS!\"&ADDRESS(VLOOKUP(Y72,PS!$I$2:$M$32,2,FALSE),3)&\":\"&ADDRESS(VLOOKUP(Y72,PS!$I$2:$M$32,2,FALSE)+VLOOKUP(Y72,PS!$I$2:$M$32,3,FALSE)-1,7)),5,FALSE)-1,4)","v":{"$error":"#N/A"}},{"$f":"IFERROR(VLOOKUP(D72,MAT!$D$2:$K$100000,7,FALSE),\"\")","v":""},{"$f":"IFERROR(VLOOKUP(D72,MAT!$D$2:$K$100000,8,FALSE),\"\")","v":""},"",{"$f":"IFERROR(VLOOKUP(D72,MAT!$D$2:$K$100000,2,FALSE),\"\")","v":""},""]
[4,null,"",null,null,null,null,null,null,null,null,null,null,null,null,null,null,null,null,null,null,null,null,null,"AGGR",{"$f":"\"MAT!\"&ADDRESS(VLOOKUP(B73,INDIRECT(\"PS!\"&ADDRESS(VLOOKUP(Y73,PS!$I$2:$M$32,2,FALSE),3)&\":\"&ADDRESS(VLOOKUP(Y73,PS!$I$2:$M$32,2,FALSE)+VLOOKUP(Y73,PS!$I$2:$M$32,3,FALSE)-1,7)),4,FALSE),4)&\":\"&ADDRESS(VLOOKUP(B73,INDIRECT(\"PS!\"&ADDRESS(VLOOKUP(Y73,PS!$I$2:$M$32,2,FALSE),3)&\":\"&ADDRESS(VLOOKUP(Y73,PS!$I$2:$M$32,2,FALSE)+VLOOKUP(Y73,PS!$I$2:$M$32,3,FALSE)-1,7)),4,FALSE)+VLOOKUP(B73,INDIRECT(\"PS!\"&ADDRESS(VLOOKUP(Y73,PS!$I$2:$M$32,2,FALSE),3)&\":\"&ADDRESS(VLOOKUP(Y73,PS!$I$2:$M$32,2,FALSE)+VLOOKUP(Y73,PS!$I$2:$M$32,3,FALSE)-1,7)),5,FALSE)-1,4)","v":{"$error":"#N/A"}},{"$f":"IFERROR(VLOOKUP(D73,MAT!$D$2:$K$100000,7,FALSE),\"\")","v":""},{"$f":"IFERROR(VLOOKUP(D73,MAT!$D$2:$K$100000,8,FALSE),\"\")","v":""},"",{"$f":"IFERROR(VLOOKUP(D73,MAT!$D$2:$K$100000,2,FALSE),\"\")","v":""},""]

{"sheet":"Project","index":3,"n_rows":9,"n_cols":7,"rows_kept":9,"cut":false,"hidden":false,"merged":[[2,1,2,4],[8,1,8,2],[7,1,7,2],[5,1,5,4],[4,1,4,4],[3,1,3,4]]}
["Project Information"]
[]
["Project No.",null,null,null,null,"Counter",1]
["Project Name"]
["Project Eng.",null,null,null,null,null,{"$f":"COUNTA('Project Summary'!B2:B300)","v":0}]
["Contractor"]
[]
["Traffic (ADT)"]
["ESAL"]

{"sheet":"Optimum AC Test Results","index":4,"n_rows":91,"n_cols":31,"rows_kept":91,"cut":false,"hidden":false,"merged":[[80,6,80,10],[79,6,79,10],[78,6,78,10],[77,6,77,10],[76,6,76,10],[75,6,75,11],[90,15,90,16],[63,30,63,31],[0,0,1,16],[4,0,5,16],[14,1,14,3],[14,5,14,7],[14,9,14,11],[14,13,14,15],[8,8,8,9],[9,8,9,9],[10,8,10,9],[11,8,11,9],[12,8,12,9],[6,8,6,11],[7,8,7,10],[3,3,3,4],[2,3,2,5],[9,13,9,14],[43,0,44,16],[47,10,47,16],[35,13,35,14],[34,13,34,14],[52,1,52,3],[45,4,45,6],[46,4,46,6],[42,15,42,16],[65,10,65,12],[45,8,45,10],[46,8,46,10],[70,10,70,11],[47,4,47,5],[66,10,66,11],[67,10,67,11],[68,10,68,11],[69,10,69,11],[56,10,56,16],[64,10,64,13]]}
["LADOTD Superpave Mix Design"]
[]
["Mix Type:"]
["Contractor Mix # :"]
["Optimum AC Points and Curves"]
[]
[null,null,null,null,null,null,null,null,"Design Rice "]
["Design Point #",null,1,2,3,4,null,null,"Asphalt Content for Rice"]
["% AC (Total)",null,null,null,null,null,null,null,"Rice Gravities",null,"A","B"]
["Gsb (Total Aggregate)",null,{"$f":"'JMF CHECK'!$H$21","v":0},null,null,null,null,null," Mix",null,null,null,null,"Design Voids",null,20]
["Gse (Total Aggregate)",null,{"$f":"IF(M13>0,(100-L8)/(100/M13-L8/C12),0)","v":0},null,null,null,null,null,"Pyc&Water"]
["Specific Gravity AC",null,1.03,null,null,null,null,null,"Pyc,Water&Mix",null,null,null,"Avg Gmm"]
["Calculated Rice Gravity",null,{"$f":"IF(AND(C9>0,C11>0),ROUND(100/(((100-C9)/$C$11)+(C9/$C$12)),setup!M8),\" \")","v":" "},{"$f":"IF(AND(C11>0,D9>0),ROUND(100/(((100-D9)/$C$11)+(D9/$C$12)),setup!M8),\" \")","v":" "},{"$f":"IF(AND(C11>0,E9>0),ROUND(100/(((100-E9)/$C$11)+(E9/$C$12)),setup!M8),\" \")","v":" "},{"$f":"IF(AND(C11>0,F9>0),ROUND(100/(((100-F9)/$C$11)+(F9/$C$12)),setup!M8),\" \")","v":" "},null,null,"Gmm",null,{"$f":"IF(K12>0,ROUND(K10/(K10+K11-K12),setup!M39),0)","v":0},{"$f":"IF(L12>0,ROUND(L10/(L10+L11-L12),setup!M39),0)","v":0},{"$f":"AVERAGE(K13:L13)","v":0}]
[]
[null,"Design Point # 1 - % AC =",null,null,{"$f":"IF(C9>0,C9,\"\")","v":""},"Design Point # 2 - % AC =",null,null,{"$f":"IF(D9>0,D9,\"\")","v":""},"Design Point # 3 - % AC =",null,null,{"$f":"IF(E9>0,E9,\"\")","v":""},"Design Point # 4 - % AC =",null,null,{"$f":"IF(F9>0,F9,\"\")","v":""}]
["Sample #",1,2,3,"AVG",1,2,3,"AVG",1,2,3,"AVG",1,2,3,"AVG"]
["Height @ N-int (mm)"]
["Height @ N-des (mm)"]
[{"$f":"IF($N$36=\"Volumetric\",\"Diameter (mm)\", \"Wt. in Air\")","v":"Diameter (mm)"},null,null,null,null,null,null,null,null,null,null,null,null,null,null,null,null,"Design AV","x (ac)","y (av)"]
[{"$f":"IF($N$36=\"Vacuum\",\"Wt. Sealed in Air\",IF(N36=\"Volumetric\",\"Dry Wt.\",\"Wt. in Water\"))","v":"Dry Wt."},null,null,null,null,null,null,null,null,null,null,null,null,null,null,null,null,{"$f":"P10","v":20},{"$f":"C9","v":0},{"$f":"IF(AND(C9>0,E31<>\"\"),E31,0)","v":0}]
[{"$f":"IF(N36=\"Volumetric\",\"\",IF($N$36=\"Vacuum\", \"Wt. Sealed in Water\", \"Wt. SSD\"))","v":""},null,null,null,null,null,null,null,null,null,null,null,null,null,null,null,null,null,{"$f":"D9","v":0},{"$f":"IF(AND(D9>0,I31<>\"\"),I31,0)","v":0}]
[{"$f":"IF($N$36=\"Vacuum\", \"Final Wt.\", \"\")","v":""},null,null,null,null,null,null,null,null,null,null,null,null,null,null,null,null,null,{"$f":"E9","v":0},{"$f":"IF(AND(E9>0,M31<>\"\"),M31,0)","v":0}]
["Sp. Gravity",{"$f":"IF(C9>0,IF(B20>0,IF($N$36=\"Volumetric\",ROUND((B20/(PI()*(B19^2)/4*B18*0.001))/0.99707,setup!$M$9),IF($N$36=\"Vacuum\",ROUND(B19/((B22+(B20-B19))-B21-(B20-B19)/$O$38),setup!$M$8),ROUND(B19/(B21-B20),setup!$M$8))),\"\"),\"\")","v":""},{"$f":"IF(C9>0,IF(C20>0,IF($N$36=\"Volumetric\",ROUND((C20/(PI()*(C19^2)/4*C18*0.001))/0.99707,setup!$M$9),IF($N$36=\"Vacuum\",ROUND(C19/((C22+(C20-C19))-C21-(C20-C19)/$O$38),setup!$M$8),ROUND(C19/(C21-C20),setup!$M$8))),\"\"),\"\")","v":""},{"$f":"IF(C9>0,IF(D20>0,IF($N$36=\"Volumetric\",ROUND((D20/(PI()*(D19^2)/4*D18*0.001))/0.99707,setup!$M$9),IF($N$36=\"Vacuum\",ROUND(D19/((D22+(D20-D19))-D21-(D20-D19)/$O$38),setup!$M$8),ROUND(D19/(D21-D20),setup!$M$8))),\"\"),\"\")","v":""},{"$f":"IF(C9>0,IF(B20>0,ROUND(AVERAGE(B23:D23),setup!$M$8),\"\"),\"\")","v":""},{"$f":"IF(D9>0,IF(F20>0,IF($N$36=\"Volumetric\",ROUND((F20/(PI()*(F19^2)/4*F18*0.001))/0.99707,setup!$M$9),IF($N$36=\"Vacuum\",ROUND(F19/((F22+(F20-F19))-F21-(F20-F19)/$O$38),setup!$M$8),ROUND(F19/(F21-F20),setup!$M$8))),\"\"),\"\")","v":""},{"$f":"IF(D9>0,IF(G20>0,IF($N$36=\"Volumetric\",ROUND((G20/(PI()*(G19^2)/4*G18*0.001))/0.99707,setup!$M$9),IF($N$36=\"Vacuum\",ROUND(G19/((G22+(G20-G19))-G21-(G20-G19)/$O$38),setup!$M$8),ROUND(G19/(G21-G20),setup!$M$8))),\"\"),\"\")","v":""},{"$f":"IF(D9>0,IF(H20>0,IF($N$36=\"Volumetric\",ROUND((H20/(PI()*(H19^2)/4*H18*0.001))/0.99707,setup!$M$9),IF($N$36=\"Vacuum\",ROUND(H19/((H22+(H20-H19))-H21-(H20-H19)/$O$38),setup!$M$8),ROUND(H19/(H21-H20),setup!$M$8))),\"\"),\"\")","v":""},{"$f":"IF(D9>0,IF(F20>0,ROUND(AVERAGE(F23:H23),setup!$M$8),\"\"),\"\")","v":""},{"$f":"IF(E9>0,IF(J20>0,IF($N$36=\"Volumetric\",ROUND((J20/(PI()*(J19^2)/4*J18*0.001))/0.99707,setup!$M$9),IF($N$36=\"Vacuum\",ROUND(J19/((J22+(J20-J19))-J21-(J20-J19)/$O$38),setup!$M$8),ROUND(J19/(J21-J20),setup!$M$8))),\"\"),\"\")","v":""},{"$f":"IF(E9>0,IF(K20>0,IF($N$36=\"Volumetric\",ROUND((K20/(PI()*(K19^2)/4*K18*0.001))/0.99707,setup!$M$9),IF($N$36=\"Vacuum\",ROUND(K19/((K22+(K20-K19))-K21-(K20-K19)/$O$38),setup!$M$8),ROUND(K19/(K21-K20),setup!$M$8))),\"\"),\"\")","v":""},{"$f":"IF(E9>0,IF(L20>0,IF($N$36=\"Volumetric\",ROUND((L20/(PI()*(L19^2)/4*L18*0.001))/0.99707,setup!$M$9),IF($N$36=\"Vacuum\",ROUND(L19/((L22+(L20-L19))-L21-(L20-L19)/$O$38),setup!$M$8),ROUND(L19/(L21-L20),setup!$M$8))),\"\"),\"\")","v":""},{"$f":"IF(E9>0,IF(J20>0,ROUND(AVERAGE(J23:L23),setup!$M$8),\"\"),\"\")","v":""},{"$f":"IF(F9>0,IF(N20>0,IF($N$36=\"Volumetric\",ROUND((N20/(PI()*(N19^2)/4*N18*0.001))/0.99707,setup!$M$9),IF($N$36=\"Vacuum\",ROUND(N19/((N22+(N20-N19))-N21-(N20-N19)/$O$38),setup!$M$8),ROUND(N19/(N21-N20),setup!$M$8))),\"\"),\"\")","v":""},{"$f":"IF(F9>0,IF(O20>0,IF($N$36=\"Volumetric\",ROUND((O20/(PI()*(O19^2)/4*O18*0.001))/0.99707,setup!$M$9),IF($N$36=\"Vacuum\",ROUND(O19/((O22+(O20-O19))-O21-(O20-O19)/$O$38),setup!$M$8),ROUND(O19/(O21-O20),setup!$M$8))),\"\"),\"\")","v":""},{"$f":"IF(F9>0,IF(P20>0,IF($N$36=\"Volumetric\",ROUND((P20/(PI()*(P19^2)/4*P18*0.001))/0.99707,setup!$M$9),IF($N$36=\"Vacuum\",ROUND(P19/((P22+(P20-P19))-P21-(P20-P19)/$O$38),setup!$M$8),ROUND(P19/(P21-P20),setup!$M$8))),\"\"),\"\")","v":""},{"$f":"IF(F9>0,IF(N20>0,ROUND(AVERAGE(N23:P23),setup!$M$8),\"\"),\"\")","v":""},null,{"$f":"F9","v":0},{"$f":"IF(AND(F9>0,Q31<>\"\"),Q31,0)","v":0}]
["Gmb (Est. @ N-int)",{"$f":"IF($N$36=\"Volumetric\",\"\",IF(C9>0,IF(B17>0,ROUND(B19/(3.14159*(15*(15/4)*(B17/10))),setup!$M$9),\"\"),\"\"))","v":""},{"$f":"IF($N$36=\"Volumetric\",\"\",IF(C9>0,IF(C17>0,ROUND(C19/(3.14159*(15*(15/4)*(C17/10))),setup!$M$9),\"\"),\"\"))","v":""},{"$f":"IF($N$36=\"Volumetric\",\"\",IF(C9>0,IF(D17>0,ROUND(D19/(3.14159*(15*(15/4)*(D17/10))),setup!$M$9),\"\"),\"\"))","v":""},null,{"$f":"IF($N$36=\"Volumetric\",\"\",IF(D9>0,IF(F17>0,ROUND(F19/(3.14159*(15*(15/4)*(F17/10))),setup!$M$9),\"\"),\"\"))","v":""},{"$f":"IF($N$36=\"Volumetric\",\"\",IF(D9>0,IF(G17>0,ROUND(G19/(3.14159*(15*(15/4)*(G17/10))),setup!$M$9),\"\"),\"\"))","v":""},{"$f":"IF($N$36=\"Volumetric\",\"\",IF(D9>0,IF(H17>0,ROUND(H19/(3.14159*(15*(15/4)*(H17/10))),setup!$M$9),\"\"),\"\"))","v":""},null,{"$f":"IF($N$36=\"Volumetric\",\"\",IF(E9>0,IF(J17>0,ROUND(J19/(3.14159*(15*(15/4)*(J17/10))),setup!$M$9),\"\"),\"\"))","v":""},{"$f":"IF($N$36=\"Volumetric\",\"\",IF(E9>0,IF(K17>0,ROUND(K19/(3.14159*(15*(15/4)*(K17/10))),setup!$M$9),\"\"),\"\"))","v":""},{"$f":"IF($N$36=\"Volumetric\",\"\",IF(E9>0,IF(L17>0,ROUND(L19/(3.14159*(15*(15/4)*(L17/10))),setup!$M$9),\"\"),\"\"))","v":""},null,{"$f":"IF($N$36=\"Volumetric\",\"\",IF(F9>0,IF(N17>0,ROUND(N19/(3.14159*(15*(15/4)*(N17/10))),setup!$M$9),\"\"),\"\"))","v":""},{"$f":"IF($N$36=\"Volumetric\",\"\",IF(F9>0,IF(O17>0,ROUND(O19/(3.14159*(15*(15/4)*(O17/10))),setup!$M$9),\"\"),\"\"))","v":""},{"$f":"IF($N$36=\"Volumetric\",\"\",IF(F9>0,IF(P17>0,ROUND(P19/(3.14159*(15*(15/4)*(P17/10))),setup!$M$9),\"\"),\"\"))","v":""},null,0,{"$f":"R20+1","v":21}]
["Gmb (Corr. @ N-Int)",{"$f":"IF(C9>0,IF(AND(B19>0,B17>0),ROUND(B20/(3.14159*(B19/10*(B19/10/4)*(B17/10)))/0.99707,setup!$M$9),\"\"),\"\")","v":""},{"$f":"IF(C9>0,IF(AND(C19>0,C17>0),ROUND(C20/(3.14159*(C19/10*(C19/10/4)*(C17/10)))/0.99707,setup!$M$9),\"\"),\"\")","v":""},{"$f":"IF(C9>0,IF(AND(D19>0,D17>0),ROUND(D20/(3.14159*(D19/10*(D19/10/4)*(D17/10)))/0.99707,setup!$M$9),\"\"),\"\")","v":""},null,{"$f":"IF(D9>0,IF(AND(F19>0,F17>0),ROUND(F20/(3.14159*(F19/10*(F19/10/4)*(F17/10)))/0.99707,setup!$M$9),\"\"),\"\")","v":""},{"$f":"IF(D9>0,IF(AND(G19>0,G17>0),ROUND(G20/(3.14159*(G19/10*(G19/10/4)*(G17/10)))/0.99707,setup!$M$9),\"\"),\"\")","v":""},{"$f":"IF(D9>0,IF(AND(H19>0,H17>0),ROUND(H20/(3.14159*(H19/10*(H19/10/4)*(H17/10)))/0.99707,setup!$M$9),\"\"),\"\")","v":""},null,{"$f":"IF(E9>0,IF(AND(J19>0,J17>0),ROUND(J20/(3.14159*(J19/10*(J19/10/4)*(J17/10)))/0.99707,setup!$M$9),\"\"),\"\")","v":""},{"$f":"IF(E9>0,IF(AND(K19>0,K17>0),ROUND(K20/(3.14159*(K19/10*(K19/10/4)*(K17/10)))/0.99707,setup!$M$9),\"\"),\"\")","v":""},{"$f":"IF(E9>0,IF(AND(L19>0,L17>0),ROUND(L20/(3.14159*(L19/10*(L19/10/4)*(L17/10)))/0.99707,setup!$M$9),\"\"),\"\")","v":""},null,{"$f":"IF(F9>0,IF(AND(N19>0,N17>0),ROUND(N20/(3.14159*(N19/10*(N19/10/4)*(N17/10)))/0.99707,setup!$M$9),\"\"),\"\")","v":""},{"$f":"IF(F9>0,IF(AND(O19>0,O17>0),ROUND(O20/(3.14159*(O19/10*(O19/10/4)*(O17/10)))/0.99707,setup!$M$9),\"\"),\"\")","v":""},{"$f":"IF(F9>0,IF(AND(P19>0,P17>0),ROUND(P20/(3.14159*(P19/10*(P19/10/4)*(P17/10)))/0.99707,setup!$M$9),\"\"),\"\")","v":""},null,"x^2","x","b"]
["%Gmm @ N-int",{"$f":"IF(AND(C9>0,C11>0),IF(AND(B25<>\"\",B17>0),ROUND(B25/$C$13*100,setup!$M$10),\"\"),\"\")","v":""},{"$f":"IF(AND(C9>0,C11>0),IF(AND(C25<>\"\",C17>0),ROUND(C25/$C$13*100,setup!$M$10),\"\"),\"\")","v":""},{"$f":"IF(AND(C9>0,C11>0),IF(AND(D25<>\"\",D17>0),ROUND(D25/$C$13*100,setup!$M$10),\"\"),\"\")","v":""},{"$f":"IF(AND(C9>0,C11>0),IF(AND(B26<>\"\",B18>0),ROUND(AVERAGE(B26:D26),setup!$M$10),\"\"),\"\")","v":""},{"$f":"IF(AND(D9>0,C11>0),IF(AND(F25<>\"\",F17>0),ROUND(F25/$C$13*100,setup!$M$10),\"\"),\"\")","v":""},{"$f":"IF(AND(D9>0,C11>0),IF(AND(G25<>\"\",G17>0),ROUND(G25/$C$13*100,setup!$M$10),\"\"),\"\")","v":""},{"$f":"IF(AND(D9>0,C11>0),IF(AND(H25<>\"\",H17>0),ROUND(H25/$C$13*100,setup!$M$10),\"\"),\"\")","v":""},{"$f":"IF(AND(D9>0,C11>0),IF(AND(F26<>\"\",F18>0),ROUND(AVERAGE(F26:H26),setup!$M$10),\"\"),\"\")","v":""},{"$f":"IF(AND(E9>0,C11>0),IF(AND(J25<>\"\",J17>0),ROUND(J25/$C$13*100,setup!$M$10),\"\"),\"\")","v":""},{"$f":"IF(AND(E9>0,C11>0),IF(AND(K25<>\"\",K17>0),ROUND(K25/$C$13*100,setup!$M$10),\"\"),\"\")","v":""},{"$f":"IF(AND(E9>0,C11>0),IF(AND(L25<>\"\",L17>0),ROUND(L25/$C$13*100,setup!$M$10),\"\"),\"\")","v":""},{"$f":"IF(AND(E9>0, C11>0),IF(AND(J26<>\"\",J18>0),ROUND(AVERAGE(J26:L26),setup!$M$10),\"\"),\"\")","v":""},{"$f":"IF(AND(F9>0,C11>0),IF(AND(N25<>\"\",N17>0),ROUND(N25/$C$13*100,setup!$M$10),\"\"),\"\")","v":""},{"$f":"IF(AND(F9>0,C11>0),IF(AND(O25<>\"\",O17>0),ROUND(O25/$C$13*100,setup!$M$10),\"\"),\"\")","v":""},{"$f":"IF(AND(F9>0,C11>0),IF(AND(P25<>\"\",P17>0),ROUND(P25/$C$13*100,setup!$M$10),\"\"),\"\")","v":""},{"$f":"IF(AND(F9>0,C11>0),IF(AND(N26<>\"\",N18>0),ROUND(AVERAGE(N26:P26),setup!$M$10),\"\"),\"\")","v":""},{"$f":"IF(AND(S20>0,T20>0),IF(AND(S21>0,T21>0), IF(AND(S22>0,T22>0), IF(AND(S23>0,T23>0), LINEST(T20:T23,S20:S23^{1,2},TRUE,FALSE),LINEST(T20:T22,S20:S22^{1,2},TRUE,FALSE)),0),0),0)","v":0},0,0]
["Gmb (Est. @ N-des)",{"$f":"IF($N$36=\"Volumetric\",\"\", IF(C9>0,IF(B19>0,ROUND(B19/(3.14159*(15*(15/4)*(B18/10))),setup!$M$9),\"\"),\"\"))","v":""},{"$f":"IF($N$36=\"Volumetric\",\"\", IF(C9>0,IF(C19>0,ROUND(C19/(3.14159*(15*(15/4)*(C18/10))),setup!$M$9),\"\"),\"\"))","v":""},{"$f":"IF($N$36=\"Volumetric\",\"\", IF(C9>0,IF(D19>0,ROUND(D19/(3.14159*(15*(15/4)*(D18/10))),setup!$M$9),\"\"),\"\"))","v":""},null,{"$f":"IF($N$36=\"Volumetric\",\"\", IF(D9>0,IF(F19>0,ROUND(F19/(3.14159*(15*(15/4)*(F18/10))),setup!$M$9),\"\"),\"\"))","v":""},{"$f":"IF($N$36=\"Volumetric\",\"\", IF(D9>0,IF(G19>0,ROUND(G19/(3.14159*(15*(15/4)*(G18/10))),setup!$M$9),\"\"),\"\"))","v":""},{"$f":"IF($N$36=\"Volumetric\",\"\", IF(D9>0,IF(H19>0,ROUND(H19/(3.14159*(15*(15/4)*(H18/10))),setup!$M$9),\"\"),\"\"))","v":""},null,{"$f":"IF($N$36=\"Volumetric\",\"\", IF(E9>0,IF(J19>0,ROUND(J19/(3.14159*(15*(15/4)*(J18/10))),setup!$M$9),\"\"),\"\"))","v":""},{"$f":"IF($N$36=\"Volumetric\",\"\", IF(E9>0,IF(K19>0,ROUND(K19/(3.14159*(15*(15/4)*(K18/10))),setup!$M$9),\"\"),\"\"))","v":""},{"$f":"IF($N$36=\"Volumetric\",\"\", IF(E9>0,IF(L19>0,ROUND(L19/(3.14159*(15*(15/4)*(L18/10))),setup!$M$9),\"\"),\"\"))","v":""},null,{"$f":"IF($N$36=\"Volumetric\",\"\", IF(F9>0,IF(N19>0,ROUND(N19/(3.14159*(15*(15/4)*(N18/10))),setup!$M$9),\"\"),\"\"))","v":""},{"$f":"IF($N$36=\"Volumetric\",\"\", IF(F9>0,IF(O19>0,ROUND(O19/(3.14159*(15*(15/4)*(O18/10))),setup!$M$9),\"\"),\"\"))","v":""},{"$f":"IF($N$36=\"Volumetric\",\"\", IF(F9>0,IF(P19>0,ROUND(P19/(3.14159*(15*(15/4)*(P18/10))),setup!$M$9),\"\"),\"\"))","v":""},null,"op ac =",{"$f":"IF(R26<>0,ROUND(IF(AND(((-S26-SQRT(S26*S26-4*R26*(T26-R20)))/(2*R26))>0, ((-S26-SQRT(S26*S26-4*R26*(T26-R20)))/(2*R26))<10), ((-S26-SQRT(S26*S26-4*R26*(T26-R20)))/(2*R26)),(-S26+SQRT(S26*S26-4*R26*(T26-R20)))/(2*R26)),3),0)","v":0}]
["Gmb (Corr. @ N-des)",{"$f":"IF(C9>0,IF(B19>0,IF($N$36=\"Volumetric\", B23,ROUND(B27*(B23/(B19/(3.14159*(15*(15/4)*(B18/10))))),setup!$M$9)),\"\"),\"\")","v":""},{"$f":"IF(C9>0,IF(C19>0,IF($N$36=\"Volumetric\", C23,ROUND(C27*(C23/(C19/(3.14159*(15*(15/4)*(C18/10))))),setup!$M$9)),\"\"),\"\")","v":""},{"$f":"IF(C9>0,IF(D19>0,IF($N$36=\"Volumetric\", D23,ROUND(D27*(D23/(D19/(3.14159*(15*(15/4)*(D18/10))))),setup!$M$9)),\"\"),\"\")","v":""},null,{"$f":"IF(D9>0,IF(F19>0,IF($N$36=\"Volumetric\", F23,ROUND(F27*(F23/(F19/(3.14159*(15*(15/4)*(F18/10))))),setup!$M$9)),\"\"),\"\")","v":""},{"$f":"IF(D9>0,IF(G19>0,IF($N$36=\"Volumetric\", G23,ROUND(G27*(G23/(G19/(3.14159*(15*(15/4)*(G18/10))))),setup!$M$9)),\"\"),\"\")","v":""},{"$f":"IF(D9>0,IF(H19>0,IF($N$36=\"Volumetric\", H23,ROUND(H27*(H23/(H19/(3.14159*(15*(15/4)*(H18/10))))),setup!$M$9)),\"\"),\"\")","v":""},null,{"$f":"IF(E9>0,IF(J19>0,IF($N$36=\"Volumetric\", J23,ROUND(J27*(J23/(J19/(3.14159*(15*(15/4)*(J18/10))))),setup!$M$9)),\"\"),\"\")","v":""},{"$f":"IF(E9>0,IF(K19>0,IF($N$36=\"Volumetric\", K23,ROUND(K27*(K23/(K19/(3.14159*(15*(15/4)*(K18/10))))),setup!$M$9)),\"\"),\"\")","v":""},{"$f":"IF(E9>0,IF(L19>0,IF($N$36=\"Volumetric\", L23,ROUND(L27*(L23/(L19/(3.14159*(15*(15/4)*(L18/10))))),setup!$M$9)),\"\"),\"\")","v":""},null,{"$f":"IF(F9>0,IF(N19>0,IF($N$36=\"Volumetric\", N23,ROUND(N27*(N23/(N19/(3.14159*(15*(15/4)*(N18/10))))),setup!$M$9)),\"\"),\"\")","v":""},{"$f":"IF(F9>0,IF(O19>0,IF($N$36=\"Volumetric\", O23,ROUND(O27*(O23/(O19/(3.14159*(15*(15/4)*(O18/10))))),setup!$M$9)),\"\"),\"\")","v":""},{"$f":"IF(F9>0,IF(P19>0,IF($N$36=\"Volumetric\", P23,ROUND(P27*(P23/(P19/(3.14159*(15*(15/4)*(P18/10))))),setup!$M$9)),\"\"),\"\")","v":""}]
["% Gmm @ N-des",{"$f":"IF(AND(C9>0,C11>0),IF(B19>0,ROUND(B28/$C$13*100,setup!$M$10),\"\"),\"\")","v":""},{"$f":"IF(AND(C9>0,C11>0),IF(C19>0,ROUND(C28/$C$13*100,setup!$M$10),\"\"),\"\")","v":""},{"$f":"IF(AND(C9>0,C11>0),IF(D19>0,ROUND(D28/$C$13*100,setup!$M$10),\"\"),\"\")","v":""},{"$f":"IF(AND(C9>0,C11>0),IF(AND(B29<>\"\",B18>0),ROUND(AVERAGE(B29:D29),setup!$M$10),\"\"),\"\")","v":""},{"$f":"IF(AND(D9>0,C11>0),IF(F19>0,ROUND(F28/$D$13*100,setup!$M$10),\"\"),\"\")","v":""},{"$f":"IF(AND(D9>0,C11>0),IF(G19>0,ROUND(G28/$D$13*100,setup!$M$10),\"\"),\"\")","v":""},{"$f":"IF(AND(D9>0,C11>0),IF(H19>0,ROUND(H28/$D$13*100,setup!$M$10),\"\"),\"\")","v":""},{"$f":"IF(AND(D9>0,C11>0),IF(AND(F29<>\"\",F19>0),ROUND(AVERAGE(F29:H29),setup!$M$10),\"\"),\"\")","v":""},{"$f":"IF(AND(E9>0, C11>0),IF(J19>0,ROUND(J28/$E$13*100,setup!$M$10),\"\"),\"\")","v":""},{"$f":"IF(AND(E9>0, C11>0),IF(K19>0,ROUND(K28/$E$13*100,setup!$M$10),\"\"),\"\")","v":""},{"$f":"IF(AND(E9>0, C11>0),IF(L19>0,ROUND(L28/$E$13*100,setup!$M$10),\"\"),\"\")","v":""},{"$f":"IF(AND(E9>0, C11>0),IF(AND(J29<>\"\",J18>0),ROUND(AVERAGE(J29:L29),setup!$M$10),\"\"),\"\")","v":""},{"$f":"IF(AND(F9>0,C11>0),IF(N19>0,ROUND(N28/$F$13*100,setup!$M$10),\"\"),\"\")","v":""},{"$f":"IF(AND(F9>0,C11>0),IF(O19>0,ROUND(O28/$F$13*100,setup!$M$10),\"\"),\"\")","v":""},{"$f":"IF(AND(F9>0,C11>0),IF(P19>0,ROUND(P28/$F$13*100,setup!$M$10),\"\"),\"\")","v":""},{"$f":"IF(AND(F9>0,C11>0),IF(AND(N29<>\"\",N18>0),ROUND(AVERAGE(N29:P29),setup!$M$10),\"\"),\"\")","v":""}]
["% VMA @ N-des",{"$f":"IF(AND(C9>0,C11>0),IF(B19>0,ROUND(100-(B29*$C$13*((100-$C$9)/100)/$C$10),setup!$M$11),\"\"),\"\")","v":""},{"$f":"IF(AND(C9>0,C11>0),IF(C19>0,ROUND(100-(C29*$C$13*((100-$C$9)/100)/$C$10),setup!$M$11),\"\"),\"\")","v":""},{"$f":"IF(AND(C9>0,C11>0),IF(D19>0,ROUND(100-(D29*$C$13*((100-$C$9)/100)/$C$10),setup!$M$11),\"\"),\"\")","v":""},{"$f":"IF(AND(C9>0,C11>0),IF(AND(B30<>\"\",B18>0),ROUND(AVERAGE(B30:D30),setup!$M$11),\"\"),\"\")","v":""},{"$f":"IF(AND(D9>0,C11>0),IF(F19>0,ROUND(100-(F29*$D$13*((100-$D$9)/100)/$C$10),setup!$M$11),\"\"),\"\")","v":""},{"$f":"IF(AND(D9>0,C11>0),IF(G19>0,ROUND(100-(G29*$D$13*((100-$D$9)/100)/$C$10),setup!$M$11),\"\"),\"\")","v":""},{"$f":"IF(AND(D9>0,C11>0),IF(H19>0,ROUND(100-(H29*$D$13*((100-$D$9)/100)/$C$10),setup!$M$11),\"\"),\"\")","v":""},{"$f":"IF(AND(D9>0,C11>0),IF(AND(F30<>\"\",F18>0),ROUND(AVERAGE(F30:H30),setup!$M$11),\"\"),\"\")","v":""},{"$f":"IF(AND(E9>0, C11>0),IF(J19>0,ROUND(100-(J29*$E$13*((100-$E$9)/100)/$C$10),setup!$M$11),\"\"),\"\")","v":""},{"$f":"IF(AND(E9>0, C11>0),IF(K19>0,ROUND(100-(K29*$E$13*((100-$E$9)/100)/$C$10),setup!$M$11),\"\"),\"\")","v":""},{"$f":"IF(AND(E9>0, C11>0),IF(L19>0,ROUND(100-(L29*$E$13*((100-$E$9)/100)/$C$10),setup!$M$11),\"\"),\"\")","v":""},{"$f":"IF(AND(E9>0, C11>0),IF(AND(J30<>\"\",J18>0),ROUND(AVERAGE(J30:L30),setup!$M$11),\"\"),\"\")","v":""},{"$f":"IF(AND(F9>0,C11>0),IF(N19>0,ROUND(100-(N29*$F$13*((100-$F$9)/100)/$C$10),setup!$M$11),\"\"),\"\")","v":""},{"$f":"IF(AND(F9>0,C11>0),IF(O19>0,ROUND(100-(O29*$F$13*((100-$F$9)/100)/$C$10),setup!$M$11),\"\"),\"\")","v":""},{"$f":"IF(AND(F9>0,C11>0),IF(P19>0,ROUND(100-(P29*$F$13*((100-$F$9)/100)/$C$10),setup!$M$11),\"\"),\"\")","v":""},{"$f":"IF(AND(F9>0,C11>0),IF(AND(N30<>\"\",N18>0),ROUND(AVERAGE(N30:P30),setup!$M$11),\"\"),\"\")","v":""}]
["% Voids @ N-des",{"$f":"IF(AND(C9>0,C11>0),IF(B19>0,ROUND((100-B29),setup!$M$12),\"\"),\"\")","v":""},{"$f":"IF(AND(C9>0,C11>0),IF(C19>0,ROUND((100-C29),setup!$M$12),\"\"),\"\")","v":""},{"$f":"IF(AND(C9>0,C11>0),IF(D19>0,ROUND((100-D29),setup!$M$12),\"\"),\"\")","v":""},{"$f":"IF(AND(C9>0,C11>0),IF(AND(B31<>\"\",B18>0),ROUND(AVERAGE(B31:D31),setup!$M$12),\"\"),\"\")","v":""},{"$f":"IF(AND(D9>0,C11>0),IF(F19>0,ROUND((100-F29),setup!$M$12),\"\"),\"\")","v":""},{"$f":"IF(AND(D9>0,C11>0),IF(G19>0,ROUND((100-G29),setup!$M$12),\"\"),\"\")","v":""},{"$f":"IF(AND(D9>0,C11>0),IF(H19>0,ROUND((100-H29),setup!$M$12),\"\"),\"\")","v":""},{"$f":"IF(AND(D9>0,C11>0),IF(AND(F31<>\"\",F18>0),ROUND(AVERAGE(F31:H31),setup!$M$12),\"\"),\"\")","v":""},{"$f":"IF(AND(E9>0, C11>0),IF(J19>0,ROUND((100-J29),setup!$M$12),\"\"),\"\")","v":""},{"$f":"IF(AND(E9>0, C11>0),IF(K19>0,ROUND((100-K29),setup!$M$12),\"\"),\"\")","v":""},{"$f":"IF(AND(E9>0, C11>0),IF(L19>0,ROUND((100-L29),setup!$M$12),\"\"),\"\")","v":""},{"$f":"IF(AND(E9>0, C11>0),IF(AND(J31<>\"\",J18>0),ROUND(AVERAGE(J31:L31),setup!$M$12),\"\"),\"\")","v":""},{"$f":"IF(AND(F9>0,C11>0),IF(N19>0,ROUND((100-N29),setup!$M$12),\"\"),\"\")","v":""},{"$f":"IF(AND(F9>0,C11>0),IF(O19>0,ROUND((100-O29),setup!$M$12),\"\"),\"\")","v":""},{"$f":"IF(AND(F9>0,C11>0),IF(P19>0,ROUND((100-P29),setup!$M$12),\"\"),\"\")","v":""},{"$f":"IF(AND(F9>0,C11>0),IF(AND(N31<>\"\",N18>0),ROUND(AVERAGE(N31:P31),setup!$M$12),\"\"),\"\")","v":""}]
["% VFA @ N-des",{"$f":"IF(AND(C9>0,C11>0),IF(B19>0,ROUND(100*((B30-(100-B29))/B30),setup!$M$13),\"\"),\"\")","v":""},{"$f":"IF(AND(C9>0,C11>0),IF(C19>0,ROUND(100*((C30-(100-C29))/C30),setup!$M$13),\"\"),\"\")","v":""},{"$f":"IF(AND(C9>0,C11>0),IF(D19>0,ROUND(100*((D30-(100-D29))/D30),setup!$M$13),\"\"),\"\")","v":""},{"$f":"IF(AND(C9>0,C11>0),IF(AND(B32<>\"\",B18>0),ROUND(AVERAGE(B32:D32),setup!$M$13),\"\"),\"\")","v":""},{"$f":"IF(AND(D9>0,C11>0),IF(F19>0,ROUND(100*((F30-(100-F29))/F30),setup!$M$13),\"\"),\"\")","v":""},{"$f":"IF(AND(D9>0,C11>0),IF(G19>0,ROUND(100*((G30-(100-G29))/G30),setup!$M$13),\"\"),\"\")","v":""},{"$f":"IF(AND(D9>0,C11>0),IF(H19>0,ROUND(100*((H30-(100-H29))/H30),setup!$M$13),\"\"),\"\")","v":""},{"$f":"IF(AND(D9>0,C11>0),IF(AND(F32<>\"\",F18>0),ROUND(AVERAGE(F32:H32),setup!$M$13),\"\"),\"\")","v":""},{"$f":"IF(AND(E9>0, C11>0),IF(J19>0,ROUND(100*((J30-(100-J29))/J30),setup!$M$13),\"\"),\"\")","v":""},{"$f":"IF(AND(E9>0, C11>0),IF(K19>0,ROUND(100*((K30-(100-K29))/K30),setup!$M$13),\"\"),\"\")","v":""},{"$f":"IF(AND(E9>0, C11>0),IF(L19>0,ROUND(100*((L30-(100-L29))/L30),setup!$M$13),\"\"),\"\")","v":""},{"$f":"IF(AND(E9>0, C11>0),IF(AND(J32<>\"\",J18>0),ROUND(AVERAGE(J32:L32),setup!$M$13),\"\"),\"\")","v":""},{"$f":"IF(AND(F9>0,C11>0),IF(N19>0,ROUND(100*((N30-(100-N29))/N30),setup!$M$13),\"\"),\"\")","v":""},{"$f":"IF(AND(F9>0,C11>0),IF(O19>0,ROUND(100*((O30-(100-O29))/O30),setup!$M$13),\"\"),\"\")","v":""},{"$f":"IF(AND(F9>0,C11>0),IF(P19>0,ROUND(100*((P30-(100-P29))/P30),setup!$M$13),\"\"),\"\")","v":""},{"$f":"IF(AND(F9>0,C11>0),IF(AND(N32<>\"\",N18>0),ROUND(AVERAGE(N32:P32),setup!$M$13),\"\"),\"\")","v":""}]
["VCA Mix",{"$f":"IF(AND($M$13<>\"\",B28<>\"\"),100-('JMF Input'!$J$41*'Optimum AC Test Results'!B28/'Optimum AC Test Results'!$M$13),\"\")","v":""},{"$f":"IF(AND($M$13<>\"\",C28<>\"\"),100-('JMF Input'!$J$41*'Optimum AC Test Results'!C28/'Optimum AC Test Results'!$M$13),\"\")","v":""},{"$f":"IF(AND($M$13<>\"\",D28<>\"\"),100-('JMF Input'!$J$41*'Optimum AC Test Results'!D28/'Optimum AC Test Results'!$M$13),\"\")","v":""},{"$f":"IF(AND(C9>0,C11>0),IF(AND(B33<>\"\",B18>0),ROUND(AVERAGE(B33:D33),setup!$M$13),\"\"),\"\")","v":""},{"$f":"IF(AND($M$13<>\"\",F28<>\"\"),100-('JMF Input'!$J$41*'Optimum AC Test Results'!F28/'Optimum AC Test Results'!$M$13),\"\")","v":""},{"$f":"IF(AND($M$13<>\"\",G28<>\"\"),100-('JMF Input'!$J$41*'Optimum AC Test Results'!G28/'Optimum AC Test Results'!$M$13),\"\")","v":""},{"$f":"IF(AND($M$13<>\"\",H28<>\"\"),100-('JMF Input'!$J$41*'Optimum AC Test Results'!H28/'Optimum AC Test Results'!$M$13),\"\")","v":""},{"$f":"IF(AND(D9>0,C11>0),IF(AND(F33<>\"\",F18>0),ROUND(AVERAGE(F33:H33),setup!$M$13),\"\"),\"\")","v":""},{"$f":"IF(AND($M$13<>\"\",J28<>\"\"),100-('JMF Input'!$J$41*'Optimum AC Test Results'!J28/'Optimum AC Test Results'!$M$13),\"\")","v":""},{"$f":"IF(AND($M$13<>\"\",K28<>\"\"),100-('JMF Input'!$J$41*'Optimum AC Test Results'!K28/'Optimum AC Test Results'!$M$13),\"\")","v":""},{"$f":"IF(AND($M$13<>\"\",L28<>\"\"),100-('JMF Input'!$J$41*'Optimum AC Test Results'!L28/'Optimum AC Test Results'!$M$13),\"\")","v":""},{"$f":"IF(AND(E9>0, C11>0),IF(AND(J33<>\"\",J18>0),ROUND(AVERAGE(J33:L33),setup!$M$13),\"\"),\"\")","v":""},{"$f":"IF(AND($M$13<>\"\",N28<>\"\"),100-('JMF Input'!$J$41*'Optimum AC Test Results'!N28/'Optimum AC Test Results'!$M$13),\"\")","v":""},{"$f":"IF(AND($M$13<>\"\",O28<>\"\"),100-('JMF Input'!$J$41*'Optimum AC Test Results'!O28/'Optimum AC Test Results'!$M$13),\"\")","v":""},{"$f":"IF(AND($M$13<>\"\",P28<>\"\"),100-('JMF Input'!$J$41*'Optimum AC Test Results'!P28/'Optimum AC Test Results'!$M$13),\"\")","v":""},{"$f":"IF(AND(F9>0,C11>0),IF(AND(N33<>\"\",N18>0),ROUND(AVERAGE(N33:P33),setup!$M$13),\"\"),\"\")","v":""}]
[]
["OGFC Additional Requirements",null,null,null,null,null,null,null,null,null,null,null,null,"Bulk Gravity Method"]
["Mass Agg+Measure, lb",null,null,null,null,null,null,null,null,null,null,null,null,"Volumetric"]
["Mass of Measure, lb"]
["Volume of Measure, ft3",null,null,null,null,null,null,null,null,null,null,null,null,{"$f":"IF(N36=\"Vacuum\",\"Bag Grav\",\"\")","v":""}]
["Bulk Den Dry Rod, Ƴs",{"$f":"(B36-B37)/B38","v":{"$error":"#DIV/0!"}}]
["Bulk Den Coarse, GCA",{"$f":"'JMF Input'!J40","v":0}]
["VCADRC",{"$f":"(B40*62.4-B39)/(B40*62.4)*100","v":{"$error":"#DIV/0!"}}]
[]
[{"$f":"setup!S2","v":"LaPave 501 v16.04.04"},null,null,null,null,null,null,null,null,null,null,null,null,null,null,{"$f":"TODAY()","v":"2023-03-31"}]
["Mix Verification Samples"]
[]
["Design Point #",null,"Verification",null,"Rec Opt AC from Chart",null,null,null,{"$f":"\"Minimum for \"&JMF!M6","v":"Minimum for OGFC"}]
["% AC (Optimum)",null,null,null,{"$f":"IF(S27>0,ROUND(S27,setup!M26),\"\")","v":""},null,null,null,{"$f":"IF('JMF Input'!E5='JMF Input'!T4,setup!T12, IF('JMF Input'!E5='JMF Input'!T5,setup!U12, IF('JMF Input'!E5='JMF Input'!T6,setup!V12, \"\")))","v":6.5}]
["Gsb (Total Aggregate)",null,{"$f":"ROUND(C10,setup!$M$9)","v":0},null,"Calc Rice at Opt AC",null,{"$f":"IF(AND(C47>0,C11>0),ROUND(100/(((100-C47)/$C$11)+(C47/$C$12)),setup!M39),\"\")","v":""},null,null,null,"Design Data"]
["Gse (Total Aggregate)",null,{"$f":"IF(O71>0,(100-N66)/(100/O71-N66/C50),0)","v":0}]
["Specific Grvity - AC",null,{"$f":"ROUND(C12,setup!$M$9)","v":1.03},null,null,null,null,null,null,null,"Design Point #",null,null,1,2,3,4]
["*Verification Rice",null,{"$f":"O71","v":0},null,null,null,null,null,null,null,"% AC (Total)",null,null,{"$f":"IF(C9>0,'Optimum AC Test Results'!C9,\" \")","v":" "},{"$f":"IF(D9>0,'Optimum AC Test Results'!D9,\" \")","v":" "},{"$f":"IF(E9>0,'Optimum AC Test Results'!E9,\" \")","v":" "},{"$f":"IF(F9>0,'Optimum AC Test Results'!F9,\" \")","v":" "}]
[null,null,null,null,null,null,null,null,null,null,"Gsb (Total Aggregate)",null,null,{"$f":"C48","v":0}]
[null,"Verification Point  - % AC =",null,null,{"$f":"C47","v":0},null,null,null,null,null,"Gse (Total Aggregate)",null,null,{"$f":"C49","v":0}]
["Sample #",1,2,3,"AVG",null,null,null,null,null,"Specific Grvity - AC",null,null,{"$f":"C50","v":1.03}]
["Height @ N-int (mm)",null,null,null,null,null,null,null,null,null,"Calculated Rice Gravity",null,null,{"$f":"IF(C13>0,'Optimum AC Test Results'!C13,\" \")","v":" "},{"$f":"IF(D13>0,'Optimum AC Test Results'!D13,\" \")","v":" "},{"$f":"IF(E13>0,'Optimum AC Test Results'!E13,\" \")","v":" "},{"$f":"IF(F13>0,'Optimum AC Test Results'!F13,\" \")","v":" "}]
["Height @ N-des (mm)"]
[{"$f":"IF($N$36=\"Volumetric\",\"Diameter (mm)\", \"Wt. in Air\")","v":"Diameter (mm)"},null,null,null,null,null,null,null,null,null,"Average Test Values"]
[{"$f":"IF($N$36=\"Vacuum\",\"Wt. Sealed in Air\",IF(N36=\"Volumetric\",\"Dry Wt.\",\"Wt. in Water\"))","v":"Dry Wt."},null,null,null,null,null,null,null,null,null,"Sp. Gravity",null,null,{"$f":"IF(E23>0,'Optimum AC Test Results'!$E$23,\" \")","v":""},{"$f":"IF(I23>0,'Optimum AC Test Results'!$I$23,\" \")","v":""},{"$f":"IF(M23>0,'Optimum AC Test Results'!$M$23,\" \")","v":""},{"$f":"IF(N23>0,'Optimum AC Test Results'!$Q$23,\" \")","v":""}]
[{"$f":"IF(N36=\"Volumetric\",\"\",IF($N$36=\"Vacuum\", \"Wt. Sealed in Water\", \"Wt. SSD\"))","v":""},null,null,null,null,null,null,null,null,null,"%Gmm @ N-int",null,null,{"$f":"IF(E26>0,$E$26,\" \")","v":""},{"$f":"IF(I26>0,$I$26,\" \")","v":""},{"$f":"IF(M26>0,$M$26,\" \")","v":""},{"$f":"IF(Q26>0,$Q$26,\" \")","v":""}]
[{"$f":"IF($N$36=\"Vacuum\", \"Final Wt.\", \"\")","v":""},null,null,null,null,null,null,null,null,null,"% Gmm @ N-des",null,null,{"$f":"IF(E29>0,E29,\" \")","v":""},{"$f":"IF(I29>0,I29,\" \")","v":""},{"$f":"IF(M29>0,M29,\" \")","v":""},{"$f":"IF(Q29>0,Q29,\" \")","v":""}]
["Sp. Gravity (Gmb,ND)",{"$f":"IF(C47>0,IF(B58>0,IF(N36=\"Volumetric\",ROUND((B58/(PI()*(B57^2)/4*B56*0.001))/0.99707,setup!$M$9),IF($N$36=\"Vacuum\",ROUND(B57/((B60+(B58-B57))-B59-(B58-B57)/$O$38),setup!$M$8),ROUND(B57/(B59-B58),setup!$M$8))),\"\"),\"\")","v":""},{"$f":"IF(C47>0,IF(C58>0,IF(N36=\"Volumetric\",ROUND((C58/(PI()*(C57^2)/4*C56*0.001))/0.99707,setup!$M$9),IF($N$36=\"Vacuum\",ROUND(C57/((C60+(C58-C57))-C59-(C58-C57)/$O$38),setup!$M$8),ROUND(C57/(C59-C58),setup!$M$8))),\"\"),\"\")","v":""},{"$f":"IF(C47>0,IF(D58>0,IF(N36=\"Volumetric\",ROUND((D58/(PI()*(D57^2)/4*D56*0.001))/0.99707,setup!$M$9),IF($N$36=\"Vacuum\",ROUND(D57/((D60+(D58-D57))-D59-(D58-D57)/$O$38),setup!$M$8),ROUND(D57/(D59-D58),setup!$M$8))),\"\"),\"\")","v":""},{"$f":"IF(AND(C47>0,C51>0,B61<>\"\"),ROUND(AVERAGE(B61:D61),setup!$M$8),\"\")","v":""},null,null,null,null,null,"% VMA @ N-des",null,null,{"$f":"IF(E30>0,E30,\" \")","v":""},{"$f":"IF(I30>0,I30,\" \")","v":""},{"$f":"IF(M30>0,M30,\" \")","v":""},{"$f":"IF(Q30>0,Q30,\" \")","v":""}]
["Gmb (Est. @ N-int)",{"$f":"IF($N$36=\"Volumetric\",\"\",IF(AND(C47>0,C51>0),IF(B55>0,ROUND(B57/(3.14159*(15*(15/4)*(B55/10)))/0.99707,setup!$M$9),\"\"),\"\"))","v":""},{"$f":"IF($N$36=\"Volumetric\",\"\",IF(AND(C47>0,C51>0),IF(C55>0,ROUND(C57/(3.14159*(15*(15/4)*(C55/10)))/0.99707,setup!$M$9),\"\"),\"\"))","v":""},{"$f":"IF($N$36=\"Volumetric\",\"\",IF(AND(C47>0,C51>0),IF(D55>0,ROUND(D57/(3.14159*(15*(15/4)*(D55/10)))/0.99707,setup!$M$9),\"\"),\"\"))","v":""},null,null,null,null,null,null,"% Voids @ N-des",null,null,{"$f":"IF(E31>0,E31,\" \")","v":""},{"$f":"IF(I31>0,I31,\" \")","v":""},{"$f":"IF(M31>0,M31,\" \")","v":""},{"$f":"IF(Q31>0,Q31,\" \")","v":""}]
["Gmb (Corr. @ N-Int)",{"$f":"IF(AND(C47>0,C51>0),IF(B55>0,ROUND((B58/(3.14159*(15*(15/4)*(B55/10))))/0.99707,setup!$M$9),\"\"),\"\")","v":""},{"$f":"IF(AND(C47>0,C51>0),IF(C55>0,ROUND((C58/(3.14159*(15*(15/4)*(C55/10))))/0.99707,setup!$M$9),\"\"),\"\")","v":""},{"$f":"IF(AND(C47>0,C51>0),IF(D55>0,ROUND((D58/(3.14159*(15*(15/4)*(D55/10))))/0.99707,setup!$M$9),\"\"),\"\")","v":""},null,null,null,null,null,null,"% VFA @ N-des",null,null,{"$f":"IF(E32>0,E32,\" \")","v":""},{"$f":"IF(I32>0,I32,\" \")","v":""},{"$f":"IF(M32>0,M32,\" \")","v":""},{"$f":"IF(Q32>0,Q32,\" \")","v":""}]
["%Gmm @ N-int",{"$f":"IF(AND(C47>0,C51>0),IF(B55>0,ROUND(B63/$C$51*100,setup!$M$10),\"\"),\"\")","v":""},{"$f":"IF(AND(C47>0,C51>0),IF(C55>0,ROUND(C63/$C$51*100,setup!$M$10),\"\"),\"\")","v":""},{"$f":"IF(AND(C47>0,C51>0),IF(D55>0,ROUND(D63/$C$51*100,setup!$M$10),\"\"),\"\")","v":""},{"$f":"IF(AND(C47>0,C51>0,B64<>\"\"),ROUND(AVERAGE(B64:D64),setup!$M$10),\"\")","v":""},null,null,null,null,null,null,null,null,null,null,null,null,null,null,null,null,{"$f":"setup!S2","v":"LaPave 501 v16.04.04"},null,null,null,null,null,null,null,null,{"$f":"TODAY()","v":"2023-03-31"}]
["Gmb (Est. @ N-Des)",{"$f":"IF($N$36=\"Volumetric\",\"\",IF(AND(C47>0,C51>0),IF(B57>0,ROUND(B57/(3.14159*(15*(15/4)*(B56/10)))/0.99707,setup!$M$9),\"\"),\"\"))","v":""},{"$f":"IF($N$36=\"Volumetric\",\"\",IF(AND(C47>0,C51>0),IF(C57>0,ROUND(C57/(3.14159*(15*(15/4)*(C56/10)))/0.99707,setup!$M$9),\"\"),\"\"))","v":""},{"$f":"IF($N$36=\"Volumetric\",\"\",IF(AND(C47>0,C51>0),IF(D57>0,ROUND(D57/(3.14159*(15*(15/4)*(D56/10)))/0.99707,setup!$M$9),\"\"),\"\"))","v":""},null,null,null,null,null,null,"*Verification Rice "]
["Gmb (Corr. @ N-Des)",{"$f":"IF($N$36=\"Volumetric\", B61,IF(AND(C47>0,C51>0),IF(B57>0,ROUND(B65*(B61/(B57/(3.14159*(15*(15/4)*(B56/10))))),setup!$M$9),\"\"),\"\"))","v":""},{"$f":"IF($N$36=\"Volumetric\", C61,IF(AND(C47>0,C51>0),IF(C57>0,ROUND(C65*(C61/(C57/(3.14159*(15*(15/4)*(C56/10))))),setup!$M$9),\"\"),\"\"))","v":""},{"$f":"IF($N$36=\"Volumetric\", D61,IF(AND(C47>0,C51>0),IF(D57>0,ROUND(D65*(D61/(D57/(3.14159*(15*(15/4)*(D56/10))))),setup!$M$9),\"\"),\"\"))","v":""},null,null,null,null,null,null,"Asphalt Content for Rice",null,null,{"$f":"C47","v":0}]
["% Gmm @ N-des",{"$f":"IF(AND(C47>0,C51>0),IF(B57>0,ROUND(B66/$C$51*100,setup!$M$10),\"\"),\"\")","v":""},{"$f":"IF(AND(C47>0,C51>0),IF(C57>0,ROUND(C66/$C$51*100,setup!$M$10),\"\"),\"\")","v":""},{"$f":"IF(AND(C47>0,C51>0),IF(D57>0,ROUND(D66/$C$51*100,setup!$M$10),\"\"),\"\")","v":""},{"$f":"IF(AND(C47>0,C51>0,B67<>\"\"),ROUND(AVERAGE(B67:D67),setup!$M$10),\"\")","v":""},null,null,null,null,null,"Rice Gravities",null,"A","B"]
["% VMA @ N-des",{"$f":"IF(AND(C47>0,C51>0),IF(B57>0,ROUND(100-(B67*$C$51*((100-$C$47)/100)/$C$10),setup!$M$11),\"\"),\"\")","v":""},{"$f":"IF(AND(C47>0,C51>0),IF(C57>0,ROUND(100-(C67*$C$51*((100-$C$47)/100)/$C$10),setup!$M$11),\"\"),\"\")","v":""},{"$f":"IF(AND(C47>0,C51>0),IF(D57>0,ROUND(100-(D67*$C$51*((100-$C$47)/100)/$C$10),setup!$M$11),\"\"),\"\")","v":""},{"$f":"IF(AND(C47>0,C51>0,B68<>\"\"),ROUND(AVERAGE(B68:D68),setup!$M$11),\"\")","v":""},null,null,null,null,null," Mix"]
["% Voids @ N-des",{"$f":"IF(AND(C47>0,C51>0),IF(B57>0,ROUND((100-B67),setup!$M$12),\"\"),\"\")","v":""},{"$f":"IF(AND(C47>0,C51>0),IF(C57>0,ROUND((100-C67),setup!$M$12),\"\"),\"\")","v":""},{"$f":"IF(AND(C47>0,C51>0),IF(D57>0,ROUND((100-D67),setup!$M$12),\"\"),\"\")","v":""},{"$f":"IF(AND(C47>0,C51>0,B69<>\"\"),ROUND(AVERAGE(B69:D69),setup!$M$12),\"\")","v":""},null,null,null,null,null,"Pyc&Water"]
["% VFA @ N-des",{"$f":"IF(AND(C47>0,C51>0),IF(B57>0,ROUND(100*((B68-(100-B67))/B68),setup!$M$13),\"\"),\"\")","v":""},{"$f":"IF(AND(C47>0,C51>0),IF(C57>0,ROUND(100*((C68-(100-C67))/C68),setup!$M$13),\"\"),\"\")","v":""},{"$f":"IF(AND(C47>0,C51>0),IF(D57>0,ROUND(100*((D68-(100-D67))/D68),setup!$M$13),\"\"),\"\")","v":""},{"$f":"IF(AND(C47>0,C51>0,B70<>\"\"),ROUND(AVERAGE(B70:D70),setup!$M$13),\"\")","v":""},null,null,null,null,null,"Pyc,Water&Mix",null,null,null,"Avg Gmm"]
["VCA Mix",{"$f":"IF(AND(O71<>\"\",B66<>\"\"),100-('JMF Input'!$J$41*'Optimum AC Test Results'!B66/'Optimum AC Test Results'!O71),\"\")","v":""},{"$f":"IF(AND(O71<>\"\",C66<>\"\"),100-('JMF Input'!$J$41*'Optimum AC Test Results'!C66/'Optimum AC Test Results'!O71),\"\")","v":""},{"$f":"IF(AND(O71<>\"\",D66<>\"\"),100-('JMF Input'!$J$41*'Optimum AC Test Results'!D66/'Optimum AC Test Results'!O71),\"\")","v":""},{"$f":"IF(AND(C47>0,C51>0),IF(AND(B71<>\"\",B56>0),ROUND(AVERAGE(B71:D71),setup!$M$13),\"\"),\"\")","v":""},null,null,null,null,null,"Gmm",null,{"$f":"IF(M70>0,ROUND(M68/(M68+M69-M70),setup!M39),0)","v":0},{"$f":"IF(N70>0,ROUND(N68/(N68+N69-N70),setup!M39),0)","v":0},{"$f":"AVERAGE(M71:N71)","v":0}]
[]
["*This Rice must be performed on the Lab Verification Sample and separate from the \"Design\" Rice."]
[]
["Drain Down (ASTM D6390)"]
["Wt. of Mix Before",null,null,null,null,null,"Correction Factor For Volumetric Specimens"]
["Wt. of Mix After",null,null,null,null,null,"Average Wt of Mix, ND of Verification Points",null,null,null,null,{"$f":"IF(N36=\"Volumetric\",IF(SUM(B58:D58)>0, ROUND(AVERAGE(B58:D58),1),\"\"),IF(SUM(B57:D57)>0, ROUND(AVERAGE(B57:D57),1), \"\"))","v":""}]
["Wt. of Plate",null,"",null,null,null,"Average Height @ ND of Verification Points",null,null,null,null,{"$f":"IF(SUM(B56:D56)>0, ROUND(AVERAGE(B56:D56),1), \"\")","v":""}]
["Wt. of Plate+Mix After",null,null,null,null,null,"Gmb, ND Est of Verification Point",null,null,null,null,{"$f":"IF(N36=\"Volumetric\",IF(L78<>\"\", ROUND(L77/(((3.1416*AVERAGE(B57:D57)*AVERAGE(B57:D57)*L78)/4)*0.001)/0.99707,setup!M9), \"\"), IF(L78<>\"\", ROUND(L77/(((3.1416*150*150*L78)/4)*0.001)/0.99707,setup!M9), \"\"))","v":""}]
["Wt. of Drained Mix",{"$f":"IF(B79>0, B79-B78, IF(B77>0, B76-B77, \"\"))","v":""},{"$f":"IF(C79>0, C79-C78, IF(C77>0, C76-C77, \"\"))","v":""},"Avg % Draindown",null,null,"Average Gmb, ND of Verification Point",null,null,null,null,{"$f":"E61","v":""}]
["% Draindown",{"$f":"IF(B80<>\"\", ROUND(B80/B76*100,2), \"\")","v":""},{"$f":"IF(C80<>\"\", ROUND(C80/C76*100,2), \"\")","v":""},{"$f":"IF(B81<>\"\", AVERAGE(B81:C81), \"\")","v":""},null,null,"Correction Factor From Verification Point",null,null,null,null,{"$f":"IF(L79<>\"\", ROUND(L80/L79,4), \"\")","v":""}]
[]
["Drain Down (ASTM D6390) Temp + 10C"]
["Wt. of Mix Before"]
["Wt. of Mix After"]
["Wt. of Plate"]
["Wt. of Plate+Mix After"]
["Wt. of Drained Mix",{"$f":"IF(B87>0, B87-B86, IF(B85>0, B84-B85, \"\"))","v":""},{"$f":"IF(C87>0, C87-C86, IF(C85>0, C84-C85, \"\"))","v":""},"Avg % Draindown"]
["% Draindown",{"$f":"IF(B88<>\"\", ROUND(B88/B84*100,2), \"\")","v":""},{"$f":"IF(C88<>\"\", ROUND(C88/C84*100,2), \"\")","v":""},{"$f":"IF(B89<>\"\", AVERAGE(B89:C89), \"\")","v":""}]
[]
[{"$f":"setup!S2","v":"LaPave 501 v16.04.04"},null,null,null,null,null,null,null,null,null,null,null,null,null,null,{"$f":"TODAY()","v":"2023-03-31"}]

{"sheet":"Comp. Grad. and FAA Input","index":5,"n_rows":145,"n_cols":33,"rows_kept":145,"cut":false,"hidden":false,"merged":[[29,10,29,11],[30,32,30,33],[95,17,95,18],[144,6,144,7],[1,20,1,21],[2,20,2,21],[23,11,24,11],[1,15,1,16],[2,15,2,16],[3,15,3,16],[142,5,142,6],[69,0,69,7],[69,11,71,17],[70,0,70,7],[71,0,71,1],[126,0,126,1],[126,3,126,7],[71,3,71,7],[87,5,87,6],[89,0,89,1],[89,3,89,7],[105,5,105,6],[66,2,67,4],[107,0,107,7],[108,0,108,1],[108,3,108,7],[124,5,124,6]]}
[]
["Contractor",{"$f":"'JMF Input'!$B$6","v":{"$error":"#N/A"}},null,null,"Plant Code",{"$f":"'JMF Input'!$D$7","v":0},null,null,null,null,null,null,null,null,null,"Contractor",null,{"$f":"'JMF Input'!$B$6","v":{"$error":"#N/A"}},null,null,"Plant Code",null,{"$f":"'JMF Input'!$D$7","v":0}]
["Mix Type",{"$f":"'JMF Input'!$E$5","v":"OGFC"},null,null,"Contr. Mix #",{"$f":"'JMF Input'!$B$7","v":0},null,null,null,null,null,null,null,null,null,"Mix Type",null,{"$f":"'JMF Input'!$E$5","v":"OGFC"},null,null,"Contr. Mix #",null,{"$f":"'JMF Input'!$B$7","v":0}]
["JMF No",{"$f":"'JMF Input'!$F$3","v":0},null,null,null,null,null,null,null,null,null,null,null,null,null,"JMF No",null,{"$f":"'JMF Input'!$F$3","v":0}]
[]
[]
["Aggregates",{"$f":"IF('JMF Input'!B20>0, 'JMF Input'!B20, \"\")","v":""},{"$f":"IF('JMF Input'!B19>0, 'JMF Input'!B19, \"\")","v":""},{"$f":"IF('JMF Input'!B18>0, 'JMF Input'!B18, \"\")","v":""},{"$f":"IF('JMF Input'!B17>0, 'JMF Input'!B17, \"\")","v":""},{"$f":"IF('JMF Input'!B16>0, 'JMF Input'!B16, \"\")","v":""},{"$f":"IF('JMF Input'!B15>0, 'JMF Input'!B15, \"\")","v":""},{"$f":"IF('JMF Input'!B14>0, 'JMF Input'!B14, \"\")","v":""},{"$f":"IF('JMF Input'!B13>0, 'JMF Input'!B13, \"\")","v":""},{"$f":"IF('JMF Input'!B12>0, 'JMF Input'!B12, \"\")","v":""},{"$f":"IF('JMF Input'!B11>0, 'JMF Input'!B11, \"\")","v":""},"Composite ",null,"NMS"]
["Aggregate %",{"$f":"'JMF Input'!E20","v":0},{"$f":"'JMF Input'!E19","v":0},{"$f":"'JMF Input'!E18","v":0},{"$f":"'JMF Input'!E17","v":0},{"$f":"'JMF Input'!E16","v":0},{"$f":"'JMF Input'!E15","v":0},{"$f":"'JMF Input'!E14","v":0},{"$f":"'JMF Input'!E13","v":0},{"$f":"'JMF Input'!E12","v":0},{"$f":"'JMF Input'!E11","v":0},{"$f":"ROUND(SUM(B8:K8),1)","v":0},null,{"$f":"IF('JMF Input'!I5<>\"\",'JMF Input'!I5, \"\")","v":"0.5 in."},{"$f":"'JMF Input'!E5","v":"OGFC"},null,0]
["   Sieve",null,null,null,null,null,null,null,null,null,null,null,null,"Min","Max",null,{"$f":"IF(N8=\"1 in.\",278.459125958404,IF(N8=\"0.75 in.\",231.767138770695,IF(N8=\"0.5 in.\",204.667250410769,169.261540604168)))","v":204.66725041076899}]
[]
["    3/4\"",null,null,null,null,null,null,null,null,null,null,{"$f":"ROUND(((0.01*B$8)*B11)+((0.01*C$8)*C11)+((0.01*D$8)*D11)+((0.01*E$8)*E11)+((0.01*F$8)*F11)+((0.01*G$8)*G11)+((0.01*H$8)*H11)+((0.01*I$8)*I11)+((0.01*J$8)*J11)+((0.01*K$8)*K11),setup!$M$14)","v":0},{"$f":"IF(AND(N11>0, L11<N11), \"Min\", IF(AND(O11>0, L11>O11),\"Max\",\"\"))","v":""},null,{"$f":"IF($O$8=\"Dense Mix\", 100, IF($O$8=\"Coarse Mix\",100,IF($O$8=\"OGFC\",100,-1)))","v":100}]
["    1/2\"",null,null,null,null,null,null,null,null,null,null,{"$f":"ROUND(((0.01*B$8)*B12)+((0.01*C$8)*C12)+((0.01*D$8)*D12)+((0.01*E$8)*E12)+((0.01*F$8)*F12)+((0.01*G$8)*G12)+((0.01*H$8)*H12)+((0.01*I$8)*I12)+((0.01*J$8)*J12)+((0.01*K$8)*K12),setup!$M$14)","v":0},{"$f":"IF(AND(N12>0, L12<N12), \"Min\", IF(AND(O12>0, L12>O12),\"Max\",\"\"))","v":"Min"},{"$f":"IF($O$8=\"Coarse Mix\",75,IF($O$8=\"OGFC\",85,-1))","v":85},{"$f":"IF($O$8=\"Dense Mix\", 100, IF($O$8=\"Coarse Mix\",100,IF($O$8=\"OGFC\",100,-1)))","v":100}]
["    3/8\"",null,null,null,null,null,null,null,null,null,null,{"$f":"ROUND(((0.01*B$8)*B13)+((0.01*C$8)*C13)+((0.01*D$8)*D13)+((0.01*E$8)*E13)+((0.01*F$8)*F13)+((0.01*G$8)*G13)+((0.01*H$8)*H13)+((0.01*I$8)*I13)+((0.01*J$8)*J13)+((0.01*K$8)*K13),setup!$M$14)","v":0},"Min",{"$f":"IF($O$8=\"Dense Mix\",90,IF($O$8=\"OGFC\",55,-1))","v":55},{"$f":"IF($O$8=\"Dense Mix\",100,IF($O$8=\"OGFC\",75,-1))","v":75}]
["  No 4",null,null,null,null,null,null,null,null,null,null,{"$f":"ROUND(((0.01*B$8)*B14)+((0.01*C$8)*C14)+((0.01*D$8)*D14)+((0.01*E$8)*E14)+((0.01*F$8)*F14)+((0.01*G$8)*G14)+((0.01*H$8)*H14)+((0.01*I$8)*I14)+((0.01*J$8)*J14)+((0.01*K$8)*K14),setup!$M$14)","v":0},"Min",{"$f":"IF($O$8=\"Coarse Mix\",25,IF($O$8=\"OGFC\",10,-1))","v":10},{"$f":"IF($O$8=\"Coarse Mix\",40,IF($O$8=\"OGFC\",25,-1))","v":25}]
["  No 8",null,null,null,null,null,null,null,null,null,null,{"$f":"ROUND(((0.01*B$8)*B15)+((0.01*C$8)*C15)+((0.01*D$8)*D15)+((0.01*E$8)*E15)+((0.01*F$8)*F15)+((0.01*G$8)*G15)+((0.01*H$8)*H15)+((0.01*I$8)*I15)+((0.01*J$8)*J15)+((0.01*K$8)*K15),setup!$M$14)","v":0},"Min",{"$f":"IF($O$8=\"Dense Mix\", 35, IF($O$8=\"Coarse Mix\",19,IF($O$8=\"OGFC\",5,-1)))","v":5},{"$f":"IF($O$8=\"Dense Mix\", 70, IF($O$8=\"Coarse Mix\",28,IF($O$8=\"OGFC\",13,-1)))","v":13}]
["  No 16",null,null,null,null,null,null,null,null,null,null,{"$f":"ROUND(((0.01*B$8)*B16)+((0.01*C$8)*C16)+((0.01*D$8)*D16)+((0.01*E$8)*E16)+((0.01*F$8)*F16)+((0.01*G$8)*G16)+((0.01*H$8)*H16)+((0.01*I$8)*I16)+((0.01*J$8)*J16)+((0.01*K$8)*K16),setup!$M$14)","v":0},"",{"$f":"IF($O$8=\"Dense Mix\",20,-1)","v":-1},{"$f":"IF($O$8=\"Dense Mix\",50,-1)","v":-1}]
["  No 30",null,null,null,null,null,null,null,null,null,null,{"$f":"ROUND(((0.01*B$8)*B17)+((0.01*C$8)*C17)+((0.01*D$8)*D17)+((0.01*E$8)*E17)+((0.01*F$8)*F17)+((0.01*G$8)*G17)+((0.01*H$8)*H17)+((0.01*I$8)*I17)+((0.01*J$8)*J17)+((0.01*K$8)*K17),setup!$M$14)","v":0},""]
["  No 50",null,null,null,null,null,null,null,null,null,null,{"$f":"ROUND(((0.01*B$8)*B18)+((0.01*C$8)*C18)+((0.01*D$8)*D18)+((0.01*E$8)*E18)+((0.01*F$8)*F18)+((0.01*G$8)*G18)+((0.01*H$8)*H18)+((0.01*I$8)*I18)+((0.01*J$8)*J18)+((0.01*K$8)*K18),setup!$M$14)","v":0},""]
["  No 100",null,null,null,null,null,null,null,null,null,null,{"$f":"ROUND(((0.01*B$8)*B19)+((0.01*C$8)*C19)+((0.01*D$8)*D19)+((0.01*E$8)*E19)+((0.01*F$8)*F19)+((0.01*G$8)*G19)+((0.01*H$8)*H19)+((0.01*I$8)*I19)+((0.01*J$8)*J19)+((0.01*K$8)*K19),setup!$M$14)","v":0},""]
["  No 200",null,null,null,null,null,null,null,null,null,null,{"$f":"ROUND(((0.01*B$8)*B20)+((0.01*C$8)*C20)+((0.01*D$8)*D20)+((0.01*E$8)*E20)+((0.01*F$8)*F20)+((0.01*G$8)*G20)+((0.01*H$8)*H20)+((0.01*I$8)*I20)+((0.01*J$8)*J20)+((0.01*K$8)*K20),setup!$M$15)","v":0},"Min",{"$f":"IF($O$8=\"Dense Mix\", 2, IF($O$8=\"Coarse Mix\",2,IF($O$8=\"OGFC\",2,-1)))","v":2},{"$f":"IF($O$8=\"Dense Mix\", 10, IF($O$8=\"Coarse Mix\",5.5,IF($O$8=\"OGFC\",4,-1)))","v":4}]
[]
[]
[null,null,null,null,null,"Aggregate with FAA - Bin %"]
[" Percent",{"$f":"IF(B26>0,B8,\"\")","v":""},{"$f":"IF(C26>0,C8,\"\")","v":""},"","","","","","",{"$f":"IF(J26>0,J8,\"\")","v":""},{"$f":"IF(K26>0,K8,\"\")","v":""},"Composite FAA",null,{"$f":"ROUND(SUM(B24:I24),setup!M15)","v":0}]
[]
["FAA",{"$f":"'JMF Input'!H20","v":0},{"$f":"'JMF Input'!H19","v":0},{"$f":"'JMF Input'!H18","v":0},{"$f":"'JMF Input'!H17","v":0},{"$f":"'JMF Input'!H16","v":0},{"$f":"'JMF Input'!H15","v":0},{"$f":"'JMF Input'!H14","v":0},{"$f":"'JMF Input'!H13","v":0},{"$f":"'JMF Input'!H12","v":0},{"$f":"'JMF Input'!H11","v":0},{"$f":"IF(SUM(B26:K26)>0,ROUND(AC52,setup!M15),\"\")","v":""}]
[]
[]
[]
[{"$f":"setup!S2","v":"LaPave 501 v16.04.04"},null,null,null,null,null,null,null,null,null,{"$f":"TODAY()","v":"2023-03-31"}]
[null,null,null,null,null,null,null,null,null,null,null,null,null,null,null,{"$f":"setup!S2","v":"LaPave 501 v16.04.04"},null,null,null,null,null,null,null,null,null,null,null,null,null,null,null,null,{"$f":"TODAY()","v":"2023-03-31"}]
[]
[]
[]
[]
[]
[null,null,null,null,null,null,null,null,null,null,null,null,null,null,null,null,null,"P1",{"$f":"IF(B24<>\"\",B24,0)","v":0},{"$f":"IF(C24<>\"\",C24,0)","v":0},0,0,0,0,0,0,{"$f":"IF(J24<>\"\",J24,0)","v":0},{"$f":"IF(K24<>\"\",K24,0)","v":0}]
[null,null,null,null,null,null,null,null,null,null,null,null,null,null,null,null,null,"%P",{"$f":"B15-B19","v":0},0,0,0,0,0,0,0,{"$f":"J15-J19","v":0},{"$f":"K15-K19","v":0}]
[null,null,null,null,null,null,null,null,null,null,null,null,null,null,null,null,null,"AP1",{"$f":"B26","v":0},0,0,0,0,0,0,0,{"$f":"J26","v":0},{"$f":"K26","v":0}]
[null,null,null,null,null,null,null,null,null,null,null,null,null,null,null,null,null,"P2",{"$f":"IF(B24<>\"\",B24,0)","v":0},{"$f":"IF(C24<>\"\",C24,0)","v":0},0,0,0,0,0,0,{"$f":"IF(J24<>\"\",J24,0)","v":0},{"$f":"IF(K24<>\"\",K24,0)","v":0}]
[null,null,null,null,null,null,null,null,null,null,null,null,null,null,null,null,null,"AP2",{"$f":"B26","v":0},0,0,0,0,0,0,0,{"$f":"J26","v":0},{"$f":"K26","v":0}]
[]
[]
[null,null,null,null,null,null,null,null,null,null,null,null,null,null,null,null,null,"P1",{"$f":"S37","v":0},0,0,0,0,0,0,0,{"$f":"AA37","v":0},{"$f":"AB37","v":0}]
[null,null,null,null,null,null,null,null,null,null,null,null,null,null,null,null,null,"%P",0,0,0,0,0,0,0,0,{"$f":"AA38","v":0},{"$f":"AB38","v":0}]
[null,null,null,null,null,null,null,null,null,null,null,null,null,null,null,null,null,"P2",{"$f":"S40","v":0},0,0,0,0,0,0,0,{"$f":"AA40","v":0},{"$f":"AB40","v":0}]
[]
[]
[null,null,null,null,null,null,null,null,null,null,null,null,null,null,null,null,null,null,{"$f":"S37*S38*S39","v":0},{"$f":"T37*T38*T39","v":0},{"$f":"U37*U38*U39","v":0},0,0,0,{"$f":"Y37*Y38*Y39","v":0},0,{"$f":"AA37*AA38*AA39","v":0},{"$f":"AB37*AB38*AB39","v":0},{"$f":"SUM(S49:AB49)","v":0}]
[null,null,null,null,null,null,null,null,null,null,null,null,null,null,null,null,null,null,{"$f":"S37*S38","v":0},0,0,0,0,0,0,0,{"$f":"AA37*AA38","v":0},{"$f":"AB37*AB38","v":0}]
[null,null,null,null,null,null,null,null,null,null,null,null,null,null,null,null,null,null,{"$f":"IF(S39,S50,0)","v":0},0,0,0,0,0,0,0,{"$f":"IF(AA39,AA50,0)","v":0},{"$f":"IF(AB39,AB50,0)","v":0},{"$f":"SUM(S51:AB51)","v":0}]
[null,null,null,null,null,null,null,null,null,null,null,null,null,null,null,null,null,null,null,null,null,null,null,null,null,null,null,null,{"$f":"AC49/AC51","v":{"$error":"#DIV/0!"}}]
[]
[]
[]
[]
[]
[]
[]
[]
[]
[]
[]
[]
[]
[]
[null,null,"No Oven Temp Corr."]
[]
[]
["IGNITION OVEN - TR 323-02 (Ignition Oven Correction Factors and Verification Gradations",null,null,null,null,null,null,null,null,null,null,"IGNITION OVEN - TR 323-02 (Ignition Oven Correction Factors and Verification Gradations"]
["Each JMF must have an Ignition Oven Correction Factor for AC in accordance with TR 323-02.  A total of two (2) burns must be performed and the results averaged for the determination of the correction factor.  If the difference between the two samples is greater than 0.015%, then a 3rd and 4th burn must be performed as well.  Then the High and low values are discarded, and remaining two values are averaged for the correct correction factor."]
["Test 1 - Burn",null,null,"GRADATION OF THE AGGREGATE"]
[{"$f":"IF($C$67=\"No Oven Temp Corr.\",\"Tr. Baskets\", \"Wt of Mix\")","v":"Tr. Baskets"},null,null,"SIEVE","WT.","PERCENT","Per.Coar","Per.Pass",null,null,null,null,"Test # 1","Test # 2","Test # 3","Test # 4","Average","Composite"]
[{"$f":"IF($C$67=\"No Oven Temp Corr.\",\"Baskets+Mix w/AC\", \"Wt. Loss\")","v":"Baskets+Mix w/AC"},null,null,"1\"",null,{"$f":"IF($E$87>0,((E74/E$87)*100),\" \")","v":" "},{"$f":"IF($E$87>0,(SUM(F74:F74)),\" \")","v":" "},{"$f":"IF($E$87>0,(100-G74),\" \")","v":" "},null,null,null,"1\"",{"$f":"H74","v":" "},{"$f":"H92","v":" "},{"$f":"H111","v":" "},{"$f":"H129","v":" "},{"$f":"IF(SUM(M74:P74)>0, AVERAGE(M74:P74), 0)","v":0},{"$f":"L10","v":0}]
[{"$f":"IF($C$67=\"No Oven Temp Corr.\",\"Baskets minus AC\", \"Temp. Corr.\")","v":"Baskets minus AC"},null,null,"3/4\"",null,{"$f":"IF($E$87>0,((E75/E$87)*100),\" \")","v":" "},{"$f":"IF($E$87>0,(SUM(F74:F75)),\" \")","v":" "},{"$f":"IF($E$87>0,(100-G75),\" \")","v":" "},null,null,null,"3/4\""," "," "," "," ",{"$f":"IF(SUM(M75:P75)>0, AVERAGE(M75:P75), 0)","v":0},0]
[{"$f":"IF($C$67=\"No Oven Temp Corr.\",\"% LOSS\", \"% LOSS-Tmp. Cor.\")","v":"% LOSS"},{"$f":"IF(B74>0,IF($C$67=\"No Oven Temp Corr.\", ((B74-B75)/(B74-B73))*100, B74/B73*100-B75),\" \")","v":" "},null,"1/2\"",null," ",{"$f":"IF($E$87>0,(SUM(F74:F76)),\" \")","v":" "}," ",null,null,null,"1/2\""," "," "," "," ",0,0]
["Virgin AC - Added",{"$f":"IF(B74>0,'JMF Input'!G23,\" \")","v":" "},null,"3/8\"",null," ",{"$f":"IF($E$87>0,(SUM(F74:F77)),\" \")","v":" "}," ",null,null,null,"3/8\""," "," "," "," ",0,0]
["RAP(AC) - From JMF",{"$f":"IF(B74>0,'JMF Input'!G24,\" \")","v":" "},null,"NO. 4",null," ",{"$f":"IF($E$87>0,(SUM(F74:F78)),\" \")","v":" "}," ",null,null,null,"NO. 4"," "," "," "," ",0,0]
["Target AC",{"$f":"IF(B74>0,(B77+B78),\" \")","v":" "},null,"NO. 8",null," ",{"$f":"IF($E$87>0,(SUM(F74:F79)),\" \")","v":" "}," ",null,null,null,"NO. 8"," "," "," "," ",0,0]
["Corr. Factor",{"$f":"IF(B74>0,(B76-B79),\"\")","v":""},null,"NO.16",null," ",{"$f":"IF($E$87>0,(SUM(F74:F80)),\" \")","v":" "}," ",null,null,null,"NO.16"," "," "," "," ",0,0]
["Int.DryWt",null,null,"NO.30",null," ",{"$f":"IF($E$87>0,(SUM(F74:F81)),\" \")","v":" "}," ",null,null,null,"NO.30"," "," "," "," ",0,0]
["AfterWash",null,null,"NO.50",null," ",{"$f":"IF($E$87>0,(SUM(F74:F82)),\" \")","v":" "}," ",null,null,null,"NO.50"," "," "," "," ",0,0]
["Decant.",{"$f":"IF(B74>0,(B81-B82),\" \")","v":" "},null,"NO.100",null," ",{"$f":"IF($E$87>0,(SUM(F74:F83)),\" \")","v":" "}," ",null,null,null,"NO.100"," "," "," "," ",0,0]
["Sieve Tot",{"$f":"IF(B74>0,(E87),\" \")","v":" "},null,"NO.200",null," ",{"$f":"IF($E$87>0,(SUM(F74:F84)),\" \")","v":" "}," ",null,null,null,"NO.200"," "," "," "," ",0,0]
["% Diff.",{"$f":"IF(B74>0,(((B81-B84)/B81)*100),\" \")","v":" "},null,"PAN",null," ",null,null,null,null,null,"% AC Correction",{"$f":"$B$80","v":""},{"$f":"$B$98","v":" "},{"$f":"$B$117","v":" "},{"$f":"$B$135","v":" "},0]
[null,null,null,"DECANT",{"$f":"B83","v":" "},null,"WT.CRUSH",null,null,null,null,"Difference",null,{"$f":"IF(OR(M85=\" \", N85=\" \"), 0, (M85-N85))","v":0}]
[null,null,null,"ACC.TOTAL",{"$f":"SUM(E74:E86)","v":0},null,"WT. +#4",{"$f":"IF(H86>0,(SUM(E74:E78)),\" \")","v":" "}]
[null,null,null,null,null,"PERCENT CRUSHED",null,{"$f":"IF(H86>0,((H86/H87)*100),\" \")","v":" "},null,null,null,"Min Value",{"$f":"MAX(M85:P85)","v":0}]
[null,null,null,null,null,null,null,null,null,null,null,"Max Value",{"$f":"MIN(M85:P85)","v":0}]
["Test 2 - Burn",null,null,"GRADATION OF THE AGGREGATE"]
[{"$f":"IF($C$67=\"No Oven Temp Corr.\",\"Tr. Baskets\", \"Wt of Mix\")","v":"Tr. Baskets"},null,null,"SIEVE","WT.","PERCENT","Per.Coar","Per.Pass",null,null,null,"A","If Difference less than 0.15",null,null,null,"Correction Factor =",null,{"$f":"IF(AND(M85<>\"\", N85<>\"\", SUM(Q74:Q85)>0), IF(N86<0.15,(AVERAGE(M85:N85)),\"\"), \"\")","v":""}]
[{"$f":"IF($C$67=\"No Oven Temp Corr.\",\"Baskets+Mix w/AC\", \"Wt. Loss\")","v":"Baskets+Mix w/AC"},null,null,"1\"",null,{"$f":"IF($E$105>0,((E92/E$105)*100),\" \")","v":" "},{"$f":"IF($E$105>0,(SUM(F$92:F92)),\" \")","v":" "},{"$f":"IF($E$105>0,(100-G92),\" \")","v":" "},null,null,null,"B","If Difference greater than 0.15",null,null,null,"Correction Factor =",null,{"$f":"IF(N86>0.15,((SUM(M85:P85)-(M88+M89))/2),\" \")","v":" "}]
[{"$f":"IF($C$67=\"No Oven Temp Corr.\",\"Baskets minus AC\", \"Temp. Corr.\")","v":"Baskets minus AC"},null,null,"3/4\"",null,{"$f":"IF($E$105>0,((E93/E$105)*100),\" \")","v":" "},{"$f":"IF($E$105>0,(SUM(F$92:F93)),\" \")","v":" "},{"$f":"IF($E$105>0,(100-G93),\" \")","v":" "}]
[{"$f":"IF($C$67=\"No Oven Temp Corr.\",\"% LOSS\", \"% LOSS-Tmp. Cor.\")","v":"% LOSS"},{"$f":"IF(B92>0,IF($C$67=\"No Oven Temp Corr.\", ((B92-B93)/(B92-B91))*100, B92/B91*100-B93),\" \")","v":" "},null,"1/2\"",null," ",{"$f":"IF($E$105>0,(SUM(F$92:F94)),\" \")","v":" "}," ",null,null,null,null,"Factor to be used on JMF Input",null,null,null,null,null,{"$f":"MAX(S91:S92)","v":0}]
["Virgin AC - Added",{"$f":"IF(B92>0,'JMF Input'!G23,\" \")","v":" "},null,"3/8\"",null," ",{"$f":"IF($E$105>0,(SUM(F$92:F95)),\" \")","v":" "}," "]
["RAP(AC) - From JMF",{"$f":"IF(B92>0,'JMF Input'!G24,\" \")","v":" "},null,"NO. 4",null," ",{"$f":"IF($E$105>0,(SUM(F$92:F96)),\" \")","v":" "}," ",null,null,null,{"$f":"setup!S2","v":"LaPave 501 v16.04.04"},null,null,null,null,null,{"$f":"TODAY()","v":"2023-03-31"}]
["Total AC",{"$f":"IF(B92>0,(B95+B96),\"\")","v":""},null,"NO. 8",null," ",{"$f":"IF($E$105>0,(SUM(F$92:F97)),\" \")","v":" "}," "]
["Corr. Factor",{"$f":"IF(B92>0,(B94-B97),\" \")","v":" "},null,"NO.16",null," ",{"$f":"IF($E$105>0,(SUM(F$92:F98)),\" \")","v":" "}," "]
["Int.DryWt",null,null,"NO.30",null," ",{"$f":"IF($E$105>0,(SUM(F$92:F99)),\" \")","v":" "}," "]
["AfterWash",null,null,"NO.50",null," ",{"$f":"IF($E$105>0,(SUM(F$92:F100)),\" \")","v":" "}," "]
["Decant.",{"$f":"IF(B92>0,(B99-B100),\" \")","v":" "},null,"NO.100",null," ",{"$f":"IF($E$105>0,(SUM(F$92:F101)),\" \")","v":" "}," "]
["Sieve Tot",{"$f":"IF(B92>0,(E105),\" \")","v":" "},null,"NO.200",null," ",{"$f":"IF($E$105>0,(SUM(F$92:F102)),\" \")","v":" "}," "]
["% Diff.",{"$f":"IF(B92>0,(((B99-B102)/B99)*100),\" \")","v":" "},null,"PAN"]
[null,null,null,"DECANT",{"$f":"B101","v":" "},null,"WT.CRUSH"]
[null,null,null,"ACC.TOTAL",{"$f":"SUM(E92:E104)","v":0},null,"WT. +#4",{"$f":"IF(H104>0,(SUM(E92:E96)),\" \")","v":" "}]
[null,null,null,null,null,"PERCENT CRUSHED",null,{"$f":"IF(H104>0,((H104/H105)*100),\" \")","v":" "}]
[]
["Tests Nos 3 and 4 only used if average from first 2 tests shows difference greater than 0.015"]
["Test 3 - Burn",null,null,"GRADATION OF THE AGGREGATE"]
[{"$f":"IF($C$67=\"No Oven Temp Corr.\",\"Tr. Baskets\", \"Wt of Mix\")","v":"Tr. Baskets"},null,null,"SIEVE","WT.","PERCENT","Per.Coar","Per.Pass"]
[{"$f":"IF($C$67=\"No Oven Temp Corr.\",\"Baskets+Mix w/AC\", \"Wt. Loss\")","v":"Baskets+Mix w/AC"},null,null,"1\"",null,{"$f":"IF($E$124>0,((E111/E$124)*100),\" \")","v":" "},{"$f":"IF($E$124>0,(SUM(F$111:F111)),\" \")","v":" "},{"$f":"IF($E$124>0,(100-G111),\" \")","v":" "}]
[{"$f":"IF($C$67=\"No Oven Temp Corr.\",\"Baskets minus AC\", \"Temp. Corr.\")","v":"Baskets minus AC"},null,null,"3/4\"",null,{"$f":"IF($E$124>0,((E112/E$124)*100),\" \")","v":" "},{"$f":"IF($E$124>0,(SUM(F$111:F112)),\" \")","v":" "},{"$f":"IF($E$124>0,(100-G112),\" \")","v":" "}]
[{"$f":"IF($C$67=\"No Oven Temp Corr.\",\"% LOSS\", \"% LOSS-Tmp. Cor.\")","v":"% LOSS"},{"$f":"IF(B111>0,IF($C$67=\"No Oven Temp Corr.\", ((B111-B112)/(B111-B110))*100, B111/B110*100-B112),\" \")","v":" "},null,"1/2\"",null," ",{"$f":"IF($E$124>0,(SUM(F$111:F113)),\" \")","v":" "}," "]
["Virgin AC - Added",{"$f":"IF(B111>0,'JMF Input'!G23,\" \")","v":" "},null,"3/8\"",null," ",{"$f":"IF($E$124>0,(SUM(F$111:F114)),\" \")","v":" "}," "]
["RAP(AC) - From JMF",{"$f":"IF(B111>0,'JMF Input'!G24,\" \")","v":" "},null,"NO. 4",null," ",{"$f":"IF($E$124>0,(SUM(F$111:F115)),\" \")","v":" "}," "]
["Total AC",{"$f":"IF(B111>0,(B114+B115),\"\")","v":""},null,"NO. 8",null," ",{"$f":"IF($E$124>0,(SUM(F$111:F116)),\" \")","v":" "}," "]
["Corr. Factor",{"$f":"IF(B111>0,(B113-B116),\" \")","v":" "},null,"NO.16",null," ",{"$f":"IF($E$124>0,(SUM(F$111:F117)),\" \")","v":" "}," "]
["Int.DryWt",null,null,"NO.30",null," ",{"$f":"IF($E$124>0,(SUM(F$111:F118)),\" \")","v":" "}," "]
["AfterWash",null,null,"NO.50",null," ",{"$f":"IF($E$124>0,(SUM(F$111:F119)),\" \")","v":" "}," "]
["Decant.",{"$f":"IF(B111>0,(B118-B119),\" \")","v":" "},null,"NO.100",null," ",{"$f":"IF($E$124>0,(SUM(F$111:F120)),\" \")","v":" "}," "]
["Sieve Tot",{"$f":"IF(B111>0,(E124),\" \")","v":" "},null,"NO.200",null," ",{"$f":"IF($E$124>0,(SUM(F$111:F121)),\" \")","v":" "}," "]
["% Diff.",{"$f":"IF(B111>0,(((B118-B121)/B118)*100),\" \")","v":" "},null,"PAN"]
[null,null,null,"DECANT",{"$f":"B120","v":" "},null,"WT.CRUSH"]
[null,null,null,"ACC.TOTAL",{"$f":"SUM(E111:E123)","v":0},null,"WT. +#4",{"$f":"IF(H123>0,(SUM(E111:E115)),\" \")","v":" "}]
[null,null,null,null,null,"PERCENT CRUSHED",null,{"$f":"IF(H123>0,((H123/H124)*100),\" \")","v":" "}]
[]
["Test 4 - Burn",null,null,"GRADATION OF THE AGGREGATE"]
[{"$f":"IF($C$67=\"No Oven Temp Corr.\",\"Tr. Baskets\", \"Wt of Mix\")","v":"Tr. Baskets"},null,null,"SIEVE","WT.","PERCENT","Per.Coar","Per.Pass"]
[{"$f":"IF($C$67=\"No Oven Temp Corr.\",\"Baskets+Mix w/AC\", \"Wt. Loss\")","v":"Baskets+Mix w/AC"},null,null,"1\"",null,{"$f":"IF($E$142>0,((E129/E$142)*100),\" \")","v":" "},{"$f":"IF($E$142>0,(SUM(F$129:F129)),\" \")","v":" "},{"$f":"IF($E$142>0,(100-G129),\" \")","v":" "}]
[{"$f":"IF($C$67=\"No Oven Temp Corr.\",\"Baskets minus AC\", \"Temp. Corr.\")","v":"Baskets minus AC"},null,null,"3/4\"",null,{"$f":"IF($E$142>0,((E130/E$142)*100),\" \")","v":" "},{"$f":"IF($E$142>0,(SUM(F$129:F130)),\" \")","v":" "},{"$f":"IF($E$142>0,(100-G130),\" \")","v":" "}]
[{"$f":"IF($C$67=\"No Oven Temp Corr.\",\"% LOSS\", \"% LOSS-Tmp. Cor.\")","v":"% LOSS"},{"$f":"IF(B129>0,IF($C$67=\"No Oven Temp Corr.\", ((B129-B130)/(B129-B128))*100, B129/B128*100-B130),\" \")","v":" "},null,"1/2\"",null," ",{"$f":"IF($E$142>0,(SUM(F$129:F131)),\" \")","v":" "}," "]
["Virgin AC - Added",{"$f":"IF(B129>0,'JMF Input'!G23,\" \")","v":" "},null,"3/8\"",null," ",{"$f":"IF($E$142>0,(SUM(F$129:F132)),\" \")","v":" "}," "]
["RAP(AC) - From JMF",{"$f":"IF(B129>0,'JMF Input'!G24,\" \")","v":" "},null,"NO. 4",null," ",{"$f":"IF($E$142>0,(SUM(F$129:F133)),\" \")","v":" "}," "]
["Total AC",{"$f":"IF(B129>0,(B132+B133),\"\")","v":""},null,"NO. 8",null," ",{"$f":"IF($E$142>0,(SUM(F$129:F134)),\" \")","v":" "}," "]
["Corr. Factor",{"$f":"IF(B129>0,(B131-B134),\" \")","v":" "},null,"NO.16",null," ",{"$f":"IF($E$142>0,(SUM(F$129:F135)),\" \")","v":" "}," "]
["Int.DryWt",null,null,"NO.30",null," ",{"$f":"IF($E$142>0,(SUM(F$129:F136)),\" \")","v":" "}," "]
["AfterWash",null,null,"NO.50",null," ",{"$f":"IF($E$142>0,(SUM(F$129:F137)),\" \")","v":" "}," "]
["Decant.",{"$f":"IF(B129>0,(B136-B137),\" \")","v":" "},null,"NO.100",null," ",{"$f":"IF($E$142>0,(SUM(F$129:F138)),\" \")","v":" "}," "]
["Sieve Tot",{"$f":"IF(B129>0,(E142),\" \")","v":" "},null,"NO.200",null," ",{"$f":"IF($E$142>0,(SUM(F$129:F139)),\" \")","v":" "}," "]
["% Diff.",{"$f":"IF(B129>0,(((B136-B139)/B136)*100),\" \")","v":" "},null,"PAN"]
[null,null,null,"DECANT",{"$f":"B138","v":" "},null,"WT.CRUSH"]
[null,null,null,"ACC.TOTAL",{"$f":"SUM(E129:E141)","v":0},null,"WT. +#4",{"$f":"IF(H141>0,(SUM(E129:E133)),\" \")","v":" "}]
[null,null,null,null,null,"PERCENT CRUSHED",null,{"$f":"IF(H141>0,((H141/H142)*100),\" \")","v":" "}]
[]
[{"$f":"setup!S2","v":"LaPave 501 v16.04.04"},null,null,null,null,null,{"$f":"TODAY()","v":"2023-03-31"}]

{"sheet":"Moisture Susceptibility Design","index":6,"n_rows":32,"n_cols":21,"rows_kept":32,"cut":false,"hidden":false,"merged":[[15,20,15,21],[16,20,16,21],[31,17,31,18],[31,7,31,8],[27,11,27,18],[29,11,29,18],[25,1,25,8],[25,11,25,18],[27,1,27,8],[29,1,29,8],[0,10,0,18],[1,11,1,16],[2,11,2,13],[2,14,2,15],[3,11,3,13],[4,11,4,13],[4,14,4,15],[8,16,8,17],[9,15,9,16],[6,11,6,16],[5,11,5,13],[10,15,10,16],[13,16,13,17],[14,15,14,16],[15,15,15,16],[13,6,13,7],[14,5,14,6],[15,5,15,6],[4,1,4,3],[4,4,4,5],[10,5,10,6],[9,5,9,6],[8,6,8,7],[5,1,5,3],[6,1,6,6],[0,0,0,8],[1,1,1,6],[2,1,2,3],[2,4,2,5],[3,1,3,3]]}
["LOADED WHEEL TEST (LWT) -- AASHTO T 324",null,null,null,null,null,null,null,null,null,"LOADED WHEEL TEST (LWT) -- AASHTO T 324"]
[null,"Design Test",null,null,null,null,null,null,null,null,null,"Validation Test"]
[null,null,null,null,"Date Sampled",null,null,null,null,null,"Project ",{"$f":"'Validation Input'!B2","v":0},null,null,"Date Sampled"]
["Mix Type",{"$f":"'JMF Input'!E5","v":"OGFC"},null,null,null,null,null,null,null,null,"Mix Type",{"$f":"'JMF Input'!E5","v":"OGFC"}]
["Contractor Mix Number",{"$f":"'JMF Input'!$B$7","v":0},null,null,"JMF Seq. No. ",null,{"$f":"'JMF Input'!$F$3","v":0},null,null,null,"Contractor Mix Number",{"$f":"'JMF Input'!$B$7","v":0},null,null,"JMF Seq. No. ",null,{"$f":"'JMF Input'!$F$3","v":0}]
["Contractor",{"$f":"'JMF Input'!$B$6","v":{"$error":"#N/A"}},null,null,null,"  Max. Sp. Grav.",{"$f":"JMF!D35","v":0},null,null,null,"Contractor",{"$f":"'JMF Input'!$B$6","v":{"$error":"#N/A"}},null,null,null,"  Max. Sp. Grav.",{"$f":"JMF!H35","v":""}]
["Plant / Plant Code",{"$f":"'JMF Input'!$D$7","v":0},null,null,null,null,null,null,null,null,"Plant / Plant Code",{"$f":"'JMF Input'!$D$7","v":0}]
[]
[null,1,2,3,4,null,"Left",null,null,null,null,1,2,3,4,null,"Left"]
["Height @ N-des (mm)",null,null,null,null,"Bricks:",null,"1 & 2",null,null,"Height @ N-des (mm)",null,null,null,null,"Bricks:",null,"1 & 2"]
[{"$f":"IF($U$17=\"Volumetric\",\"Diameter (mm)\", \"Wt. in Air\")","v":"Diameter (mm)"},null,null,null,null,"Avg. Voids:",null,{"$f":"IF(H10=\"1 & 2\", ROUND(AVERAGE(B16,C16),setup!M12), IF(H10=\"1 & 3\", ROUND(AVERAGE(B16,D16),setup!M12),IF(H10=\"1 & 4\", ROUND(AVERAGE(B16,E16),setup!M12),IF(H10=\"2 & 3\", ROUND(AVERAGE(C16,D16),setup!M12),IF(H10=\"2 & 4\", ROUND(AVERAGE(C16,E16),setup!M12),IF(H10=\"3 & 4\", ROUND(AVERAGE(D16,E16),setup!M12),\"\"))))))","v":{"$error":"#DIV/0!"}},null,null,{"$f":"IF($U$17=\"Volumetric\",\"Diameter (mm)\", \"Wt. in Air\")","v":"Diameter (mm)"},null,null,null,null,"Avg. Voids:",null,{"$f":"IF(R10=\"1 & 2\", ROUND(AVERAGE(L16,M16),setup!M12), IF(R10=\"1 & 3\", ROUND(AVERAGE(L16,N16),setup!M12),IF(R10=\"1 & 4\", ROUND(AVERAGE(L16,O16),setup!M12),IF(R10=\"2 & 3\", ROUND(AVERAGE(M16,N16),setup!M12),IF(R10=\"2 & 4\", ROUND(AVERAGE(M16,O16),setup!M12),IF(R10=\"3 & 4\", ROUND(AVERAGE(N16,O16),setup!M12),\"\"))))))","v":{"$error":"#DIV/0!"}}]
[{"$f":"IF($U$17=\"Vacuum\",\"Wt. Sealed in Air\",IF(U17=\"Volumetric\",\"Dry Wt.\",\"Wt. in Water\"))","v":"Dry Wt."},null,null,null,null,null,null,null,null,null,{"$f":"IF($U$17=\"Vacuum\",\"Wt. Sealed in Air\",IF(U17=\"Volumetric\",\"Dry Wt.\",\"Wt. in Water\"))","v":"Dry Wt."}]
[{"$f":"IF(U17=\"Volumetric\",\"\",IF($U$17=\"Vacuum\", \"Wt. Sealed in Water\", \"Wt. SSD\"))","v":""},null,null,null,null,null,null,null,null,null,{"$f":"IF(U17=\"Volumetric\",\"\",IF($U$17=\"Vacuum\", \"Wt. Sealed in Water\", \"Wt. SSD\"))","v":""}]
[{"$f":"IF($U$17=\"Vacuum\", \"Final Wt.\", \"\")","v":""},null,null,null,null,null,"Right",null,null,null,{"$f":"IF($U$17=\"Vacuum\", \"Final Wt.\", \"\")","v":""},null,null,null,null,null,"Right"]
["Gmb",{"$f":"IF(B12>0,IF($U$17=\"Volumetric\",ROUND((B12/(PI()*(B11^2)/4*B10*0.001))/0.99707,setup!$M$9),IF($U$17=\"Vacuum\",ROUND(B11/((B14+(B12-B11))-B13-(B12-B11)/$V$19),setup!$M$8),ROUND(B11/(B13-B12),setup!$M$8))),\"\")","v":""},{"$f":"IF(C12>0,IF($U$17=\"Volumetric\",ROUND((C12/(PI()*(C11^2)/4*C10*0.001))/0.99707,setup!$M$9),IF($U$17=\"Vacuum\",ROUND(C11/((C14+(C12-C11))-C13-(C12-C11)/$V$19),setup!$M$8),ROUND(C11/(C13-C12),setup!$M$8))),\"\")","v":""},{"$f":"IF(D12>0,IF($U$17=\"Volumetric\",ROUND((D12/(PI()*(D11^2)/4*D10*0.001))/0.99707,setup!$M$9),IF($U$17=\"Vacuum\",ROUND(D11/((D14+(D12-D11))-D13-(D12-D11)/$V$19),setup!$M$8),ROUND(D11/(D13-D12),setup!$M$8))),\"\")","v":""},{"$f":"IF(E12>0,IF($U$17=\"Volumetric\",ROUND((E12/(PI()*(E11^2)/4*E10*0.001))/0.99707,setup!$M$9),IF($U$17=\"Vacuum\",ROUND(E11/((E14+(E12-E11))-E13-(E12-E11)/$V$19),setup!$M$8),ROUND(E11/(E13-E12),setup!$M$8))),\"\")","v":""},"Bricks:",null,{"$f":"IF(H10=\"1 & 2\", \"3 & 4\", IF(H10=\"1 & 3\", \"2 & 4\",IF(H10=\"1 & 4\", \"2 & 3\",IF(H10=\"2 & 3\", \"1 & 4\",IF(H10=\"2 & 4\", \"1 & 3\",IF(H10=\"3 & 4\", \"1 & 2\",\"\"))))))","v":"3 & 4"},null,null,"Gmb",{"$f":"IF(L12>0,IF($U$17=\"Volumetric\",ROUND((L12/(PI()*(L11^2)/4*L10*0.001))/0.99707,setup!$M$9),IF($U$17=\"Vacuum\",ROUND(L11/((L14+(L12-L11))-L13-(L12-L11)/$V$19),setup!$M$8),ROUND(L11/(L13-L12),setup!$M$8))),\"\")","v":""},{"$f":"IF(M12>0,IF($U$17=\"Volumetric\",ROUND((M12/(PI()*(M11^2)/4*M10*0.001))/0.99707,setup!$M$9),IF($U$17=\"Vacuum\",ROUND(M11/((M14+(M12-M11))-M13-(M12-M11)/$V$19),setup!$M$8),ROUND(M11/(M13-M12),setup!$M$8))),\"\")","v":""},{"$f":"IF(N12>0,IF($U$17=\"Volumetric\",ROUND((N12/(PI()*(N11^2)/4*N10*0.001))/0.99707,setup!$M$9),IF($U$17=\"Vacuum\",ROUND(N11/((N14+(N12-N11))-N13-(N12-N11)/$V$19),setup!$M$8),ROUND(N11/(N13-N12),setup!$M$8))),\"\")","v":""},{"$f":"IF(O12>0,IF($U$17=\"Volumetric\",ROUND((O12/(PI()*(O11^2)/4*O10*0.001))/0.99707,setup!$M$9),IF($U$17=\"Vacuum\",ROUND(O11/((O14+(O12-O11))-O13-(O12-O11)/$V$19),setup!$M$8),ROUND(O11/(O13-O12),setup!$M$8))),\"\")","v":""},"Bricks:",null,{"$f":"IF(R10=\"1 & 2\", \"3 & 4\", IF(R10=\"1 & 3\", \"2 & 4\",IF(R10=\"1 & 4\", \"2 & 3\",IF(R10=\"2 & 3\", \"1 & 4\",IF(R10=\"2 & 4\", \"1 & 3\",IF(R10=\"3 & 4\", \"1 & 2\",\"\"))))))","v":"3 & 4"}]
["% Air Voids",{"$f":"IF(B15<>\"\",ROUND(100-B15/$G$6*100,setup!$M$21),\"\")","v":""},{"$f":"IF(C15<>\"\",ROUND(100-C15/$G$6*100,setup!$M$21),\"\")","v":""},{"$f":"IF(D15<>\"\",ROUND(100-D15/$G$6*100,setup!$M$21),\"\")","v":""},{"$f":"IF(E15<>\"\",ROUND(100-E15/$G$6*100,setup!$M$21),\"\")","v":""},"Avg. Voids:",null,{"$f":"IF(H15=\"1 & 2\", ROUND(AVERAGE(B16,C16),setup!M12), IF(H15=\"1 & 3\", ROUND(AVERAGE(B16,D16),setup!M12),IF(H15=\"1 & 4\", ROUND(AVERAGE(B16,E16),setup!M12),IF(H15=\"2 & 3\", ROUND(AVERAGE(C16,D16),setup!M12),IF(H15=\"2 & 4\", ROUND(AVERAGE(C16,E16),setup!M12),IF(H15=\"3 & 4\", ROUND(AVERAGE(D16,E16),setup!M12),\"\"))))))","v":{"$error":"#DIV/0!"}},null,null,"% Air Voids",{"$f":"IF(L15<>\"\",ROUND(100-L15/$Q$6*100,setup!$M$21),\"\")","v":""},{"$f":"IF(M15<>\"\",ROUND(100-M15/$Q$6*100,setup!$M$21),\"\")","v":""},{"$f":"IF(N15<>\"\",ROUND(100-N15/$Q$6*100,setup!$M$21),\"\")","v":""},{"$f":"IF(O15<>\"\",ROUND(100-O15/$Q$6*100,setup!$M$21),\"\")","v":""},"Avg. Voids:",null,{"$f":"IF(R15=\"1 & 2\", ROUND(AVERAGE(L16,M16),setup!M12), IF(R15=\"1 & 3\", ROUND(AVERAGE(L16,N16),setup!M12),IF(R15=\"1 & 4\", ROUND(AVERAGE(L16,O16),setup!M12),IF(R15=\"2 & 3\", ROUND(AVERAGE(M16,N16),setup!M12),IF(R15=\"2 & 4\", ROUND(AVERAGE(M16,O16),setup!M12),IF(R15=\"3 & 4\", ROUND(AVERAGE(N16,O16),setup!M12),\"\"))))))","v":{"$error":"#DIV/0!"}},null,null,"Bulk Gravity Method"]
[null,null,null,null,null,null,null,null,null,null,null,null,null,null,null,null,null,null,null,null,"Volumetric"]
["Temp(°C):",null,null,"Pass","Left",null,"Pass","Right",null,null,"Temp(°C):",null,null,"Pass","Left",null,"Pass","Right"]
["Avg Rut (mm):",{"$f":"IFERROR(IF(B20=5000,ROUND(AVERAGE(E19,H19),setup!$M$21),IF(B20=7500,ROUND(AVERAGE(E20,H20),setup!$M$21),IF(B20=12000,ROUND(AVERAGE(E22,H22),setup!$M$21),IF(B20=20000,ROUND(AVERAGE(E24,H24),setup!$M$21),\"\")))),\"\")","v":""},null,5000,null,null,5000,null,null,null,"Avg Rut (mm):",{"$f":"IFERROR(IF(L20=5000,ROUND(AVERAGE(O19,R19),setup!$M$21),IF(L20=7500,ROUND(AVERAGE(O20,R20),setup!$M$21),IF(L20=12000,ROUND(AVERAGE(O22,R22),setup!$M$21),IF(L20=20000,ROUND(AVERAGE(O24,R24),setup!$M$21),\"\")))),\"\")","v":""},null,5000,null,null,5000,null,null,null,{"$f":"IF(U17=\"Vacuum\",\"Bag Grav\",\"\")","v":""}]
["At Pass:",{"$f":"setup!B18","v":5000},null,7500,null,null,7500,null,null,null,"At Pass:",{"$f":"setup!B18","v":5000},null,7500,null,null,7500]
["Results(Pass/Fail):",{"$f":"IF(B19<>\"\",IF(B19<=setup!$C$17,\"PASS\",\"FAIL\"),\"\")","v":""},null,10000,null,null,10000,null,null,null,"Results(Pass/Fail):",{"$f":"IF(L19<>\"\",IF(L19<=setup!$C$17,\"PASS\",\"FAIL\"),\"\")","v":""},null,10000,null,null,10000]
[null,null,null,12000,null,null,12000,null,null,null,null,null,null,12000,null,null,12000]
["Date Tested:",null,null,15000,null,null,15000,null,null,null,"Date Tested:",null,null,15000,null,null,15000]
[null,null,null,20000,null,null,20000,null,null,null,null,null,null,20000,null,null,20000]
[]
["Remarks:",null,null,null,null,null,null,null,null,null,"Remarks:"]
[]
["Tested by:",null,null,null,null,null,null,null,null,null,"Tested by:"]
[]
["Checked by:",null,null,null,null,null,null,null,null,null,"Checked by:"]
[]
[{"$f":"setup!S2","v":"LaPave 501 v16.04.04"},null,null,null,null,null,null,{"$f":"TODAY()","v":"2023-03-31"},null,null,{"$f":"setup!S2","v":"LaPave 501 v16.04.04"},null,null,null,null,null,null,{"$f":"TODAY()","v":"2023-03-31"}]

{"sheet":"JMF Input","index":7,"n_rows":45,"n_cols":26,"rows_kept":45,"cut":false,"hidden":false,"merged":[[9,16,9,17],[2,13,2,14],[3,13,3,14],[4,13,4,14],[4,1,4,2],[3,7,3,8],[4,4,4,5],[5,1,5,2],[5,4,5,5],[3,1,3,2],[6,3,6,7],[6,9,6,10],[9,1,9,3],[8,1,8,3],[22,10,22,11],[23,10,23,11],[24,10,24,11],[21,9,21,11],[22,2,22,5],[24,2,24,5],[23,1,23,5],[21,2,21,5],[35,16,35,17],[44,11,44,14],[43,1,43,14],[26,4,26,5],[31,10,32,11],[25,10,26,11],[30,10,30,11],[29,10,29,11],[28,9,28,11],[19,1,19,3],[18,1,18,3],[17,1,17,3],[16,1,16,3],[15,1,15,3],[14,1,14,3],[13,1,13,3],[12,1,12,3],[11,1,11,3],[10,1,10,3]]}
[null,null,null,null,"SUPERPAVE ASPHALTIC CONCRETE MIXTURES"]
[null,null,null,null,null,null,null,null,null,null,null,null,null,null,null,null,null,null,null,null,null,null,null,null,null,"gravel codes"]
["Project No.",null,"Mix Code","26-English","JMF No",null,null,null,null,"Traffic (ADT)",{"$f":"VLOOKUP('JMF Input'!B3, 'Project Summary'!B2:G100, 5,FALSE)","v":{"$error":"#N/A"}},null,"ESAL",{"$f":"VLOOKUP('JMF Input'!B3, 'Project Summary'!B2:G100, 6,FALSE)","v":{"$error":"#N/A"}},null,null,"mix code","design level",null,"mix type",null,null,"mix use",null,null,"1003M03280"]
["Project Name",{"$f":"VLOOKUP('JMF Input'!B3, 'Project Summary'!B2:G100, 2,FALSE)","v":{"$error":"#N/A"}},null,null,"Design Level","T.L.","Plant Type","3-dryer drum",null,"Prod. Rate",null,null,"Adj.Fac",{"$f":"IF(JMF!H35<>\"\",  IF(JMF!H35<=2.339, 2.4/JMF!D35, IF(JMF!H35<=2.36, 1.02, IF(JMF!H35<=2.399, 1.01, IF(JMF!H35<=2.54, 1, IF(JMF!H35<=2.57, 0.99, IF(JMF!H35<=2.59, 0.98, 2.54/JMF!H35)))))), IF(JMF!D35<>\"\", IF(JMF!D35<=2.339, 2.4/JMF!D35, IF(JMF!D35<=2.36, 1.02, IF(JMF!D35<=2.399, 1.01, IF(JMF!D35<=2.54, 1, IF(JMF!D35<=2.57, 0.99, IF(JMF!D35<=2.59, 0.98, 2.54/JMF!D35)))))), \"\"))","v":{"$error":"#DIV/0!"}},null,null,"26-English",1,null,"Dense Mix",null,null,"ML - Wearing",null,null,"1003M0320"]
["Project Eng.",{"$f":"VLOOKUP('JMF Input'!B3, 'Project Summary'!B2:G100, 3,FALSE)","v":{"$error":"#N/A"}},null,"Mix Type","OGFC",null,null,"Nom Agg Size","0.5 in.","Mix Temp",null,null,"Date",null,null,null,"64-Metric","1F",null,"Coarse Mix",null,null,"ML - Binder",null,null,"1003M03330"]
["Contractor",{"$f":"VLOOKUP('JMF Input'!B3, 'Project Summary'!B2:G100, 4,FALSE)","v":{"$error":"#N/A"}},null,"Use",null,null,null,"Specs","2016","AC Corr Factor",{"$f":"'Comp. Grad. and FAA Input'!$S$94","v":0},null,{"$f":"IF(OR('Moisture Susceptibility Design'!B19<>\"\",'Moisture Susceptibility Design'!L19<>\"\"),\"Design LWT Rut\",IF(OR('Moisture Susceptibility Design'!B79<>\"\",'Moisture Susceptibility Design'!L79<>\"\"),\"Design TSR%\",\"LWT/TSR\"))","v":"LWT/TSR"},{"$f":"IF(OR('Moisture Susceptibility Design'!B19<>\"\",'Moisture Susceptibility Design'!L19<>\"\"),TEXT('Moisture Susceptibility Design'!B19,\"0.00\"),IF(OR('Moisture Susceptibility Design'!B79<>\"\",'Moisture Susceptibility Design'!L79<>\"\"),TEXT('Moisture Susceptibility Design'!B79,\"0\"),\"\"))","v":""},null,null,null,2,null,"OGFC",null,null,"ML - Base",null,null,"1003M03340"]
["Contr. Mix #",null,"Plant Code",{"$f":"'Material Setup'!B5","v":0},null,null,null,null,"SMM Mix ID",null,null,null,{"$f":"IF(OR('Moisture Susceptibility Design'!B19<>\"\",'Moisture Susceptibility Design'!L19<>\"\"),\"No. Passes\",IF(OR('Moisture Susceptibility Design'!B79<>\"\",'Moisture Susceptibility Design'!L79<>\"\"),\"Control (psi)\",\"\"))","v":""},{"$f":"IF(OR('Moisture Susceptibility Design'!B19<>\"\",'Moisture Susceptibility Design'!L19<>\"\"),'Moisture Susceptibility Design'!B20,IF(OR('Moisture Susceptibility Design'!B79<>\"\",'Moisture Susceptibility Design'!L79<>\"\"),'Moisture Susceptibility Design'!B77,\"\"))","v":""},null,null,null,"2F",null,null,null,null,"ML - Ramp >300ft",null,null,"1003M03440"]
[null,null,null,null,null,null,null,null,null,null,null,null,null,null,null,null,null,"A",null,null,null,null,"ML - Interstate acc/dec",null,null,"1003M03445"]
["P/S","Aggregate",null,null,"%","Bulk"," ","FAA","Sand Eq.","Flat & Elong","CAA","Micro Deval","Friction","%Ret","Aggr.",null,null,"SMA",null,null,null,null,"ML - Center turn lane",null,null,"1003M03450"]
["Code","Type",null,null,null,"Gravity","Absorption","Method A","- 4.75 mm","3:1",null,"% loss","Rating","No.4","Class",null,"Sorts Agg for JMF",null,null,"AC",null,null,"ML - Airport center lane",null,"gravel","1003M01315"]
[null,null,null,null,null,null,null,null,null,null,null,null,null,{"$f":"IF(O11>0, 100-'Comp. Grad. and FAA Input'!K14, \"\")","v":""},null,null,{"$f":"IF(E11<0,0,IF(O11=\"Coarse\", 100+ROW(), IF(O11=\"Rap\", 1000+ROW(), IF(O11=\"Fine\", 10000+ROW(), IF(O11=\"Other\",100000+ROW(), 1000000+ROW())))))","v":1000011},{"$f":"SMALL($Q$11:$Q$20,1)","v":1000011},null,"PG58-28",null,null,"Min - Shoulder > 7ft",null,{"$f":"IFERROR(MATCH(LEFT(B11,10),$Z$3:$Z$10,0),0)","v":0}]
[null,null,null,null,null,null,null,null,null,null,null,null,null,{"$f":"IF(O12>0, 100-'Comp. Grad. and FAA Input'!J14, \"\")","v":""},null,null,{"$f":"IF(E12<0,0,IF(O12=\"Coarse\", 100+ROW(), IF(O12=\"Rap\", 1000+ROW(), IF(O12=\"Fine\", 10000+ROW(), IF(O12=\"Other\",100000+ROW(), 1000000+ROW())))))","v":1000012},{"$f":"SMALL($Q$11:$Q$20,2)","v":1000012},null,"PG64-22",null,null,"Min - Shoulder",null,{"$f":"IFERROR(MATCH(LEFT(B12,10),$Z$3:$Z$10,0),0)","v":0}]
[null,null,null,null,null,null,null,null,null,null,null,null,null,{"$f":"IF(O13>0, 100-'Comp. Grad. and FAA Input'!I14, \"\")","v":""},null,null,{"$f":"IF(E13<0,0,IF(O13=\"Coarse\", 100+ROW(), IF(O13=\"Rap\", 1000+ROW(), IF(O13=\"Fine\", 10000+ROW(), IF(O13=\"Other\",100000+ROW(), 1000000+ROW())))))","v":1000013},{"$f":"SMALL($Q$11:$Q$20,3)","v":1000013},null,"PG70-22M",null,null,"Min - Patching",null,0]
[null,null,null,null,null,null,null,null,null,null,null,null,null,{"$f":"IF(O14>0, 100-'Comp. Grad. and FAA Input'!H14, \"\")","v":""},null,null,1000014,{"$f":"SMALL($Q$11:$Q$20,4)","v":1000014},null,"PG76-22M",null,null,"Min - Leveling",null,0]
[null,null,null,null,null,null,null,null,null,null,null,null,null,{"$f":"IF(O15>0, 100-'Comp. Grad. and FAA Input'!G14, \"\")","v":""},null,null,1000015,{"$f":"SMALL($Q$11:$Q$20,5)","v":1000015},null,"PG82-22M",null,null,"Min - Widening",null,0]
[null,null,null,null,null,null,null,null,null,null,null,null,null,{"$f":"IF(O16>0, 100-'Comp. Grad. and FAA Input'!F14, \"\")","v":""},null,null,1000016,{"$f":"SMALL($Q$11:$Q$20,6)","v":1000016},null,null,null,null,"Min - Ramp < 300ft",null,0]
[null,null,null,null,null,null,null,null,null,null,null,null,null,{"$f":"IF(O17>0, 100-'Comp. Grad. and FAA Input'!E14, \"\")","v":""},null,null,1000017,{"$f":"SMALL($Q$11:$Q$20,7)","v":1000017},null,"plant type",null,"nom size","Min - Crossover",null,0]
[null,null,null,null,null,null,null,null,null,null,null,null,null,{"$f":"IF(O18>0, 100-'Comp. Grad. and FAA Input'!D14, \"\")","v":""},null,null,1000018,{"$f":"SMALL($Q$11:$Q$20,8)","v":1000018},null,"1-batch screenless",null,"0.375 in.","Min - Turnout",null,0]
[null,null,null,null,null,null,null,null,null,null,null,null,null,{"$f":"IF(O19>0, 100-'Comp. Grad. and FAA Input'!C14, \"\")","v":""},null,null,1000019,{"$f":"SMALL($Q$11:$Q$20,9)","v":1000019},null,"2-batch hot bin",null,"0.5 in.","Min - Miscellaneous",null,0]
[null,null,null,null,null,null,null,null,null,null,null,null,null,{"$f":"IF(O20>0, 100-'Comp. Grad. and FAA Input'!B14, \"\")","v":""},null,null,1000020,{"$f":"SMALL($Q$11:$Q$20,10)","v":1000020},null,"3-dryer drum",null,"0.75 in.",null,null,0]
[null,null,null,null,{"$f":"SUM(E11:E20)","v":0},null,null,{"$f":"IF(SUM(Q23:Q32)>0,\"FAA check\",\"\")","v":""},{"$f":"IF(SUM(R23:R32)>0,\"SE check\",\"\")","v":""},{"$f":"IF(SUM(S23:S32)>0,\"F&E check\",\"\")","v":""},{"$f":"IF(SUM(T23:T32)>0,\"CAA check\",\"\")","v":""},{"$f":"IF(SUM(U23:U32)>0,\"MD check\",\"\")","v":""},{"$f":"IF(SUM(W23:W32)>0,\"NO FR IV\", IF(AND(E5<>\"Dense Mix\", SUM(V23:V32)>50),\"FR III > 50%\",\"\"))","v":""},null,null,null,null,null,null,"4-continuous",null,"1 in."]
[null,"Source Code","Material",null,null,null,"%","Sp. Gravity",null,"Warm Mix Asphalt",null,null,null,"Gyr. Rev",null,null,"FAA","SE","F&E","CAA","Deval","FR III","FR IV"]
["Asphalt","APS00000510",null,null,null,null,{"$f":"J37-G24","v":0},1.03,null,"Warm Mix",null,null,"Ndesign",{"$f":"IF(E5=T4,setup!T11,IF(E5='JMF Input'!T5,setup!U11, IF(E5=T6,setup!V11,\"\")))","v":50},null,{"$f":"IF(AND(O11=\"Coarse\",N11>10),\"C\",IF(AND(O11=\"Fine\",IFERROR((100-N11),0)>10),\"F\",\"\"))","v":""},{"$f":"IF(P23=\"F\", IF(H11>=IF(Y9>0,45,$Y$27),0,1),0)","v":0},{"$f":"IF(P23=\"F\", IF(I11>=$Y$26,0,1),0)","v":0},{"$f":"IF($Y$24=\"--\",0,IF(P23=\"C\", IF(J11<=$Y$24,0,1),0))","v":0},{"$f":"IF($Y$25=\"--\",0,IF(P23=\"C\", IF(K11>=$Y$25,0,1),0))","v":0},{"$f":"IF($Y$23=\"--\",0,IF(P23=\"C\", IF(L11<=$Y$23,0,1),0))","v":0},{"$f":"IF(M11=\"III\",E11,0)","v":0},{"$f":"IF(M11=\"IV\",E11,0)","v":0},"Deval",{"$f":"setup!C12","v":18}]
["Asp. fm. RAP",null,null,null,null,null,{"$f":"SUM(M41:N41)","v":0},{"$f":"1.03","v":1.03},null,"Method",null,null,null,null,null,{"$f":"IF(AND(O12=\"Coarse\",N12>10),\"C\",IF(AND(O12=\"Fine\",IFERROR((100-N12),0)>10),\"F\",\"\"))","v":""},0,{"$f":"IF(P24=\"F\", IF(I12>=$Y$26,0,1),0)","v":0},{"$f":"IF($Y$24=\"--\",0,IF(P24=\"C\", IF(J12<=$Y$24,0,1),0))","v":0},{"$f":"IF($Y$25=\"--\",0,IF(P24=\"C\", IF(K12>=$Y$25,0,1),0))","v":0},{"$f":"IF($Y$23=\"--\",0,IF(P24=\"C\", IF(L12<=$Y$23,0,1),0))","v":0},{"$f":"IF(M12=\"III\",E12,0)","v":0},{"$f":"IF(M12=\"IV\",E12,0)","v":0},"F&E",{"$f":"setup!C13","v":25}]
["Anti-strip","APS00003970",null,null,null,null,null," ",null,"Rate",null,null,null,null,null,{"$f":"IF(AND(O13=\"Coarse\",N13>10),\"C\",IF(AND(O13=\"Fine\",IFERROR((100-N13),0)>10),\"F\",\"\"))","v":""},{"$f":"IF(P25=\"F\", IF(H13>=IF(Y11>0,45,$Y$27),0,1),0)","v":0},0,0,0,0,0,0,"CAA",{"$f":"setup!B14","v":90}]
[null,null,null,null,null,null,null,null,null,"If Chemical -",null,null,null,"Design thickness (in)",null,"",{"$f":"IF(P26=\"F\", IF(H14>=IF(Y12>0,45,$Y$27),0,1),0)","v":0},0,0,0,0,0,0,"SE",{"$f":"setup!B15","v":60}]
[null,"Cold Feed","Avg Oven Extract",null,"Validated Results",null,null,null,null,"Brand Name:",null,null,null,null,null,"",0,0,0,0,0,0,0,"FAA",{"$f":"setup!B16","v":45}]
["Sieve","% Passing","% Passing",null,"% Passing","Tolerance",null,null,null,null,null,null,null,null,null,"",0,0,0,0,0,0,0,"FR",{"$f":"setup!D25","v":"I,II"}]
["1\"           25",100,100,null,{"$f":"JMF!H45","v":""},{"$f":"JMF!N45 & \" \" & JMF!P45  & \" \" & JMF!Q45","v":"  "},null,null,null,"Draindown Control",null,null,null,null,null,"",0,0,0,0,0,0,0]
["3/4\"        19",{"$f":"ROUND('Comp. Grad. and FAA Input'!L11,setup!$M$42)","v":0},{"$f":"ROUND('Comp. Grad. and FAA Input'!Q75,setup!$M$42)","v":0},null,{"$f":"JMF!H46","v":""},{"$f":"JMF!N46 & \" \" & JMF!P46  & \" \" & JMF!Q46","v":" -- "},null,null,null,"Type",null,null,null,null,null,"",0,0,0,0,0,0,0]
["1/2\"      12.5",{"$f":"ROUND('Comp. Grad. and FAA Input'!L12,setup!$M$42)","v":0},{"$f":"ROUND('Comp. Grad. and FAA Input'!Q76,setup!$M$42)","v":0},null,{"$f":"JMF!H47","v":""},{"$f":"JMF!N47 & \" \" & JMF!P47  & \" \" & JMF!Q47","v":" -- "},null,null,null,"Rate",null,null,null,null,null,"",0,0,0,0,0,0,0]
["3/8\"      9.5",{"$f":"ROUND('Comp. Grad. and FAA Input'!L13,setup!$M$42)","v":0},{"$f":"ROUND('Comp. Grad. and FAA Input'!Q77,setup!$M$42)","v":0},null,{"$f":"JMF!H48","v":""},{"$f":"JMF!N48 & \" \" & JMF!P48  & \" \" & JMF!Q48","v":" -- "},null,null,null,"If Chemical -",null,null,null,null,null,"",0,0,0,0,0,0,0]
["#4       4.75",{"$f":"ROUND('Comp. Grad. and FAA Input'!L14,setup!$M$42)","v":0},{"$f":"ROUND('Comp. Grad. and FAA Input'!Q78,setup!$M$42)","v":0},null,{"$f":"JMF!H49","v":""},{"$f":"JMF!N49 & \" \" & JMF!P49  & \" \" & JMF!Q49","v":" -- "},null,null,null,"Brand Name:"]
["#8       2.36",{"$f":"ROUND('Comp. Grad. and FAA Input'!L15,setup!$M$42)","v":0},{"$f":"ROUND('Comp. Grad. and FAA Input'!Q79,setup!$M$42)","v":0},null,{"$f":"JMF!H50","v":""},{"$f":"JMF!N50 & \" \" & JMF!P50  & \" \" & JMF!Q50","v":" -- "}]
["#16      1.18",{"$f":"ROUND('Comp. Grad. and FAA Input'!L16,setup!$M$42)","v":0},{"$f":"ROUND('Comp. Grad. and FAA Input'!Q80,setup!$M$42)","v":0},null,{"$f":"JMF!H51","v":""},{"$f":"JMF!N51 & \" \" & JMF!P51  & \" \" & JMF!Q51","v":" -- "}]
["#30       0.6",{"$f":"ROUND('Comp. Grad. and FAA Input'!L17,setup!$M$42)","v":0},{"$f":"ROUND('Comp. Grad. and FAA Input'!Q81,setup!$M$42)","v":0},null,{"$f":"JMF!H52","v":""},{"$f":"JMF!N52 & \" \" & JMF!P52  & \" \" & JMF!Q52","v":" -- "},null,null,"PSG",{"$f":"$H$23","v":1.03},null,null,"Rap 1","Rap 2",null,null,"correct rap agg%",null,"n"]
["#50       0.3",{"$f":"ROUND('Comp. Grad. and FAA Input'!L18,setup!$M$42)","v":0},{"$f":"ROUND('Comp. Grad. and FAA Input'!Q82,setup!$M$42)","v":0},null,{"$f":"JMF!H53","v":""},{"$f":"JMF!N53 & \" \" & JMF!P53  & \" \" & JMF!Q53","v":" -- "},null,null,"%Design AC",{"$f":"'Optimum AC Test Results'!C47","v":0},null,"Type"]
["#100   0.15",{"$f":"ROUND('Comp. Grad. and FAA Input'!$L$19,setup!$M$43)","v":0},{"$f":"ROUND('Comp. Grad. and FAA Input'!$Q$83,setup!$M$43)","v":0},null,{"$f":"JMF!H54","v":""},{"$f":"JMF!N53 & \" \" & JMF!P53  & \" \" & JMF!Q53","v":" -- "},null,null,"%Crushed",null,null,"% MixRapTotal",null,null,{"$f":"IF(setup!C38<>\"--\",IF('JMF Input'!M38+'JMF Input'!N38>setup!C38,\">\"&setup!C38&\"%\",\"\"),\"\")","v":""}]
["#200   0.075",{"$f":"ROUND('Comp. Grad. and FAA Input'!L20,setup!$M$43)","v":0},{"$f":"ROUND('Comp. Grad. and FAA Input'!Q84,setup!$M$43)","v":0},null,{"$f":"JMF!H55","v":""},{"$f":"JMF!N55 & \" \" & JMF!P55  & \" \" & JMF!Q55","v":" -- "},null,null,"Gsbavg",{"$f":"IF(SUM(F11:F20)>0,ROUND(100/(IF('JMF Input'!F11>0,ROUND('JMF Input'!E11/'JMF Input'!F11,5),0)+IF('JMF Input'!F12>0,ROUND('JMF Input'!E12/'JMF Input'!F12,5),0)+IF('JMF Input'!F13>0,ROUND('JMF Input'!E13/'JMF Input'!F13,5),0)+IF('JMF Input'!F14>0,ROUND('JMF Input'!E14/'JMF Input'!F14,5),0)+IF('JMF Input'!F15>0,ROUND('JMF Input'!E15/'JMF Input'!F15,5),0)+IF('JMF Input'!F16>0,ROUND('JMF Input'!E16/'JMF Input'!F16,5),0)+IF('JMF Input'!F17>0,ROUND('JMF Input'!E17/'JMF Input'!F17,5),0)+IF('JMF Input'!F18>0,ROUND('JMF Input'!E18/'JMF Input'!F18,5),0)+IF('JMF Input'!F19>0,ROUND('JMF Input'!E19/'JMF Input'!F19,5),0)+IF('JMF Input'!F20>0,ROUND('JMF Input'!E20/'JMF Input'!F20,5),0)),setup!M24),0)","v":0},null,"% AC in RAP"]
["Extracted %AC",null,{"$f":"J37","v":0},null,{"$f":"JMF!H56","v":""},{"$f":"JMF!N56 & \" \" & JMF!P56  & \" \" & JMF!Q56","v":"6.5 -- "},null,null,"GCA",{"$f":"IF(SUM(F11:F20)>0,ROUND(SUMIF(O11:O20,\"Coarse\",E11:E20)/(IF(AND('JMF Input'!F11>0,O11=\"Coarse\"),ROUND('JMF Input'!E11/'JMF Input'!F11,5),0)+IF(AND('JMF Input'!F12>0,O12=\"Coarse\"),ROUND('JMF Input'!E12/'JMF Input'!F12,5),0)+IF(AND('JMF Input'!F13>0,O13=\"Coarse\"),ROUND('JMF Input'!E13/'JMF Input'!F13,5),0)+IF(AND('JMF Input'!F14>0, O14=\"Coarse\"),ROUND('JMF Input'!E14/'JMF Input'!F14,5),0)+IF(AND('JMF Input'!F15>0,O15=\"Coarse\"),ROUND('JMF Input'!E15/'JMF Input'!F15,5),0)+IF(AND('JMF Input'!F16>0, O16=\"Coarse\"),ROUND('JMF Input'!E16/'JMF Input'!F16,5),0)+IF(AND('JMF Input'!F17>0, O17=\"Coarse\"),ROUND('JMF Input'!E17/'JMF Input'!F17,5),0)+IF(AND('JMF Input'!F18>0,O18=\"Coarse\"),ROUND('JMF Input'!E18/'JMF Input'!F18,5),0)+IF(AND('JMF Input'!F19>0,O19=\"Coarse\"),ROUND('JMF Input'!E19/'JMF Input'!F19,5),0)+IF(AND('JMF Input'!F20>0,O20=\"Coarse\"),ROUND('JMF Input'!E20/'JMF Input'!F20,5),0)),setup!M24),0)","v":0},null,"% MixRap Agg",{"$f":"IF(M35>0, M38-M41, \"\")","v":""},{"$f":"IF(N35>0, N38-N41, \"\")","v":""}]
[null,null,null,null,null,null,null,null,"PCA",{"$f":"SUMIF(O11:O20,\"Coarse\",E11:E20)","v":0},null,"% MixRap AC",{"$f":"IF(M35>0, ROUND(M39*M38/100,1), \"\")","v":""},{"$f":"IF(N35>0, ROUND(N39*N38/100,1), \"\")","v":""}]
[null,null,null,null,null,null,null,null,"Comp Temp"]
[]
["Remarks:"]
[{"$f":"setup!S2","v":"LaPave 501 v16.04.04"},null,null,null,null,null,null,null,null,null,null,{"$f":"TODAY()","v":"2023-03-31"}]

{"sheet":"JMF","index":8,"n_rows":66,"n_cols":37,"rows_kept":66,"cut":false,"hidden":false,"merged":[[65,26,65,29],[63,18,63,22],[63,23,63,27],[61,17,61,29],[10,17,11,17],[10,18,11,18],[16,15,16,16],[17,15,17,16],[20,15,20,16],[15,28,15,29],[16,28,16,29],[16,25,16,26],[15,22,15,24],[15,25,15,26],[30,27,30,28],[60,18,60,27],[10,28,11,29],[14,22,14,24],[10,25,11,26],[19,19,19,21],[38,18,38,27],[35,17,35,22],[35,25,35,28],[29,15,29,16],[14,25,14,26],[13,25,13,26],[14,28,14,29],[13,0,13,2],[13,28,13,29],[7,21,7,27],[14,0,14,2],[13,19,13,21],[14,19,14,21],[13,15,13,16],[14,15,14,16],[14,3,14,5],[13,22,13,24],[10,22,11,24],[7,12,7,16],[10,0,11,2],[10,19,11,21],[8,21,8,27],[7,3,7,9],[7,0,7,2],[12,28,12,29],[12,19,12,21],[12,22,12,24],[12,25,12,26],[61,0,61,2],[59,0,59,2],[59,3,59,6],[59,10,59,11],[17,0,17,2],[20,0,20,2],[20,3,20,5],[18,0,18,2],[34,0,34,2],[22,3,22,5],[29,0,29,3],[28,4,28,7],[27,0,27,3],[27,4,27,7],[28,0,28,3],[58,3,58,6],[58,0,58,2],[57,0,57,2],[57,3,57,6],[17,3,17,5],[45,0,45,2],[43,3,43,6],[43,0,43,2],[37,0,37,2],[0,28,0,31],[1,8,1,21],[0,0,0,27],[2,2,2,6],[4,28,4,29],[6,10,6,11],[3,0,3,2],[6,3,6,4],[6,22,6,24],[3,3,3,6],[6,15,6,16],[6,0,6,2],[5,1,5,4],[5,27,5,29],[4,7,4,10],[5,16,5,17],[5,21,5,23],[2,8,3,9],[2,10,3,21],[4,22,4,25],[4,26,4,27],[16,3,16,5],[2,22,3,24],[2,25,3,29],[15,3,15,5],[40,13,40,14],[16,13,16,14],[37,7,37,9],[29,4,29,7],[19,3,19,5],[22,6,22,9],[38,10,38,11],[10,3,11,5],[34,17,34,26],[30,23,30,26],[22,28,22,29],[22,19,22,21],[26,27,26,28],[29,27,29,28],[21,19,21,21],[24,17,24,29],[27,23,27,26],[26,21,26,26],[27,27,27,28],[22,22,22,24],[22,25,22,26],[47,7,47,9],[46,7,46,9],[10,15,11,16],[59,13,59,14],[59,7,59,9],[57,7,57,9],[56,7,56,9],[38,13,38,14],[32,13,32,16],[14,13,14,14],[15,13,15,14],[19,15,19,16],[15,15,15,16],[18,15,18,16],[12,6,12,12],[10,6,11,12],[10,13,11,14],[25,15,26,16],[21,15,21,16],[28,15,28,16],[27,15,27,16],[30,4,30,7],[25,4,25,7],[30,15,30,16],[15,0,15,2],[21,13,21,14],[13,13,13,14],[13,3,13,5],[19,13,19,14],[20,13,20,14],[17,13,17,14],[18,13,18,14],[21,0,21,2],[19,0,19,2],[16,0,16,2],[21,3,21,5],[19,6,19,12],[18,6,18,12],[17,6,17,12],[16,6,16,12],[15,6,15,12],[14,6,14,12],[13,6,13,12],[21,6,21,12],[20,6,20,12],[18,3,18,5],[25,0,26,3],[21,33,21,34],[17,22,17,24],[18,22,18,24],[19,22,19,24],[21,25,21,26],[20,28,20,29],[19,28,19,29],[20,22,20,24],[21,22,21,24],[17,25,17,26],[18,28,18,29],[18,25,18,26],[17,28,17,29],[19,25,19,26],[20,25,20,26],[21,28,21,29],[30,0,30,3],[30,8,30,10],[37,10,37,11],[34,3,34,6],[36,10,36,11],[38,3,38,6],[31,0,31,3],[31,8,31,10],[30,12,30,14],[34,10,34,11],[36,3,36,6],[34,13,34,14],[33,10,33,11],[37,13,37,14],[27,8,27,14],[29,21,29,26],[20,19,20,21],[24,0,24,16],[38,0,38,2],[32,33,32,34],[34,27,34,28],[31,12,31,14],[37,3,37,6],[33,13,33,16],[36,7,36,9],[35,0,35,2],[35,3,35,6],[35,7,35,9],[35,10,35,11],[35,13,35,14],[36,0,36,2],[34,7,34,9],[31,4,31,7],[36,13,36,14],[33,0,33,2],[33,3,33,6],[33,7,33,9],[32,7,32,12],[39,10,39,11],[39,3,39,6],[39,17,39,29],[22,0,22,2],[22,10,22,11],[38,7,38,9],[39,7,39,9],[43,13,43,14],[39,13,39,14],[39,0,39,2],[40,3,40,6],[40,10,40,11],[40,7,40,9],[43,10,43,11],[41,7,41,9],[42,28,42,29],[43,21,43,24],[41,13,41,14],[42,13,42,14],[28,8,28,14],[25,8,26,14],[26,4,26,7],[31,15,31,16],[29,8,29,14],[57,28,57,29],[44,21,44,26],[47,17,47,29],[44,18,44,19],[44,13,44,14],[44,10,44,11],[44,3,44,6],[44,7,44,9],[45,7,45,9],[45,3,45,6],[45,10,45,11],[46,18,46,27],[53,7,53,9],[53,10,53,11],[49,28,49,29],[50,28,50,29],[49,10,49,11],[49,7,49,9],[50,25,50,27],[56,23,56,27],[54,28,54,29],[56,28,56,29],[45,13,45,14],[47,10,47,11],[58,18,58,26],[52,13,52,14],[54,7,54,9],[52,18,52,19],[54,17,54,27],[55,7,55,9],[54,10,54,11],[55,10,55,11],[58,13,58,16],[56,13,56,14],[57,13,57,14],[58,10,58,11],[57,10,57,11],[56,21,56,22],[52,7,52,9],[57,18,57,24],[56,10,56,11],[54,0,54,2],[54,3,54,6],[55,3,55,6],[48,7,48,9],[52,0,52,2],[55,13,55,14],[51,21,51,24],[52,21,52,26],[54,13,54,14],[53,0,53,2],[53,3,53,6],[53,13,53,14],[48,10,48,11],[48,0,48,2],[52,10,52,11],[51,13,51,14],[52,3,52,6],[50,3,50,6],[51,3,51,6],[49,3,49,6],[49,25,49,27],[47,13,47,14],[48,13,48,14],[50,13,50,14],[46,10,46,11],[49,13,49,14],[51,7,51,9],[61,3,61,15],[62,3,62,15],[12,0,12,2],[12,3,12,5],[12,13,12,14],[12,15,12,16],[41,10,41,11],[42,7,42,9],[40,0,40,2],[41,0,41,2],[41,3,41,6],[42,10,42,11],[42,3,42,6],[43,7,43,9],[56,0,56,2],[47,3,47,6],[46,3,46,6],[49,0,49,2],[15,19,15,21],[17,19,17,21],[18,19,18,21],[16,19,16,21],[22,15,22,16],[58,28,58,29],[55,28,55,29],[16,22,16,24],[32,0,32,6],[44,0,44,2],[41,28,41,29],[46,13,46,14],[47,0,47,2],[46,0,46,2],[42,0,42,2],[48,3,48,6],[50,7,50,9],[51,0,51,2],[50,0,50,2],[56,3,56,6],[51,10,51,11],[50,10,50,11],[55,0,55,2],[58,7,58,9]]}
["Louisiana Department of Transportation and Development"]
[null,null,null,null,null,null,null,null,"JMF SUPERPAVE ASPHALTIC CONCRETE MIXTURES"]
[null,null,"Metric/English",null,null,null,null,{"$f":"IF('JMF Input'!D3=\"64-Metric\",\"M\",\"E\")","v":"E"},"Plant Code",null,{"$f":"'JMF Input'!D7","v":0},null,null,null,null,null,null,null,null,null,null,null,"SMM ID",null,null,"005601602051020"]
["Project No.",null,null,{"$f":"'JMF Input'!B3","v":0}]
[null,"Specs",{"$f":"'JMF Input'!I6","v":"2016"},null,"Plant Type",null,null,{"$f":"'JMF Input'!H4:I4","v":"3-dryer drum"},null,null,null,null,null,null,null,null,null,null,null,null,null,null,"Mix Temp ",null,null,null,{"$f":"'JMF Input'!K5","v":0}]
["ESAL",{"$f":"'JMF Input'!N3","v":{"$error":"#N/A"}},null,null,null,null,null,null,null,"Prod.Rate",{"$f":"'JMF Input'!K4","v":0},"Mix Type",{"$f":"'JMF Input'!E5","v":"OGFC"},null,null,"Mix Use",{"$f":"'JMF Input'!E6","v":0},null,null," Des.Level",null,{"$f":"'JMF Input'!F4","v":"T.L."},null,null,null,null,"Seq No",{"$f":"'JMF Input'!F3","v":0}]
["Adj. Factor",null,null,{"$f":"'JMF Input'!N4","v":{"$error":"#DIV/0!"}},null,null,null,null,null,"ADT/lane",{"$f":"'JMF Input'!K3","v":{"$error":"#N/A"}},null,null,null,"Nom.Agg.Size",{"$f":"'JMF Input'!I5","v":"0.5 in."},null,null,"AC Corr Factor",null,"AC Corr Factor",null,{"$f":"'JMF Input'!K6","v":0}]
["Project Name",null,null,{"$f":"'JMF Input'!B4","v":{"$error":"#N/A"}},null,null,null,null,null,null,"Project Cont.",null,{"$f":"'JMF Input'!B6","v":{"$error":"#N/A"}},null,null,null,null,null,"Project Engr",null,"Project Engr.",{"$f":"'JMF Input'!B5","v":{"$error":"#N/A"}}]
[]
["Aggregate"]
["Material",null,null,"Source Code",null,null,"Aggregate Type",null,null,null,null,null,null,"Aggr. %",null,"Bulk Sp Gr, Gsb",null,"Abs.","FAA","Sand Eq",null,null,"Flat& Elong",null,null,"CAA",null,"Fr.","%Ret #8"]
[null,null,null,null,null,null,null,null,null,null,null,null,null,null,null,null,null,null,null,null,null,null,null,null,null,null,null,"Rate"]
[{"$f":"IF(INDIRECT(\"'JMF Input'!O\"&RIGHT('JMF Input'!R11,2))=0, \"\", IF(INDIRECT(\"'JMF Input'!O\"&RIGHT('JMF Input'!R11,2))=\"Coarse\", \"Cr. Aggr\", IF(INDIRECT(\"'JMF Input'!O\"&RIGHT('JMF Input'!R11,2))=\"Fine\", \"Fine Aggr\",IF(INDIRECT(\"'JMF Input'!O\"&RIGHT('JMF Input'!R11,2))=\"Rap\", \"RAP Aggr\", \"Other\"))))","v":""},null,null,{"$f":"INDIRECT(\"'JMF Input'!A\"&RIGHT('JMF Input'!R11,2))","v":0},null,null,{"$f":"INDIRECT(\"'JMF Input'!B\"&RIGHT('JMF Input'!R11,2))","v":0},null,null,null,null,null,null,{"$f":"INDIRECT(\"'JMF Input'!E\"&RIGHT('JMF Input'!R11,2))","v":0},null,{"$f":"INDIRECT(\"'JMF Input'!F\"&RIGHT('JMF Input'!R11,2))","v":0},null,{"$f":"INDIRECT(\"'JMF Input'!G\"&RIGHT('JMF Input'!R11,2))","v":0},{"$f":"INDIRECT(\"'JMF Input'!H\"&RIGHT('JMF Input'!R11,2))","v":0},{"$f":"INDIRECT(\"'JMF Input'!I\"&RIGHT('JMF Input'!R11,2))","v":0},null,null,{"$f":"INDIRECT(\"'JMF Input'!J\"&RIGHT('JMF Input'!R11,2))","v":0},null,null,{"$f":"INDIRECT(\"'JMF Input'!K\"&RIGHT('JMF Input'!R11,2))","v":0},null,{"$f":"INDIRECT(\"'JMF Input'!L\"&RIGHT('JMF Input'!R11,2))","v":0},{"$f":"INDIRECT(\"'JMF Input'!M\"&RIGHT('JMF Input'!R11,2))","v":0}]
[{"$f":"IF(INDIRECT(\"'JMF Input'!O\"&RIGHT('JMF Input'!R12,2))=0, \"\", IF(INDIRECT(\"'JMF Input'!O\"&RIGHT('JMF Input'!R12,2))=\"Coarse\", \"Cr. Aggr\", IF(INDIRECT(\"'JMF Input'!O\"&RIGHT('JMF Input'!R12,2))=\"Fine\", \"Fine Aggr\",IF(INDIRECT(\"'JMF Input'!O\"&RIGHT('JMF Input'!R12,2))=\"Rap\", \"RAP Aggr\", \"Other\"))))","v":""},null,null,{"$f":"INDIRECT(\"'JMF Input'!A\"&RIGHT('JMF Input'!R12,2))","v":0},null,null,{"$f":"INDIRECT(\"'JMF Input'!B\"&RIGHT('JMF Input'!R12,2))","v":0},null,null,null,null,null,null,{"$f":"INDIRECT(\"'JMF Input'!E\"&RIGHT('JMF Input'!R12,2))","v":0},null,{"$f":"INDIRECT(\"'JMF Input'!F\"&RIGHT('JMF Input'!R12,2))","v":0},null,{"$f":"INDIRECT(\"'JMF Input'!G\"&RIGHT('JMF Input'!R12,2))","v":0},{"$f":"INDIRECT(\"'JMF Input'!H\"&RIGHT('JMF Input'!R12,2))","v":0},{"$f":"INDIRECT(\"'JMF Input'!I\"&RIGHT('JMF Input'!R12,2))","v":0},null,null,{"$f":"INDIRECT(\"'JMF Input'!J\"&RIGHT('JMF Input'!R12,2))","v":0},null,null,{"$f":"INDIRECT(\"'JMF Input'!K\"&RIGHT('JMF Input'!R12,2))","v":0},null,{"$f":"INDIRECT(\"'JMF Input'!L\"&RIGHT('JMF Input'!R12,2))","v":0},{"$f":"INDIRECT(\"'JMF Input'!M\"&RIGHT('JMF Input'!R12,2))","v":0}]
[{"$f":"IF(INDIRECT(\"'JMF Input'!O\"&RIGHT('JMF Input'!R13,2))=0, \"\", IF(INDIRECT(\"'JMF Input'!O\"&RIGHT('JMF Input'!R13,2))=\"Coarse\", \"Cr. Aggr\", IF(INDIRECT(\"'JMF Input'!O\"&RIGHT('JMF Input'!R13,2))=\"Fine\", \"Fine Aggr\",IF(INDIRECT(\"'JMF Input'!O\"&RIGHT('JMF Input'!R13,2))=\"Rap\", \"RAP Aggr\", \"Other\"))))","v":""},null,null,{"$f":"INDIRECT(\"'JMF Input'!A\"&RIGHT('JMF Input'!R13,2))","v":0},null,null,{"$f":"INDIRECT(\"'JMF Input'!B\"&RIGHT('JMF Input'!R13,2))","v":0},null,null,null,null,null,null,{"$f":"INDIRECT(\"'JMF Input'!E\"&RIGHT('JMF Input'!R13,2))","v":0},null,{"$f":"INDIRECT(\"'JMF Input'!F\"&RIGHT('JMF Input'!R13,2))","v":0},null,{"$f":"INDIRECT(\"'JMF Input'!G\"&RIGHT('JMF Input'!R13,2))","v":0},{"$f":"INDIRECT(\"'JMF Input'!H\"&RIGHT('JMF Input'!R13,2))","v":0},{"$f":"INDIRECT(\"'JMF Input'!I\"&RIGHT('JMF Input'!R13,2))","v":0},null,null,{"$f":"INDIRECT(\"'JMF Input'!J\"&RIGHT('JMF Input'!R13,2))","v":0},null,null,{"$f":"INDIRECT(\"'JMF Input'!K\"&RIGHT('JMF Input'!R13,2))","v":0},null,{"$f":"INDIRECT(\"'JMF Input'!L\"&RIGHT('JMF Input'!R13,2))","v":0},{"$f":"INDIRECT(\"'JMF Input'!M\"&RIGHT('JMF Input'!R13,2))","v":0}]
[{"$f":"IF(INDIRECT(\"'JMF Input'!O\"&RIGHT('JMF Input'!R14,2))=0, \"\", IF(INDIRECT(\"'JMF Input'!O\"&RIGHT('JMF Input'!R14,2))=\"Coarse\", \"Cr. Aggr\", IF(INDIRECT(\"'JMF Input'!O\"&RIGHT('JMF Input'!R14,2))=\"Fine\", \"Fine Aggr\",IF(INDIRECT(\"'JMF Input'!O\"&RIGHT('JMF Input'!R14,2))=\"Rap\", \"RAP Aggr\", \"Other\"))))","v":""},null,null,{"$f":"INDIRECT(\"'JMF Input'!A\"&RIGHT('JMF Input'!R14,2))","v":0},null,null,{"$f":"INDIRECT(\"'JMF Input'!B\"&RIGHT('JMF Input'!R14,2))","v":0},null,null,null,null,null,null,{"$f":"INDIRECT(\"'JMF Input'!E\"&RIGHT('JMF Input'!R14,2))","v":0},null,{"$f":"INDIRECT(\"'JMF Input'!F\"&RIGHT('JMF Input'!R14,2))","v":0},null,{"$f":"INDIRECT(\"'JMF Input'!G\"&RIGHT('JMF Input'!R14,2))","v":0},{"$f":"INDIRECT(\"'JMF Input'!H\"&RIGHT('JMF Input'!R14,2))","v":0},{"$f":"INDIRECT(\"'JMF Input'!I\"&RIGHT('JMF Input'!R14,2))","v":0},null,null,{"$f":"INDIRECT(\"'JMF Input'!J\"&RIGHT('JMF Input'!R14,2))","v":0},null,null,{"$f":"INDIRECT(\"'JMF Input'!K\"&RIGHT('JMF Input'!R14,2))","v":0},null,{"$f":"INDIRECT(\"'JMF Input'!L\"&RIGHT('JMF Input'!R14,2))","v":0},{"$f":"INDIRECT(\"'JMF Input'!M\"&RIGHT('JMF Input'!R14,2))","v":0}]
[{"$f":"IF(INDIRECT(\"'JMF Input'!O\"&RIGHT('JMF Input'!R15,2))=0, \"\", IF(INDIRECT(\"'JMF Input'!O\"&RIGHT('JMF Input'!R15,2))=\"Coarse\", \"Cr. Aggr\", IF(INDIRECT(\"'JMF Input'!O\"&RIGHT('JMF Input'!R15,2))=\"Fine\", \"Fine Aggr\",IF(INDIRECT(\"'JMF Input'!O\"&RIGHT('JMF Input'!R15,2))=\"Rap\", \"RAP Aggr\", \"Other\"))))","v":""},null,null,{"$f":"INDIRECT(\"'JMF Input'!A\"&RIGHT('JMF Input'!R15,2))","v":0},null,null,{"$f":"INDIRECT(\"'JMF Input'!B\"&RIGHT('JMF Input'!R15,2))","v":0},null,null,null,null,null,null,{"$f":"INDIRECT(\"'JMF Input'!E\"&RIGHT('JMF Input'!R15,2))","v":0},null,{"$f":"INDIRECT(\"'JMF Input'!F\"&RIGHT('JMF Input'!R15,2))","v":0},null,{"$f":"INDIRECT(\"'JMF Input'!G\"&RIGHT('JMF Input'!R15,2))","v":0},{"$f":"INDIRECT(\"'JMF Input'!H\"&RIGHT('JMF Input'!R15,2))","v":0},{"$f":"INDIRECT(\"'JMF Input'!I\"&RIGHT('JMF Input'!R15,2))","v":0},null,null,{"$f":"INDIRECT(\"'JMF Input'!J\"&RIGHT('JMF Input'!R15,2))","v":0},null,null,{"$f":"INDIRECT(\"'JMF Input'!K\"&RIGHT('JMF Input'!R15,2))","v":0},null,{"$f":"INDIRECT(\"'JMF Input'!L\"&RIGHT('JMF Input'!R15,2))","v":0},{"$f":"INDIRECT(\"'JMF Input'!M\"&RIGHT('JMF Input'!R15,2))","v":0}]
[{"$f":"IF(INDIRECT(\"'JMF Input'!O\"&RIGHT('JMF Input'!R16,2))=0, \"\", IF(INDIRECT(\"'JMF Input'!O\"&RIGHT('JMF Input'!R16,2))=\"Coarse\", \"Cr. Aggr\", IF(INDIRECT(\"'JMF Input'!O\"&RIGHT('JMF Input'!R16,2))=\"Fine\", \"Fine Aggr\",IF(INDIRECT(\"'JMF Input'!O\"&RIGHT('JMF Input'!R16,2))=\"Rap\", \"RAP Aggr\", \"Other\"))))","v":""},null,null,{"$f":"INDIRECT(\"'JMF Input'!A\"&RIGHT('JMF Input'!R16,2))","v":0},null,null,{"$f":"INDIRECT(\"'JMF Input'!B\"&RIGHT('JMF Input'!R16,2))","v":0},null,null,null,null,null,null,{"$f":"INDIRECT(\"'JMF Input'!E\"&RIGHT('JMF Input'!R16,2))","v":0},null,{"$f":"INDIRECT(\"'JMF Input'!F\"&RIGHT('JMF Input'!R16,2))","v":0},null,{"$f":"INDIRECT(\"'JMF Input'!G\"&RIGHT('JMF Input'!R16,2))","v":0},{"$f":"INDIRECT(\"'JMF Input'!H\"&RIGHT('JMF Input'!R16,2))","v":0},{"$f":"INDIRECT(\"'JMF Input'!I\"&RIGHT('JMF Input'!R16,2))","v":0},null,null,{"$f":"INDIRECT(\"'JMF Input'!J\"&RIGHT('JMF Input'!R16,2))","v":0},null,null,{"$f":"INDIRECT(\"'JMF Input'!K\"&RIGHT('JMF Input'!R16,2))","v":0},null,{"$f":"INDIRECT(\"'JMF Input'!L\"&RIGHT('JMF Input'!R16,2))","v":0},{"$f":"INDIRECT(\"'JMF Input'!M\"&RIGHT('JMF Input'!R16,2))","v":0}]
[{"$f":"IF(INDIRECT(\"'JMF Input'!O\"&RIGHT('JMF Input'!R17,2))=0, \"\", IF(INDIRECT(\"'JMF Input'!O\"&RIGHT('JMF Input'!R17,2))=\"Coarse\", \"Cr. Aggr\", IF(INDIRECT(\"'JMF Input'!O\"&RIGHT('JMF Input'!R17,2))=\"Fine\", \"Fine Aggr\",IF(INDIRECT(\"'JMF Input'!O\"&RIGHT('JMF Input'!R17,2))=\"Rap\", \"RAP Aggr\", \"Other\"))))","v":""},null,null,{"$f":"INDIRECT(\"'JMF Input'!A\"&RIGHT('JMF Input'!R17,2))","v":0},null,null,{"$f":"INDIRECT(\"'JMF Input'!B\"&RIGHT('JMF Input'!R17,2))","v":0},null,null,null,null,null,null,{"$f":"INDIRECT(\"'JMF Input'!E\"&RIGHT('JMF Input'!R17,2))","v":0},null,{"$f":"INDIRECT(\"'JMF Input'!F\"&RIGHT('JMF Input'!R17,2))","v":0},null,{"$f":"INDIRECT(\"'JMF Input'!G\"&RIGHT('JMF Input'!R17,2))","v":0},{"$f":"INDIRECT(\"'JMF Input'!H\"&RIGHT('JMF Input'!R17,2))","v":0},{"$f":"INDIRECT(\"'JMF Input'!I\"&RIGHT('JMF Input'!R17,2))","v":0},null,null,{"$f":"INDIRECT(\"'JMF Input'!J\"&RIGHT('JMF Input'!R17,2))","v":0},null,null,{"$f":"INDIRECT(\"'JMF Input'!K\"&RIGHT('JMF Input'!R17,2))","v":0},null,{"$f":"INDIRECT(\"'JMF Input'!L\"&RIGHT('JMF Input'!R17,2))","v":0},{"$f":"INDIRECT(\"'JMF Input'!M\"&RIGHT('JMF Input'!R17,2))","v":0}]
[{"$f":"IF(INDIRECT(\"'JMF Input'!O\"&RIGHT('JMF Input'!R18,2))=0, \"\", IF(INDIRECT(\"'JMF Input'!O\"&RIGHT('JMF Input'!R18,2))=\"Coarse\", \"Cr. Aggr\", IF(INDIRECT(\"'JMF Input'!O\"&RIGHT('JMF Input'!R18,2))=\"Fine\", \"Fine Aggr\",IF(INDIRECT(\"'JMF Input'!O\"&RIGHT('JMF Input'!R18,2))=\"Rap\", \"RAP Aggr\", \"Other\"))))","v":""},null,null,{"$f":"INDIRECT(\"'JMF Input'!A\"&RIGHT('JMF Input'!R18,2))","v":0},null,null,{"$f":"INDIRECT(\"'JMF Input'!B\"&RIGHT('JMF Input'!R18,2))","v":0},null,null,null,null,null,null,{"$f":"INDIRECT(\"'JMF Input'!E\"&RIGHT('JMF Input'!R18,2))","v":0},null,{"$f":"INDIRECT(\"'JMF Input'!F\"&RIGHT('JMF Input'!R18,2))","v":0},null,{"$f":"INDIRECT(\"'JMF Input'!G\"&RIGHT('JMF Input'!R18,2))","v":0},{"$f":"INDIRECT(\"'JMF Input'!H\"&RIGHT('JMF Input'!R18,2))","v":0},{"$f":"INDIRECT(\"'JMF Input'!I\"&RIGHT('JMF Input'!R18,2))","v":0},null,null,{"$f":"INDIRECT(\"'JMF Input'!J\"&RIGHT('JMF Input'!R18,2))","v":0},null,null,{"$f":"INDIRECT(\"'JMF Input'!K\"&RIGHT('JMF Input'!R18,2))","v":0},null,{"$f":"INDIRECT(\"'JMF Input'!L\"&RIGHT('JMF Input'!R18,2))","v":0},{"$f":"INDIRECT(\"'JMF Input'!M\"&RIGHT('JMF Input'!R18,2))","v":0}]
[{"$f":"IF(INDIRECT(\"'JMF Input'!O\"&RIGHT('JMF Input'!R19,2))=0, \"\", IF(INDIRECT(\"'JMF Input'!O\"&RIGHT('JMF Input'!R19,2))=\"Coarse\", \"Cr. Aggr\", IF(INDIRECT(\"'JMF Input'!O\"&RIGHT('JMF Input'!R19,2))=\"Fine\", \"Fine Aggr\",IF(INDIRECT(\"'JMF Input'!O\"&RIGHT('JMF Input'!R19,2))=\"Rap\", \"RAP Aggr\", \"Other\"))))","v":""},null,null,{"$f":"INDIRECT(\"'JMF Input'!A\"&RIGHT('JMF Input'!R19,2))","v":0},null,null,{"$f":"INDIRECT(\"'JMF Input'!B\"&RIGHT('JMF Input'!R19,2))","v":0},null,null,null,null,null,null,{"$f":"INDIRECT(\"'JMF Input'!E\"&RIGHT('JMF Input'!R19,2))","v":0},null,{"$f":"INDIRECT(\"'JMF Input'!F\"&RIGHT('JMF Input'!R19,2))","v":0},null,{"$f":"INDIRECT(\"'JMF Input'!G\"&RIGHT('JMF Input'!R19,2))","v":0},{"$f":"INDIRECT(\"'JMF Input'!H\"&RIGHT('JMF Input'!R19,2))","v":0},{"$f":"INDIRECT(\"'JMF Input'!I\"&RIGHT('JMF Input'!R19,2))","v":0},null,null,{"$f":"INDIRECT(\"'JMF Input'!J\"&RIGHT('JMF Input'!R19,2))","v":0},null,null,{"$f":"INDIRECT(\"'JMF Input'!K\"&RIGHT('JMF Input'!R19,2))","v":0},null,{"$f":"INDIRECT(\"'JMF Input'!L\"&RIGHT('JMF Input'!R19,2))","v":0},{"$f":"INDIRECT(\"'JMF Input'!M\"&RIGHT('JMF Input'!R19,2))","v":0}]
[{"$f":"IF(INDIRECT(\"'JMF Input'!O\"&RIGHT('JMF Input'!R20,2))=0, \"\", IF(INDIRECT(\"'JMF Input'!O\"&RIGHT('JMF Input'!R20,2))=\"Coarse\", \"Cr. Aggr\", IF(INDIRECT(\"'JMF Input'!O\"&RIGHT('JMF Input'!R20,2))=\"Fine\", \"Fine Aggr\",IF(INDIRECT(\"'JMF Input'!O\"&RIGHT('JMF Input'!R20,2))=\"Rap\", \"RAP Aggr\", \"Other\"))))","v":""},null,null,{"$f":"INDIRECT(\"'JMF Input'!A\"&RIGHT('JMF Input'!R20,2))","v":0},null,null,{"$f":"INDIRECT(\"'JMF Input'!B\"&RIGHT('JMF Input'!R20,2))","v":0},null,null,null,null,null,null,{"$f":"IF(INDIRECT(\"'JMF Input'!O\"&RIGHT('JMF Input'!R20,2))=0, \"\", INDIRECT(\"'JMF Input'!E\"&RIGHT('JMF Input'!R20,2)))","v":""},null,{"$f":"INDIRECT(\"'JMF Input'!F\"&RIGHT('JMF Input'!R20,2))","v":0},null,{"$f":"INDIRECT(\"'JMF Input'!G\"&RIGHT('JMF Input'!R20,2))","v":0},{"$f":"INDIRECT(\"'JMF Input'!H\"&RIGHT('JMF Input'!R20,2))","v":0},{"$f":"INDIRECT(\"'JMF Input'!I\"&RIGHT('JMF Input'!R20,2))","v":0},null,null,{"$f":"INDIRECT(\"'JMF Input'!J\"&RIGHT('JMF Input'!R20,2))","v":0},null,null,{"$f":"INDIRECT(\"'JMF Input'!K\"&RIGHT('JMF Input'!R20,2))","v":0},null,{"$f":"INDIRECT(\"'JMF Input'!L\"&RIGHT('JMF Input'!R20,2))","v":0},{"$f":"IF(INDIRECT(\"'JMF Input'!O\"&RIGHT('JMF Input'!R20,2))=0, \"\", INDIRECT(\"'JMF Input'!M\"&RIGHT('JMF Input'!R20,2)))","v":""}]
["Composite",null,null,null,null,null,null,null,null,null,null,null,null,null,"GSB",{"$f":"'JMF Input'!J39","v":0},null,{"$f":"'JMF CHECK'!I21","v":0},{"$f":"'JMF CHECK'!J21","v":""},{"$f":"'JMF CHECK'!K21","v":""},null,null,{"$f":"'JMF CHECK'!L21","v":""},null,null,{"$f":"'JMF CHECK'!M21","v":""}]
[]
["Asphalt Cement and Additives",null,null,null,null,null,null,null,null,null,null,null,null,null,null,null,null,{"$f":"IF(OR('Moisture Susceptibility Design'!B19<>\"\",'Moisture Susceptibility Design'!L19<>\"\"),\"Loaded Wheel Test\",IF(OR('Moisture Susceptibility Design'!B79<>\"\",'Moisture Susceptibility Design'!L79<>\"\"),\"Tensile Strength Ratio\",\"LWT/TSR\"))","v":"LWT/TSR"}]
["Material",null,null,null,"Source",null,null,null,"Material",null,null,null,null,null,null,"% of Mix"]
[null,null,null,null,"Code",null,null,null,null,null,null,null,null,null,null,null,null,null,"Design:",null,"Control PSI(Mpa)",{"$f":"IF(OR('Moisture Susceptibility Design'!B19<>\"\",'Moisture Susceptibility Design'!L19<>\"\"),\"No. Passes\",IF(OR('Moisture Susceptibility Design'!B79<>\"\",'Moisture Susceptibility Design'!L79<>\"\"),\"Control (psi)\",\"\"))","v":""},null,null,null,null,null,{"$f":"IF(OR('Moisture Susceptibility Design'!B19<>\"\",'Moisture Susceptibility Design'!L19<>\"\"),'Moisture Susceptibility Design'!B20,IF(OR('Moisture Susceptibility Design'!B79<>\"\",'Moisture Susceptibility Design'!L79<>\"\"),'Moisture Susceptibility Design'!B77,\"\"))","v":""}]
["Asphalt Cement",null,null,null,{"$f":"'JMF Input'!B23","v":"APS00000510"},null,null,null,{"$f":"'JMF Input'!C23","v":0},null,null,null,null,null,null,{"$f":"'JMF Input'!G23","v":0},null,null,null,null,null,null,null,{"$f":"IF(OR('Moisture Susceptibility Design'!B19<>\"\",'Moisture Susceptibility Design'!L19<>\"\"),\"Rut\",IF(OR('Moisture Susceptibility Design'!B79<>\"\",'Moisture Susceptibility Design'!L79<>\"\"),\"TSR\",\"\"))","v":""},null,null,null,{"$f":"IF(OR('Moisture Susceptibility Design'!B19<>\"\",'Moisture Susceptibility Design'!L19<>\"\"),TEXT('Moisture Susceptibility Design'!B19,\"0.00\"),IF(OR('Moisture Susceptibility Design'!B79<>\"\",'Moisture Susceptibility Design'!L79<>\"\"),TEXT('Moisture Susceptibility Design'!B79,\"0\"),\"\"))","v":""}]
["Rap Asphalt",null,null,null,{"$f":"'JMF Input'!B24","v":0},null,null,null,{"$f":"'JMF Input'!C24","v":0},null,null,null,null,null,null,{"$f":"'JMF Input'!G24","v":0}]
["Anti Strip",null,null,null,{"$f":"'JMF Input'!B25","v":"APS00003970"},null,null,null,{"$f":"'JMF Input'!C25","v":0},null,null,null,null,null,null,{"$f":"'JMF Input'!G25","v":0},null,null,"Validation:",null,"Control PSI(Mpa)",{"$f":"IF(OR('Moisture Susceptibility Design'!B19<>\"\",'Moisture Susceptibility Design'!L19<>\"\"),\"No. Passes\",IF(OR('Moisture Susceptibility Design'!B79<>\"\",'Moisture Susceptibility Design'!L79<>\"\"),\"Control (psi)\",\"\"))","v":""},null,null,null,null,null,{"$f":"IF(OR('Moisture Susceptibility Design'!B19<>\"\",'Moisture Susceptibility Design'!L19<>\"\"),'Moisture Susceptibility Design'!L20,IF(OR('Moisture Susceptibility Design'!B79<>\"\",'Moisture Susceptibility Design'!L79<>\"\"),'Moisture Susceptibility Design'!L77,\"\"))","v":""}]
[null,null,null,null,null,null,null,null,null,null,null,null,null,null,null,null,null,null,null,null,null,null,null,{"$f":"IF(OR('Moisture Susceptibility Design'!B19<>\"\",'Moisture Susceptibility Design'!L19<>\"\"),\"Rut\",IF(OR('Moisture Susceptibility Design'!B79<>\"\",'Moisture Susceptibility Design'!L79<>\"\"),\"TSR\",\"\"))","v":""},null,null,null,{"$f":"IF(OR('Moisture Susceptibility Design'!B19<>\"\",'Moisture Susceptibility Design'!L19<>\"\"),TEXT('Moisture Susceptibility Design'!L19,\"0.00\"),IF(OR('Moisture Susceptibility Design'!B79<>\"\",'Moisture Susceptibility Design'!L79<>\"\"),TEXT('Moisture Susceptibility Design'!L79,\"0\"),\"\"))","v":""}]
["JMF Yield (lb/sqyd)",null,null,null,{"$f":"'JMF CHECK'!M44","v":0}]
["DESIGN DATA",null,null,null,null,null,null,"VALIDATION DATA",null,null,null,null,null,"JMF Limits"]
["Parameter",null,null,"Submittal",null,null,null,"Average",null,null,"Std. Dev",null,null,"(per valid.avg)"]
["Gmm",null,null,{"$f":"'JMF CHECK'!B32","v":0},null,null,null,{"$f":"Validation!F7","v":""},null,null,{"$f":"Validation!G7","v":""},null,null,{"$f":"IF(H35<>\"\", H35-setup!D11, \"\")","v":""},null,"--",{"$f":"IF(H35<>\"\", H35+setup!D11, \"\")","v":""},"Submitted for Contractor By:"]
["%Gmm,Nini",null,null,{"$f":"'JMF CHECK'!B33","v":""},null,null,null,null,null,null,null,null,null,null,null,null,null,"Date Submitted",null,null,null,null,null,null,null,{"$f":"'JMF Input'!$N$5","v":"00:00:00"}]
["Drain Down",null,null,{"$f":"IF('Optimum AC Test Results'!D81<>\"\",'Optimum AC Test Results'!D81,\"\")","v":""}]
["VMA",null,null,{"$f":"'JMF CHECK'!B36","v":{"$error":"#DIV/0!"}},12.3,null,null,{"$f":"Validation!F12","v":""},null,null,{"$f":"Validation!G12","v":""}]
["VFA",null,null,{"$f":"'JMF CHECK'!B37","v":{"$error":"#DIV/0!"}},13.3,null,null,{"$f":"Validation!F13","v":""},null,null,{"$f":"Validation!G13","v":""},null,null,null,null,null,null,null,null,null,null,null,null,null,null,null,null,null,null,null,null,null,null,null,null,{"$f":"IF(AH39=\"\", \"\", IF(AK39, \"√\", \"X\"))","v":""},0]
["% Voids",null,null,{"$f":"'JMF CHECK'!B38","v":20},14.3,null,null,{"$f":"Validation!F11","v":""},null,null,{"$f":"Validation!G11","v":""},null,null,{"$f":"H40-setup!D44","v":{"$error":"#VALUE!"}},null,"--",{"$f":"H40+setup!D44","v":{"$error":"#VALUE!"}},"Technician"]
["% Design AC",null,null,{"$f":"'JMF CHECK'!B39","v":0}]
["Comp Temp",null,null,{"$f":"'JMF CHECK'!B41","v":0},null,null,null,{"$f":"Validation!F39","v":""},null,null,{"$f":"Validation!G39","v":""},null,null,{"$f":"IF(H42<>\"\", H42-setup!C17, \"\")","v":""},null,"--",{"$f":"IF(H42<>\"\", H42+setup!C17, \"\")","v":""},null,"Proposal Approved",null,"Proposal Approved:",null,null,null,null,null,"Y=Yes"]
["% DF Crushed",null,null,{"$f":"'JMF CHECK'!B42","v":0},null,null,null,{"$f":"Validation!F38","v":""},null,null,{"$f":"Validation!G38","v":""},null,null,{"$f":"IF('JMF Input'!F4=\"level A\",AG47,IF('JMF Input'!F4=\"level 1\",AH47,IF('JMF Input'!F4=\"level 2\",AI47,AJ47)))","v":98},null,"--",null,null,null,null,null,null,null,null,null,null,"N=No"]
[null,null,null,null,null,null,null,null,null,null,null,null,null,null,null,null,null,null,null,"By:"]
["1 in  (25mm)",null,null,{"$f":"'JMF CHECK'!E34","v":100},null,null,null,{"$f":"IF(Validation!F21<>\"\", ROUND(Validation!F21, 0), \"\")","v":""},null,null,{"$f":"Validation!G21","v":""},null,null,null,null,null,null,null,"Date"]
["3/4  (19mm)",null,null,{"$f":"'JMF CHECK'!E35","v":0},null,null,null,{"$f":"IF(Validation!F22<>\"\", ROUND(Validation!F22, 0), \"\")","v":""},null,null,{"$f":"Validation!G22","v":""},null,null,{"$f":"IF(H46<>\"\", H46-setup!D27, \"\")","v":""},null,"--",{"$f":"IF(H46<>\"\", IF(H46+setup!D27>100, 100, H46+setup!D27), \"\")","v":""},null,null,null,null,null,null,null,null,null,null,null,null,null,null,null,"A",1,2,3]
["1/2in  (12.5mm)",null,null,{"$f":"'JMF CHECK'!E36","v":0},null,null,null,{"$f":"IF(Validation!F23<>\"\", ROUND(Validation!F23, 0), \"\")","v":""},null,null,{"$f":"Validation!G23","v":""},null,null,{"$f":"IF(H47<>\"\", H47-setup!D28, \"\")","v":""},null,"--",{"$f":"IF(H47<>\"\", IF(H47+setup!D28>100, 100, H47+setup!D28), \"\")","v":""},null,null,null,null,null,null,null,null,null,null,null,null,null,null,null,55,75,95,98]
["3/8in  (9.5mm)",null,null,{"$f":"'JMF CHECK'!E37","v":0},null,null,null,{"$f":"IF(Validation!F24<>\"\", ROUND(Validation!F24, 0), \"\")","v":""},null,null,{"$f":"Validation!G24","v":""},null,null,{"$f":"IF(H48<>\"\", H48-setup!D29, \"\")","v":""},null,"--",{"$f":"IF(H48<>\"\", IF(H48+setup!D29>100, 100, H48+setup!D29), \"\")","v":""},"Signature"]
["No. 4 (4.75mm)",null,null,{"$f":"'JMF CHECK'!E38","v":0},null,null,null,{"$f":"IF(Validation!F25<>\"\", ROUND(Validation!F25, 0), \"\")","v":""},null,null,{"$f":"Validation!G25","v":""},null,null,{"$f":"IF(H49<>\"\", H49-setup!D30, \"\")","v":""},null,"--",{"$f":"IF(H49<>\"\", IF(H49+setup!D30>100, 100, H49+setup!D30), \"\")","v":""}]
["No. 8(2.38mm)",null,null,{"$f":"'JMF CHECK'!E39","v":0},null,null,null,{"$f":"IF(Validation!F26<>\"\", ROUND(Validation!F26, 0), \"\")","v":""},null,null,{"$f":"Validation!G26","v":""},null,null,{"$f":"IF(H50<>\"\", H50-setup!D31, \"\")","v":""},null,"--",{"$f":"IF(H50<>\"\", IF(H50+setup!D31>100, 100, H50+setup!D31), \"\")","v":""},null,"Validation Approved",null,null,null,null,null,null,"Y=Yes",null,null,"Y"]
["No.16(1.18mm)",null,null,{"$f":"'JMF CHECK'!E40","v":0},null,null,null,{"$f":"IF(Validation!F27<>\"\", ROUND(Validation!F27, 0), \"\")","v":""},null,null,{"$f":"Validation!G27","v":""},null,null,{"$f":"IF(H51<>\"\", H51-setup!D32, \"\")","v":""},null,"--",{"$f":"IF(H51<>\"\", IF(H51+setup!D32>100, 100, H51+setup!D32), \"\")","v":""},null,null,null,"Validation Approved",null,null,null,null,"N=No"]
["No.30(600um)",null,null,{"$f":"'JMF CHECK'!E41","v":0},null,null,null,{"$f":"IF(Validation!F28<>\"\", ROUND(Validation!F28, 0), \"\")","v":""},null,null,{"$f":"Validation!G28","v":""},null,null,{"$f":"IF(H52<>\"\", H52-setup!D33, \"\")","v":""},null,"--",{"$f":"IF(H52<>\"\", IF(H52+setup!D33>100, 100, H52+setup!D33), \"\")","v":""},null,null,"By:","By:"]
["No.50(300um)",null,null,{"$f":"'JMF CHECK'!E42","v":0},null,null,null,{"$f":"IF(Validation!F29<>\"\", ROUND(Validation!F29, 0), \"\")","v":""},null,null,{"$f":"Validation!G29","v":""},null,null,{"$f":"IF(H53<>\"\", H53-setup!D34, \"\")","v":""},null,"--",{"$f":"IF(H53<>\"\", IF(H53+setup!D34>100, 100, H53+setup!D34), \"\")","v":""},null,"Date",null,"Date"]
["No. 100(150um)",null,null,{"$f":"'JMF CHECK'!E43","v":0},null,null,null,{"$f":"IF(Validation!F30<>\"\", ROUND(Validation!F30, 0), \"\")","v":""},null,null,{"$f":"Validation!G30","v":""},null,null,null,null,"--"]
["No. 200(75um)",null,null,{"$f":"'JMF CHECK'!E44","v":0},null,null,null,{"$f":"IF(Validation!F31<>\"\", ROUND(Validation!F31, 1), \"\")","v":""},null,null,{"$f":"Validation!G31","v":""},null,null,{"$f":"IF(H55<>\"\", H55-setup!D36, \"\")","v":""},null,"--",{"$f":"IF(H55<>\"\", IF(H55+setup!D36>100, 100, H55+setup!D36), \"\")","v":""},"Number of Validation Attempts",null,null,null,null,null,null,null,null,null,null,1]
["% AC Extracted",null,null,{"$f":"'JMF CHECK'!E45","v":0},null,null,null,{"$f":"IF(Validation!F32<>\"\", ROUND(Validation!F32, 1), \"\")","v":""},null,null,{"$f":"Validation!G32","v":""},null,null,{"$f":"setup!B10","v":6.5},null,"--",null,null,null,null,"1 TSR ",null,null,null,null,null,null,null,"(y/n)"]
[null,null,null,null,null,null,null,null,null,null,null,null,null,null,null,null,null,null,{"$f":"IF(OR('Moisture Susceptibility Design'!B19<>\"\",'Moisture Susceptibility Design'!L19<>\"\"),\"LWT\",IF(OR('Moisture Susceptibility Design'!B79<>\"\",'Moisture Susceptibility Design'!L79<>\"\"),\"TSR\",\"\"))","v":""},{"$f":"IF(OR('Moisture Susceptibility Design'!B19<>\"\",'Moisture Susceptibility Design'!L19<>\"\"),\"=\",IF(OR('Moisture Susceptibility Design'!B79<>\"\",'Moisture Susceptibility Design'!L79<>\"\"),\"≥\",\"\"))","v":""},"3 Avg. within Jmf specs. Limits",{"$f":"IF(OR('Moisture Susceptibility Design'!B19<>\"\",'Moisture Susceptibility Design'!L19<>\"\"),\"PASS\",IF(OR('Moisture Susceptibility Design'!B79<>\"\",'Moisture Susceptibility Design'!L79<>\"\"),\"80\",\"\"))","v":""},null,". . . . . . . . . . . . . .",null,null,null,null,"Y"]
["Gse",null,null,{"$f":"'JMF CHECK'!B44","v":0},null,null,null,{"$f":"Validation!F34","v":""},null,null,{"$f":"Validation!G34","v":""}]
["Pba",null,null,{"$f":"'JMF CHECK'!B45","v":{"$error":"#DIV/0!"}},null,null,null,{"$f":"Validation!F35","v":""},null,null,{"$f":"Validation!G35","v":""},null,null,null,null,null,null,null,"Avg. within JMF spec. limits",null,null,null,null,null,null,null,null,". . . .","Y"]
["Pbe",null,null,{"$f":"'JMF CHECK'!B46","v":{"$error":"#DIV/0!"}},null,null,null,{"$f":"Validation!F36","v":""},null,null,{"$f":"Validation!G36","v":""}]
[]
["Remarks:",null,null,null,null,null,null,null,null,null,null,null,null,null,null,null,null,"Approved By"]
[null,null,null,null,null,null,null,null,null,null,null,null,null,null,null,null,null,null,null,null,"Date First Used:"]
[null,null,null,null,null,null,null,null,null,null,null,null,null,null,null,null,null,null,"Date First Used"]
[]
[{"$f":"setup!S2","v":"LaPave 501 v16.04.04"},null,null,null,null,null,null,null,null,null,null,null,null,null,null,null,null,null,null,null,null,null,null,null,null,null,{"$f":"TODAY()","v":"2023-03-31"}]

{"sheet":"JMF CHECK","index":9,"n_rows":64,"n_cols":21,"rows_kept":64,"cut":false,"hidden":false,"merged":[[2,5,2,6],[3,5,3,6],[3,8,3,9],[3,12,3,13],[5,12,5,13],[4,12,4,13],[5,4,5,6],[2,9,2,16],[4,4,4,6],[12,5,12,6],[6,12,6,13],[13,5,13,6],[19,5,19,6],[18,5,18,6],[14,5,14,6],[15,5,15,6],[16,5,16,6],[6,8,6,9],[25,2,25,6],[24,2,24,6],[23,2,23,6],[22,2,22,6],[43,10,43,11],[42,4,42,5],[33,11,34,12],[29,7,29,8],[34,4,34,5],[33,4,33,5],[32,4,32,5],[31,4,31,5],[30,4,30,5],[30,11,30,12],[29,10,29,12],[29,4,29,5],[20,0,20,3],[11,5,11,6],[9,5,9,6],[8,5,8,6],[10,5,10,6],[17,5,17,6],[20,5,20,6],[19,1,19,3],[18,1,18,3],[17,1,17,3],[16,1,16,3],[15,1,15,3],[14,1,14,3],[13,1,13,3],[12,1,12,3],[11,1,11,3],[63,13,63,15],[35,4,35,5],[44,4,44,5],[43,4,43,5],[41,4,41,5],[40,4,40,5],[39,4,39,5],[38,4,38,5],[37,4,37,5],[36,4,36,5],[48,14,48,15],[47,14,47,15],[61,1,61,15],[50,0,50,1],[49,0,49,1],[59,2,59,9],[25,11,25,12],[24,11,24,12],[23,11,23,12],[22,10,22,12],[32,11,32,12],[31,11,31,12],[26,11,27,12],[55,2,55,9],[53,2,53,9],[59,11,59,13],[55,11,55,13],[53,11,53,13],[57,2,57,9],[57,11,57,13],[10,1,10,3],[8,1,9,3],[3,1,3,2],[4,1,4,2],[5,1,5,2]]}
[null,null,null,null,null,null,"JMF SUPERPAVE FORM"]
[]
["Project No.",{"$f":"'JMF Input'!B3","v":0},"Mix Code",{"$f":"IF('JMF Input'!D3=\"26-English\",26,64)","v":26},"JMF No.",{"$f":"'JMF Input'!F3","v":0},null,null,"Plant Code",{"$f":"'JMF Input'!D7","v":0}]
["Project Name",{"$f":"'JMF Input'!B4","v":{"$error":"#N/A"}},null,null,"Design Level",{"$f":"'JMF Input'!F4","v":"T.L."},null,"Plant Type",{"$f":"'JMF Input'!H4","v":"3-dryer drum"},null,null,"Prod. Rate",{"$f":"'JMF Input'!K4","v":0}]
["Project Eng.",{"$f":"'JMF Input'!B5","v":{"$error":"#N/A"}},null,"Mix Type",{"$f":"'JMF Input'!E5","v":"OGFC"},null,null,null,"Nom Agg Size",{"$f":"'JMF Input'!I5","v":"0.5 in."},null,"Mix Temp",{"$f":"'JMF Input'!K5","v":0}]
["Submitted",{"$f":"'JMF Input'!B6","v":{"$error":"#N/A"}},null,"Mix Use",{"$f":"'JMF Input'!E6","v":0},null,null,null,"Specs",{"$f":"'JMF Input'!I6","v":"2016"},null,"Date",{"$f":"'JMF Input'!N5","v":"00:00:00"}]
["Contractor Mix #",{"$f":"'JMF Input'!B7","v":0},null,"AC Corr Factor",{"$f":"'JMF Input'!K6","v":0},null,null,"SMM Mix ID","005601602051020",null,null,"Traffic (ADT)",{"$f":"'JMF Input'!K3","v":{"$error":"#N/A"}}]
[]
["Source","Aggregate Type",null,null,"%","Apparent",null,"Bulk","Abs.","FAA","Sand Eq.","Flat & Elong","CAA","MD","FR","%Ret",null,null,null,null,"%Ret"]
["Code",null,null,null,null,"Gravity",null,"Gravity",null,"Method A","- 4.75 mm","%3:1",null,null,null,"No.4",null,null,null,null,"No.8"]
[{"$f":"'JMF Input'!A11","v":0},{"$f":"'JMF Input'!B11","v":0},null,null,{"$f":"'JMF Input'!E11","v":0},{"$f":"ROUND((100*H11)/(100-(I11*H11)),setup!M23)","v":0},null,{"$f":"'JMF Input'!F11","v":0},{"$f":"'JMF Input'!G11","v":0},{"$f":"'JMF Input'!H11","v":0},{"$f":"'JMF Input'!I11","v":0},{"$f":"'JMF Input'!J11","v":0},{"$f":"'JMF Input'!K11","v":0},{"$f":"'JMF Input'!L11","v":0},{"$f":"IF('JMF Input'!M11=\"\", 0, 'JMF Input'!M11)","v":0},{"$f":"IF('JMF Input'!N11=\"\", 0, 'JMF Input'!N11)","v":0},{"$f":"'JMF Input'!O11","v":0},null,null,null,{"$f":"IF(Q11>0, 100-'Comp. Grad. and FAA Input'!K15, 0)","v":0}]
[{"$f":"'JMF Input'!A12","v":0},{"$f":"'JMF Input'!B12","v":0},null,null,{"$f":"'JMF Input'!E12","v":0},{"$f":"ROUND((100*H12)/(100-(I12*H12)),setup!M24)","v":0},null,{"$f":"'JMF Input'!F12","v":0},{"$f":"'JMF Input'!G12","v":0},{"$f":"'JMF Input'!H12","v":0},{"$f":"'JMF Input'!I12","v":0},{"$f":"'JMF Input'!J12","v":0},{"$f":"'JMF Input'!K12","v":0},{"$f":"'JMF Input'!L12","v":0},{"$f":"IF('JMF Input'!M12=\"\", 0, 'JMF Input'!M12)","v":0},{"$f":"IF('JMF Input'!N12=\"\", 0, 'JMF Input'!N12)","v":0},{"$f":"'JMF Input'!O12","v":0},null,null,null,{"$f":"IF(Q12>0, 100-'Comp. Grad. and FAA Input'!J15, 0)","v":0}]
[{"$f":"'JMF Input'!A13","v":0},{"$f":"'JMF Input'!B13","v":0},null,null,{"$f":"'JMF Input'!E13","v":0},{"$f":"ROUND((100*H13)/(100-(I13*H13)),setup!M24)","v":0},null,{"$f":"'JMF Input'!F13","v":0},{"$f":"'JMF Input'!G13","v":0},{"$f":"'JMF Input'!H13","v":0},{"$f":"'JMF Input'!I13","v":0},{"$f":"'JMF Input'!J13","v":0},{"$f":"'JMF Input'!K13","v":0},{"$f":"'JMF Input'!L13","v":0},{"$f":"IF('JMF Input'!M13=\"\", 0, 'JMF Input'!M13)","v":0},{"$f":"IF('JMF Input'!N13=\"\", 0, 'JMF Input'!N13)","v":0},{"$f":"'JMF Input'!O13","v":0},null,null,null,{"$f":"IF(Q13>0, 100-'Comp. Grad. and FAA Input'!I15, 0)","v":0}]
[{"$f":"'JMF Input'!A14","v":0},{"$f":"'JMF Input'!B14","v":0},null,null,{"$f":"'JMF Input'!E14","v":0},{"$f":"ROUND((100*H14)/(100-(I14*H14)),setup!M24)","v":0},null,{"$f":"'JMF Input'!F14","v":0},{"$f":"'JMF Input'!G14","v":0},{"$f":"'JMF Input'!H14","v":0},{"$f":"'JMF Input'!I14","v":0},{"$f":"'JMF Input'!J14","v":0},{"$f":"'JMF Input'!K14","v":0},{"$f":"'JMF Input'!L14","v":0},{"$f":"IF('JMF Input'!M14=\"\", 0, 'JMF Input'!M14)","v":0},{"$f":"IF('JMF Input'!N14=\"\", 0, 'JMF Input'!N14)","v":0},{"$f":"'JMF Input'!O14","v":0},null,null,null,{"$f":"IF(Q14>0, 100-'Comp. Grad. and FAA Input'!H15, 0)","v":0}]
[{"$f":"'JMF Input'!A15","v":0},{"$f":"'JMF Input'!B15","v":0},null,null,{"$f":"'JMF Input'!E15","v":0},{"$f":"ROUND((100*H15)/(100-(I15*H15)),setup!M24)","v":0},null,{"$f":"'JMF Input'!F15","v":0},{"$f":"'JMF Input'!G15","v":0},{"$f":"'JMF Input'!H15","v":0},{"$f":"'JMF Input'!I15","v":0},{"$f":"'JMF Input'!J15","v":0},{"$f":"'JMF Input'!K15","v":0},{"$f":"'JMF Input'!L15","v":0},{"$f":"IF('JMF Input'!M15=\"\", 0, 'JMF Input'!M15)","v":0},{"$f":"IF('JMF Input'!N15=\"\", 0, 'JMF Input'!N15)","v":0},{"$f":"'JMF Input'!O15","v":0},null,null,null,{"$f":"IF(Q15>0, 100-'Comp. Grad. and FAA Input'!G15, 0)","v":0}]
[{"$f":"'JMF Input'!A16","v":0},{"$f":"'JMF Input'!B16","v":0},null,null,{"$f":"'JMF Input'!E16","v":0},{"$f":"ROUND((100*H16)/(100-(I16*H16)),setup!M24)","v":0},null,{"$f":"'JMF Input'!F16","v":0},{"$f":"'JMF Input'!G16","v":0},{"$f":"'JMF Input'!H16","v":0},{"$f":"'JMF Input'!I16","v":0},{"$f":"'JMF Input'!J16","v":0},{"$f":"'JMF Input'!K16","v":0},{"$f":"'JMF Input'!L16","v":0},{"$f":"IF('JMF Input'!M16=\"\", 0, 'JMF Input'!M16)","v":0},{"$f":"IF('JMF Input'!N16=\"\", 0, 'JMF Input'!N16)","v":0},{"$f":"'JMF Input'!O16","v":0},null,null,null,{"$f":"IF(Q16>0, 100-'Comp. Grad. and FAA Input'!F15, 0)","v":0}]
[{"$f":"'JMF Input'!A17","v":0},{"$f":"'JMF Input'!B17","v":0},null,null,{"$f":"'JMF Input'!E17","v":0},{"$f":"ROUND((100*H17)/(100-(I17*H17)),setup!M24)","v":0},null,{"$f":"'JMF Input'!F17","v":0},{"$f":"'JMF Input'!G17","v":0},{"$f":"'JMF Input'!H17","v":0},{"$f":"'JMF Input'!I17","v":0},{"$f":"'JMF Input'!J17","v":0},{"$f":"'JMF Input'!K17","v":0},{"$f":"'JMF Input'!L17","v":0},{"$f":"IF('JMF Input'!M17=\"\", 0, 'JMF Input'!M17)","v":0},{"$f":"IF('JMF Input'!N17=\"\", 0, 'JMF Input'!N17)","v":0},{"$f":"'JMF Input'!O17","v":0},null,null,null,{"$f":"IF(Q17>0, 100-'Comp. Grad. and FAA Input'!E15, 0)","v":0}]
[{"$f":"'JMF Input'!A18","v":0},{"$f":"'JMF Input'!B18","v":0},null,null,{"$f":"'JMF Input'!E18","v":0},{"$f":"ROUND((100*H18)/(100-(I18*H18)),setup!M24)","v":0},null,{"$f":"'JMF Input'!F18","v":0},{"$f":"'JMF Input'!G18","v":0},{"$f":"'JMF Input'!H18","v":0},{"$f":"'JMF Input'!I18","v":0},{"$f":"'JMF Input'!J18","v":0},{"$f":"'JMF Input'!K18","v":0},{"$f":"'JMF Input'!L18","v":0},{"$f":"IF('JMF Input'!M18=\"\", 0, 'JMF Input'!M18)","v":0},{"$f":"IF('JMF Input'!N18=\"\", 0, 'JMF Input'!N18)","v":0},{"$f":"'JMF Input'!O18","v":0},null,null,null,{"$f":"IF(Q18>0, 100-'Comp. Grad. and FAA Input'!D15, 0)","v":0}]
[{"$f":"'JMF Input'!A19","v":0},{"$f":"'JMF Input'!B19","v":0},null,null,{"$f":"'JMF Input'!E19","v":0},{"$f":"ROUND((100*H19)/(100-(I19*H19)),setup!M24)","v":0},null,{"$f":"'JMF Input'!F19","v":0},{"$f":"'JMF Input'!G19","v":0},{"$f":"'JMF Input'!H19","v":0},{"$f":"'JMF Input'!I19","v":0},{"$f":"'JMF Input'!J19","v":0},{"$f":"'JMF Input'!K19","v":0},{"$f":"'JMF Input'!L19","v":0},{"$f":"IF('JMF Input'!M19=\"\", 0, 'JMF Input'!M19)","v":0},{"$f":"IF('JMF Input'!N19=\"\", 0, 'JMF Input'!N19)","v":0},{"$f":"'JMF Input'!O19","v":0},null,null,null,{"$f":"IF(Q19>0, 100-'Comp. Grad. and FAA Input'!C15, 0)","v":0}]
[{"$f":"'JMF Input'!A20","v":0},{"$f":"'JMF Input'!B20","v":0},null,null,{"$f":"'JMF Input'!E20","v":0},{"$f":"ROUND((100*H20)/(100-(I20*H20)),setup!M24)","v":0},null,{"$f":"'JMF Input'!F20","v":0},{"$f":"'JMF Input'!G20","v":0},{"$f":"'JMF Input'!H20","v":0},{"$f":"'JMF Input'!I20","v":0},{"$f":"'JMF Input'!J20","v":0},null,{"$f":"'JMF Input'!L20","v":0},{"$f":"IF('JMF Input'!M20=\"\", 0, 'JMF Input'!M20)","v":0},{"$f":"IF('JMF Input'!N20=\"\", 0, 'JMF Input'!N20)","v":0},{"$f":"'JMF Input'!O20","v":0},null,null,null,{"$f":"IF(Q20>0, 100-'Comp. Grad. and FAA Input'!KB15, 0)","v":0}]
["Combined Aggregates  Properties",null,null,null,{"$f":"SUM(E11:E20)","v":0},{"$f":"ROUND((100*H21)/(100-(I21*H21)),setup!M24)","v":0},null,{"$f":"'JMF Input'!J39","v":0},{"$f":"IF(SUMIF(I12:I20,\">0\",E12:E20),ROUND((I11*E11+I12*E12+I13*E13+I14*E14+I15*E15+I16*E16+I17*E17+I18*E18+I19*E19+E20*I20)/(SUMIF(I11:I20,\">0\",E11:E20)),setup!M37),0)","v":0},{"$f":"'Comp. Grad. and FAA Input'!L26","v":""},{"$f":"IF(SUMIF(K12:K20,\">0\",E12:E20)>0,ROUND((E11*K11+E12*K12+E13*K13+E14*K14+E15*K15+E16*K16+K17*E17+K18*E18+K19*E19+E20*K20)/SUMIF(K11:K20,\">0\",E11:E20),setup!M34),\"\")","v":""},{"$f":"IF(SUMIF(E11:E20,\">0\",L11:L20)>0,ROUND((L11*E11+L12*E12+L13*E13+L14*E14+L15*E15+L16*E16+E17*L17+E18*L18+E19*L19+E20*L20)/(SUMIF(L11:L20,\">0\",E11:E20)),setup!M35),\"\")","v":""},{"$f":"IF(SUMIF(E11:E20,\">0\",M11:M20)>0,ROUND(SUM(M11*E11*U11/100, M12*E12*U12/100, M13*E13*U13/100, M14*E14*U14/100, M15*E15*U15/100, M16*E16*U16/100, M17*E17*U17/100, M18*E18*U18/100, M19*E19*U19/100, M20*E20*U20/100)/SUM(IF(M11>0,E11*U11/100,0),IF(M12>0,E12*U12/100,0),IF(M13>0,E13*U13/100,0),IF(M14>0,E14*U14/100,0),IF(M15>0,E15*U15/100,0),IF(M16>0,E16*U16/100,0),IF(M17>0,E17*U17/100,0),IF(M18>0,E18*U18/100,0),IF(M19>0,E19*U19/100,0),IF(M20>0,E20*U20/100,0)),setup!M32),\"\")","v":""},null,null,null,{"$f":"'JMF Input'!O21","v":0}]
[]
[null,"Code/Grade","Material",null,null,null,null,"%","Sp. Gravity",null,"Warm Mix Asphalt"]
[{"$f":"'JMF Input'!A23","v":"Asphalt"},{"$f":"'JMF Input'!B23","v":"APS00000510"},{"$f":"'JMF Input'!C23","v":0},null,null,null,null,{"$f":"'JMF Input'!G23","v":0},{"$f":"'JMF Input'!H23","v":1.03},null,"Warm Mix",{"$f":"'JMF Input'!K23","v":0}]
[{"$f":"'JMF Input'!A24","v":"Asp. fm. RAP"},{"$f":"'JMF Input'!B24","v":0},{"$f":"'JMF Input'!C24","v":0},null,null,null,null,{"$f":"'JMF Input'!G24","v":0},{"$f":"'JMF Input'!H24","v":1.03},null,"Method",{"$f":"IF('JMF Input'!K24=0, \"\", 'JMF Input'!K24)","v":""}]
[{"$f":"'JMF Input'!A25","v":"Anti-strip"},{"$f":"'JMF Input'!B25","v":"APS00003970"},{"$f":"'JMF Input'!C25","v":0},null,null,null,null,{"$f":"'JMF Input'!G25","v":0},{"$f":"'JMF Input'!H25","v":" "},null,"Rate",{"$f":"IF('JMF Input'!K25=0, \"\", 'JMF Input'!K25)","v":""}]
[null,null,null,null,null,null,null,null,null,null,"If Chemical",{"$f":"IF('JMF Input'!K26=0, \"\", 'JMF Input'!K26)","v":""}]
["Design Submitted by Contractor",null,null,null,null,null,null,null,null,null,"Brand Name"]
[]
["Average Volumetrics",null,null,{"$f":"'JMF Input'!B27","v":"Cold Feed"},{"$f":"'JMF Input'!C27","v":"Avg Oven Extract"},null,null,{"$f":"'JMF Input'!E27","v":"Validated Results"},null,null,"Draindown Control"]
[null,null,"Sieve",{"$f":"'JMF Input'!B28","v":"% Passing"},{"$f":"'JMF Input'!C28","v":"% Passing"},null,null,{"$f":"'JMF Input'!E28","v":"% Passing"},{"$f":"'JMF Input'!F28","v":"Tolerance"},null,"Fibers",{"$f":"'JMF Input'!K30","v":0}]
["Gmm",{"$f":"'Optimum AC Test Results'!$C$51","v":0}]
["%Gmm,Nini",{"$f":"'Optimum AC Test Results'!E64","v":""},null,null,null,null,null,null,null,null,"Rate",{"$f":"IF('JMF Input'!K31=0,\"\",'JMF Input'!K31)","v":""}]
[null,null,"1\"           25",{"$f":"'JMF Input'!B29","v":100},{"$f":"'JMF Input'!C29","v":100},null,null,{"$f":"'JMF Input'!E29","v":""},{"$f":"'JMF Input'!F29","v":"  "},null,"If Chemical",{"$f":"IF('JMF Input'!K32=0,\"\",'JMF Input'!K32)","v":""}]
["Gmb@Des,cor",{"$f":"(100-B38)*B32/100","v":0},"3/4\"        19",{"$f":"'JMF Input'!B30","v":0},{"$f":"'JMF Input'!C30","v":0},null,null,{"$f":"'JMF Input'!E30","v":""},{"$f":"'JMF Input'!F30","v":" -- "},null,"Brand Name"]
["VMA",{"$f":"ROUND((100-(B35*(100-B39))/H21),setup!M27)","v":{"$error":"#DIV/0!"}},"1/2\"      12.5",{"$f":"'JMF Input'!B31","v":0},{"$f":"'JMF Input'!C31","v":0},null,null,{"$f":"'JMF Input'!E31","v":""},{"$f":"'JMF Input'!F31","v":" -- "}]
["VFA",{"$f":"100*(B36-B38)/B36","v":{"$error":"#DIV/0!"}},"3/8\"      9.5",{"$f":"'JMF Input'!B32","v":0},{"$f":"'JMF Input'!C32","v":0},null,null,{"$f":"'JMF Input'!E32","v":""},{"$f":"'JMF Input'!F32","v":" -- "},null,null,"Rap 1","Rap 2"]
["%Voids",{"$f":"'Optimum AC Test Results'!P10","v":20},"#4       4.75",{"$f":"'JMF Input'!B33","v":0},{"$f":"'JMF Input'!C33","v":0},null,null,{"$f":"'JMF Input'!E33","v":""},{"$f":"'JMF Input'!F33","v":" -- "},null,"Type",{"$f":"IF('JMF Input'!M37>0,'JMF Input'!M37,\"\")","v":""},{"$f":"IF('JMF Input'!N37>0,'JMF Input'!N37,\"\")","v":""}]
["%DesignAC",{"$f":"'Optimum AC Test Results'!C47","v":0},"#8       2.36",{"$f":"'JMF Input'!B34","v":0},{"$f":"'JMF Input'!C34","v":0},null,null,{"$f":"'JMF Input'!E34","v":""},{"$f":"'JMF Input'!F34","v":" -- "},null,"Percent",{"$f":"IF('JMF Input'!M38>0,'JMF Input'!M38,\"\")","v":""},{"$f":"IF('JMF Input'!N38>0,'JMF Input'!N38,\"\")","v":""}]
["Gsb agg",{"$f":"H21","v":0},"#16      1.18",{"$f":"'JMF Input'!B35","v":0},{"$f":"'JMF Input'!C35","v":0},null,null,{"$f":"'JMF Input'!E35","v":""},{"$f":"'JMF Input'!F35","v":" -- "},null,"Residual%",{"$f":"IF('JMF Input'!M39>0,'JMF Input'!M39,\"\")","v":""},{"$f":"IF('JMF Input'!N39>0,'JMF Input'!N39,\"\")","v":""}]
["Comp Temp",{"$f":"'JMF Input'!J42","v":0},"#30       0.6",{"$f":"'JMF Input'!B36","v":0},{"$f":"'JMF Input'!C36","v":0},null,null,{"$f":"'JMF Input'!E36","v":""},{"$f":"'JMF Input'!F36","v":" -- "},null,"Agg %",{"$f":"IF('JMF Input'!M40>0,'JMF Input'!M40,\"\")","v":""},{"$f":"IF('JMF Input'!N40>0,'JMF Input'!N40,\"\")","v":""}]
["%Crushed",{"$f":"'JMF Input'!J38","v":0},"#50       0.3",{"$f":"'JMF Input'!B37","v":0},{"$f":"'JMF Input'!C37","v":0},null,null,{"$f":"'JMF Input'!E37","v":""},{"$f":"'JMF Input'!F37","v":" -- "},null,"Rap AC%",{"$f":"IF('JMF Input'!M41>0,'JMF Input'!M41,\"\")","v":""},{"$f":"IF('JMF Input'!N41>0,'JMF Input'!N41,\"\")","v":""}]
[null,null,"#100   0.15",{"$f":"'JMF Input'!B38","v":0},{"$f":"'JMF Input'!C38","v":0},null,null,{"$f":"'JMF Input'!E38","v":""}]
["Gse ",{"$f":"IF(Validation!F34<>\"\",Validation!F34,'Optimum AC Test Results'!$C$11)","v":0},"#200   0.075",{"$f":"'JMF Input'!B39","v":0},{"$f":"'JMF Input'!C39","v":0},null,null,{"$f":"'JMF Input'!E39","v":""},{"$f":"'JMF Input'!F39","v":" -- "},null,"JMF Yield (lb/sqyd)",null,{"$f":"ROUND(ROUND('JMF Input'!O26,2)*(100-'JMF CHECK'!B38)/100*'JMF CHECK'!B32*62.4*0.75,1)","v":0}]
["Pabsorb",{"$f":"ROUND((103*(B44-B40))/(B40*B44),setup!M37)","v":{"$error":"#DIV/0!"}},"% Extracted AC",null,{"$f":"'JMF Input'!C40","v":0},null,null,{"$f":"'JMF Input'!E40","v":""},{"$f":"'JMF Input'!F40","v":"6.5 -- "}]
["Pbe",{"$f":"ROUND('JMF Input'!J37-((B45*(100-J37))/100),setup!M26)","v":{"$error":"#DIV/0!"}}]
[]
["AASHTO T324",null,null,null,null,null,null,null,"AASHTO T283 as modified by PP28",null,null,null,null,null,"Gyr. Rev"]
[null,null,null,null,null,null,null,null,null,null,null,null,null,"Ndes ",{"$f":"'JMF Input'!N23","v":50}]
["Average Rut (mm)",null,{"$f":"'Moisture Susceptibility Design'!B19","v":""},null,null,null,null,null,null,"Control PSI",{"$f":"'Moisture Susceptibility Design'!B77","v":0}]
["Results (Pass/Fail)",null,{"$f":"'Moisture Susceptibility Design'!B21","v":""},null,null,null,null,null,null,"Design TSR%",{"$f":"'Moisture Susceptibility Design'!B79","v":0}]
[]
[]
["Proposal approved by:",null,null,null,null,null,null,null,null,null,"Date:"]
[]
["Validation approved by:",null,null,null,null,null,null,null,null,null,"Date:"]
[]
["Submitted for contractor by:",null,null,null,null,null,null,null,null,null,"Date:"]
[]
["Approved for this Project by:",null,null,null,null,null,null,null,null,null,"Date:"]
[]
["Remarks:",{"$f":"'JMF Input'!B44:O44","v":0}]
[]
[{"$f":"setup!S2","v":"LaPave 501 v16.04.04"},null,null,null,null,null,null,null,null,null,null,null,null,{"$f":"TODAY()","v":"2023-03-31"}]

{"sheet":"Validation Input","index":10,"n_rows":59,"n_cols":27,"rows_kept":59,"cut":false,"hidden":false,"merged":[[4,13,4,14],[37,3,37,4],[36,3,36,4],[36,9,36,10],[37,9,37,10],[36,12,36,13],[37,12,37,13],[11,12,11,13],[7,12,7,13],[8,12,8,13],[9,12,9,13],[10,12,10,13],[37,0,37,1],[36,0,36,1],[35,0,35,1],[37,6,37,7],[36,6,36,7],[35,6,35,7],[44,5,44,6],[49,16,49,17],[13,3,13,4],[13,9,13,10],[35,12,35,13],[40,15,40,16],[41,15,41,16],[34,20,35,22],[0,0,0,14],[2,7,2,8],[2,11,2,12],[1,11,1,12],[8,6,8,7],[9,6,9,7],[1,1,1,2],[2,1,2,2],[6,0,6,3],[6,6,6,9],[6,12,6,15],[7,6,7,7],[10,6,10,7],[11,6,11,7],[8,0,8,1],[1,4,1,9],[9,0,9,1],[10,0,10,1],[11,0,11,1],[7,0,7,1]]}
["VALIDATION"]
["Proj. No.",null,null,"Plant",{"$f":"'JMF Input'!$D$7","v":0},null,null,null,null,null,"Mix Type","Wearing Course",null,"Purp.Code","3-Accept."]
["Proj. Name.",{"$f":"VLOOKUP(B2, 'Project Summary'!B2:G100, 2, FALSE)","v":{"$error":"#N/A"}},null,"JMF No.",{"$f":"'JMF Input'!$F$3","v":0},"Lot No.",null,"Design level",null,{"$f":"'JMF Input'!F4","v":"T.L."},"Mix Use","ML - Wearing",null,"DATE"]
["Lot Size",null,null,"Start Date",null,null,"End Date"]
["No. Sublots",{"$f":"COUNT(K9:K9)","v":0},"%AC",{"$f":"'JMF Input'!J37","v":0},null,"Gsb",{"$f":"'JMF CHECK'!H21","v":0},null,"Ps",{"$f":"100-D5","v":100},null,"AC Corr Factor",{"$f":"'JMF Input'!K6","v":0},"JMF Yield (lb/sqyd)",null,{"$f":"'JMF CHECK'!M44","v":0}]
[]
["SUBLOT#A",null,null,null,null,null,"SUBLOT #B",null,null,null,null,null,"SUBLOT #C"]
["Rice Gravities",null,"A","B",null,null,"Rice Gravities",null,"A","B",null,null,"Rice Gravities",null,"A","B"]
[" Mix",null,null,null,null,null," Mix",null,null,null,null,null," Mix"]
["Pyc&Water",null,null,null,null,null,"Pyc&Water",null,null,null,null,null,"Pyc&Water"]
["Pyc,Water&Mix",null,null,null,"Avg Gmm",null,"Pyc,Water&Mix",null,null,null,"Avg Gmm",null,"Pyc,Water&Mix",null,null,null,"Avg Gmm"]
["Gmm",null,{"$f":"IF(C9>0,ROUND(C9/(C9+C10-C11),setup!$M$39),0)","v":0},{"$f":"IF(D9>0,ROUND(D9/(D9+D10-D11),setup!$M$39),0)","v":0},{"$f":"IF(C12>0,ROUND(IF(D12>0,AVERAGE(C12:D12),MAX(C12:D12)),setup!M39),\"\")","v":""},null,"Gmm",null,{"$f":"IF(I9>0,ROUND(I9/(I9+I10-I11),setup!$M$39),0)","v":0},{"$f":"IF(J9>0,ROUND(J9/(J9+J10-J11),setup!$M$39),0)","v":0},{"$f":"IF(I12>0,ROUND(IF(J12>0,AVERAGE(I12:J12),MAX(I12:J12)),setup!M39),\"\")","v":""},null,"Gmm",null,{"$f":"IF(O9>0,ROUND(O9/(O9+O10-O11),setup!$M$39),0)","v":0},{"$f":"IF(P9>0,ROUND(P9/(P9+P10-P11),setup!$M$39),0)","v":0},{"$f":"IF(O12>0,ROUND(IF(P12>0,AVERAGE(O12:P12),MAX(O12:P12)),setup!M39),\"\")","v":""}]
[]
["Gradation","Wt. Retained","% Passing",null,null,null,"Gradation","Wt. Retained","% Passing",null,null,null,"Gradation","Wt. Retained","% Passing",null,null,null,null,null,"Shldr 10'","1-QC","Shoulder","A","ML - Wearing",{"$f":"IF(OR(L3=Y14,L3=Y15,L3=Y19,L3=Y22,L3=Y23),92,89)","v":92},"Incidental Paving"]
["1\"         25",null,{"$f":"IF($B$28=0,\" \",ROUND(100-(B15/$B$28)*100,setup!M42))","v":" "},null,null,null,"1\"         25",null,{"$f":"IF($H$28=0,\" \",ROUND(100-(H15/$H$28)*100,setup!M42))","v":" "},null,null,null,"1\"         25",null,{"$f":"IF($N$28=0,\" \",ROUND(100-(N15/$N$28)*100,setup!M42))","v":" "},null,null,null,null,null,"Shldr <10'","2-Verif.","Travel Lane","B","ML - Binder",null,"Wearing Course"]
["3/4\"       19",null,{"$f":"IF($B$28=0,\" \",(IF(B16=0,C15,ROUND(100-(SUM($B$15:B16)/$B$28)*100,setup!M42))))","v":" "},null,"Brick 1",null,"3/4\"       19",null,{"$f":"IF($H$28=0,\" \",(IF(H16=0,I15,ROUND(100-(SUM($H$15:H16)/$H$28)*100,setup!M42))))","v":" "},null,"Brick 1",null,"3/4\"       19",null,{"$f":"IF($N$28=0,\" \",(IF(N16=0,O15,ROUND(100-(SUM($N$15:N16)/$N$28)*100,setup!M42))))","v":" "},null,"Brick 1",null,null,null,{"$f":"IF(OR(L3=\"5-Wearing Shoulder\",L3=\"11-Binder Shoulder\",L3=\"12- Base Shoulder\",L3=\"13- Patching Shoulder\"),TRUE,FALSE)","v":false},"3-Accept.",null,"C","ML - Base",null,"Binder Course"]
["1/2\"    12.5",null,{"$f":"IF($B$28=0,\" \",(IF(B17=0,C16,ROUND(100-(SUM($B$15:B17)/$B$28)*100,setup!M42))))","v":" "},"Ht @Ndes (mm)",null,null,"1/2\"    12.5",null,{"$f":"IF($H$28=0,\" \",(IF(H17=0,I16,ROUND(100-(SUM($H$15:H17)/$H$28)*100,setup!M42))))","v":" "},"Ht @Ndes (mm)",null,null,"1/2\"    12.5",null,{"$f":"IF($N$28=0,\" \",(IF(N17=0,O16,ROUND(100-(SUM($N$15:N17)/$N$28)*100,setup!M42))))","v":" "},"Ht @Ndes (mm)",null,null,null,null,null,"4-Check",null,"D","ML - Ramp >300ft",null,"Base Course"]
["3/8\"     9.5",null,{"$f":"IF($B$28=0,\" \",(IF(B18=0,C17,ROUND(100-(SUM($B$15:B18)/$B$28)*100,setup!M42))))","v":" "},{"$f":"IF($P$42=\"Volumetric\",\"Diameter (mm)\", \"Wt. in Air\")","v":"Diameter (mm)"},null,null,"3/8\"     9.5",null,{"$f":"IF($H$28=0,\" \",(IF(H18=0,I17,ROUND(100-(SUM($H$15:H18)/$H$28)*100,setup!M42))))","v":" "},{"$f":"IF($P$42=\"Volumetric\",\"Diameter (mm)\", \"Wt. in Air\")","v":"Diameter (mm)"},null,null,"3/8\"     9.5",null,{"$f":"IF($N$28=0,\" \",(IF(N18=0,O17,ROUND(100-(SUM($N$15:N18)/$N$28)*100,setup!M42))))","v":" "},{"$f":"IF($P$42=\"Volumetric\",\"Diameter (mm)\", \"Wt. in Air\")","v":"Diameter (mm)"},null,null,null,null,null,"5-Resample",null,null,"ML - Interstate acc/dec",null,"ATB"]
["#4      4.75",null,{"$f":"IF($B$28=0,\" \",(IF(B19=0,C18,ROUND(100-(SUM($B$15:B19)/$B$28)*100,setup!M42))))","v":" "},{"$f":"IF($P$42=\"Vacuum\",\"Wt. Sealed in Air\",IF($P$42=\"Volumetric\",\"Dry Wt.\",\"Wt. in Water\"))","v":"Dry Wt."},null,null,"#4      4.75",null,{"$f":"IF($H$28=0,\" \",(IF(H19=0,I18,ROUND(100-(SUM($H$15:H19)/$H$28)*100,setup!M42))))","v":" "},{"$f":"IF($P$42=\"Vacuum\",\"Wt. Sealed in Air\",IF($P$42=\"Volumetric\",\"Dry Wt.\",\"Wt. in Water\"))","v":"Dry Wt."},null,null,"#4      4.75",null,{"$f":"IF($N$28=0,\" \",(IF(N19=0,O18,ROUND(100-(SUM($N$15:N19)/$N$28)*100,setup!M42))))","v":" "},{"$f":"IF($P$42=\"Vacuum\",\"Wt. Sealed in Air\",IF($P$42=\"Volumetric\",\"Dry Wt.\",\"Wt. in Water\"))","v":"Dry Wt."},null,null,null,null,null,"6-S. Approv.",null,null,"ML - Center turn lane"]
["#8      2.36",null,{"$f":"IF($B$28=0,\" \",(IF(B20=0,C19,ROUND(100-(SUM($B$15:B20)/$B$28)*100,setup!M42))))","v":" "},{"$f":"IF($P$42=\"Volumetric\",\"\",IF($P$42=\"Vacuum\", \"Wt. Sealed in Water\", \"Wt. SSD\"))","v":""},null,null,"#8      2.36",null,{"$f":"IF($H$28=0,\" \",(IF(H20=0,I19,ROUND(100-(SUM($H$15:H20)/$H$28)*100,setup!M42))))","v":" "},{"$f":"IF($P$42=\"Volumetric\",\"\",IF($P$42=\"Vacuum\", \"Wt. Sealed in Water\", \"Wt. SSD\"))","v":""},null,null,"#8      2.36",null,{"$f":"IF($N$28=0,\" \",(IF(N20=0,O19,ROUND(100-(SUM($N$15:N20)/$N$28)*100,setup!M42))))","v":" "},{"$f":"IF($P$42=\"Volumetric\",\"\",IF($P$42=\"Vacuum\", \"Wt. Sealed in Water\", \"Wt. SSD\"))","v":""},null,null,null,null,null,"7-Design",null,null,"ML - Airport center lane"]
["#16     1.18",null,{"$f":"IF($B$28=0,\" \",(IF(B21=0,C20,ROUND(100-(SUM($B$15:B21)/$B$28)*100,setup!M42))))","v":" "},{"$f":"IF($P$42=\"Vacuum\", \"Final Wt.\", \"\")","v":""},null,null,"#16     1.18",null,{"$f":"IF($H$28=0,\" \",(IF(H21=0,I20,ROUND(100-(SUM($H$15:H21)/$H$28)*100,setup!M42))))","v":" "},{"$f":"IF($P$42=\"Vacuum\", \"Final Wt.\", \"\")","v":""},null,null,"#16     1.18",null,{"$f":"IF($N$28=0,\" \",(IF(N21=0,O20,ROUND(100-(SUM($N$15:N21)/$N$28)*100,setup!M42))))","v":" "},{"$f":"IF($P$42=\"Vacuum\", \"Final Wt.\", \"\")","v":""},null,null,null,null,null,"8-IA",null,null,"Min - Shoulder > 7ft"]
["#30      0.6",null,{"$f":"IF($B$28=0,\" \",(IF(B22=0,C21,ROUND(100-(SUM($B$15:B22)/$B$28)*100,setup!M42))))","v":" "},"Gmb",{"$f":"IF(E19>0,IF($P$42=\"Volumetric\",ROUND((E19/(PI()*(E18^2)/4*E17*0.001))/0.99707,setup!$M$9),IF($P$42=\"Vacuum\",ROUND(E18/((E21+(E19-E18))-E20-(E19-E18)/$Q$44),setup!$M$8),ROUND(E18/(E20-E19),setup!$M$8))),\"\")","v":""},null,"#30      0.6",null,{"$f":"IF($H$28=0,\" \",(IF(H22=0,I21,ROUND(100-(SUM($H$15:H22)/$H$28)*100,setup!M42))))","v":" "},"Gmb",{"$f":"IF(K19>0,IF($P$42=\"Volumetric\",ROUND((K19/(PI()*(K18^2)/4*K17*0.001))/0.99707,setup!$M$9),IF($P$42=\"Vacuum\",ROUND(K18/((K21+(K19-K18))-K20-(K19-K18)/$Q$44),setup!$M$8),ROUND(K18/(K20-K19),setup!$M$8))),\"\")","v":""},null,"#30      0.6",null,{"$f":"IF($N$28=0,\" \",(IF(N22=0,O21,ROUND(100-(SUM($N$15:N22)/$N$28)*100,setup!M42))))","v":" "},"Gmb",{"$f":"IF(Q19>0,IF($P$42=\"Volumetric\",ROUND((Q19/(PI()*(Q18^2)/4*Q17*0.001))/0.99707,setup!$M$9),IF($P$42=\"Vacuum\",ROUND(Q18/((Q21+(Q19-Q18))-Q20-(Q19-Q18)/$Q$44),setup!$M$8),ROUND(Q18/(Q20-Q19),setup!$M$8))),\"\")","v":""},null,null,null,null,"9-Pre.S.App.",null,null,"Min - Shoulder"]
["#50      0.3",null,{"$f":"IF($B$28=0,\" \",(IF(B23=0,C22,ROUND(100-(SUM($B$15:B23)/$B$28)*100,setup!M42))))","v":" "},"Voids",{"$f":"IF(E22<>\"\",ROUND(100-E22/E12*100,setup!M49),\"\")","v":""},null,"#50      0.3",null,{"$f":"IF($H$28=0,\" \",(IF(H23=0,I22,ROUND(100-(SUM($H$15:H23)/$H$28)*100,setup!M42))))","v":" "},"Voids",{"$f":"IF(K22<>\"\",ROUND(100-K22/K12*100,setup!M49),\"\")","v":""},null,"#50      0.3",null,{"$f":"IF($N$28=0,\" \",(IF(N23=0,O22,ROUND(100-(SUM($N$15:N23)/$N$28)*100,setup!M42))))","v":" "},"Voids",{"$f":"IF(Q22<>\"\",ROUND(100-Q22/Q12*100,setup!M49),\"\")","v":""},null,null,null,null,null,null,null,"Min - Patching"]
["#100  0.15",null,{"$f":"IF($B$28=0,\" \",(IF(B24=0,C23,ROUND(100-(SUM($B$15:B24)/$B$28)*100,setup!M42))))","v":" "},null,null,null,"#100  0.15",null,{"$f":"IF($H$28=0,\" \",(IF(H24=0,I23,ROUND(100-(SUM($H$15:H24)/$H$28)*100,setup!M42))))","v":" "},null,null,null,"#100  0.15",null,{"$f":"IF($N$28=0,\" \",(IF(N24=0,O23,ROUND(100-(SUM($N$15:N24)/$N$28)*100,setup!M42))))","v":" "},null,null,null,null,null,null,null,null,null,"Min - Leveling"]
["#200  0.075",null,{"$f":"IF($B$28=0,\" \",(IF(B25=0,C24,ROUND(100-(SUM($B$15:B25)/$B$28)*100,setup!M43))))","v":" "},"%AC Meter",null,null,"#200  0.075",null,{"$f":"IF($H$28=0,\" \",(IF(H25=0,I24,ROUND(100-(SUM($H$15:H25)/$H$28)*100,setup!M43))))","v":" "},"%AC Meter",null,null,"#200  0.075",null,{"$f":"IF($N$28=0,\" \",(IF(N25=0,O24,ROUND(100-(SUM($N$15:N25)/$N$28)*100,setup!M43))))","v":" "},"%AC Meter",null,null,null,null,null,null,null,null,"Min - Widening"]
["Pass",null,null,"Mix Temp",null,null,"Pass",null,null,"Mix Temp",null,null,"Pass",null,null,"Mix Temp",null,null,null,null,null,null,null,null,"Min - Ramp < 300ft"]
["Dec Loss",{"$f":"IF(E31>0, E31-E32,\"\")","v":""},null,"Comp Temp",null,null,"Dec Loss",{"$f":"IF(K31>0, K31-K32,\"\")","v":""},null,"Comp Temp",null,null,"Dec Loss",{"$f":"IF(Q31>0, Q31-Q32,\"\")","v":""},null,"Comp Temp",null,null,null,null,null,null,null,null,"Min - Crossover"]
["Cum. Total",{"$f":"SUM(B15:B27)","v":0},null,"Sublot Tons",null,null,"Cum. Total",{"$f":"SUM(H15:H27)","v":0},null,"Sublot Tons",null,null,"Cum. Total",{"$f":"SUM(N15:N27)","v":0},null,"Sublot Tons",null,null,null,null,null,null,null,null,"Min - Turnout"]
["%AC",{"$f":"IF(C34<>\"\", ROUND(C34-M5,setup!$M$45), \"\")","v":""},null,"Tack Coat Rate",null,null,"%AC",{"$f":"IF(I34<>\"\", ROUND(I34-M5,setup!$M$45), \"\")","v":""},null,"Tack Coat Rate",null,null,"%AC",{"$f":"IF(O34<>\"\", ROUND(O34-M5,setup!$M$45), \"\")","v":""},null,"Tack Coat Rate",null,null,null,null,null,null,null,null,"Min - Miscellaneous"]
["Crushed",{"$f":"IF(SUM(B15:B19)>0, ROUND(E34/SUM(B15:B19)*100,0),\"\")","v":""},null,null,null,null,"Crushed",{"$f":"IF(SUM(H15:H19)>0, ROUND(K34/SUM(H15:H19)*100,0),\"\")","v":""},null,null,null,null,"Crushed",{"$f":"IF(SUM(N15:N19)>0, ROUND(Q34/SUM(N15:N19)*100,0),\"\")","v":""}]
[null,{"$f":"IF($U$35=\"No Oven Temp Corr.\",\"Tr. Bskt\", \"Wt of Mix\")","v":"Tr. Bskt"},null,"Int.DryWt",null,null,null,{"$f":"IF($U$35=\"No Oven Temp Corr.\",\"Tr. Bskt\", \"Wt of Mix\")","v":"Tr. Bskt"},null,"Int.DryWt",null,null,null,{"$f":"IF($U$35=\"No Oven Temp Corr.\",\"Tr. Bskt\", \"Wt of Mix\")","v":"Tr. Bskt"},null,"Int.DryWt"]
[null,{"$f":"IF($U$35=\"No Oven Temp Corr.\",\"Bskt+Mix w/AC\", \"Wt. Loss\")","v":"Bskt+Mix w/AC"},null,"AfterWash",null,null,null,{"$f":"IF($U$35=\"No Oven Temp Corr.\",\"Bskt+Mix w/AC\", \"Wt. Loss\")","v":"Bskt+Mix w/AC"},null,"AfterWash",null,null,null,{"$f":"IF($U$35=\"No Oven Temp Corr.\",\"Bskt+Mix w/AC\", \"Wt. Loss\")","v":"Bskt+Mix w/AC"},null,"AfterWash"]
[null,{"$f":"IF($U$35=\"No Oven Temp Corr.\",\"Bskt minus AC\", \"Temp. Corr.\")","v":"Bskt minus AC"},null,"% Diff",{"$f":"IF(E31>0, ROUND((E31-B28)/E31*100,1),\"\")","v":""},null,null,{"$f":"IF($U$35=\"No Oven Temp Corr.\",\"Bskt minus AC\", \"Temp. Corr.\")","v":"Bskt minus AC"},null,"% Diff",{"$f":"IF(K31>0, ROUND((K31-H28)/K31*100,1),\"\")","v":""},null,null,{"$f":"IF($U$35=\"No Oven Temp Corr.\",\"Bskt minus AC\", \"Temp. Corr.\")","v":"Bskt minus AC"},null,"% Diff",{"$f":"IF(Q31>0, ROUND((Q31-N28)/Q31*100,1),\"\")","v":""}]
[null,{"$f":"IF($U$35=\"No Oven Temp Corr.\",\"% LOSS\", \"% LOSS-Tmp. Cor.\")","v":"% LOSS"},{"$f":"IF($U$35=\"No Oven Temp Corr.\", IF(C32>0,((C32-C33)/(C32-C31))*100, \"\"), IF(C31>0, C31/C31*100-C33,\"\"))","v":""},"Wt. Crush",null,null,null,{"$f":"IF($U$35=\"No Oven Temp Corr.\",\"% LOSS\", \"% LOSS-Tmp. Cor.\")","v":"% LOSS"},{"$f":"IF($U$35=\"No Oven Temp Corr.\", IF(I32>0,((I32-I33)/(I32-I31))*100, \"\"), IF(I31>0, I31/I31*100-I33,\"\"))","v":""},"Wt. Crush",null,null,null,{"$f":"IF($U$35=\"No Oven Temp Corr.\",\"% LOSS\", \"% LOSS-Tmp. Cor.\")","v":"% LOSS"},{"$f":"IF($U$35=\"No Oven Temp Corr.\", IF(O32>0,((O32-O33)/(O32-O31))*100, \"\"), IF(O31>0, O31/O31*100-O33,\"\"))","v":""},"Wt. Crush"]
[null,null,null,null,null,null,null,null,null,null,null,null,null,null,null,null,null,null,null,null,"No Oven Temp Corr."]
["Sublot Width (ft)",null,null,null,null,null,"Sublot Width (ft)",null,null,null,null,null,"Sublot Width (ft)"]
["Sublot Length (ft)",null,null,"Theo. Yield (lb/sqyd)",null,{"$f":"IF(ROUND(ROUND(C38,2)*(100-E23)/100*E12*62.4*0.75,1)>0,ROUND(ROUND(C38,2)*(100-E23)/100*E12*62.4*0.75,1),\"\")","v":{"$error":"#VALUE!"}},"Sublot Length (ft)",null,null,"Theo. Yield (lb/sqyd)",null,{"$f":"IF(ROUND(ROUND(I38,2)*(100-K23)/100*K12*62.4*0.75,1)>0,ROUND(ROUND(I38,2)*(100-K23)/100*K12*62.4*0.75,1),\"\")","v":{"$error":"#VALUE!"}},"Sublot Length (ft)",null,null,"Theo. Yield",{"$f":"IF(ROUND(ROUND(O38,2)*(100-Q23)/100*Q12*62.4*0.75,1)>0,ROUND(ROUND(O38,2)*(100-Q23)/100*Q12*62.4*0.75,1),\"\")","v":{"$error":"#VALUE!"}}]
["Sublot Thickness (in)",null,null,"Actual Yield (lb/sqyd)",null,{"$f":"IFERROR(ROUND(E28*2000/(ROUND(C36,1)/3*ROUND(C37,1)/3),1),\"\")","v":""},"Sublot Thickness (in)",null,null,"Actual Yield (lb/sqyd)",null,{"$f":"IFERROR(ROUND(K28*2000/(ROUND(I36,1)/3*ROUND(I37,1)/3),1),\"\")","v":""},"Sublot Thickness (in)",null,null,"Actual Yield",{"$f":"IFERROR(ROUND(Q28*2000/(ROUND(O36,1)/3*ROUND(O37,1)/3),1),\"\")","v":""}]
[]
["Drain Down (AASHTO T 305)"]
["Wt. of Mix Before",null,null,null,null,null,null,null,null,null,null,null,null,null,null,"Bulk Gravity Method"]
["Wt. of Mix After",null,null,null,null,"Antistrip",0.6,null,null,null,"LWT Validation",null,null,null,null,"Volumetric"]
["Wt. of Plate",null,null,null,null,null,null,null,null,null,"Rut",{"$f":"'Moisture Susceptibility Design'!L19","v":""}]
["Wt. of Plate+Mix After",null,null,null,null,"Boil Test (DOTD TR317)",null,null,null,null,"Passes",{"$f":"'Moisture Susceptibility Design'!L20","v":5000},null,null,null,{"$f":"IF(P42=\"Vacuum\",\"Bag Grav\",\"\")","v":""}]
["Wt. of Drained Mix",{"$f":"IF(B44>0, B44-B43, IF(B42>0, B41-B42, \"\"))","v":""},{"$f":"IF(C44>0, C44-C43, IF(C42>0, C41-C42, \"\"))","v":""},"Avg % Draindown",null,"Retained Asphalt, %",null,99,null,null,"Status",{"$f":"'Moisture Susceptibility Design'!L21","v":""}]
["% Draindown",{"$f":"IF(B45<>\"\", ROUND(B45/B41*100,1), \"\")","v":""},{"$f":"IF(C45<>\"\", ROUND(C45/C41*100,1), \"\")","v":""},{"$f":"IF(B46<>\"\", AVERAGE(B46:C46), \"\")","v":""}]
[]
["Remarks:"]
[]
[{"$f":"setup!S2","v":"LaPave 501 v16.04.04"},null,null,null,null,null,null,null,null,null,null,null,null,null,null,null,{"$f":"TODAY()","v":"2023-03-31"}]
[null,null,null,null,null,null,null,null,null,null,null,null,null,null,null,null,null,null,null,null,"Bike Path"]
[null,null,null,null,null,null,null,null,null,null,null,null,null,null,null,null,null,null,null,null,"Airport Center"]
[null,null,null,null,null,null,null,null,null,null,null,null,null,null,null,null,null,null,null,null,"Airport Other"]
[null,null,null,null,null,null,null,null,null,null,null,null,null,null,null,null,null,null,null,null,"Guardrail"]
[null,null,null,null,null,null,null,null,null,null,null,null,null,null,null,null,null,null,null,null,"Driveways"]
[null,null,null,null,null,null,null,null,null,null,null,null,null,null,null,null,null,null,null,null,"Island"]
[null,null,null,null,null,null,null,null,null,null,null,null,null,null,null,null,null,null,null,null,"Incidental"]
[null,null,null,null,null,null,null,null,null,null,null,null,null,null,null,null,null,null,null,null,"Joint Repair"]
[null,null,null,null,null,null,null,null,null,null,null,null,null,null,null,null,null,null,null,null,"Other"]

{"sheet":"Validation","index":11,"n_rows":58,"n_cols":12,"rows_kept":58,"cut":false,"hidden":false,"merged":[[2,1,2,2],[2,4,2,5],[57,10,57,11],[53,0,53,2],[55,1,55,11],[53,9,53,11],[53,4,53,7],[2,7,2,11]]}
[null,null,null,null,null," SUPERPAVE VALIDATION FORM"]
[]
["Project",{"$f":"'Validation Input'!B2","v":0},null,"Mix Type",{"$f":"'JMF Input'!E5","v":"OGFC"},null,"Plant",{"$f":"'Validation Input'!E2","v":0}]
[null,null,null,null,"Lot",{"$f":"'Validation Input'!G3","v":0},"Lot Size",{"$f":"'Validation Input'!B4","v":0},"JMF No.",{"$f":"'Validation Input'!E3","v":0},"Date",{"$f":"'Validation Input'!O3","v":"00:00:00"}]
[]
[null,null,"#1","#2","#3","Mean","StDev","Min","Max","Design","Diff Design","Validate?"]
["Gmm",null,{"$f":"IF('Validation Input'!E12>0, 'Validation Input'!E12,\"\")","v":""},{"$f":"IF('Validation Input'!K12>0, 'Validation Input'!K12,\"\")","v":""},{"$f":"IF('Validation Input'!Q12>0, 'Validation Input'!Q12,\"\")","v":""},{"$f":"IF(SUM(C7:E7)>0, ROUND(AVERAGE(C7:E7),setup!M39+1),\"\")","v":""},{"$f":"IF(SUM(C7:E7)>0,ROUND(STDEV(C7:E7),setup!M39+3),\"\")","v":""},null,null,{"$f":"'Optimum AC Test Results'!O71","v":0},{"$f":"J7-F7","v":{"$error":"#VALUE!"}}]
["Gmb, ND",null,{"$f":"IF('Validation Input'!E22>0, 'Validation Input'!E22,\"\")","v":""},{"$f":"IF('Validation Input'!K22>0, 'Validation Input'!K22,\"\")","v":""},{"$f":"IF('Validation Input'!Q22>0, 'Validation Input'!Q22,\"\")","v":""},{"$f":"IF(SUM(C8:E8)>0, ROUND(AVERAGE(C8:E8),setup!$M$40+1),\"\")","v":""},{"$f":"IF(SUM(C8:E8)>0,ROUND(STDEV(C8:E8),setup!$M$40+3),\"\")","v":""},null,null,{"$f":"'Optimum AC Test Results'!E61","v":""},{"$f":"J8-F8","v":{"$error":"#VALUE!"}}]
[]
["%Gmm, ND",null,{"$f":"IF(C11<>\"\", 100-C11, \"\")","v":""},{"$f":"IF(D11<>\"\", 100-D11, \"\")","v":""},"",{"$f":"IF(SUM(C10:E10)>0, ROUND(AVERAGE(C10:E10),setup!M41+1),\"\")","v":""},{"$f":"IF(SUM(C10:E10)>0,ROUND(STDEV(C10:E10),setup!$M$41+3),\"\")","v":""},null,null,{"$f":"'Optimum AC Test Results'!E67","v":""},{"$f":"J10-F10","v":{"$error":"#VALUE!"}}]
["%Voids",null,{"$f":"IF(C8<>\"\", ROUND(100*(((C7-C8)/C7)),setup!$M$49), \"\")","v":""},{"$f":"IF(D8<>\"\", ROUND(100*(((D7-D8)/D7)),setup!$M$49), \"\")","v":""},{"$f":"IF(E8<>\"\", ROUND(100*(((E7-E8)/E7)),setup!$M$49), \"\")","v":""},{"$f":"IF(SUM(C11:E11)>0, ROUND(AVERAGE(C11:E11),setup!M49+1),\"\")","v":""},{"$f":"IF(SUM(C11:E11)>0,ROUND(STDEV(C11:E11),setup!M49+3),\"\")","v":""},{"$f":"setup!B20","v":18},{"$f":"setup!C21","v":24},{"$f":"'Optimum AC Test Results'!E69","v":""},{"$error":"#VALUE!"},{"$f":"IF(H11<>\"\",IF(F11>=H11,IF(I11<>\"\",IF(F11<=I11,\"OK\",\"Over Spec Limit\"),\"OK\"),\"Under Spec Limit\"),IF(I11<>\"\",IF(F11<=I11,\"OK\",\"Over Spec Limit\"),\"\"))","v":"Over Spec Limit"}]
["VMA",null,{"$f":"IF(C8<>\"\", ROUND(100-((C8*'Validation Input'!$J$5)/C18),setup!$M$48), \"\")","v":""},{"$f":"IF(D8<>\"\", ROUND(100-((D8*'Validation Input'!$J$5)/D18),setup!$M$48), \"\")","v":""},{"$f":"IF(E8<>\"\", ROUND(100-((E8*'Validation Input'!$J$5)/E18),setup!$M$48), \"\")","v":""},{"$f":"IF(SUM(C12:E12)>0, ROUND(AVERAGE(C12:E12),setup!M48+1),\"\")","v":""},{"$f":"IF(SUM(C12:E12)>0,ROUND(STDEV(C12:E12),setup!M48+3),\"\")","v":""},null,null,{"$f":"'Optimum AC Test Results'!E68","v":""},{"$error":"#VALUE!"}]
["VFA",null,{"$f":"IF(C12<>\"\", ROUND(100*(C12-C11)/C12,setup!$M$50), \"\")","v":""},{"$f":"IF(D12<>\"\", ROUND(100*(D12-D11)/D12,setup!$M$50), \"\")","v":""},{"$f":"IF(E12<>\"\", ROUND(100*(E12-E11)/E12,setup!$M$50), \"\")","v":""},{"$f":"IF(SUM(C13:E13)>0, ROUND(AVERAGE(C13:E13),setup!M50+1),\"\")","v":""},{"$f":"IF(SUM(C13:E13)>0,ROUND(STDEV(C13:E13),setup!M50+3),\"\")","v":""},null,null,{"$f":"'Optimum AC Test Results'!E70","v":""},{"$error":"#VALUE!"}]
[]
[]
[]
["correction factor",null,{"$f":"IF('Validation Input'!E17>0,ROUND(C8/ROUND('Validation Input'!E18/(((3.1416*150*150*'Validation Input'!E17)/4)*0.001),setup!M66),4),\"\")","v":""},{"$f":"IF('Validation Input'!K17>0,ROUND(D8/ROUND('Validation Input'!K18/(((3.1416*150*150*'Validation Input'!K17)/4)*0.001),setup!M66),4),\"\")","v":""},{"$f":"IF('Validation Input'!Q17>0,ROUND(E8/ROUND('Validation Input'!Q18/(((3.1416*150*150*'Validation Input'!Q17)/4)*0.001),setup!M66),4),\"\")","v":""},{"$f":"IF(SUM(C17:E17)>0, ROUND(AVERAGE(C17:E17),setup!$M$41+1),\"\")","v":""},{"$f":"IF(SUM(C17:E17)>0,ROUND(STDEV(C17:E17),setup!$M$41+3),\"\")","v":""}]
["Gsb agg",null,{"$f":"IF(C7<>\"\", 'Validation Input'!$G$5,\"\")","v":""},{"$f":"IF(D7<>\"\", 'Validation Input'!$G$5,\"\")","v":""},{"$f":"IF(E7<>\"\", 'Validation Input'!$G$5,\"\")","v":""},{"$f":"IF(SUM(C18:E18)>0, ROUND(AVERAGE(C18:E18),setup!$M$40+1),\"\")","v":""},{"$f":"IF(SUM(C18:E18)>0,ROUND(STDEV(C18:E18),setup!$M$40+3),\"\")","v":""},null,null,{"$f":"'Optimum AC Test Results'!C48","v":0},{"$f":"J18-F18","v":{"$error":"#VALUE!"}}]
[null,null,null,null,null,{"$f":"IF(SUM(C19:E19)>0, ROUND(AVERAGE(C19:E19),setup!$M$42+1),\"\")","v":""},{"$f":"IF(SUM(C19:E19)>0,ROUND(STDEV(C19:E19),setup!$M$42+3),\"\")","v":""}]
[null,null,null,null,null,{"$f":"IF(SUM(C20:E20)>0, ROUND(AVERAGE(C20:E20),setup!$M$42+1),\"\")","v":""},{"$f":"IF(SUM(C20:E20)>0,ROUND(STDEV(C20:E20),setup!$M$42+3),\"\")","v":""}]
["1\"               25",null,{"$f":"IF('Validation Input'!C15>0, 'Validation Input'!C15, \"\")","v":" "},{"$f":"IF('Validation Input'!I15>0,'Validation Input'!I15, \"\")","v":" "},{"$f":"IF('Validation Input'!O15>0,'Validation Input'!O15, \"\")","v":" "},{"$f":"IF(SUM(C21:E21)>0, ROUND(AVERAGE(C21:E21),setup!$M$42+1),\"\")","v":""},{"$f":"IF(SUM(C21:E21)>0,ROUND(STDEV(C21:E21),setup!$M$42+3),\"\")","v":""}]
["3/4\"            19",null,{"$f":"IF('Validation Input'!C16>0, 'Validation Input'!C16, \"\")","v":" "},{"$f":"IF('Validation Input'!I16>0,'Validation Input'!I16, \"\")","v":" "},{"$f":"IF('Validation Input'!O16>0,'Validation Input'!O16, \"\")","v":" "},{"$f":"IF(SUM(C22:E22)>0, ROUND(AVERAGE(C22:E22),setup!$M$42+1),\"\")","v":""},{"$f":"IF(SUM(C22:E22)>0,ROUND(STDEV(C22:E22),setup!$M$42+3),\"\")","v":""},null,{"$f":"'Comp. Grad. and FAA Input'!O11","v":100},{"$f":"'Comp. Grad. and FAA Input'!L11","v":0},{"$f":"J22-F22","v":{"$error":"#VALUE!"}},{"$f":"IF(H22<>\"\",IF(F22>=H22,IF(I22<>\"\",IF(F22<=I22,\"OK\",\"Over Spec Limit\"),\"OK\"),\"Under Spec Limit\"),IF(I22<>\"\",IF(F22<=I22,\"OK\",\"Over Spec Limit\"),\"\"))","v":"Over Spec Limit"}]
["1/2\"         12.5",null,{"$f":"IF('Validation Input'!C17>0, 'Validation Input'!C17, \"\")","v":" "},{"$f":"IF('Validation Input'!I17>0,'Validation Input'!I17, \"\")","v":" "},{"$f":"IF('Validation Input'!O17>0,'Validation Input'!O17, \"\")","v":" "},{"$f":"IF(SUM(C23:E23)>0, ROUND(AVERAGE(C23:E23),setup!$M$42+1),\"\")","v":""},{"$f":"IF(SUM(C23:E23)>0,ROUND(STDEV(C23:E23),setup!$M$42+3),\"\")","v":""},{"$f":"IF('Comp. Grad. and FAA Input'!N12>-1,'Comp. Grad. and FAA Input'!N12, \"\")","v":85},{"$f":"'Comp. Grad. and FAA Input'!O12","v":100},{"$f":"'Comp. Grad. and FAA Input'!L12","v":0},{"$f":"J23-F23","v":{"$error":"#VALUE!"}},"Over Spec Limit"]
["3/8\"           9.5",null,{"$f":"IF('Validation Input'!C18>0, 'Validation Input'!C18, \"\")","v":" "},{"$f":"IF('Validation Input'!I18>0,'Validation Input'!I18, \"\")","v":" "},{"$f":"IF('Validation Input'!O18>0,'Validation Input'!O18, \"\")","v":" "},{"$f":"IF(SUM(C24:E24)>0, ROUND(AVERAGE(C24:E24),setup!$M$42+1),\"\")","v":""},{"$f":"IF(SUM(C24:E24)>0,ROUND(STDEV(C24:E24),setup!$M$42+3),\"\")","v":""},{"$f":"IF('Comp. Grad. and FAA Input'!N13>-1,'Comp. Grad. and FAA Input'!N13, \"\")","v":55},{"$f":"IF('Comp. Grad. and FAA Input'!O13>-1,'Comp. Grad. and FAA Input'!O13, \"\")","v":75},{"$f":"'Comp. Grad. and FAA Input'!L13","v":0},{"$error":"#VALUE!"},{"$f":"IF(H24<>\"\",IF(F24>=H24,IF(I24<>\"\",IF(F24<=I24,\"OK\",\"Over Spec Limit\"),\"OK\"),\"Under Spec Limit\"),IF(I24<>\"\",IF(F24<=I24,\"OK\",\"Over Spec Limit\"),\"\"))","v":"Over Spec Limit"}]
["#4           4.75",null,{"$f":"IF('Validation Input'!C19>0, 'Validation Input'!C19, \"\")","v":" "},{"$f":"IF('Validation Input'!I19>0,'Validation Input'!I19, \"\")","v":" "},{"$f":"IF('Validation Input'!O19>0,'Validation Input'!O19, \"\")","v":" "},{"$f":"IF(SUM(C25:E25)>0, ROUND(AVERAGE(C25:E25),setup!$M$42+1),\"\")","v":""},{"$f":"IF(SUM(C25:E25)>0,ROUND(STDEV(C25:E25),setup!$M$42+3),\"\")","v":""},{"$f":"IF('Comp. Grad. and FAA Input'!N14>-1,'Comp. Grad. and FAA Input'!N14, \"\")","v":10},{"$f":"IF('Comp. Grad. and FAA Input'!O14>-1,'Comp. Grad. and FAA Input'!O14, \"\")","v":25},{"$f":"'Comp. Grad. and FAA Input'!L14","v":0},{"$error":"#VALUE!"},"Over Spec Limit"]
["#8           2.36",null,{"$f":"IF('Validation Input'!C20>0, 'Validation Input'!C20, \"\")","v":" "},{"$f":"IF('Validation Input'!I20>0,'Validation Input'!I20, \"\")","v":" "},{"$f":"IF('Validation Input'!O20>0,'Validation Input'!O20, \"\")","v":" "},{"$f":"IF(SUM(C26:E26)>0, ROUND(AVERAGE(C26:E26),setup!$M$42+1),\"\")","v":""},{"$f":"IF(SUM(C26:E26)>0,ROUND(STDEV(C26:E26),setup!$M$42+3),\"\")","v":""},{"$f":"IF('Comp. Grad. and FAA Input'!N15>-1,'Comp. Grad. and FAA Input'!N15, \"\")","v":5},{"$f":"IF('Comp. Grad. and FAA Input'!O15>-1,'Comp. Grad. and FAA Input'!O15, \"\")","v":13},{"$f":"'Comp. Grad. and FAA Input'!L15","v":0},{"$error":"#VALUE!"},"Over Spec Limit"]
["#16         1.18",null,{"$f":"IF('Validation Input'!C21>0, 'Validation Input'!C21, \"\")","v":" "},{"$f":"IF('Validation Input'!I21>0,'Validation Input'!I21, \"\")","v":" "},{"$f":"IF('Validation Input'!O21>0,'Validation Input'!O21, \"\")","v":" "},{"$f":"IF(SUM(C27:E27)>0, ROUND(AVERAGE(C27:E27),setup!$M$42+1),\"\")","v":""},{"$f":"IF(SUM(C27:E27)>0,ROUND(STDEV(C27:E27),setup!$M$42+3),\"\")","v":""},{"$f":"IF('Comp. Grad. and FAA Input'!N16>-1,'Comp. Grad. and FAA Input'!N16, \"\")","v":""},{"$f":"IF('Comp. Grad. and FAA Input'!O16>-1,'Comp. Grad. and FAA Input'!O16, \"\")","v":""},{"$f":"'Comp. Grad. and FAA Input'!L16","v":0},{"$error":"#VALUE!"},""]
["#30         0.60",null,{"$f":"IF('Validation Input'!C22>0, 'Validation Input'!C22, \"\")","v":" "},{"$f":"IF('Validation Input'!I22>0,'Validation Input'!I22, \"\")","v":" "},{"$f":"IF('Validation Input'!O22>0,'Validation Input'!O22, \"\")","v":" "},{"$f":"IF(SUM(C28:E28)>0, ROUND(AVERAGE(C28:E28),setup!$M$42+1),\"\")","v":""},{"$f":"IF(SUM(C28:E28)>0,ROUND(STDEV(C28:E28),setup!$M$42+3),\"\")","v":""},null,null,{"$f":"'Comp. Grad. and FAA Input'!L17","v":0},{"$error":"#VALUE!"}]
["#50         0.30",null,{"$f":"IF('Validation Input'!C23>0, 'Validation Input'!C23, \"\")","v":" "},{"$f":"IF('Validation Input'!I23>0,'Validation Input'!I23, \"\")","v":" "},{"$f":"IF('Validation Input'!O23>0,'Validation Input'!O23, \"\")","v":" "},{"$f":"IF(SUM(C29:E29)>0, ROUND(AVERAGE(C29:E29),setup!$M$42+1),\"\")","v":""},{"$f":"IF(SUM(C29:E29)>0,ROUND(STDEV(C29:E29),setup!$M$42+3),\"\")","v":""},null,null,{"$f":"'Comp. Grad. and FAA Input'!L18","v":0},{"$error":"#VALUE!"}]
["#100    0.150",null,{"$f":"IF('Validation Input'!C24>0, 'Validation Input'!C24, \"\")","v":" "},{"$f":"IF('Validation Input'!I24>0,'Validation Input'!I24, \"\")","v":" "},{"$f":"IF('Validation Input'!O24>0,'Validation Input'!O24, \"\")","v":" "},{"$f":"IF(SUM(C30:E30)>0, ROUND(AVERAGE(C30:E30),setup!$M$42+1),\"\")","v":""},{"$f":"IF(SUM(C30:E30)>0,ROUND(STDEV(C30:E30),setup!$M$42+3),\"\")","v":""}]
["#200    0.075",null,{"$f":"IF('Validation Input'!C25>0, 'Validation Input'!C25, \"\")","v":" "},{"$f":"IF('Validation Input'!I25>0,'Validation Input'!I25, \"\")","v":" "},{"$f":"IF('Validation Input'!O25>0,'Validation Input'!O25, \"\")","v":" "},{"$f":"IF(SUM(C31:E31)>0, ROUND(AVERAGE(C31:E31),setup!$M$43+1),\"\")","v":""},{"$f":"IF(SUM(C31:E31)>0,ROUND(STDEV(C31:E31),setup!$M$43+3),\"\")","v":""},{"$f":"IF('Comp. Grad. and FAA Input'!N20>-1,'Comp. Grad. and FAA Input'!N20, \"\")","v":2},{"$f":"IF('Comp. Grad. and FAA Input'!O20>-1,'Comp. Grad. and FAA Input'!O20, \"\")","v":4},{"$f":"'Comp. Grad. and FAA Input'!L20","v":0},{"$f":"J31-F31","v":{"$error":"#VALUE!"}},{"$f":"IF(H31<>\"\",IF(F31>=H31,IF(I31<>\"\",IF(F31<=I31,\"OK\",\"Over Spec Limit\"),\"OK\"),\"Under Spec Limit\"),IF(I31<>\"\",IF(F31<=I31,\"OK\",\"Over Spec Limit\"),\"\"))","v":"Over Spec Limit"}]
["%AC",null,{"$f":"IF('Validation Input'!B29<>\"\",ROUND('Validation Input'!B29,setup!M45),\"\")","v":""},{"$f":"IF('Validation Input'!H29<>\"\",ROUND('Validation Input'!H29,setup!M45),\"\")","v":""},{"$f":"IF('Validation Input'!N29<>\"\",ROUND('Validation Input'!N29,setup!M45),\"\")","v":""},{"$f":"IF(SUM(C32:E32)>0, ROUND(AVERAGE(C32:E32),setup!M45+1),\"\")","v":""},{"$f":"IF(SUM(C32:E32)>0,ROUND(STDEV(C32:E32),setup!M45+3),\"\")","v":""},{"$f":"setup!B10","v":6.5},null,null,null,{"$f":"IF(H32<>\"\",IF(F32>=H32,\"OK\",\"Under Spec Limit\"),\"\")","v":"OK"}]
[null,null,null,null,null,{"$f":"IF(SUM(C33:E33)>0, ROUND(AVERAGE(C33:E33),setup!M46+1),\"\")","v":""},{"$f":"IF(SUM(C33:E33)>0,ROUND(STDEV(C33:E33),setup!M46+3),\"\")","v":""},null,null,null,null,{"$f":"IF(F33<>\"\", IF(F33>setup!C32, \"Over Spec Limit\", IF(F33<setup!B32, \"Under Spec Limit\", \"OK\")), \"\")","v":""}]
["Gse",null,{"$f":"IF(C7<>\"\",ROUND(('Validation Input'!$J$5)/((100/C7)-('Validation Input'!$D$5/1.03)),setup!M40),\"\")","v":""},{"$f":"IF(D7<>\"\",ROUND(('Validation Input'!$J$5)/((100/D7)-('Validation Input'!$D$5/1.03)),setup!M40),\"\")","v":""},{"$f":"IF(E7<>\"\",ROUND(('Validation Input'!$J$5)/((100/E7)-('Validation Input'!$D$5/1.03)),setup!M40),\"\")","v":""},{"$f":"IF(SUM(C34:E34)>0, ROUND(AVERAGE(C34:E34),setup!M40+1),\"\")","v":""},{"$f":"IF(SUM(C34:E34)>0,ROUND(STDEV(C34:E34),setup!M40+3),\"\")","v":""}]
["Pba",null,{"$f":"IF(C18<>\"\",ROUND((103*(C34-C18))/(C18*C34),setup!$M$47),\"\")","v":""},{"$f":"IF(D18<>\"\",ROUND((103*(D34-D18))/(D18*D34),setup!$M$47),\"\")","v":""},{"$f":"IF(E18<>\"\",ROUND((103*(E34-E18))/(E18*E34),setup!$M$47),\"\")","v":""},{"$f":"IF(SUM(C35:E35)>0, ROUND(AVERAGE(C35:E35),setup!M47+1),\"\")","v":""},{"$f":"IF(SUM(C35:E35)>0,ROUND(STDEV(C35:E35),setup!M47+3),\"\")","v":""}]
["Pbe",null,{"$f":"IF(C35<>\"\",ROUND('Validation Input'!$D$5-((C35*'Validation Input'!$J$5)/100),setup!M45),\"\")","v":""},{"$f":"IF(D35<>\"\",ROUND('Validation Input'!$D$5-((D35*'Validation Input'!$J$5)/100),setup!M45),\"\")","v":""},{"$f":"IF(E35<>\"\",ROUND('Validation Input'!$D$5-((E35*'Validation Input'!$J$5)/100),setup!M45),\"\")","v":""},{"$f":"IF(SUM(C36:E36)>0, ROUND(AVERAGE(C36:E36),setup!M45+1),\"\")","v":""},{"$f":"IF(SUM(C36:E36)>0,ROUND(STDEV(C36:E36),setup!M45+3),\"\")","v":""}]
["%Antistrip",null,{"$f":"IF(C7>0,'Validation Input'!G42,\"\")","v":0.6},{"$f":"IF(D7>0,'Validation Input'!G42,\"\")","v":0.6},{"$f":"IF(E7>0,'Validation Input'!G42,\"\")","v":0.6},{"$f":"IF(SUM(C37:E37)>0, ROUND(AVERAGE(C37:E37),2),\"\")","v":0.6},{"$f":"IF(SUM(C37:E37)>0,ROUND(STDEV(C37:E37),4),\"\")","v":0}]
["%Crushed",null,{"$f":"IF('Validation Input'!B30<>\"\",'Validation Input'!B30, \"\")","v":""},{"$f":"IF('Validation Input'!H30<>\"\", 'Validation Input'!H30, \"\")","v":""},{"$f":"IF('Validation Input'!N30<>\"\", 'Validation Input'!N30, \"\")","v":""},{"$f":"IF(SUM(C38:E38)>0, ROUND(AVERAGE(C38:E38),2),\"\")","v":""},{"$f":"IF(SUM(C38:E38)>0,ROUND(STDEV(C38:E38),4),\"\")","v":""}]
["Comp Temp",null,{"$f":"IF('Validation Input'!E27>0, 'Validation Input'!E27, \"\")","v":""},{"$f":"IF('Validation Input'!K27>0, 'Validation Input'!K27, \"\")","v":""},{"$f":"IF('Validation Input'!Q27>0, 'Validation Input'!Q27, \"\")","v":""},{"$f":"IF(SUM(C39:E39)>0, ROUND(AVERAGE(C39:E39),1),\"\")","v":""},{"$f":"IF(SUM(C39:E39)>0,ROUND(STDEV(C39:E39),3),\"\")","v":""}]
["Mix Temp",null,{"$f":"'Validation Input'!E26","v":0},{"$f":"'Validation Input'!K26","v":0},{"$f":"'Validation Input'!Q26","v":0},{"$f":"IF(SUM(C40:E40)>0, ROUND(AVERAGE(C40:E40),1),\"\")","v":""},{"$f":"IF(SUM(C40:E40)>0,ROUND(STDEV(C40:E40),3),\"\")","v":""}]
["Meter AC",null,{"$f":"'Validation Input'!E25","v":0},{"$f":"'Validation Input'!K25","v":0},{"$f":"'Validation Input'!Q25","v":0},{"$f":"IF(SUM(C41:E41)>0, ROUND(AVERAGE(C41:E41),1),\"\")","v":""},{"$f":"IF(SUM(C41:E41)>0,ROUND(STDEV(C41:E41),3),\"\")","v":""}]
["Tack Coat Rate",null,{"$f":"'Validation Input'!E29","v":0},{"$f":"'Validation Input'!K29","v":0},{"$f":"'Validation Input'!K29","v":0},{"$f":"IF(SUM(C42:E42)>0, ROUND(AVERAGE(C42:E42),2),\"\")","v":""},{"$f":"IF(SUM(C42:E42)>0,ROUND(STDEV(C42:E42),3),\"\")","v":""},{"$f":"setup!B23","v":0.15},{"$f":"setup!C24","v":0.4},null,null,{"$f":"IF(H42<>\"\",IF(F42>=H42,IF(I42<>\"\",IF(F42<=I42,\"OK\",\"Over Spec Limit\"),\"OK\"),\"Under Spec Limit\"),IF(I42<>\"\",IF(F42<=I42,\"OK\",\"Over Spec Limit\"),\"\"))","v":"Over Spec Limit"}]
[]
["Antistrip",null,{"$f":"IF('Validation Input'!G42>0,'Validation Input'!G42, \"\")","v":0.6},null,null,null,null,0.6,null,null,null,{"$f":"IF(H44<>\"\",IF(C44>=H44,\"OK\",\"Under Spec Limit\"),\"\")","v":"OK"}]
["Draindown",null,{"$f":"'Validation Input'!D46","v":""},null,null,null,null,null,{"$f":"setup!C19","v":0.3},null,null,{"$f":"IF(AND(C45<>\"\",setup!C19<>\"--\"),IF(Validation!C45<=setup!C19,\"OK\",\"Over Spec Limit\"),\"\")","v":""}]
["Boil, %Ret. Asp",null,{"$f":"IF('Validation Input'!H45>0,'Validation Input'!H45,\"\")","v":99},null,null,null,null,{"$f":"setup!B22","v":90},null,null,null,{"$f":"IF(AND(C46<>\"\",setup!B22<>\"--\"),IF(Validation!C46>=setup!B22,\"OK\",\"Under Spec Limit\"),\"\")","v":"OK"}]
["LWT",null,{"$f":"'Moisture Susceptibility Design'!L19","v":""},{"$f":"IF(E47<>\"\",\"at Pass\", \"\")","v":"at Pass"},{"$f":"IF('Moisture Susceptibility Design'!L20>0,'Moisture Susceptibility Design'!L20,\"\")","v":5000},null,null,null,{"$f":"setup!C17","v":12},null,null,{"$f":"IF(C47<>\"\",IF(C47<=I47,\"OK\",\"Over Spec Limit\"),\"\")","v":""}]
[]
[]
["Tons",null,{"$f":"'Validation Input'!E28","v":0},{"$f":"'Validation Input'!K28","v":0},{"$f":"'Validation Input'!Q28","v":0}]
[]
[]
[]
["DOTD Cert. AC Plant Tech.",null,null,null,"QA Cert. Asphaltic Concrete Plant Tech.",null,null,null,null,"APPROVED BY: District Lab Engr."]
[]
["Remarks:",{"$f":"'Validation Input'!B48:O48","v":0}]
[]
[{"$f":"setup!S2","v":"LaPave 501 v16.04.04"},null,null,null,null,null,null,null,null,null,{"$f":"TODAY()","v":"2023-03-31"}]

{"sheet":"Plant Report-Val","index":12,"n_rows":55,"n_cols":22,"rows_kept":55,"cut":false,"hidden":true,"merged":[[39,2,39,5],[39,6,39,9],[39,10,39,13],[39,14,39,17],[39,18,39,21],[54,19,54,21],[54,0,54,1],[52,0,52,2],[52,15,52,21],[52,5,52,12],[42,2,42,5],[43,2,43,5],[44,2,44,5],[47,20,47,21],[47,0,47,1],[42,0,42,1],[48,1,48,21],[47,17,47,19],[43,18,43,21],[45,0,45,1],[44,18,44,21],[44,14,44,17],[44,10,44,13],[43,14,43,17],[29,0,29,1],[22,14,22,17],[22,0,22,1],[28,10,28,13],[43,10,43,13],[31,2,31,5],[22,2,22,5],[30,10,30,13],[32,10,32,13],[26,0,26,1],[26,2,26,5],[26,6,26,9],[26,10,26,13],[26,14,26,17],[39,0,39,1],[41,2,41,5],[41,6,41,9],[41,14,41,17],[42,10,42,13],[22,6,22,9],[30,6,30,9],[27,6,27,9],[28,6,28,9],[29,6,29,9],[44,0,44,1],[24,18,24,21],[46,0,46,1],[24,0,24,1],[25,0,25,1],[32,2,32,5],[42,18,42,21],[30,2,30,5],[27,0,27,1],[29,2,29,5],[28,2,28,5],[31,0,31,1],[32,0,32,1],[40,0,40,1],[38,0,38,1],[38,2,38,5],[40,2,40,5],[41,0,41,1],[43,0,43,1],[28,0,28,1],[30,0,30,1],[42,14,42,17],[42,6,42,9],[41,10,41,13],[21,18,21,21],[38,10,38,13],[40,10,40,13],[40,14,40,17],[21,10,21,13],[23,10,23,13],[24,10,24,13],[25,10,25,13],[29,18,29,21],[32,18,32,21],[38,18,38,21],[40,18,40,21],[28,18,28,21],[27,18,27,21],[32,14,32,17],[38,14,38,17],[30,18,30,21],[31,18,31,21],[22,18,22,21],[26,18,26,21],[31,10,31,13],[31,14,31,17],[41,18,41,21],[14,0,14,1],[31,6,31,9],[32,6,32,9],[0,0,0,21],[3,1,3,2],[2,18,2,21],[3,18,3,21],[2,6,2,7],[3,6,3,7],[2,13,2,14],[2,11,2,12],[3,11,3,12],[12,2,12,5],[3,13,3,14],[4,11,4,12],[4,13,4,14],[5,13,5,14],[5,11,5,12],[4,4,4,5],[6,4,6,5],[11,0,11,21],[5,18,5,19],[27,2,27,5],[15,0,15,1],[16,0,16,1],[43,6,43,9],[17,0,17,1],[34,0,37,0],[33,0,33,1],[20,2,20,5],[21,2,21,5],[17,2,17,3],[17,4,17,5],[18,0,18,1],[20,0,20,1],[19,0,19,21],[20,18,20,21],[20,6,20,9],[18,2,18,3],[21,0,21,1],[23,0,23,1],[16,4,16,5],[24,2,24,5],[25,2,25,5],[22,10,22,13],[25,14,25,17],[24,14,24,17],[2,4,2,5],[4,6,4,7],[6,2,6,3],[5,4,5,5],[6,6,6,7],[2,1,2,2],[23,2,23,5],[18,4,18,5],[23,18,23,21],[13,4,13,5],[14,4,14,5],[15,4,15,5],[18,20,18,21],[15,2,15,3],[16,2,16,3],[13,2,13,3],[14,2,14,3],[18,18,18,19],[13,20,13,21],[14,20,14,21],[16,18,16,19],[17,18,17,19],[13,18,13,19],[14,18,14,19],[17,20,17,21],[12,18,12,21],[13,6,13,7],[13,10,13,11],[12,14,12,17],[13,14,13,15],[15,18,15,19],[13,16,13,17],[14,16,14,17],[15,16,15,17],[15,20,15,21],[16,20,16,21],[15,12,15,13],[17,12,17,13],[15,14,15,15],[14,10,14,11],[12,10,12,13],[12,6,12,9],[13,8,13,9],[13,12,13,13],[14,12,14,13],[14,6,14,7],[14,8,14,9],[18,10,18,11],[16,14,16,15],[18,12,18,13],[16,10,16,11],[17,14,17,15],[17,10,17,11],[16,12,16,13],[20,10,20,13],[30,14,30,17],[27,14,27,17],[28,14,28,17],[29,14,29,17],[18,14,18,15],[17,16,17,17],[18,16,18,17],[16,16,16,17],[29,10,29,13],[44,6,44,9],[38,6,38,9],[40,6,40,9],[27,10,27,13],[4,18,4,19],[8,2,8,3],[25,18,25,21],[20,14,20,17],[21,14,21,17],[23,14,23,17],[23,6,23,9],[24,6,24,9],[25,6,25,9],[17,6,17,7],[21,6,21,9],[15,10,15,11],[18,6,18,7],[15,8,15,9],[16,8,16,9],[17,8,17,9],[18,8,18,9],[15,6,15,7],[16,6,16,7],[14,14,14,15]]}
["Superpave Asphalt Concrete Plant Report"]
[]
["Proj. No.",{"$f":"'Validation Input'!B2","v":0},null,null,"Plant",null,{"$f":"'JMF Input'!D7","v":0},null,null,null,null,"Design Level",null,{"$f":"'JMF Input'!F4","v":"T.L."},null,null,null,"Mix Type",{"$f":"'JMF Input'!E5","v":"OGFC"}]
["Proj. No.",{"$f":"'Validation Input'!B3","v":{"$error":"#N/A"}},null,null,null,"JMF No.",{"$f":"'JMF Input'!F3","v":0},null,null,null,null,"Lot No.",null,{"$f":"'Validation Input'!G3","v":0},null,null,null,"Mix Use",{"$f":"'JMF Input'!E6","v":0}]
["Lot Size",{"$f":"'Validation Input'!B4","v":0},null,null,"Start Date",null,{"$f":"'Validation Input'!E4","v":"00:00:00"},null,null,null,null,"End Date",null,{"$f":"'Validation Input'!H4","v":"00:00:00"},null,null,null,"Purpose Code",{"$f":"'Validation Input'!O2","v":"3-Accept."}]
["No. Sublots",{"$f":"'Validation Input'!B5","v":0},null,null,"%AC",null,{"$f":"'Validation Input'!D5","v":0},null,null,null,null,"Gsb",null,{"$f":"'Validation Input'!G5","v":0},null,null,null,"Ps",{"$f":"'Validation Input'!J5","v":100}]
[null,"Roadway Category",{"$f":"'Validation Input'!M4","v":0}]
[null,null,null,"exclusions/grindings",{"$f":"'Validation Input'!M5","v":0},"(yes/no)"]
[null,"IRI",{"$f":"'Validation Input'!M6","v":"00:00:00"}]
[]
[]
["Theoretical Maximum Specific Gravity, Gmm \"Rice\"  (AASHTO T209 or DOTD TR327)"]
[null,null,"Gmm1",null,null,null,"Gmm2",null,null,null,"Gmm3"]
[null,null,"A",null,"B",null,"A",null,"B",null,"A",null,"B"]
["Wt of Mix",null,{"$f":"IF('Validation Input'!C9<>\"\",'Validation Input'!C9, \"\")","v":""},null,{"$f":"IF('Validation Input'!D9<>\"\",'Validation Input'!D9, \"\")","v":""},null,{"$f":"IF('Validation Input'!I9<>\"\",'Validation Input'!I9, \"\")","v":""},null,{"$f":"IF('Validation Input'!J9<>\"\",'Validation Input'!J9, \"\")","v":""},null,{"$f":"IF('Validation Input'!O9<>\"\",'Validation Input'!O9, \"\")","v":""},null,{"$f":"IF('Validation Input'!P9<>\"\",'Validation Input'!P9, \"\")","v":""}]
["Wt of Pyc & H2O",null,{"$f":"IF('Validation Input'!C10<>\"\",'Validation Input'!C10, \"\")","v":""},null,{"$f":"IF('Validation Input'!D10<>\"\",'Validation Input'!D10, \"\")","v":""},null,{"$f":"IF('Validation Input'!I10<>\"\",'Validation Input'!I10, \"\")","v":""},null,{"$f":"IF('Validation Input'!J10<>\"\",'Validation Input'!J10, \"\")","v":""},null,{"$f":"IF('Validation Input'!O10<>\"\",'Validation Input'!O10, \"\")","v":""},null,{"$f":"IF('Validation Input'!P10<>\"\",'Validation Input'!P10, \"\")","v":""}]
["Wt of Pyc, H2O & Mix",null,{"$f":"IF('Validation Input'!C11<>\"\",'Validation Input'!C11, \"\")","v":""},null,{"$f":"IF('Validation Input'!D11<>\"\",'Validation Input'!D11, \"\")","v":""},null,{"$f":"IF('Validation Input'!I11<>\"\",'Validation Input'!I11, \"\")","v":""},null,{"$f":"IF('Validation Input'!J11<>\"\",'Validation Input'!J11, \"\")","v":""},null,{"$f":"IF('Validation Input'!O11<>\"\",'Validation Input'!O11, \"\")","v":""},null,{"$f":"IF('Validation Input'!P11<>\"\",'Validation Input'!P11, \"\")","v":""}]
["Gmm, Rice Gravity",null,{"$f":"IF('Validation Input'!C12<>\"\",'Validation Input'!C12, \"\")","v":0},null,{"$f":"IF('Validation Input'!D12<>\"\",'Validation Input'!D12, \"\")","v":0},null,{"$f":"IF('Validation Input'!I12<>\"\",'Validation Input'!I12, \"\")","v":0},null,{"$f":"IF('Validation Input'!J12<>\"\",'Validation Input'!J12, \"\")","v":0},null,{"$f":"IF('Validation Input'!O12<>\"\",'Validation Input'!O12, \"\")","v":0},null,{"$f":"IF('Validation Input'!P12<>\"\",'Validation Input'!P12, \"\")","v":0}]
["Average Gmm",null,"Gmm1=",null,{"$f":"Validation!C7","v":""},null,"Gmm2=",null,{"$f":"Validation!D7","v":""},null,"Gmm3=",null,{"$f":"Validation!E7","v":""}]
["Plant Test Properties (AASHTO T166, T209, T245/DOTD TR 304, 305, &327)"]
["Sublot No. ",null,1,null,null,null,2,null,null,null,3]
["Gmm",null,{"$f":"E19","v":""},null,null,null,{"$f":"I19","v":""},null,null,null,{"$f":"M19","v":""}]
["Ht. @ ND (mm)",null,{"$f":"IF('Validation Input'!E17>0, 'Validation Input'!E17, \"\")","v":""},null,null,null,{"$f":"IF('Validation Input'!K17>0, 'Validation Input'!K17, \"\")","v":""},null,null,null,{"$f":"IF('Validation Input'!Q17>0, 'Validation Input'!Q17, \"\")","v":""}]
[{"$f":"'Validation Input'!D18","v":"Diameter (mm)"},null,{"$f":"IF('Validation Input'!E18>0, 'Validation Input'!E18, \"\")","v":""},null,null,null,{"$f":"IF('Validation Input'!K18>0, 'Validation Input'!K18, \"\")","v":""},null,null,null,{"$f":"IF('Validation Input'!Q18>0, 'Validation Input'!Q18, \"\")","v":""}]
[{"$f":"'Validation Input'!D19","v":"Dry Wt."},null,{"$f":"IF('Validation Input'!E19>0, 'Validation Input'!E19, \"\")","v":""},null,null,null,{"$f":"IF('Validation Input'!K19>0, 'Validation Input'!K19, \"\")","v":""},null,null,null,{"$f":"IF('Validation Input'!Q19>0, 'Validation Input'!Q19, \"\")","v":""}]
[{"$f":"'Validation Input'!D20","v":""},null,{"$f":"IF('Validation Input'!E20>0, 'Validation Input'!E20, \"\")","v":""},null,null,null,{"$f":"IF('Validation Input'!K20>0, 'Validation Input'!K20, \"\")","v":""},null,null,null,{"$f":"IF('Validation Input'!Q20>0, 'Validation Input'!Q20, \"\")","v":""}]
[{"$f":"'Validation Input'!D21","v":""},null,{"$f":"IF('Validation Input'!E21>0, 'Validation Input'!E21, \"\")","v":""},null,null,null,{"$f":"IF('Validation Input'!K21>0, 'Validation Input'!K21, \"\")","v":""},null,null,null,{"$f":"IF('Validation Input'!Q21>0, 'Validation Input'!Q21, \"\")","v":""}]
["Gmb, ND",null,{"$f":"IF('Validation Input'!E22>0, 'Validation Input'!E22, \"\")","v":""},null,null,null,{"$f":"IF('Validation Input'!K22>0, 'Validation Input'!K22, \"\")","v":""},null,null,null,{"$f":"IF('Validation Input'!Q22>0, 'Validation Input'!Q22, \"\")","v":""}]
["Density",null,{"$f":"IF(C28<>\"\", ROUND(C28*62.4,1), \"\")","v":""},null,null,null,{"$f":"IF(G28<>\"\", ROUND(G28*62.4,1), \"\")","v":""},null,null,null,{"$f":"IF(K28<>\"\", ROUND(K28*62.4,1), \"\")","v":""}]
["% Gmm, ND",null,{"$f":"Validation!C10","v":""},null,null,null,{"$f":"Validation!D10","v":""},null,null,null,{"$f":"Validation!E10","v":""}]
["% Voids, Va",null,{"$f":"Validation!C11","v":""},null,null,null,{"$f":"Validation!D11","v":""},null,null,null,{"$f":"Validation!E11","v":""}]
["% VMA",null,{"$f":"Validation!C12","v":""},null,null,null,{"$f":"Validation!D12","v":""},null,null,null,{"$f":"Validation!E12","v":""}]
["% VFA",null,{"$f":"Validation!C13","v":""},null,null,null,{"$f":"Validation!D13","v":""},null,null,null,{"$f":"Validation!E13","v":""}]
[null,null,"Asph","Aggr","RAP","AntiStrip","Asph","Aggr","RAP","AntiStrip","Asph","Aggr","RAP","AntiStrip","Asph","Aggr","RAP","AntiStrip","Asph","Aggr","RAP","AntiStrip"]
["% Asphalt Content","1st Meter Reading, AM"]
[null,"1st Meter Reading, PM"]
[null,"2nd Meter Reading, AM"]
[null,"2nd Meter Reading, PM"]
["% AC Meter",null,{"$f":"IF(Validation!C41>0, Validation!C41, \"\")","v":""},null,null,null,{"$f":"IF(Validation!D41>0, Validation!D41, \"\")","v":""},null,null,null,{"$f":"IF(Validation!E41>0, Validation!E41, \"\")","v":""}]
["Mix Temperature",null,{"$f":"IF('Validation Input'!E22>0, 'Validation Input'!E22, \"\")","v":""},null,null,null,{"$f":"IF('Validation Input'!K22>0, 'Validation Input'!K22, \"\")","v":""},null,null,null,{"$f":"IF('Validation Input'!Q22>0, 'Validation Input'!Q22, \"\")","v":""}]
["Comp. Temp.",null,{"$f":"IF(Validation!C39>0, Validation!C39, \"\")","v":""},null,null,null,{"$f":"IF(Validation!D39>0, Validation!D39, \"\")","v":""},null,null,null,{"$f":"IF(Validation!E39>0, Validation!E39, \"\")","v":""}]
["Gse",null,{"$f":"Validation!C34","v":""},null,null,null,{"$f":"Validation!D34","v":""},null,null,null,{"$f":"Validation!E34","v":""}]
["Pba",null,{"$f":"Validation!C35","v":""},null,null,null,{"$f":"Validation!D35","v":""},null,null,null,{"$f":"Validation!E35","v":""}]
["Pbe",null,{"$f":"Validation!C36","v":""},null,null,null,{"$f":"Validation!D36","v":""},null,null,null,{"$f":"Validation!E36","v":""}]
["Total Sublot Tons",null,{"$f":"IF(Validation!C50>0, Validation!C50, \"\")","v":""},null,null,null,{"$f":"IF(Validation!D50>0, Validation!D50, \"\")","v":""},null,null,null,{"$f":"IF(Validation!E50>0, Validation!E50, \"\")","v":""}]
[]
["% Anti Strip",null,{"$f":"Validation!C44","v":0.6}]
["Draindown",null,{"$f":"Validation!C45","v":""}]
["Remarks:"]
[]
[]
[]
["DOTD Cert. Asphaltic Concrete Plant Tech.",null,null,null,null,"QC Cert. Asphaltic Concrete Plant Tech.",null,null,null,null,null,null,null,null,null,"APPROVED BY: District Laboratory Engineer"]
[]
[{"$f":"setup!S2","v":"LaPave 501 v16.04.04"},null,null,null,null,null,null,null,null,null,null,null,null,null,null,null,null,null,null,{"$f":"TODAY()","v":"2023-03-31"}]

{"sheet":"Acceptance Input","index":13,"n_rows":84,"n_cols":35,"rows_kept":84,"cut":false,"hidden":false,"merged":[[39,2,39,4],[38,2,38,4],[37,3,37,4],[83,14,83,15],[43,13,43,15],[56,13,56,15],[68,13,68,15],[45,13,45,15],[77,13,77,15],[78,13,78,15],[46,13,46,15],[51,13,51,15],[50,13,50,15],[49,13,49,15],[48,13,48,15],[47,13,47,15],[58,13,58,15],[57,13,57,15],[53,13,53,15],[52,13,52,15],[54,13,54,15],[44,13,44,15],[28,18,29,20],[34,18,34,19],[35,18,35,19],[31,18,32,20],[10,8,10,9],[11,8,11,9],[12,8,12,9],[13,8,13,9],[14,8,14,9],[0,0,0,15],[8,12,8,14],[3,14,3,15],[4,1,4,2],[4,11,4,12],[8,1,8,2],[5,1,5,2],[6,1,6,2],[8,5,8,6],[8,9,8,10],[4,5,4,6],[2,1,2,3],[3,1,3,3],[6,12,6,14],[2,6,2,13],[85,14,85,15],[3,11,3,12],[42,0,42,15],[79,13,79,15],[40,14,40,15],[75,13,75,15],[60,13,60,15],[65,13,65,15],[74,13,74,15],[73,13,73,15],[72,13,72,15],[71,13,71,15],[17,8,17,9],[82,13,82,15],[34,3,34,4],[9,1,9,2],[80,13,80,15],[70,13,70,15],[69,13,69,15],[61,13,61,15],[59,13,59,15],[76,13,76,15],[66,13,66,15],[63,13,63,15],[64,13,64,15],[62,13,62,15]]}
["Data for Acceptance",null,null,null,null,null,null,null,null,null,null,null,null,null,null,null,null,null,null,null,null,null,null,null,null,"n=3","n=4","n=5 - 6","n=7 - 9","n=10 - 12","n=13 - 15","PWL"]
[null,null,null,null,null,null,null,null,null,null,null,null,null,null,null,null,null,null,null,null,null,null,null,null,null,0,0,0,0,0,0,50]
["Proj. No.",null,null,null,null,"Plant",{"$f":"'JMF Input'!D7","v":0},null,null,null,null,null,null,null,null,null,null,null,null,null,null,null,null,null,null,0.03,0.03,0.03,0.03,0.03,0.03,{"$f":"AF2+1","v":51}]
["Proj. Name",{"$f":"VLOOKUP(B3, 'Project Summary'!B2:C200, 2,FALSE)","v":{"$error":"#N/A"}},null,null,null,null,null,"Design level",{"$f":"'JMF Input'!F4","v":"T.L."},null,"Mix Type",{"$f":"'JMF Input'!E5","v":"OGFC"},null,null,"Gyr. Rev",null,null,null,null,null,null,null,null,null,null,7.0000000000000007E-2,0.06,0.06,0.05,0.05,0.05,{"$f":"AF3+1","v":52}]
["DATE","2016-04-04T12:14:15",null,null,"JMF No.",{"$f":"'JMF Input'!F3","v":0},null,null,null,null,null,null,null,null,"Ndes ",{"$f":"setup!B9","v":50},null,null,null,null,null,null,null,null,null,0.11,0.09,0.08,0.08,0.08,0.08,53]
["Start Date",null,null,null,null,null,null,null,null,null,null,null,null,null,null,null,null,null,null,null,null,null,null,null,null,0.14000000000000001,0.12,0.11,0.11,0.1,0.1,54]
["End Date",null,null,"%AC",{"$f":"'JMF Input'!J37","v":0},"Gsb",{"$f":"'JMF Input'!J39","v":0},"Ps",{"$f":"100-'JMF Input'!J37","v":100},null,"AC Corr Factor",{"$f":"'JMF Input'!K6","v":0},"JMF Yield (lb/sqyd)",null,null,{"$f":"'JMF CHECK'!M44","v":0},null,null,null,null,null,null,null,null,null,0.18,0.15,0.14000000000000001,0.13,0.13,0.13,55]
[null,null,null,null,null,null,null,null,null,null,null,null,null,null,null,null,null,null,null,null,null,null,null,null,null,0.22,0.18,0.17,0.16,0.16,0.15,56]
["Lot No.",null,null,null,"Sublot Ton",null,null,null,"Counter",1,null,null,"Acceptance",null,null,null,null,null,null,null,null,null,null,null,null,0.25,0.21,0.2,0.19,0.18,0.18,57]
["Sublot No.",null,null,null,null,null,null,null,null,null,null,null,null,null,null,null,null,null,null,null,null,null,null,null,null,0.28999999999999998,0.24,0.23,0.21,0.21,0.21,58]
["LWT (one per 10,000 tons)",null,null,null,null,null,null,null,"Rice Gravities",null,"A","B",null,null,null,null,null,null,null,null,null,null,null,null,null,0.32,0.27,0.25,0.24,0.24,0.23,59]
[null,1,2,3,4,"Left",null,null," Mix",null,null,null,null,null,null,null,null,null,null,null,null,null,null,null,null,0.36,0.3,0.28000000000000003,0.27,0.26,0.26,60]
["Ht. @Ndes (mm)",null,null,null,null,"Bricks:",null,null,"Pyc&Water",null,null,null,null,null,null,null,null,null,null,null,null,null,null,null,null,0.39,0.33,0.31,0.3,0.3,0.28999999999999998,61,null,null,"Luanna recommended all gradations to one decimal to avoid standard deviation = 0."]
[{"$f":"IF($S$36=\"Volumetric\",\"Diameter (mm)\", \"Wt. in Air\")","v":"Wt. in Air"},null,null,null,null,"Avg AV",{"$f":"IF(G13=\"1 & 2\", ROUND(AVERAGE(B19,C19),setup!M75), IF(G13=\"1 & 3\", ROUND(AVERAGE(B19,D19),setup!M75),IF(G13=\"1 & 4\", ROUND(AVERAGE(B19,E19),setup!M75),IF(G13=\"2 & 3\", ROUND(AVERAGE(C19,D19),setup!M75),IF(G13=\"2 & 4\", ROUND(AVERAGE(C19,E19),setup!M75),IF(G13=\"3 & 4\", ROUND(AVERAGE(D19,E19),setup!M75),\"\"))))))","v":""},null,"Pyc,Water&Mix",null,null,null,"Avg Gmm",null,null,null,null,null,null,null,null,null,null,null,null,0.43,0.36,0.34,0.33,0.32,0.31,62]
[{"$f":"IF($S$36=\"Vacuum\",\"Wt. Sealed in Air\",IF($S$36=\"Volumetric\",\"Dry Wt.\",\"Wt. in Water\"))","v":"Wt. in Water"},null,null,null,null,null,null,null,"Gmm",null,{"$f":"IF(K14>0,ROUND(K12/(K12+K13-K14),setup!U42),0)","v":0},{"$f":"IF(L14>0,ROUND(L12/(L12+L13-L14),setup!U42),0)","v":0},{"$f":"IF(K15>0,ROUND(IF(L15>0,AVERAGE(K15:L15),MAX(K15:L15)),setup!M65),\"\")","v":""},null,null,null,null,null,null,null,null,null,null,null,null,0.46,0.39,0.37,0.35,0.35,0.34,63]
[{"$f":"IF($S$36=\"Volumetric\",\"\",IF($S$36=\"Vacuum\", \"Wt. Sealed in Water\", \"Wt. SSD\"))","v":"Wt. SSD"},null,null,null,null,null,null,null,null,null,null,null,null,null,null,null,null,null,null,null,null,null,null,null,null,0.49,0.42,0.4,0.38,0.37,0.37,64]
[{"$f":"IF($S$36=\"Vacuum\", \"Final Wt.\", \"\")","v":""},null,null,null,null,"Right",null,null,null,null,null,null,null,null,null,null,null,null,null,null,null,null,null,null,null,0.53,0.45,0.43,0.41,0.4,0.4,{"$f":"AF16+1","v":65}]
["Gmb",{"$f":"IF(B15>0,IF($S$36=\"Volumetric\",ROUND((B15/(PI()*(B14^2)/4*B13*0.001))/0.99707,setup!$M$9),IF($S$36=\"Vacuum\",ROUND(B14/((B17+(B15-B14))-B16-(B15-B14)/$T$38),setup!$M$8),ROUND(B14/(B16-B15),setup!$M$8))),\"\")","v":""},{"$f":"IF(C15>0,IF($S$36=\"Volumetric\",ROUND((C15/(PI()*(C14^2)/4*C13*0.001))/0.99707,setup!$M$9),IF($S$36=\"Vacuum\",ROUND(C14/((C17+(C15-C14))-C16-(C15-C14)/$T$38),setup!$M$8),ROUND(C14/(C16-C15),setup!$M$8))),\"\")","v":""},{"$f":"IF(D15>0,IF($S$36=\"Volumetric\",ROUND((D15/(PI()*(D14^2)/4*D13*0.001))/0.99707,setup!$M$9),IF($S$36=\"Vacuum\",ROUND(D14/((D17+(D15-D14))-D16-(D15-D14)/$T$38),setup!$M$8),ROUND(D14/(D16-D15),setup!$M$8))),\"\")","v":""},{"$f":"IF(E15>0,IF($S$36=\"Volumetric\",ROUND((E15/(PI()*(E14^2)/4*E13*0.001))/0.99707,setup!$M$9),IF($S$36=\"Vacuum\",ROUND(E14/((E17+(E15-E14))-E16-(E15-E14)/$T$38),setup!$M$8),ROUND(E14/(E16-E15),setup!$M$8))),\"\")","v":""},"Bricks:",{"$f":"IF(G13=\"1 & 2\", \"3 & 4\", IF(G13=\"1 & 3\", \"2 & 4\",IF(G13=\"1 & 4\", \"2 & 3\",IF(G13=\"2 & 3\", \"1 & 4\",IF(G13=\"2 & 4\", \"1 & 3\",IF(G13=\"3 & 4\", \"1 & 2\",\"\"))))))","v":""},null,"Gradation",null,"% Pass",null,null,null,null,null,null,null,null,null,null,null,null,null,null,0.56000000000000005,0.48,0.46,0.44,0.43,0.42,66]
["% Air Voids",{"$f":"IF(B18<>\"\",ROUND(100-B18/$M$15*100,setup!$M$75),\"\")","v":""},{"$f":"IF(C13>0,ROUND(100-C18,setup!$M$75),\"\")","v":""},{"$f":"IF(D13>0,ROUND(100-D18,setup!$M$75),\"\")","v":""},{"$f":"IF(E13>0,ROUND(100-E18,setup!$M$75),\"\")","v":""},"Avg AV",{"$f":"IF(G18=\"1 & 2\", ROUND(AVERAGE(B19,C19),setup!M75), IF(G18=\"1 & 3\", ROUND(AVERAGE(B19,D19),setup!M75),IF(G18=\"1 & 4\", ROUND(AVERAGE(B19,E19),setup!M75),IF(G18=\"2 & 3\", ROUND(AVERAGE(C19,D19),setup!M75),IF(G18=\"2 & 4\", ROUND(AVERAGE(C19,E19),setup!M75),IF(G18=\"3 & 4\", ROUND(AVERAGE(D19,E19),setup!M75),\"\"))))))","v":""},null,"1\"         25",null,{"$f":"IF($J$32=0,\" \",ROUND(100-(J19/$J$32)*100,setup!$M$68))","v":" "},null,"Ht @Ndes (mm)",null,null,null,null,null,null,null,null,null,null,null,null,0.59,0.51,0.49,0.47,0.46,0.45,67]
[null,null,null,null,null,null,null,null,"3/4\"       19",null,{"$f":"IF($J$32=0,\" \",(IF(J20=0,K19,ROUND(100-(SUM($J$19:J20)/$J$32)*100,setup!$M$68))))","v":" "},null,{"$f":"IF($S$36=\"Volumetric\",\"Diameter (mm)\", \"Wt. in Air\")","v":"Wt. in Air"},null,null,null,null,null,null,null,null,null,null,null,null,0.62,0.54,0.52,0.5,0.48,0.48,68]
["Temp(°C):",null,null,"Pass","Left","Right",null,null,"1/2\"    12.5",null,{"$f":"IF($J$32=0,\" \",(IF(J21=0,K20,ROUND(100-(SUM($J$19:J21)/$J$32)*100,setup!$M$68))))","v":" "},null,{"$f":"IF($S$36=\"Vacuum\",\"Wt. Sealed in Air\",IF($S$36=\"Volumetric\",\"Dry Wt.\",\"Wt. in Water\"))","v":"Wt. in Water"},null,null,null,null,null,null,null,null,null,null,null,null,0.65,0.56999999999999995,0.55000000000000004,0.53,0.51,0.51,69]
["Avg Rut (mm):",{"$f":"IFERROR(IF(B23=5000,ROUND(AVERAGE(E22,F22),setup!$M$21),IF(B23=7500,ROUND(AVERAGE(E23,F23),setup!$M$21),IF(B23=12000,ROUND(AVERAGE(E25,F25),setup!$M$21),IF(B23=20000,ROUND(AVERAGE(E27,F27),setup!$M$21),\"\")))),\"\")","v":""},null,5000,null,null,null,null,"3/8\"     9.5",null,{"$f":"IF($J$32=0,\" \",(IF(J22=0,K21,ROUND(100-(SUM($J$19:J22)/$J$32)*100,setup!$M$68))))","v":" "},null,{"$f":"IF($S$36=\"Volumetric\",\"\",IF($S$36=\"Vacuum\", \"Wt. Sealed in Water\", \"Wt. SSD\"))","v":"Wt. SSD"},null,null,null,null,null,null,null,null,null,null,null,null,0.68,0.6,0.57999999999999996,0.55000000000000004,0.54,0.54,70]
["At Pass:",{"$f":"setup!B18","v":5000},null,7500,null,null,null,null,"#4      4.75",null,{"$f":"IF($J$32=0,\" \",(IF(J23=0,K22,ROUND(100-(SUM($J$19:J23)/$J$32)*100,setup!$M$68))))","v":" "},null,{"$f":"IF($S$36=\"Vacuum\", \"Final Wt.\", \"\")","v":""},null,null,null,null,null,null,null,null,null,null,null,null,0.71,0.63,0.6,0.57999999999999996,0.56999999999999995,0.56000000000000005,71]
["(Pass/Fail):",{"$f":"IF(B22<>\"\", IF(B22<=setup!C17,\"PASS\", \"FAIL\"),\"\")","v":""},null,10000,null,null,null,null,"#8      2.36",null,{"$f":"IF($J$32=0,\" \",(IF(J24=0,K23,ROUND(100-(SUM($J$19:J24)/$J$32)*100,setup!$M$68))))","v":" "},null,"Gmb",{"$f":"IF(N21>0,IF($S$36=\"Volumetric\",ROUND((N21/(PI()*(N20^2)/4*N19*0.001))/0.99707,setup!$M$66),IF($S$36=\"Vacuum\",ROUND(N20/((N23+(N21-N20))-N22-(N21-N20)/$T$38),setup!$M$66),ROUND(N20/(N22-N21),setup!$M$66))),\"\")","v":""},null,null,null,null,null,null,null,null,null,null,null,0.74,0.66,0.64,0.61,0.6,0.59,72]
[null,null,null,12000,null,null,null,null,"#16     1.18",null,{"$f":"IF($J$32=0,\" \",(IF(J25=0,K24,ROUND(100-(SUM($J$19:J25)/$J$32)*100,setup!$M$68))))","v":" "},null,"Voids",{"$f":"IF(N24<>\"\",ROUND(100-N24/M15*100,setup!M75),\"\")","v":""},null,null,null,null,null,null,null,null,null,null,null,0.77,0.69,0.67,0.64,0.63,0.62,73]
["Date Tested:",null,null,15000,null,null,null,null,"#30      0.6",null,{"$f":"IF($J$32=0,\" \",(IF(J26=0,K25,ROUND(100-(SUM($J$19:J26)/$J$32)*100,setup!$M$68))))","v":" "},null,null,null,null,null,null,null,null,null,null,null,null,null,null,0.79,0.72,0.7,0.67,0.66,0.66,74]
[null,null,null,20000,null,null,null,null,"#50      0.3",null,{"$f":"IF($J$32=0,\" \",(IF(J27=0,K26,ROUND(100-(SUM($J$19:J27)/$J$32)*100,setup!$M$68))))","v":" "},null,null,null,null,null,null,null,null,null,null,null,null,null,null,0.82,0.75,0.73,0.71,0.69,0.69,75]
[null,null,null,null,null,null,null,null,"#100  0.15",null,{"$f":"IF($J$32=0,\" \",(IF(J28=0,K27,ROUND(100-(SUM($J$19:J28)/$J$32)*100,setup!$M$68))))","v":" "},null,"Meter AC",null,null,null,null,null,null,null,null,null,null,null,null,0.84,0.78,0.76,0.74,0.72,0.72,76]
["Draindown",null,null,null,null,null,null,null,"#200  0.075",null,{"$f":"IF($J$32=0,\" \",(IF(J29=0,K28,ROUND(100-(SUM($J$19:J29)/$J$32)*100,setup!$M$69))))","v":" "},null,"Mix Temp",null,null,null,null,null,"No Oven Temp Corr.",null,null,null,null,null,null,0.87,0.81,0.79,0.77,0.76,0.75,77]
["Wt. of Mix Before",null,null,null,null,null,null,null,"Pass",null,null,null,"Comp Temp",null,null,null,null,null,null,null,null,null,null,null,null,0.89,0.84,0.82,0.8,0.79,0.78,78]
["Wt. of Mix After",null,null,null,null,null,null,null,"Dec Loss",{"$f":"IF(N34>0, N34-N35, \"\")","v":""},null,null,"AntiStrip",null,null,null,null,null,null,null,null,null,null,null,null,0.92,0.87,0.85,0.83,0.82,0.82,79]
["Wt. of Plate",null,null,null,null,null,null,null,"Cum. Total",{"$f":"SUM(J19:J31)","v":0},null,null,null,null,null,null,null,null,"Validation in Rolling 5",null,null,null,null,null,null,0.94,0.9,0.88,0.87,0.85,0.85,80]
["Wt. of Plate+Mix After",null,null,null,null,null,null,null,"%AC",{"$f":"IF(L37<>\"\", ROUND(L37-L7,setup!M71), \"\")","v":""},null,null,null,null,null,null,null,null,null,null,null,null,null,null,null,0.96,0.93,0.92,0.9,0.89,0.89,81]
["Wt. of Drained Mix",{"$f":"IF(B33>0, B33-B32, IF(B31>0, B30-B31, \"\"))","v":""},{"$f":"IF(C33>0, C33-C32, IF(C31>0, C30-C31, \"\"))","v":""},"Avg % Draindown",null,null,null,null,"%Crushed",{"$f":"IF(SUM(J19:J23)>0, N37/SUM(J19:J23)*100, \"\")","v":""},{"$f":"IF($S$29=\"No Oven Temp Corr.\",\"Tr. Bskt\", \"Wt of Mix\")","v":"Tr. Bskt"},null,"Int.DryWt",null,null,null,null,null,null,null,null,null,null,null,null,0.98,0.96,0.95,0.94,0.93,0.92,82]
["% Draindown",{"$f":"IF(B34<>\"\", ROUND(B34/B30*100,1), \"\")","v":""},{"$f":"IF(C34<>\"\", ROUND(C34/C30*100,1), \"\")","v":""},{"$f":"IF(B35<>\"\", AVERAGE(B35:C35), \"\")","v":""},null,null,null,null,null,null,{"$f":"IF($S$29=\"No Oven Temp Corr.\",\"Bskt+Mix w/AC\", \"Wt. Loss\")","v":"Bskt+Mix w/AC"},null,"AfterWash",null,null,null,null,null,"Bulk Gravity Method",null,null,null,null,null,null,1,0.99,0.98,0.97,0.96,0.96,83]
[null,null,null,null,null,null,null,null,null,null,{"$f":"IF($S$29=\"No Oven Temp Corr.\",\"Bskt minus AC\", \"Temp. Corr.\")","v":"Bskt minus AC"},null,"% Diff",{"$f":"IF(N34>0, ROUND((N34-J32)/N34*100,1),\"\")","v":""},null,null,null,null,null,null,null,null,null,null,null,1.02,1.02,1.02,1.01,1,1,84]
["Lot Width (ft)",null,null,null,null,null,null,null,null,null,{"$f":"IF($S$29=\"No Oven Temp Corr.\",\"% LOSS\", \"% LOSS-Tmp. Cor.\")","v":"% LOSS"},{"$f":"IF($S$29=\"No Oven Temp Corr.\", IF(L35>0,((L35-L36)/(L35-L34))*100, \"\"), IF(L34>0, L35/L34*100-L36,\"\"))","v":""},"Wt. Crush",null,null,null,null,null,null,null,null,null,null,null,null,1.03,1.05,1.05,1.05,1.04,1.04,85]
["Lot Length (ft)",null,null,"Tack Coat Rate",null,null,null,null,null,null,null,null,null,null,null,null,null,null,{"$f":"IF(S36=\"Vacuum\",\"Bag Grav\",\"\")","v":""},null,null,null,null,null,null,1.05,1.08,1.08,1.08,1.08,1.08,86]
["Lot Thickness (in)",null,"Theo. Yield (lb/sqyd)",null,null,{"$f":"ROUND(ROUND(B39,2)*(100-N25)/100*M15*62.4*0.75,1)","v":{"$error":"#VALUE!"}},null,null,null,null,null,null,null,null,null,null,null,null,null,null,null,null,null,null,null,1.06,1.1100000000000001,1.1200000000000001,1.1200000000000001,1.1299999999999999,1.1299999999999999,87]
[null,null,"Actual Yield (lb/sqyd)",null,null,{"$f":"ROUND(F9*2000/(ROUND(B37,1)/3*ROUND(B38,1)/3),1)","v":{"$error":"#DIV/0!"}},null,null,null,null,null,null,null,null,null,null,null,null,null,null,null,null,null,null,null,1.07,1.1399999999999999,1.1599999999999999,1.17,1.17,1.17,88]
[{"$f":"setup!S2","v":"LaPave 501 v16.04.04"},null,null,null,null,null,null,null,null,null,null,null,null,null,{"$f":"TODAY()","v":"2023-03-31"},null,null,null,null,null,null,null,null,null,null,1.08,1.17,1.2,1.21,1.21,1.22,89]
[null,null,null,null,null,null,null,null,null,null,null,null,null,null,null,null,null,null,null,null,null,null,null,null,null,1.0900000000000001,1.2,1.23,1.25,1.26,1.27,90]
[{"$f":"\"Rolling 5 for \"&M9","v":"Rolling 5 for Acceptance"},null,null,null,null,null,null,null,null,null,null,null,null,null,null,null,null,null,null,null,null,null,null,null,null,1.1000000000000001,1.23,1.27,1.3,1.32,1.32,91]
["Rolling 5","Active",null,null,null,null,null,"MEAN","StDev",null,"Min","Max",null,"For Active Only",null,null,null,null,null,null,null,null,null,null,null,1.1100000000000001,1.26,1.31,1.35,1.37,1.38,92]
["Sublot No",{"$f":"B9&\"-\"&B10","v":"-"},"Val C","Val B","Val A",null,null,null,null,null,null,null,null,null,null,null,null,null,null,null,null,null,null,null,null,1.1200000000000001,1.29,1.36,1.4,1.43,1.44,93]
["Sublot Ton",{"$f":"F9","v":0},0,0,0,null,null,null,null,null,null,null,null,null,null,null,null,null,null,null,null,null,null,null,null,1.1299999999999999,1.32,1.4,1.46,1.49,1.51,94]
["Gmm",{"$f":"IF(M15<>\"\", M15, \"\")","v":""},"","","",null,null,{"$f":"IF(SUM(B47:F47)>0, ROUND(AVERAGE(B47:F47),setup!M65+1),\"\")","v":""},{"$f":"IF(COUNT(B47:F47)>1, ROUND(STDEV(B47:F47),setup!M65+3),\"\")","v":""},null,{"$f":"ROUND(Validation!F7,setup!M65)-setup!D11","v":{"$error":"#VALUE!"}},{"$f":"ROUND(Validation!F7,setup!M65)+setup!D11","v":{"$error":"#VALUE!"}},null,{"$f":"IF(B47<>\"\",IF(K47<>\"\",IF(B47>=K47,IF(L47<>\"\",IF(B47<=L47,\"OK\",\"Over Spec Limit\"),\"OK\"),\"Under Spec Limit\"),IF(L47<>\"\",IF(B47<=I24,\"OK\",\"Over Spec Limit\"),\"\")),\"\")","v":""},null,null,null,null,null,null,null,null,null,null,null,1.1399999999999999,1.35,1.45,1.52,1.56,1.59,{"$f":"AF46+1","v":95}]
["Gmb,ND",{"$f":"IF(N24<>\"\",N24,\"\")","v":""},"","","",null,null,{"$f":"IF(SUM(B48:F48)>0, ROUND(AVERAGE(B48:F48),setup!M66+1),\"\")","v":""},{"$f":"IF(COUNT(B48:F48)>1, ROUND(STDEV(B48:F48),setup!M66+3),\"\")","v":""},null,null,null,null,null,null,null,null,null,null,null,null,null,null,null,null,1.1499999999999999,1.38,1.49,1.59,1.64,1.69,96]
["%Gmm,ND",{"$f":"IF(B52<>\"\", 100-B52, \"\")","v":""},"","","",null,null,{"$f":"IF(SUM(B49:F49)>0, ROUND(AVERAGE(B49:F49),setup!M67+1),\"\")","v":""},{"$f":"IF(COUNT(B49:F49)>1, ROUND(STDEV(B49:F49),setup!M67+3),\"\")","v":""},null,null,null,null,null,null,null,null,null,null,null,null,null,null,null,null,1.1499999999999999,1.41,1.55,1.67,1.74,1.8,97]
["VFA",{"$f":"IF(B51<>\"\", ROUND(100*(B51-B52)/B51,setup!M76), \"\")","v":""},"","","",null,null,{"$f":"IF(SUM(B50:F50)>0, ROUND(AVERAGE(B50:F50),setup!M76+1),\"\")","v":""},{"$f":"IF(COUNT(B50:F50)>1, ROUND(STDEV(B50:F50),setup!M76+3),\"\")","v":""},null,null,null,null,null,null,null,null,null,null,null,null,null,null,null,null,1.1499999999999999,1.44,1.61,1.77,1.86,1.93,98]
["VMA",{"$f":"IF(B48<>\"\", ROUND(100-((B48*I7)/G7),setup!M74), \"\")","v":""},"","","",null,null,{"$f":"IF(SUM(B51:F51)>0, ROUND(AVERAGE(B51:F51),setup!M74+1),\"\")","v":""},{"$f":"IF(COUNT(B51:F51)>1, ROUND(STDEV(B51:F51),setup!M74+3),\"\")","v":""},null,null,null,null,null,null,null,null,null,null,null,null,null,null,null,null,1.1599999999999999,1.47,1.68,1.89,2.04,2.14,99]
["%Voids",{"$f":"IF(B48<>\"\", ROUND(100*((B47-B48)/B47),setup!M75), \"\")","v":""},"","","",null,null,{"$f":"IF(SUM(B52:F52)>0, ROUND(AVERAGE(B52:F52),setup!M75+1),\"\")","v":""},{"$f":"IF(COUNT(B52:F52)>1, ROUND(STDEV(B52:F52),setup!M75+3),\"\")","v":""},null,{"$f":"MAX(ROUND(Validation!F11,setup!M75)-setup!D44,setup!B20)","v":{"$error":"#VALUE!"}},{"$f":"MIN(ROUND(Validation!F11,setup!M75)+setup!D44,setup!C21)","v":{"$error":"#VALUE!"}},"**",{"$f":"IF(B52<>\"\",IF(K52<>\"\",IF(B52>=K52,IF(L52<>\"\",IF(B52<=L52,\"OK\",\"Over Spec Limit\"),\"OK\"),\"Under Spec Limit\"),IF(L52<>\"\",IF(B52<=I30,\"OK\",\"Over Spec Limit\"),\"\")),\"\")","v":""}]
["Extracted AC",{"$f":"IF(J33>0, J33, \"\")","v":""},"","","",null,null,{"$f":"IF(SUM(B53:F53)>0, ROUND(AVERAGE(B53:F53),setup!M71+1),\"\")","v":""},{"$f":"IF(COUNT(B53:F53)>1, ROUND(STDEV(B53:F53),setup!M71+3),\"\")","v":""},null,{"$f":"MAX(ROUND(Validation!F32,setup!M71)-setup!D37,setup!B10)","v":{"$error":"#VALUE!"}},{"$f":"ROUND(Validation!F32,setup!M71)+setup!D37","v":{"$error":"#VALUE!"}},"**",{"$f":"IF(B53<>\"\",IF(K53<>\"\",IF(B53>=K53,IF(L53<>\"\",IF(B53<=L53,\"OK\",\"Over Spec Limit\"),\"OK\"),\"Under Spec Limit\"),IF(L53<>\"\",IF(B53<=I31,\"OK\",\"Over Spec Limit\"),\"\")),\"\")","v":""}]
["Mix Temp",{"$f":"IF(N29>0, N29, \"\")","v":""},0,0,0,null,null,{"$f":"IF(SUM(B54:F54)>0, ROUND(AVERAGE(B54:F54),1),\"\")","v":""},{"$f":"IF(COUNT(B54:F54)>1, ROUND(STDEV(B54:F54),1),\"\")","v":0},null,{"$f":"ROUND(Validation!F40,0)-setup!D40","v":{"$error":"#VALUE!"}},{"$f":"ROUND(Validation!F40,0)+setup!D40","v":{"$error":"#VALUE!"}},null,{"$f":"IF(B54<>\"\",IF(K54<>\"\",IF(B54>=K54,IF(L54<>\"\",IF(B54<=L54,\"OK\",\"Over Spec Limit\"),\"OK\"),\"Under Spec Limit\"),IF(L54<>\"\",IF(B54<=I32,\"OK\",\"Over Spec Limit\"),\"\")),\"\")","v":""}]
["Comp Temp",{"$f":"IF(N30>0, N30, \"\")","v":""},"","","",null,null,{"$f":"IF(SUM(B55:F55)>0, ROUND(AVERAGE(B55:F55),1),\"\")","v":""},{"$f":"IF(COUNT(B55:F55)>1, ROUND(STDEV(B55:F55),1),\"\")","v":""}]
[]
["Gradation",null,null,null,null,null,null,"MEAN","StDev",null,"Min","Max",null,"For Active Only"]
["1\"         25",{"$f":"IF(K19<>\"\", K19, \"\")","v":" "}," "," "," ",null,null,{"$f":"IF(SUM(B58:F58)>0, ROUND(AVERAGE(B58:F58),setup!$M$68+1),\"\")","v":""},{"$f":"IF(COUNT(B58:F58)>1, ROUND(STDEV(B58:F58),setup!$M$68+3),\"\")","v":""}]
["3/4\"       19"," "," "," "," ",null,null,{"$f":"IF(SUM(B59:F59)>0, ROUND(AVERAGE(B59:F59),setup!$M$68+1),\"\")","v":""},{"$f":"IF(COUNT(B59:F59)>1, ROUND(STDEV(B59:F59),setup!$M$68+3),\"\")","v":""},null,{"$f":"ROUND(Validation!F22,setup!$M$68)-setup!D27","v":{"$error":"#VALUE!"}},{"$f":"ROUND(Validation!F22,setup!$M$68)+setup!D27","v":{"$error":"#VALUE!"}},null,{"$f":"IF(B59<>\"\",IF(K59<>\"\",IF(B59>=K59,IF(L59<>\"\",IF(B59<=L59,\"OK\",\"Over Spec Limit\"),\"OK\"),\"Under Spec Limit\"),IF(L59<>\"\",IF(B59<=I36,\"OK\",\"Over Spec Limit\"),\"\")),\"\")","v":{"$error":"#VALUE!"}}]
["1/2\"    12.5"," "," "," "," ",null,null,{"$f":"IF(SUM(B60:F60)>0, ROUND(AVERAGE(B60:F60),setup!$M$68+1),\"\")","v":""},{"$f":"IF(COUNT(B60:F60)>1, ROUND(STDEV(B60:F60),setup!$M$68+3),\"\")","v":""},null,{"$f":"ROUND(Validation!F23,setup!$M$68)-setup!D28","v":{"$error":"#VALUE!"}},{"$f":"ROUND(Validation!F23,setup!$M$68)+setup!D28","v":{"$error":"#VALUE!"}},null,{"$error":"#VALUE!"}]
["3/8\"     9.5"," "," "," "," ",null,null,{"$f":"IF(SUM(B61:F61)>0, ROUND(AVERAGE(B61:F61),setup!$M$68+1),\"\")","v":""},{"$f":"IF(COUNT(B61:F61)>1, ROUND(STDEV(B61:F61),setup!$M$68+3),\"\")","v":""},null,{"$f":"ROUND(Validation!F24,setup!$M$68)-setup!D29","v":{"$error":"#VALUE!"}},{"$f":"ROUND(Validation!F24,setup!$M$68)+setup!D29","v":{"$error":"#VALUE!"}},null,{"$error":"#VALUE!"}]
["#4      4.75"," "," "," "," ",null,null,{"$f":"IF(SUM(B62:F62)>0, ROUND(AVERAGE(B62:F62),setup!$M$68+1),\"\")","v":""},{"$f":"IF(COUNT(B62:F62)>1, ROUND(STDEV(B62:F62),setup!$M$68+3),\"\")","v":""},null,{"$f":"ROUND(Validation!F25,setup!$M$68)-setup!D30","v":{"$error":"#VALUE!"}},{"$f":"ROUND(Validation!F25,setup!$M$68)+setup!D30","v":{"$error":"#VALUE!"}},null,{"$f":"IF(B62<>\"\",IF(K62<>\"\",IF(B62>=K62,IF(L62<>\"\",IF(B62<=L62,\"OK\",\"Over Spec Limit\"),\"OK\"),\"Under Spec Limit\"),IF(L62<>\"\",IF(B62<=#REF!,\"OK\",\"Over Spec Limit\"),\"\")),\"\")","v":{"$error":"#VALUE!"}}]
["#8      2.36"," "," "," "," ",null,null,{"$f":"IF(SUM(B63:F63)>0, ROUND(AVERAGE(B63:F63),setup!$M$68+1),\"\")","v":""},{"$f":"IF(COUNT(B63:F63)>1, ROUND(STDEV(B63:F63),setup!$M$68+3),\"\")","v":""},null,{"$f":"ROUND(Validation!F26,setup!$M$68)-setup!D31","v":{"$error":"#VALUE!"}},{"$f":"ROUND(Validation!F26,setup!$M$68)+setup!D31","v":{"$error":"#VALUE!"}},null,{"$error":"#VALUE!"}]
["#16     1.18"," "," "," "," ",null,null,{"$f":"IF(SUM(B64:F64)>0, ROUND(AVERAGE(B64:F64),setup!$M$68+1),\"\")","v":""},{"$f":"IF(COUNT(B64:F64)>1, ROUND(STDEV(B64:F64),setup!$M$68+3),\"\")","v":""},null,{"$f":"ROUND(Validation!F27,setup!$M$68)-setup!D32","v":{"$error":"#VALUE!"}},{"$f":"ROUND(Validation!F27,setup!$M$68)+setup!D32","v":{"$error":"#VALUE!"}},null,{"$error":"#VALUE!"}]
["#30      0.6"," "," "," "," ",null,null,{"$f":"IF(SUM(B65:F65)>0, ROUND(AVERAGE(B65:F65),setup!$M$68+1),\"\")","v":""},{"$f":"IF(COUNT(B65:F65)>1, ROUND(STDEV(B65:F65),setup!$M$68+3),\"\")","v":""},null,{"$f":"ROUND(Validation!F28,setup!$M$68)-setup!D33","v":{"$error":"#VALUE!"}},{"$f":"ROUND(Validation!F28,setup!$M$68)+setup!D33","v":{"$error":"#VALUE!"}},null,{"$error":"#VALUE!"}]
["#50      0.3"," "," "," "," ",null,null,{"$f":"IF(SUM(B66:F66)>0, ROUND(AVERAGE(B66:F66),setup!$M$68+1),\"\")","v":""},{"$f":"IF(COUNT(B66:F66)>1, ROUND(STDEV(B66:F66),setup!$M$68+3),\"\")","v":""},null,{"$f":"ROUND(Validation!F29,setup!$M$68)-setup!D34","v":{"$error":"#VALUE!"}},{"$f":"ROUND(Validation!F29,setup!$M$68)+setup!D34","v":{"$error":"#VALUE!"}},null,{"$error":"#VALUE!"}]
["#200  0.075",{"$f":"IF(K29<>\"\", K29, \"\")","v":" "}," "," "," ",null,null,{"$f":"IF(SUM(B67:F67)>0, ROUND(AVERAGE(B67:F67),setup!M69+1),\"\")","v":""},{"$f":"IF(COUNT(B67:F67)>1, ROUND(STDEV(B67:F67),setup!M69+3),\"\")","v":""},null,{"$f":"ROUND(Validation!F31,setup!$M$69)-setup!D36","v":{"$error":"#VALUE!"}},{"$f":"MIN(ROUND(Validation!F31,setup!$M$69)+setup!D36,'Comp. Grad. and FAA Input'!O20)","v":{"$error":"#VALUE!"}},"**",{"$error":"#VALUE!"}]
[]
["Other Factors ",null,null,null,null,null,null,"MEAN","StDev",null,"Min","Max",null,"For Active Only"]
[]
["Tack Coat Rate",{"$f":"IF(F38<>\"\", F38, \"\")","v":""},0,0,0,null,null,{"$f":"IF(SUM(B71:F71)>0, ROUND(AVERAGE(B71:F71),2),\"\")","v":""},{"$f":"IF(COUNT(B71:F71)>1, ROUND(STDEV(B71:F71),setup!M73+3),\"\")","v":0}]
[]
["Design AC",{"$f":"IF(E7<>\"\", E7, \"\")","v":0},null,null,null,null,null,{"$f":"IF(SUM(B73:F73)>0, ROUND(AVERAGE(B73:F73),setup!M71+1),\"\")","v":""},{"$f":"IF(COUNT(B73:F73)>1, ROUND(STDEV(B73:F73),setup!M71+3),\"\")","v":""}]
["%Antistrip",{"$f":"IF(N31<>\"\", N31, \"\")","v":""},0.6,0.6,0.6,null,null,{"$f":"IF(SUM(B74:F74)>0, ROUND(AVERAGE(B74:F74),2),\"\")","v":0.6},{"$f":"IF(COUNT(B74:F74)>1, ROUND(STDEV(B74:F74),4),\"\")","v":0},null,0.6,null,null,{"$f":"IF(B74<>\"\",IF(K74<>\"\",IF(B74>=K74,IF(L74<>\"\",IF(B74<=L74,\"OK\",\"Over Spec Limit\"),\"OK\"),\"Under Spec Limit\"),IF(L74<>\"\",IF(B74<=I51,\"OK\",\"Over Spec Limit\"),\"\")),\"\")","v":""}]
["Meter AC",{"$f":"IF(N28<>\"\", N28, \"\")","v":""},0,0,0,null,null,{"$f":"IF(SUM(B75:F75)>0, ROUND(AVERAGE(B75:F75),setup!M71+1),\"\")","v":""},{"$f":"IF(COUNT(B75:F75)>1, ROUND(STDEV(B75:F75),setup!M71+3),\"\")","v":0},null,{"$f":"ROUND(Validation!F41,setup!M71)-setup!D37","v":{"$error":"#VALUE!"}},{"$f":"ROUND(Validation!F41,setup!M71)+setup!D37","v":{"$error":"#VALUE!"}},null,{"$f":"IF(B75<>\"\",IF(K75<>\"\",IF(B75>=K75,IF(L75<>\"\",IF(B75<=L75,\"OK\",\"Over Spec Limit\"),\"OK\"),\"Under Spec Limit\"),IF(L75<>\"\",IF(B75<=I52,\"OK\",\"Over Spec Limit\"),\"\")),\"\")","v":""}]
["%Crushed",{"$f":"IF(J34<>\"\", J34, \"\")","v":""},"","","",null,null,{"$f":"IF(SUM(B76:F76)>0, ROUND(AVERAGE(B76:F76),2),\"\")","v":""},{"$f":"IF(COUNT(B76:F76)>1, ROUND(STDEV(B76:F76),4),\"\")","v":""}]
[]
["Gse",{"$f":"IF(B47<>\"\", ROUND(I7/((100/B47)-E7/1.03), setup!M66), \"\")","v":""},"","","",null,null,{"$f":"IF(SUM(B78:F78)>0, ROUND(AVERAGE(B78:F78),setup!M66),\"\")","v":""},{"$f":"IF(COUNT(B78:F78)>1, ROUND(STDEV(B78:F78),setup!M66+3),\"\")","v":""}]
["Pba",{"$f":"IF(B78<>\"\", ROUND(103*(B78-G7)/(G7*B78), 1), \"\")","v":""},"","","",null,null,{"$f":"IF(SUM(B79:F79)>0, ROUND(AVERAGE(B79:F79),1),\"\")","v":""},{"$f":"IF(COUNT(B79:F79)>1, ROUND(STDEV(B79:F79),3),\"\")","v":""}]
["Pbe",{"$f":"IF(B79<>\"\", ROUND(E7-(B79*I7)/100,1), \"\")","v":""},"","","",null,null,{"$f":"IF(SUM(B80:F80)>0, ROUND(AVERAGE(B80:F80),1),\"\")","v":""},{"$f":"IF(COUNT(B80:F80)>1, ROUND(STDEV(B80:F80),3),\"\")","v":""}]
[]
["**%Voids, Extracted AC, and #200 tolerances (upper limit only) will be limited by specification."]
[]
[{"$f":"setup!S2","v":"LaPave 501 v16.04.04"},null,null,null,null,null,null,null,null,null,null,null,null,null,{"$f":"TODAY()","v":"2023-03-31"}]

{"sheet":"Lot Report","index":14,"n_rows":50,"n_cols":21,"rows_kept":50,"cut":false,"hidden":false,"merged":[[45,0,45,2],[45,4,45,7],[45,9,45,11],[47,1,47,11],[49,11,49,12],[0,0,0,12],[4,1,4,4],[5,1,5,4],[6,11,6,12],[6,17,6,19],[2,1,2,4],[3,11,3,12],[3,1,3,4],[3,7,3,9],[4,11,4,12],[2,6,2,11],[12,17,12,19],[9,1,9,2],[9,4,9,5],[40,11,40,12],[39,11,39,12],[38,11,38,12],[37,11,37,12],[36,11,36,12],[35,11,35,12],[34,11,34,12],[33,11,33,12],[32,11,32,12],[31,11,31,12],[30,11,30,12],[29,11,29,12],[28,11,28,12],[27,11,27,12],[26,11,26,12],[25,11,25,12],[24,11,24,12],[23,11,23,12],[22,11,22,12],[21,11,21,12],[20,11,20,12],[19,11,19,12],[18,11,18,12],[17,11,17,12],[16,11,16,12],[15,11,15,12],[14,11,14,12],[13,11,13,12]]}
["Lot Summary Report"]
[]
["Proj. No.",null,null,null,null,"Plant",{"$f":"'JMF Input'!D7","v":0}]
["Proj. Name",{"$f":"VLOOKUP(B3, 'Project Summary'!B2:G100, 2,FALSE)","v":{"$error":"#N/A"}},null,null,null,null,"JMF No.",{"$f":"'JMF Input'!F3","v":0},null,null,"Mix Type",{"$f":"'JMF Input'!E5","v":"OGFC"}]
["Project Eng.",{"$f":"VLOOKUP(B3, 'Project Summary'!B2:G100, 3,FALSE)","v":{"$error":"#N/A"}},null,null,null,null,"Design level",{"$f":"'JMF Input'!F4","v":"T.L."},null,null,"JMF Mix use",{"$f":"'JMF Input'!E6","v":0}]
["Contractor",{"$f":"VLOOKUP(B3, 'Project Summary'!B2:G100, 4,FALSE)","v":{"$error":"#N/A"}}]
[null,null,null,null,null,null,null,null,null,null,"Adj.Fac",{"$f":"'JMF Input'!N4","v":{"$error":"#DIV/0!"}},null,null,null,null,null,"Deviations"]
[null,"JMF Gmm",{"$f":"IF(Validation!F7<>\"\",ROUND(Validation!F7,setup!M65),\"\")","v":""},null,"JMF No 4",{"$f":"IF(Validation!F25<>\"\",ROUND(Validation!F25,setup!M68),\"\")","v":""},null,"JMF No 200",{"$f":"IF(Validation!F31<>\"\",ROUND(Validation!F31,setup!M69),\"\")","v":""},null,null,null,null,null,null,null,null,100,90,80]
[null,null,null,null,null,null,null,null,null,null,null,null,null,null,null,null,"Gmm",2.1999999999999999E-2,2.5000000000000001E-2,2.7E-2]
["LOT NO.",null,null,null,"Lot Tons",null,{"$f":"SUM(C12:E12)","v":0},null,null,null,null,null,null,null,null,null,"No4",5,6,7,"coarse and OGFC only"]
["Sub Lot No.",null,null,null,null,"Mean","StDev","Min","Max","JMF","JMF Diff","Accept?",null,null,null,null,"No200",2,2.5,3,"coarse and OGFC only"]
["Tons"]
["Date",null,null,null,null,null,null,null,null,null,null,null,null,null,null,null,null,"Minimum"]
["Gmm",null,null,null,null,{"$f":"IF(SUM(C14:E14)>0, ROUND(AVERAGE(C14:E14),setup!M65),\"\")","v":""},null,null,null,{"$f":"ROUND(Validation!F7,setup!M65)","v":{"$error":"#VALUE!"}},{"$f":"ABS(F14-J14)","v":{"$error":"#VALUE!"}},{"$f":"IF(K14<R9,R8&\"%\",IF(K14<S9,S8&\"%\",IF(K14<T9,T8&\"%\",\"50%\")))","v":{"$error":"#VALUE!"}},null,null,null,null,null,100,90,80]
["Gmb, ND",null,null,null,null,{"$f":"IF(SUM(C15:E15)>0, ROUND(AVERAGE(C15:E15),setup!M66),\"\")","v":""},{"$f":"IF(SUM(C15:E15)>0,ROUND(STDEV(C15:E15),setup!$M$41+3),\"\")","v":""},null,null,{"$f":"ROUND(Validation!F8,setup!M66)","v":{"$error":"#VALUE!"}},{"$f":"ABS(F15-J15)","v":{"$error":"#VALUE!"}},null,null,null,null,null,"Tack",0.15,0.08,0.04]
["%Gmm, ND",null,null,null,null,{"$f":"IF(SUM(C16:E16)>0, ROUND(AVERAGE(C16:E16),setup!M67),\"\")","v":""},{"$f":"IF(SUM(C16:E16)>0,ROUND(STDEV(C16:E16),setup!M53+3),\"\")","v":""},null,null,{"$f":"ROUND(Validation!F10,setup!M67)","v":{"$error":"#VALUE!"}},{"$error":"#VALUE!"},{"$f":"IF(H16<>\"\",IF(F16>=H16,IF(I16<>\"\",IF(F16<=I16,\"OK\",\"Over Spec Limit\"),\"OK\"),\"Under Spec Limit\"),IF(I16<>\"\",IF(F16<=I16,\"OK\",\"Over Spec Limit\"),\"\"))","v":""}]
["%Voids",null,null,null,null,{"$f":"IF(SUM(C17:E17)>0, ROUND(AVERAGE(C17:E17),setup!M75),\"\")","v":""},{"$f":"IF(SUM(C17:E17)>0,ROUND(STDEV(C17:E17),setup!M52+3),\"\")","v":""},null,null,{"$f":"ROUND(Validation!F11,setup!M75)","v":{"$error":"#VALUE!"}},{"$error":"#VALUE!"}]
["VMA",null,null,null,null,{"$f":"IF(SUM(C18:E18)>0, ROUND(AVERAGE(C18:E18),setup!M74),\"\")","v":""},{"$f":"IF(SUM(C18:E18)>0,ROUND(STDEV(C18:E18),setup!M54+3),\"\")","v":""},null,null,{"$f":"ROUND(Validation!F12,setup!M74)","v":{"$error":"#VALUE!"}},{"$error":"#VALUE!"}]
["VFA",null,null,null,null,{"$f":"IF(SUM(C19:E19)>0, ROUND(AVERAGE(C19:E19),setup!M76),\"\")","v":""},null,null,null,{"$f":"ROUND(Validation!F13,setup!M76)","v":{"$error":"#VALUE!"}},{"$error":"#VALUE!"}]
[]
[]
["1\"               25",null,null,null,null,{"$f":"IF(SUM(C22:E22)>0, ROUND(AVERAGE(C22:E22),setup!M68),\"\")","v":""},{"$f":"IF(SUM(C22:E22)>0,ROUND(STDEV(C22:E22),setup!$M$41+3),\"\")","v":""},null,null,{"$f":"ROUND(Validation!F21,setup!$M$68)","v":{"$error":"#VALUE!"}},{"$error":"#VALUE!"}]
["3/4\"            19",null,null,null,null,{"$f":"IF(SUM(C23:E23)>0, ROUND(AVERAGE(C23:E23),setup!M68),\"\")","v":""},{"$f":"IF(SUM(C23:E23)>0,ROUND(STDEV(C23:E23),setup!$M$40+3),\"\")","v":""},null,null,{"$f":"ROUND(Validation!F22,setup!$M$68)","v":{"$error":"#VALUE!"}},{"$error":"#VALUE!"}]
["1/2\"         12.5",null,null,null,null,{"$f":"IF(SUM(C24:E24)>0, ROUND(AVERAGE(C24:E24),setup!M68),\"\")","v":""},{"$f":"IF(SUM(C24:E24)>0,ROUND(STDEV(C24:E24),setup!$M$42+3),\"\")","v":""},null,null,{"$f":"ROUND(Validation!F23,setup!$M$68)","v":{"$error":"#VALUE!"}},{"$error":"#VALUE!"}]
["3/8\"           9.5",null,null,null,null,{"$f":"IF(SUM(C25:E25)>0, ROUND(AVERAGE(C25:E25),setup!M68),\"\")","v":""},{"$f":"IF(SUM(C25:E25)>0,ROUND(STDEV(C25:E25),setup!$M$42+3),\"\")","v":""},null,null,{"$f":"ROUND(Validation!F24,setup!$M$68)","v":{"$error":"#VALUE!"}},{"$error":"#VALUE!"}]
["#4           4.75",null,null,null,null,{"$f":"IF(SUM(C26:E26)>0, ROUND(AVERAGE(C26:E26),setup!M68),\"\")","v":""},{"$f":"IF(SUM(C26:E26)>0,ROUND(STDEV(C26:E26),setup!$M$42+3),\"\")","v":""},null,null,{"$f":"ROUND(Validation!F25,setup!$M$68)","v":{"$error":"#VALUE!"}},{"$error":"#VALUE!"},{"$f":"IF(H5=\"Dense\",\"\",IF(K26<R10,R8&\"%\",IF(K26<S10,S8&\"%\",IF(K26<T10,T8&\"%\",\"50%\"))))","v":{"$error":"#VALUE!"}}]
["#8           2.36",null,null,null,null,{"$f":"IF(SUM(C27:E27)>0, ROUND(AVERAGE(C27:E27),setup!M68),\"\")","v":""},{"$f":"IF(SUM(C27:E27)>0,ROUND(STDEV(C27:E27),setup!$M$42+3),\"\")","v":""},null,null,{"$f":"ROUND(Validation!F26,setup!$M$68)","v":{"$error":"#VALUE!"}},{"$error":"#VALUE!"},{"$f":"IF(H27<>\"\",IF(F27>=H27,IF(I27<>\"\",IF(F27<=I27,\"OK\",\"Over Spec Limit\"),\"OK\"),\"Under Spec Limit\"),IF(I27<>\"\",IF(F27<=I27,\"OK\",\"Over Spec Limit\"),\"\"))","v":""}]
["#16         1.18",null,null,null,null,{"$f":"IF(SUM(C28:E28)>0, ROUND(AVERAGE(C28:E28),setup!M68),\"\")","v":""},{"$f":"IF(SUM(C28:E28)>0,ROUND(STDEV(C28:E28),setup!$M$42+3),\"\")","v":""},null,null,{"$f":"ROUND(Validation!F27,setup!$M$68)","v":{"$error":"#VALUE!"}},{"$error":"#VALUE!"},""]
["#30         0.60",null,null,null,null,{"$f":"IF(SUM(C29:E29)>0, ROUND(AVERAGE(C29:E29),setup!M68),\"\")","v":""},{"$f":"IF(SUM(C29:E29)>0,ROUND(STDEV(C29:E29),setup!$M$42+3),\"\")","v":""},null,null,{"$f":"ROUND(Validation!F28,setup!$M$68)","v":{"$error":"#VALUE!"}},{"$error":"#VALUE!"},{"$f":"IF(H29<>\"\",IF(F29>=H29,IF(I29<>\"\",IF(F29<=I29,\"OK\",\"Over Spec Limit\"),\"OK\"),\"Under Spec Limit\"),IF(I29<>\"\",IF(F29<=I29,\"OK\",\"Over Spec Limit\"),\"\"))","v":""}]
["#50         0.30",null,null,null,null,{"$f":"IF(SUM(C30:E30)>0, ROUND(AVERAGE(C30:E30),setup!M68),\"\")","v":""},{"$f":"IF(SUM(C30:E30)>0,ROUND(STDEV(C30:E30),setup!$M$42+3),\"\")","v":""},null,null,{"$f":"ROUND(Validation!F29,setup!$M$68)","v":{"$error":"#VALUE!"}},{"$error":"#VALUE!"},""]
["#200    0.075",null,null,null,null,{"$f":"IF(SUM(C31:E31)>0, ROUND(AVERAGE(C31:E31),setup!M69),\"\")","v":""},{"$f":"IF(SUM(C31:E31)>0,ROUND(STDEV(C31:E31),setup!$M$42+3),\"\")","v":""},null,null,{"$f":"ROUND(Validation!F31,setup!$M$69)","v":{"$error":"#VALUE!"}},{"$error":"#VALUE!"},{"$f":"IF(H5=\"Dense\",\"\",IF(K31<R11,R8&\"%\",IF(K31<S11,S8&\"%\",IF(K31<T11,T8&\"%\",\"50%\"))))","v":{"$error":"#VALUE!"}}]
["%AC",null,null,null,null,{"$f":"IF(SUM(C32:E32)>0, ROUND(AVERAGE(C32:E32),setup!M71),\"\")","v":""},{"$f":"IF(SUM(C32:E32)>0,ROUND(STDEV(C32:E32),setup!$M$42+3),\"\")","v":""},{"$f":"setup!B10","v":6.5},null,{"$f":"ROUND(Validation!F32,setup!M71)","v":{"$error":"#VALUE!"}},{"$error":"#VALUE!"},{"$f":"IF(H32<>\"\",IF(F32>=H32,IF(I32<>\"\",IF(F32<=I32,\"OK\",\"Over Spec Limit\"),\"OK\"),\"Under Spec Limit\"),IF(I32<>\"\",IF(F32<=I32,\"OK\",\"Over Spec Limit\"),\"\"))","v":"OK"}]
["Gse",null,null,null,null,{"$f":"IF(SUM(C33:E33)>0, ROUND(AVERAGE(C33:E33),setup!M66),\"\")","v":""},{"$f":"IF(SUM(C33:E33)>0,ROUND(STDEV(C33:E33),setup!$M$42+3),\"\")","v":""},null,null,{"$f":"ROUND(Validation!F34,setup!M66)","v":{"$error":"#VALUE!"}},{"$error":"#VALUE!"}]
["Pba",null,null,null,null,{"$f":"IF(SUM(C34:E34)>0, ROUND(AVERAGE(C34:E34),setup!M71),\"\")","v":""},{"$f":"IF(SUM(C34:E34)>0,ROUND(STDEV(C34:E34),setup!$M$42+3),\"\")","v":""},null,null,{"$f":"ROUND(Validation!F35,setup!M71)","v":{"$error":"#VALUE!"}},{"$error":"#VALUE!"}]
["Pbe",null,null,null,null,{"$f":"IF(SUM(C35:E35)>0, ROUND(AVERAGE(C35:E35),setup!M71),\"\")","v":""},{"$f":"IF(SUM(C35:E35)>0,ROUND(STDEV(C35:E35),setup!$M$43+3),\"\")","v":""},null,null,{"$f":"ROUND(Validation!F36,setup!M71)","v":{"$error":"#VALUE!"}},{"$error":"#VALUE!"},{"$f":"IF(H35<>\"\",IF(F35>=H35,IF(I35<>\"\",IF(F35<=I35,\"OK\",\"Over Spec Limit\"),\"OK\"),\"Under Spec Limit\"),IF(I35<>\"\",IF(F35<=I35,\"OK\",\"Over Spec Limit\"),\"\"))","v":""}]
["%Antistrip",null,null,null,null,{"$f":"IF(SUM(C36:E36)>0, ROUND(AVERAGE(C36:E36),setup!M71),\"\")","v":""},null,null,null,{"$f":"ROUND(Validation!F37,setup!M71)","v":0.6},{"$error":"#VALUE!"}]
["%Crushed",null,null,null,null,{"$f":"IF(SUM(C37:E37)>0, ROUND(AVERAGE(C37:E37),setup!M68),\"\")","v":""},{"$f":"IF(SUM(C37:E37)>0,ROUND(STDEV(C37:E37),setup!M49+3),\"\")","v":""},null,null,{"$f":"ROUND(Validation!F38,setup!M71)","v":{"$error":"#VALUE!"}},{"$error":"#VALUE!"},{"$f":"IF(H37<>\"\",IF(F37>=H37,\"OK\",\"Under Spec Limit\"),\"\")","v":""}]
["Comp Temp",null,null,null,null,{"$f":"IF(SUM(C38:E38)>0, ROUND(AVERAGE(C38:E38),0),\"\")","v":""},{"$f":"IF(SUM(C38:E38)>0,ROUND(STDEV(C38:E38),setup!M50+3),\"\")","v":""},null,null,{"$f":"ROUND(Validation!F39,0)","v":{"$error":"#VALUE!"}},{"$error":"#VALUE!"}]
["Mix Temp",null,null,null,null,{"$f":"IF(SUM(C39:E39)>0, ROUND(AVERAGE(C39:E39),0),\"\")","v":""},{"$f":"IF(SUM(C39:E39)>0,ROUND(STDEV(C39:E39),setup!M44+3),\"\")","v":""},{"$f":"J39-setup!D40","v":{"$error":"#VALUE!"}},{"$f":"J39+setup!D40","v":{"$error":"#VALUE!"}},{"$f":"ROUND(Validation!F40,0)","v":{"$error":"#VALUE!"}},{"$error":"#VALUE!"},{"$f":"IF(H39<>\"\",IF(F39>=H39,IF(I39<>\"\",IF(F39<=I39,\"OK\",\"Over Spec Limit\"),\"OK\"),\"Under Spec Limit\"),IF(I39<>\"\",IF(F39<=I39,\"OK\",\"Over Spec Limit\"),\"\"))","v":{"$error":"#VALUE!"}}]
["Meter AC",null,null,null,null,{"$f":"IF(SUM(C40:E40)>0, ROUND(AVERAGE(C40:E40),setup!M71),\"\")","v":""},{"$f":"IF(SUM(C40:E40)>0,ROUND(STDEV(C40:E40),setup!M51+3),\"\")","v":""},{"$f":"J40-setup!D37","v":{"$error":"#VALUE!"}},{"$f":"J40+setup!D37","v":{"$error":"#VALUE!"}},{"$f":"ROUND(Validation!F41,setup!M71)","v":{"$error":"#VALUE!"}},{"$error":"#VALUE!"}]
["Tack Coat Rate",null,null,null,null,{"$f":"IF(SUM(C41:E41)>0, ROUND(AVERAGE(C41:E41),2),\"\")","v":""},{"$f":"IF(SUM(C41:E41)>0,ROUND(STDEV(C41:E41),setup!M49+3),\"\")","v":""},{"$f":"setup!B23","v":0.15},{"$f":"setup!C24","v":0.4},{"$f":"ROUND(Validation!F42,2)","v":{"$error":"#VALUE!"}},{"$error":"#VALUE!"},{"$f":"IF(H41<>\"\",IF(F41>=H41,IF(I41<>\"\",IF(F41<=I41,\"OK\",\"Over Spec Limit\"),\"OK\"),\"Under Spec Limit\"),IF(I41<>\"\",IF(F41<=I41,\"OK\",\"Over Spec Limit\"),\"\"))","v":"Over Spec Limit"}]
[null,null,null,null,null,{"$f":"IF(SUM(C42:E42)>0, ROUND(AVERAGE(C42:E42),2),\"\")","v":""},{"$f":"IF(SUM(C42:E42)>0,ROUND(STDEV(C42:E42),4),\"\")","v":""}]
[]
[]
[]
["DOTD Cert. AC Plant Tech.",null,null,null,"QA Cert. Asphaltic Concrete Plant Tech.",null,null,null,null,"APPROVED BY: District Lab Engr."]
[]
["Remarks:",{"$f":"'Validation Input'!B52:O52","v":0}]
[]
[{"$f":"setup!S2","v":"LaPave 501 v16.04.04"},null,null,null,null,null,null,null,null,null,null,{"$f":"TODAY()","v":"2023-03-31"}]

{"sheet":"Acceptance Report","index":15,"n_rows":14,"n_cols":30,"rows_kept":14,"cut":false,"hidden":false,"merged":[[5,26,5,28],[11,26,11,28],[0,0,0,18],[5,1,5,4],[4,1,4,4],[2,1,2,4],[2,14,2,15],[3,1,3,4],[3,7,3,9],[3,14,3,15],[5,17,5,18],[2,7,2,12]]}
["Roadway Summary Report"]
[]
["Proj. No.",null,null,null,null,null,"Plant",{"$f":"'JMF Input'!D7","v":0},null,null,null,null,null,"Mix Type",{"$f":"'JMF Input'!E5","v":"OGFC"}]
["Proj. Name",{"$f":"VLOOKUP(B3, 'Project Summary'!B2:G100, 2,FALSE)","v":{"$error":"#N/A"}},null,null,null,null,"JMF No.",{"$f":"'JMF Input'!F3","v":0},null,null,null,null,null,"JMF Mix use",{"$f":"'JMF Input'!E6","v":0}]
["Project Eng.",{"$f":"VLOOKUP(B3, 'Project Summary'!B2:G100, 3,FALSE)","v":{"$error":"#N/A"}},null,null,null,null,"Design level",{"$f":"'JMF Input'!F4","v":"T.L."}]
["Contractor",{"$f":"VLOOKUP(B3, 'Project Summary'!B2:G100, 4,FALSE)","v":{"$error":"#N/A"}},null,null,null,null,null,null,null,null,null,null,null,null,110,"lb/sqyd/inch","Adj.Fac",{"$f":"'JMF Input'!N4","v":{"$error":"#DIV/0!"}},null,null,null,null,null,null,null,null,"Deviations"]
[null,null,null,null,null,null,null,null,null,null,null,null,null,null,null,null,null,null,null,null,null,null,null,null,null,null,100,90,80]
[null,"JMF Gmm",{"$f":"IF(Validation!F7<>\"\",ROUND(Validation!F7,setup!M65),\"\")","v":""},null,"JMF No 4",{"$f":"IF(Validation!F25<>\"\",ROUND(Validation!F25,setup!M68),\"\")","v":""},null,"JMF No 200",{"$f":"IF(Validation!F31<>\"\",ROUND(Validation!F31,setup!M69),\"\")","v":""},null,null,null,null,null,null,null,null,null,null,null,null,null,null,null,null,"Gmm",2.1999999999999999E-2,2.5000000000000001E-2,2.7E-2]
[null,null,null,null,null,null,null,null,null,null,null,null,null,null,null,null,null,null,null,null,null,null,null,null,null,"No4",5,6,7,"coarse and OGFC only"]
["Sublot/Lot","Gmm","Dev","%Pay","No 4","Dev","%Pay","No 200","Dev","%Pay","Tack Coat Rate","%Pay","Width (ft)","Length (ft)","Thick (in)","Est Ton","Ton","Adj Ton","Total %Pay",null,null,null,null,null,null,"No200",2,2.5,3,"coarse and OGFC only"]
["Val A","",{"$f":"ABS(B11-$C$8)","v":{"$error":"#VALUE!"}},{"$f":"IF(C11<AA8,100,IF(C11<=AB8,90,IF(C11<=AC8,80,50)))","v":{"$error":"#VALUE!"}}," ",{"$f":"ABS(E11-$F$8)","v":{"$error":"#VALUE!"}},{"$f":"IF($O$3<>\"Dense Mix\", IF(F11<=AA9,100,IF(F11<=AB9,90,IF(F11<=AC9,80,50))),\"--\")","v":{"$error":"#VALUE!"}}," ",{"$f":"ABS(H11-$I$8)","v":{"$error":"#VALUE!"}},{"$f":"IF(O3<>\"Dense Mix\", IF(I11<=AA10,100,IF(I11<=AB10,90,IF(I11<=AC10,80,50))),\"--\")","v":{"$error":"#VALUE!"}},null,{"$f":" IF(K11>=AA14,100,IF(K11>=AB14,90,IF(K11>=AC14,80,50)))","v":50},null,null,null,{"$f":"ROUND($O$6*((M11/3*N11/3)/O11)/2000,1)","v":{"$error":"#DIV/0!"}},null,{"$f":"Q11*$R$6","v":{"$error":"#DIV/0!"}},{"$f":"MIN(D11,G11,J11,L11)","v":{"$error":"#VALUE!"}}]
["Val B","",{"$f":"ABS(B12-$C$8)","v":{"$error":"#VALUE!"}},{"$f":"IF(C12<AA8,100,IF(C12<=AB8,90,IF(C12<=AC8,80,50)))","v":{"$error":"#VALUE!"}}," ",{"$f":"ABS(E12-$F$8)","v":{"$error":"#VALUE!"}},{"$f":"IF($O$3<>\"Dense Mix\", IF(F12<=AA9,100,IF(F12<=AB9,90,IF(F12<=AC9,80,50))),\"--\")","v":{"$error":"#VALUE!"}}," ",{"$f":"ABS(H12-$I$8)","v":{"$error":"#VALUE!"}},{"$f":"IF(O3<>\"Dense Mix\", IF(I12<=AA10,100,IF(I12<=AB10,90,IF(I12<=AC10,80,50))),\"--\")","v":{"$error":"#VALUE!"}},null,{"$f":" IF(K12>=AA14,100,IF(K12>=AB14,90,IF(K12>=AC14,80,50)))","v":50},null,null,null,{"$f":"ROUND($O$6*((M12/3*N12/3)/O12)/2000,1)","v":{"$error":"#DIV/0!"}},null,{"$f":"Q12*$R$6","v":{"$error":"#DIV/0!"}},{"$f":"MIN(D12,G12,J12,L12)","v":{"$error":"#VALUE!"}},null,null,null,null,null,null,null,"Minimum"]
["Val C","",{"$f":"ABS(B13-$C$8)","v":{"$error":"#VALUE!"}},{"$f":"IF(C13<AA8,100,IF(C13<=AB8,90,IF(C13<=AC8,80,50)))","v":{"$error":"#VALUE!"}}," ",{"$f":"ABS(E13-$F$8)","v":{"$error":"#VALUE!"}},{"$f":"IF($O$3<>\"Dense Mix\", IF(F13<=AA9,100,IF(F13<=AB9,90,IF(F13<=AC9,80,50))),\"--\")","v":{"$error":"#VALUE!"}}," ",{"$f":"ABS(H13-$I$8)","v":{"$error":"#VALUE!"}},{"$f":"IF(O3<>\"Dense Mix\", IF(I13<=AA10,100,IF(I13<=AB10,90,IF(I13<=AC10,80,50))),\"--\")","v":{"$error":"#VALUE!"}},null,{"$f":" IF(K13>=AA14,100,IF(K13>=AB14,90,IF(K13>=AC14,80,50)))","v":50},null,null,null,{"$f":"ROUND($O$6*((M13/3*N13/3)/O13)/2000,1)","v":{"$error":"#DIV/0!"}},null,{"$f":"Q13*$R$6","v":{"$error":"#DIV/0!"}},{"$f":"MIN(D13,G13,J13,L13)","v":{"$error":"#VALUE!"}},null,null,null,null,null,null,null,100,90,80]
["Lot ",{"$f":"ROUND(AVERAGE(B11:B13),3)","v":{"$error":"#DIV/0!"}},{"$f":"ABS(B14-$C$8)","v":{"$error":"#DIV/0!"}},{"$f":"IF(C14<AA8,100,IF(C14<=AB8,90,IF(C14<=AC8,80,50)))","v":{"$error":"#DIV/0!"}},{"$f":"ROUND(AVERAGE(E11:E13),1)","v":{"$error":"#DIV/0!"}},{"$f":"ABS(E14-$F$8)","v":{"$error":"#DIV/0!"}},{"$f":"IF($O$3<>\"Dense Mix\", IF(F14<=AA9,100,IF(F14<=AB9,90,IF(F14<=AC9,80,50))),\"--\")","v":{"$error":"#DIV/0!"}},{"$f":"ROUND(AVERAGE(H11:H13),1)","v":{"$error":"#DIV/0!"}},{"$f":"ABS(H14-$I$8)","v":{"$error":"#DIV/0!"}},{"$f":"IF(O3<>\"Dense Mix\", IF(I14<=AA10,100,IF(I14<=AB10,90,IF(I14<=AC10,80,50))),\"--\")","v":{"$error":"#DIV/0!"}},{"$f":"ROUND(AVERAGE(K11:K13),2)","v":{"$error":"#DIV/0!"}},{"$f":" IF(K14>=AA14,100,IF(K14>=AB14,90,IF(K14>=AC14,80,50)))","v":{"$error":"#DIV/0!"}},null,null,null,{"$f":"SUM(P11:P13)","v":{"$error":"#DIV/0!"}},{"$f":"SUM(Q11:Q13)","v":0},{"$f":"Q14*$R$6","v":{"$error":"#DIV/0!"}},{"$f":"MIN(D14,G14,J14,L14)","v":{"$error":"#DIV/0!"}},null,null,null,null,null,null,"Tack",0.15,0.08,0.04]

{"sheet":"Project Summary","index":16,"n_rows":3753,"n_cols":7,"rows_kept":3753,"cut":false,"hidden":false,"merged":[]}
["Counter","Project No.","Project Name","Project Eng.","Contractor","Traffic (ADT)","ESAL"]
[]
[]
[]
[]
[]
[]
[]
[]
[]
[]
[]
[]
[]
[]
[]
[]
[]
[]
[]
[]
[]
[]
[]
[]
[]
[]
[]
[]
[]
[]
[]
[]
[]
[]
[]
[]
[]
[]
[]
[]
[]
[]
[]
[]
[]
[]
[]
[]
[]
[]
[]
[]
[]
[]
[]
[]
[]
[]
[]
[]
[]
[]
[]
[]
[]
[]
[]
[]
[]
[]
[]
[]
[]
[]
[]
[]
[]
[]
[]
[]
[]
[]
[]
[]
[]
[]
[]
[]
[]
[]
[]
[]
[]
[]
[]
[]
[]
[]
[]
[]
[]
[]
[]
[]
[]
[]
[]
[]
[]
[]
[]
[]
[]
[]
[]
[]
[]
[]
[]
[]
[]
[]
[]
[]
[]
[]
[]
[]
[]
[]
[]
[]
[]
[]
[]
[]
[]
[]
[]
[]
[]
[]
[]
[]
[]
[]
[]
[]
[]
[]
[]
[]
[]
[]
[]
[]
[]
[]
[]
[]
[]
[]
[]
[]
[]
[]
[]
[]
[]
[]
[]
[]
[]
[]
[]
[]
[]
[]
[]
[]
[]
[]
[]
[]
[]
[]
[]
[]
[]
[]
[]
[]
[]
[]
[]
[]
[]
[]
[]
[]
[]
[]
[]
[]
[]
[]
[]
[]
[]
[]
[]
[]
[]
[]
[]
[]
[]
[]
[]
[]
[]
[]
[]
[]
[]
[]
[]
[]
[]
[]
[]
[]
[]
[]
[]
[]
[]
[]
[]
[]
[]
[]
[]
[]
[]
[]
[]
[]
[]
[]
[]
[]
[]
[]
[]
[]
[]
[]
[]
[]
[]
[]
[]
[]
[]
[]
[]
[]
[]
[]
[]
[]
[]
[]
[]
[]
[]
[]
[]
[]
[]
[]
[]
[]
[]
[]
[]
[]
[]
[]
[]
[]
[]
[]
[]
[]
[]
[]
[]
[]
[]
[]
[]
[]
[]
[]
[]
[]
[]
[]
[]
[]
[]
[]
[]
[]
[]
[]
[]
[]
[]
[]
[]
[]
[]
[]
[]
[]
[]
[]
[]
[]
[]
[]
[]
[]
[]
[]
[]
[]
[]
[]
[]
[]
[]
[]
[]
[]
[]
[]
[]
[]
[]
[]
[]
[]
[]
[]
[]
[]
[]
[]
[]
[]
[]
[]
[]
[]
[]
[]
[]
[]
[]
[]
[]
[]
[]
[]
[]
[]
[]
[]
[]
[]
[]
[]
[]
[]
[]
[]
[]
[]
[]
[]
[]
[]
[]
[]
[]
[]
[]
[]
[]
[]
[]
[]
[]
[]
[]
[]
[]
[]
[]
[]
[]
[]
[]
[]
[]
[]
[]
[]
[]
[]
[]
[]
[]
[]
[]
[]
[]
[]
[]
[]
[]
[]
[]
[]
[]
[]
[]
[]
[]
[]
[]
[]
[]
[]
[]
[]
[]
[]
[]
[]
[]
[]
[]
[]
[]
[]
[]
[]
[]
[]
[]
[]
[]
[]
[]
[]
[]
[]
[]
[]
[]
[]
[]
[]
[]
[]
[]
[]
[]
[]
[]
[]
[]
[]
[]
[]
[]
[]
[]
[]
[]
[]
[]
[]
[]
[]
[]
[]
[]
[]
[]
[]
[]
[]
[]
[]
[]
[]
[]
[]
[]
[]
[]
[]
[]
[]
[]
[]
[]
[]
[]
[]
[]
[]
[]
[]
[]
[]
[]
[]
[]
[]
[]
[]
[]
[]
[]
[]
[]
[]
[]
[]
[]
[]
[]
[]
[]
[]
[]
[]
[]
[]
[]
[]
[]
[]
[]
[]
[]
[]
[]
[]
[]
[]
[]
[]
[]
[]
[]
[]
[]
[]
[]
[]
[]
[]
[]
[]
[]
[]
[]
[]
[]
[]
[]
[]
[]
[]
[]
[]
[]
[]
[]
[]
[]
[]
[]
[]
[]
[]
[]
[]
[]
[]
[]
[]
[]
[]
[]
[]
[]
[]
[]
[]
[]
[]
[]
[]
[]
[]
[]
[]
[]
[]
[]
[]
[]
[]
[]
[]
[]
[]
[]
[]
[]
[]
[]
[]
[]
[]
[]
[]
[]
[]
[]
[]
[]
[]
[]
[]
[]
[]
[]
[]
[]
[]
[]
[]
[]
[]
[]
[]
[]
[]
[]
[]
[]
[]
[]
[]
[]
[]
[]
[]
[]
[]
[]
[]
[]
[]
[]
[]
[]
[]
[]
[]
[]
[]
[]
[]
[]
[]
[]
[]
[]
[]
[]
[]
[]
[]
[]
[]
[]
[]
[]
[]
[]
[]
[]
[]
[]
[]
[]
[]
[]
[]
[]
[]
[]
[]
[]
[]
[]
[]
[]
[]
[]
[]
[]
[]
[]
[]
[]
[]
[]
[]
[]
[]
[]
[]
[]
[]
[]
[]
[]
[]
[]
[]
[]
[]
[]
[]
[]
[]
[]
[]
[]
[]
[]
[]
[]
[]
[]
[]
[]
[]
[]
[]
[]
[]
[]
[]
[]
[]
[]
[]
[]
[]
[]
[]
[]
[]
[]
[]
[]
[]
[]
[]
[]
[]
[]
[]
[]
[]
[]
[]
[]
[]
[]
[]
[]
[]
[]
[]
[]
[]
[]
[]
[]
[]
[]
[]
[]
[]
[]
[]
[]
[]
[]
[]
[]
[]
[]
[]
[]
[]
[]
[]
[]
[]
[]
[]
[]
[]
[]
[]
[]
[]
[]
[]
[]
[]
[]
[]
[]
[]
[]
[]
[]
[]
[]
[]
[]
[]
[]
[]
[]
[]
[]
[]
[]
[]
[]
[]
[]
[]
[]
[]
[]
[]
[]
[]
[]
[]
[]
[]
[]
[]
[]
[]
[]
[]
[]
[]
[]
[]
[]
[]
[]
[]
[]
[]
[]
[]
[]
[]
[]
[]
[]
[]
[]
[]
[]
[]
[]
[]
[]
[]
[]
[]
[]
[]
[]
[]
[]
[]
[]
[]
[]
[]
[]
[]
[]
[]
[]
[]
[]
[]
[]
[]
[]
[]
[]
[]
[]
[]
[]
[]
[]
[]
[]
[]
[]
[]
[]
[]
[]
[]
[]
[]
[]
[]
[]
[]
[]
[]
[]
[]
[]
[]
[]
[]
[]
[]
[]
[]
[]
[]
[]
[]
[]
[]
[]
[]
[]
[]
[]
[]
[]
[]
[]
[]
[]
[]
[]
[]
[]
[]
[]
[]
[]
[]
[]
[]
[]
[]
[]
[]
[]
[]
[]
[]
[]
[]
[]
[]
[]
[]
[]
[]
[]
[]
[]
[]
[]
[]
[]
[]
[]
[]
[]
[]
[]
[]
[]
[]
[]
[]
[]
[]
[]
[]
[]
[]
[]
[]
[]
[]
[]
[]
[]
[]
[]
[]
[]
[]
[]
[]
[]
[]
[]
[]
[]
[]
[]
[]
[]
[]
[]
[]
[]
[]
[]
[]
[]
[]
[]
[]
[]
[]
[]
[]
[]
[]
[]
[]
[]
[]
[]
[]
[]
[]
[]
[]
[]
[]
[]
[]
[]
[]
[]
[]
[]
[]
[]
[]
[]
[]
[]
[]
[]
[]
[]
[]
[]
[]
[]
[]
[]
[]
[]
[]
[]
[]
[]
[]
[]
[]
[]
[]
[]
[]
[]
[]
[]
[]
[]
[]
[]
[]
[]
[]
[]
[]
[]
[]
[]
[]
[]
[]
[]
[]
[]
[]
[]
[]
[]
[]
[]
[]
[]
[]
[]
[]
[]
[]
[]
[]
[]
[]
[]
[]
[]
[]
[]
[]
[]
[]
[]
[]
[]
[]
[]
[]
[]
[]
[]
[]
[]
[]
[]
[]
[]
[]
[]
[]
[]
[]
[]
[]
[]
[]
[]
[]
[]
[]
[]
[]
[]
[]
[]
[]
[]
[]
[]
[]
[]
[]
[]
[]
[]
[]
[]
[]
[]
[]
[]
[]
[]
[]
[]
[]
[]
[]
[]
[]
[]
[]
[]
[]
[]
[]
[]
[]
[]
[]
[]
[]
[]
[]
[]
[]
[]
[]
[]
[]
[]
[]
[]
[]
[]
[]
[]
[]
[]
[]
[]
[]
[]
[]
[]
[]
[]
[]
[]
[]
[]
[]
[]
[]
[]
[]
[]
[]
[]
[]
[]
[]
[]
[]
[]
[]
[]
[]
[]
[]
[]
[]
[]
[]
[]
[]
[]
[]
[]
[]
[]
[]
[]
[]
[]
[]
[]
[]
[]
[]
[]
[]
[]
[]
[]
[]
[]
[]
[]
[]
[]
[]
[]
[]
[]
[]
[]
[]
[]
[]
[]
[]
[]
[]
[]
[]
[]
[]
[]
[]
[]
[]
[]
[]
[]
[]
[]
[]
[]
[]
[]
[]
[]
[]
[]
[]
[]
[]
[]
[]
[]
[]
[]
[]
[]
[]
[]
[]
[]
[]
[]
[]
[]
[]
[]
[]
[]
[]
[]
[]
[]
[]
[]
[]
[]
[]
[]
[]
[]
[]
[]
[]
[]
[]
[]
[]
[]
[]
[]
[]
[]
[]
[]
[]
[]
[]
[]
[]
[]
[]
[]
[]
[]
[]
[]
[]
[]
[]
[]
[]
[]
[]
[]
[]
[]
[]
[]
[]
[]
[]
[]
[]
[]
[]
[]
[]
[]
[]
[]
[]
[]
[]
[]
[]
[]
[]
[]
[]
[]
[]
[]
[]
[]
[]
[]
[]
[]
[]
[]
[]
[]
[]
[]
[]
[]
[]
[]
[]
[]
[]
[]
[]
[]
[]
[]
[]
[]
[]
[]
[]
[]
[]
[]
[]
[]
[]
[]
[]
[]
[]
[]
[]
[]
[]
[]
[]
[]
[]
[]
[]
[]
[]
[]
[]
[]
[]
[]
[]
[]
[]
[]
[]
[]
[]
[]
[]
[]
[]
[]
[]
[]
[]
[]
[]
[]
[]
[]
[]
[]
[]
[]
[]
[]
[]
[]
[]
[]
[]
[]
[]
[]
[]
[]
[]
[]
[]
[]
[]
[]
[]
[]
[]
[]
[]
[]
[]
[]
[]
[]
[]
[]
[]
[]
[]
[]
[]
[]
[]
[]
[]
[]
[]
[]
[]
[]
[]
[]
[]
[]
[]
[]
[]
[]
[]
[]
[]
[]
[]
[]
[]
[]
[]
[]
[]
[]
[]
[]
[]
[]
[]
[]
[]
[]
[]
[]
[]
[]
[]
[]
[]
[]
[]
[]
[]
[]
[]
[]
[]
[]
[]
[]
[]
[]
[]
[]
[]
[]
[]
[]
[]
[]
[]
[]
[]
[]
[]
[]
[]
[]
[]
[]
[]
[]
[]
[]
[]
[]
[]
[]
[]
[]
[]
[]
[]
[]
[]
[]
[]
[]
[]
[]
[]
[]
[]
[]
[]
[]
[]
[]
[]
[]
[]
[]
[]
[]
[]
[]
[]
[]
[]
[]
[]
[]
[]
[]
[]
[]
[]
[]
[]
[]
[]
[]
[]
[]
[]
[]
[]
[]
[]
[]
[]
[]
[]
[]
[]
[]
[]
[]
[]
[]
[]
[]
[]
[]
[]
[]
[]
[]
[]
[]
[]
[]
[]
[]
[]
[]
[]
[]
[]
[]
[]
[]
[]
[]
[]
[]
[]
[]
[]
[]
[]
[]
[]
[]
[]
[]
[]
[]
[]
[]
[]
[]
[]
[]
[]
[]
[]
[]
[]
[]
[]
[]
[]
[]
[]
[]
[]
[]
[]
[]
[]
[]
[]
[]
[]
[]
[]
[]
[]
[]
[]
[]
[]
[]
[]
[]
[]
[]
[]
[]
[]
[]
[]
[]
[]
[]
[]
[]
[]
[]
[]
[]
[]
[]
[]
[]
[]
[]
[]
[]
[]
[]
[]
[]
[]
[]
[]
[]
[]
[]
[]
[]
[]
[]
[]
[]
[]
[]
[]
[]
[]
[]
[]
[]
[]
[]
[]
[]
[]
[]
[]
[]
[]
[]
[]
[]
[]
[]
[]
[]
[]
[]
[]
[]
[]
[]
[]
[]
[]
[]
[]
[]
[]
[]
[]
[]
[]
[]
[]
[]
[]
[]
[]
[]
[]
[]
[]
[]
[]
[]
[]
[]
[]
[]
[]
[]
[]
[]
[]
[]
[]
[]
[]
[]
[]
[]
[]
[]
[]
[]
[]
[]
[]
[]
[]
[]
[]
[]
[]
[]
[]
[]
[]
[]
[]
[]
[]
[]
[]
[]
[]
[]
[]
[]
[]
[]
[]
[]
[]
[]
[]
[]
[]
[]
[]
[]
[]
[]
[]
[]
[]
[]
[]
[]
[]
[]
[]
[]
[]
[]
[]
[]
[]
[]
[]
[]
[]
[]
[]
[]
[]
[]
[]
[]
[]
[]
[]
[]
[]
[]
[]
[]
[]
[]
[]
[]
[]
[]
[]
[]
[]
[]
[]
[]
[]
[]
[]
[]
[]
[]
[]
[]
[]
[]
[]
[]
[]
[]
[]
[]
[]
[]
[]
[]
[]
[]
[]
[]
[]
[]
[]
[]
[]
[]
[]
[]
[]
[]
[]
[]
[]
[]
[]
[]
[]
[]
[]
[]
[]
[]
[]
[]
[]
[]
[]
[]
[]
[]
[]
[]
[]
[]
[]
[]
[]
[]
[]
[]
[]
[]
[]
[]
[]
[]
[]
[]
[]
[]
[]
[]
[]
[]
[]
[]
[]
[]
[]
[]
[]
[]
[]
[]
[]
[]
[]
[]
[]
[]
[]
[]
[]
[]
[]
[]
[]
[]
[]
[]
[]
[]
[]
[]
[]
[]
[]
[]
[]
[]
[]
[]
[]
[]
[]
[]
[]
[]
[]
[]
[]
[]
[]
[]
[]
[]
[]
[]
[]
[]
[]
[]
[]
[]
[]
[]
[]
[]
[]
[]
[]
[]
[]
[]
[]
[]
[]
[]
[]
[]
[]
[]
[]
[]
[]
[]
[]
[]
[]
[]
[]
[]
[]
[]
[]
[]
[]
[]
[]
[]
[]
[]
[]
[]
[]
[]
[]
[]
[]
[]
[]
[]
[]
[]
[]
[]
[]
[]
[]
[]
[]
[]
[]
[]
[]
[]
[]
[]
[]
[]
[]
[]
[]
[]
[]
[]
[]
[]
[]
[]
[]
[]
[]
[]
[]
[]
[]
[]
[]
[]
[]
[]
[]
[]
[]
[]
[]
[]
[]
[]
[]
[]
[]
[]
[]
[]
[]
[]
[]
[]
[]
[]
[]
[]
[]
[]
[]
[]
[]
[]
[]
[]
[]
[]
[]
[]
[]
[]
[]
[]
[]
[]
[]
[]
[]
[]
[]
[]
[]
[]
[]
[]
[]
[]
[]
[]
[]
[]
[]
[]
[]
[]
[]
[]
[]
[]
[]
[]
[]
[]
[]
[]
[]
[]
[]
[]
[]
[]
[]
[]
[]
[]
[]
[]
[]
[]
[]
[]
[]
[]
[]
[]
[]
[]
[]
[]
[]
[]
[]
[]
[]
[]
[]
[]
[]
[]
[]
[]
[]
[]
[]
[]
[]
[]
[]
[]
[]
[]
[]
[]
[]
[]
[]
[]
[]
[]
[]
[]
[]
[]
[]
[]
[]
[]
[]
[]
[]
[]
[]
[]
[]
[]
[]
[]
[]
[]
[]
[]
[]
[]
[]
[]
[]
[]
[]
[]
[]
[]
[]
[]
[]
[]
[]
[]
[]
[]
[]
[]
[]
[]
[]
[]
[]
[]
[]
[]
[]
[]
[]
[]
[]
[]
[]
[]
[]
[]
[]
[]
[]
[]
[]
[]
[]
[]
[]
[]
[]
[]
[]
[]
[]
[]
[]
[]
[]
[]
[]
[]
[]
[]
[]
[]
[]
[]
[]
[]
[]
[]
[]
[]
[]
[]
[]
[]
[]
[]
[]
[]
[]
[]
[]
[]
[]
[]
[]
[]
[]
[]
[]
[]
[]
[]
[]
[]
[]
[]
[]
[]
[]
[]
[]
[]
[]
[]
[]
[]
[]
[]
[]
[]
[]
[]
[]
[]
[]
[]
[]
[]
[]
[]
[]
[]
[]
[]
[]
[]
[]
[]
[]
[]
[]
[]
[]
[]
[]
[]
[]
[]
[]
[]
[]
[]
[]
[]
[]
[]
[]
[]
[]
[]
[]
[]
[]
[]
[]
[]
[]
[]
[]
[]
[]
[]
[]
[]
[]
[]
[]
[]
[]
[]
[]
[]
[]
[]
[]
[]
[]
[]
[]
[]
[]
[]
[]
[]
[]
[]
[]
[]
[]
[]
[]
[]
[]
[]
[]
[]
[]
[]
[]
[]
[]
[]
[]
[]
[]
[]
[]
[]
[]
[]
[]
[]
[]
[]
[]
[]
[]
[]
[]
[]
[]
[]
[]
[]
[]
[]
[]
[]
[]
[]
[]
[]
[]
[]
[]
[]
[]
[]
[]
[]
[]
[]
[]
[]
[]
[]
[]
[]
[]
[]
[]
[]
[]
[]
[]
[]
[]
[]
[]
[]
[]
[]
[]
[]
[]
[]
[]
[]
[]
[]
[]
[]
[]
[]
[]
[]
[]
[]
[]
[]
[]
[]
[]
[]
[]
[]
[]
[]
[]
[]
[]
[]
[]
[]
[]
[]
[]
[]
[]
[]
[]
[]
[]
[]
[]
[]
[]
[]
[]
[]
[]
[]
[]
[]
[]
[]
[]
[]
[]
[]
[]
[]
[]
[]
[]
[]
[]
[]
[]
[]
[]
[]
[]
[]
[]
[]
[]
[]
[]
[]
[]
[]
[]
[]
[]
[]
[]
[]
[]
[]
[]
[]
[]
[]
[]
[]
[]
[]
[]
[]
[]
[]
[]
[]
[]
[]
[]
[]
[]
[]
[]
[]
[]
[]
[]
[]
[]
[]
[]
[]
[]
[]
[]
[]
[]
[]
[]
[]
[]
[]
[]
[]
[]
[]
[]
[]
[]
[]
[]
[]
[]
[]
[]
[]
[]
[]
[]
[]
[]
[]
[]
[]
[]
[]
[]
[]
[]
[]
[]
[]
[]
[]
[]
[]
[]
[]
[]
[]
[]
[]
[]
[]
[]
[]
[]
[]
[]
[]
[]
[]
[]
[]
[]
[]
[]
[]
[]
[]
[]
[]
[]
[]
[]
[]
[]
[]
[]
[]
[]
[]
[]
[]
[]
[]
[]
[]
[]
[]
[]
[]
[]
[]
[]
[]
[]
[]
[]
[]
[]
[]
[]
[]
[]
[]
[]
[]
[]
[]
[]
[]
[]
[]
[]
[]
[]
[]
[]
[]
[]
[]
[]
[]
[]
[]
[]
[]
[]
[]
[]
[]
[]
[]
[]
[]
[]
[]
[]
[]
[]
[]
[]
[]
[]
[]
[]
[]
[]
[]
[]
[]
[]
[]
[]
[]
[]
[]
[]
[]
[]
[]
[]
[]
[]
[]
[]
[]
[]
[]
[]
[]
[]
[]
[]
[]
[]
[]
[]
[]
[]
[]
[]
[]
[]
[]
[]
[]
[]
[]
[]
[]
[]
[]
[]
[]
[]
[]
[]
[]
[]
[]
[]
[]
[]
[]
[]
[]
[]
[]
[]
[]
[]
[]
[]
[]
[]
[]
[]
[]
[]
[]
[]
[]
[]
[]
[]
[]
[]
[]
[]
[]
[]
[]
[]
[]
[]
[]
[]
[]
[]
[]
[]
[]
[]
[]
[]
[]
[]
[]
[]
[]
[]
[]
[]
[]
[]
[]
[]
[]
[]
[]
[]
[]
[]
[]
[]
[]
[]
[]
[]
[]
[]
[]
[]
[]
[]
[]
[]
[]
[]
[]
[]
[]
[]
[]
[]
[]
[]
[]
[]
[]
[]
[]
[]
[]
[]
[]
[]
[]
[]
[]
[]
[]
[]
[]
[]
[]
[]
[]
[]
[]
[]
[]
[]
[]
[]
[]
[]
[]
[]
[]
[]
[]
[]
[]
[]
[]
[]
[]
[]
[]
[]
[]
[]
[]
[]
[]
[]
[]
[]
[]
[]
[]
[]
[]
[]
[]
[]
[]
[]
[]
[]
[]
[]
[]
[]
[]
[]
[]
[]
[]
[]
[]
[]
[]
[]
[]
[]
[]
[]
[]
[]
[]
[]
[]
[]
[]
[]
[]
[]
[]
[]
[]
[]
[]
[]
[]
[]
[]
[]
[]
[]
[]
[]
[]
[]
[]
[]
[]
[]
[]
[]
[]
[]
[]
[]
[]
[]
[]
[]
[]
[]
[]
[]
[]
[]
[]
[]
[]
[]
[]
[]
[]
[]
[]
[]
[]
[]
[]
[]
[]
[]
[]
[]
[]
[]
[]
[]
[]
[]
[]
[]
[]
[]
[]
[]
[]
[]
[]
[]
[]
[]
[]
[]
[]
[]
[]
[]
[]
[]
[]
[]
[]
[]
[]
[]
[]
[]
[]
[]
[]
[]
[]
[]
[]
[]
[]
[]
[]
[]
[]
[]
[]
[]
[]
[]
[]
[]
[]
[]
[]
[]
[]
[]
[]
[]
[]
[]
[]
[]
[]
[]
[]
[]
[]
[]
[]
[]
[]
[]
[]
[]
[]
[]
[]
[]
[]
[]
[]
[]
[]
[]
[]
[]
[]
[]
[]
[]
[]
[]
[]
[]
[]
[]
[]
[]
[]
[]
[]
[]
[]
[]
[]
[]
[]
[]
[]
[]
[]
[]
[]
[]
[]
[]
[]
[]
[]
[]
[]
[]
[]
[]
[]
[]
[]
[]
[]
[]
[]
[]
[]
[]
[]
[]
[]
[]
[]
[]
[]
[]
[]
[]
[]
[]
[]
[]
[]
[]
[]
[]
[]
[]
[]
[]
[]
[]
[]
[]
[]
[]
[]
[]
[]
[]
[]
[]
[]
[]
[]
[]
[]
[]
[]
[]
[]
[]
[]
[]
[]
[]
[]
[]
[]
[]
[]
[]
[]
[]
[]
[]
[]
[]
[]
[]
[]
[]
[]
[]
[]
[]
[]
[]
[]
[]
[]
[]
[]
[]
[]
[]
[]
[]
[]
[]
[]
[]
[]
[]
[]
[]
[]
[]
[]
[]
[]
[]
[]
[]
[]
[]
[]
[]
[]
[]
[]
[]
[]
[]
[]
[]
[]
[]
[]
[]
[]
[]
[]
[]
[]
[]
[]
[]
[]
[]
[]
[]
[]
[]
[]
[]
[]
[]
[]
[]
[]
[]
[]
[]
[]
[]
[]
[]
[]
[]
[]
[]
[]
[]
[]
[]
[]
[]
[]
[]
[]
[]
[]
[]
[]
[]
[]
[]
[]
[]
[]
[]
[]
[]
[]
[]
[]
[]
[]
[]
[]
[]
[]
[]
[]
[]
[]
[]
[]
[]
[]
[]
[]
[]
[]
[]
[]
[]
[]
[]
[]
[]
[]
[]
[]
[]
[]
[]
[]
[]
[]
[]
[]
[]
[]
[]
[]
[]
[]
[]
[]
[]
[]
[]
[]
[]
[]
[]
[]
[]
[]
[]
[]
[]
[]
[]
[]
[]
[]
[]
[]
[]
[]
[]
[]
[]
[]
[]
[]
[]
[]
[]
[]
[]
[]
[]
[]
[]
[]
[]
[]
[]
[]
[]
[]
[]
[]
[]
[]
[]
[]
[]
[]
[]
[]
[]
[]
[]
[]
[]
[]
[]
[]
[]
[]
[]
[]
[]
[]
[]
[]
[]
[]
[]
[]
[]
[]
[]
[]
[]
[]
[]
[]
[]
[]
[]
[]
[]
[]
[]
[]
[]
[]
[]
[]
[]
[]
[]
[]
[]
[]
[]
[]
[]
[]
[]
[]
[]
[]
[]
[]
[]
[]
[]
[]
[]
[]
[]
[]
[]
[]
[]
[]
[]
[]
[]
[]
[]
[]
[]
[]
[]
[]
[]
[]
[]
[]
[]
[]
[]
[]
[]
[]
[]
[]
[]
[]
[]
[]
[]
[]
[]
[]
[]
[]
[]
[]
[]
[]
[]
[]
[]
[]
[]
[]
[]
[]
[]
[]
[]
[]
[]
[]
[]
[]
[]
[]
[]
[]
[]
[]
[]
[]
[]
[]
[]
[]
[]
[]
[]
[]
[]
[]
[]
[]
[]
[]
[]
[]
[]
[]
[]
[]
[]
[]
[]
[]
[]
[]
[]
[]
[]
[]
[]
[]
[]
[]
[]
[]
[]
[]
[]
[]
[]
[]
[]
[]
[]
[]
[null,{"$f":"IFERROR(MATCH(\"H.009491\",B2:B3752,0),-1)","v":-1}]

{"sheet":"QC","index":17,"n_rows":1,"n_cols":122,"rows_kept":1,"cut":false,"hidden":false,"merged":[]}
["Counter","Date","Start date","End date","lot no","lot ton","Gmm","Gmb,ND","%Gmm","VFA","VMA","%Voids","Extracted AC","mix temp","comp temp","1\"         25","3/4\"       19","1/2\"    12.5","3/8\"     9.5","#4      4.75","#8      2.36","#16     1.18","#30      0.6","#50      0.3","#200  0.075","GmbEst,ND","Design AC","%Antistrip","Meter AC","%Crushed","Gse","Pba","Pbe","Wt Mix 1","Wt Pyc&Water 1","Wt Pyc, Water, Mix 1","Wt Mix 2","Wt Pyc&Water 2","Wt Pyc, Water, Mix 2","1\"","3/4\"","1/2\"","3/8\"","#4","#8","#16","#30","#50","#200","Pass","Dec Loss","%AC","%Crush","ht","box1","box 2","box 3","box4","Meter AC","Mix Temp","Cmp Temp","AntiStrip","lwt bricks","LWT ht1","LWT Box1_1","LWT Box1_2","LWT Box1_3","LWT Box1_4","LWT ht2","LWT Box2_1","LWT Box2_2","LWT Box2_3","LWT Box2_4","LWT ht3","LWT Box3_1","LWT Box3_2","LWT Box3_3","LWT Box3_4","LWT ht4","LWT Box4_1","LWT Box4_2","LWT Box4_3","LWT Box4_4","lwt temp","lwt date","lwt left 5000","lwt left 7500","lwt  left 10000","lwt  left 12000","lwt left 15000","lwt left 20000","lwt right 5000","lwt right 7500","lwt  right 10000","lwt  right 12000","lwt right 15000","lwt right 20000","temp corr","bask","bask + AC","bask - AC","init wt","after wash","wt crush","Gmb method","Bag Grav","DD mix before1","DD mix after1","DD plate 1","DD plate + mix 1","DD mix before2","DD mix after2","DD plate 2","DD plate + mix 2","width","length","thick","tack coat","project no","Sublot","#100","lot-sublot"]

{"sheet":"Acceptance","index":18,"n_rows":1,"n_cols":122,"rows_kept":1,"cut":false,"hidden":false,"merged":[]}
["Counter","Date","Start date","End date","lot no","lot ton","Gmm","Gmb,ND","%Gmm","VFA","VMA","%Voids","Extracted AC","mix temp","comp temp","1\"         25","3/4\"       19","1/2\"    12.5","3/8\"     9.5","#4      4.75","#8      2.36","#16     1.18","#30      0.6","#50      0.3","#200  0.075","GmbEst,ND","Design AC","%Antistrip","Meter AC","%Crushed","Gse","Pba","Pbe","Wt Mix 1","Wt Pyc&Water 1","Wt Pyc, Water, Mix 1","Wt Mix 2","Wt Pyc&Water 2","Wt Pyc, Water, Mix 2","1\"","3/4\"","1/2\"","3/8\"","#4","#8","#16","#30","#50","#200","Pass","Dec Loss","%AC","%Crush","ht","box1","box 2","box 3","box4","Meter AC","Mix Temp","Cmp Temp","AntiStrip","lwt bricks","LWT ht1","LWT Box1_1","LWT Box1_2","LWT Box1_3","LWT Box1_4","LWT ht2","LWT Box2_1","LWT Box2_2","LWT Box2_3","LWT Box2_4","LWT ht3","LWT Box3_1","LWT Box3_2","LWT Box3_3","LWT Box3_4","LWT ht4","LWT Box4_1","LWT Box4_2","LWT Box4_3","LWT Box4_4","lwt temp","lwt date","lwt left 5000","lwt left 7500","lwt  left 10000","lwt  left 12000","lwt left 15000","lwt left 20000","lwt right 5000","lwt right 7500","lwt  right 10000","lwt  right 12000","lwt right 15000","lwt right 20000","temp corr","bask","bask + AC","bask - AC","init wt","after wash","wt crush","Gmb method","Bag Grav","DD mix before1","DD mix after1","DD plate 1","DD plate + mix 1","DD mix before2","DD mix after2","DD plate 2","DD plate + mix 2","width","length","thick","tack coat","project no","Sublot","#100","lot-sublot"]

{"sheet":"Verification","index":19,"n_rows":1,"n_cols":122,"rows_kept":1,"cut":false,"hidden":false,"merged":[]}
["Counter","Date","Start date","End date","lot no","lot ton","Gmm","Gmb,ND","%Gmm","VFA","VMA","%Voids","Extracted AC","mix temp","comp temp","1\"         25","3/4\"       19","1/2\"    12.5","3/8\"     9.5","#4      4.75","#8      2.36","#16     1.18","#30      0.6","#50      0.3","#200  0.075","GmbEst,ND","Design AC","%Antistrip","Meter AC","%Crushed","Gse","Pba","Pbe","Wt Mix 1","Wt Pyc&Water 1","Wt Pyc, Water, Mix 1","Wt Mix 2","Wt Pyc&Water 2","Wt Pyc, Water, Mix 2","1\"","3/4\"","1/2\"","3/8\"","#4","#8","#16","#30","#50","#200","Pass","Dec Loss","%AC","%Crush","ht","box1","box 2","box 3","box4","Meter AC","Mix Temp","Cmp Temp","AntiStrip","lwt bricks","LWT ht1","LWT Box1_1","LWT Box1_2","LWT Box1_3","LWT Box1_4","LWT ht2","LWT Box2_1","LWT Box2_2","LWT Box2_3","LWT Box2_4","LWT ht3","LWT Box3_1","LWT Box3_2","LWT Box3_3","LWT Box3_4","LWT ht4","LWT Box4_1","LWT Box4_2","LWT Box4_3","LWT Box4_4","lwt temp","lwt date","lwt left 5000","lwt left 7500","lwt  left 10000","lwt  left 12000","lwt left 15000","lwt left 20000","lwt right 5000","lwt right 7500","lwt  right 10000","lwt  right 12000","lwt right 15000","lwt right 20000","temp corr","bask","bask + AC","bask - AC","init wt","after wash","wt crush","Gmb method","Bag Grav","DD mix before1","DD mix after1","DD plate 1","DD plate + mix 1","DD mix before2","DD mix after2","DD plate 2","DD plate + mix 2","width","length","thick","tack coat","project no","Sublot","#100","lot-sublot"]

{"sheet":"setup","index":20,"n_rows":285,"n_cols":22,"rows_kept":285,"cut":false,"hidden":false,"merged":[[95,17,100,17],[95,19,95,21],[96,20,96,21],[6,19,6,21],[7,20,7,21],[51,19,51,21],[52,20,52,21],[6,17,11,17],[51,17,56,17],[0,0,0,8],[2,1,2,2],[3,7,3,8],[52,7,52,8],[0,14,5,15],[2,7,2,13]]}
["SETUP PREFERENCES",null,null,null,null,null,null,null,null,null,null,null,null,null,"Comp Grad and FAA Helper"]
[null,null,null,null,null,null,null,null,null,null,null,null,null,null,null,null,null,"Version:","LaPave 501 v16.04.04"]
["Project No",{"$f":"'JMF Input'!B3","v":0},null,"JMF No",{"$f":"'JMF Input'!F3","v":0},null,"Plant Code",{"$f":"'JMF Input'!D7","v":0}]
["Design Level",{"$f":"'JMF Input'!F4","v":"T.L."},null,"Nom Agg Size",{"$f":"'JMF Input'!I5","v":"0.5 in."},null,"Mix Type",{"$f":"'JMF Input'!E5","v":"OGFC"},null,"spec",{"$f":"'JMF Input'!I6","v":"2016"}]
[]
[null,null,null,null,null,null,null,null,null,null,null,null,"Decimals"]
[null,"Min","Max","Tolerance",null,null,null,null,null,null,null,"Design",null,null,null,null,null,2016]
["Asphalt Cement",null,null,{"$f":"VLOOKUP(A8,$S$10:$V$48,$H$10+1,FALSE)","v":"PG 76-22m"},null,"Dense Mix",1,null,null,null,null,"Gmm",3]
["Gyratory Revs",{"$f":"VLOOKUP(A9,$S$10:$V$48,$H$10+1,FALSE)","v":50},null,null,null,"Coarse Mix",2,null,null,null,null,"Gmb",3,null,null,null,null,null,"Type","Dense","Coarse","OGFC"]
["Min AC %",{"$f":"VLOOKUP(A10,$S$10:$V$48,$H$10+1,FALSE)","v":6.5},null,null,null,"OGFC",3,{"$f":"VLOOKUP(H4,F8:G10,2,FALSE)","v":3},null,null,null,"%Gmm",1,null,null,null,null,null,"Asphalt Cement","PG 67-22","PG 70-22m","PG 76-22m"]
["Gmm Tol",null,null,{"$f":"VLOOKUP(A11,$S$10:$V$48,$H$10+1,FALSE)","v":1.4999999999999999E-2},null,null,null,null,null,null,null,"VMA",1,null,null,null,null,null,"Gyratory Revs",50,75,50]
["Micro Deval max,%",null,{"$f":"VLOOKUP(A12,$S$10:$V$48,$H$10+1,FALSE)","v":18},null,null,null,null,null,null,null,null,"Voids",1,null,null,null,null,null,"Min AC %",4.5,4.5,6.5]
["F&E 3:1 max, %",null,{"$f":"VLOOKUP(A13,$S$10:$V$48,$H$10+1,FALSE)","v":25},null,null,null,null,null,null,null,10,"VFA",1,null,null,null,null,null,"Gmm Tol",1.4999999999999999E-2,1.4999999999999999E-2,1.4999999999999999E-2]
["CAA min, %",{"$f":"VLOOKUP(A14,$S$10:$V$48,$H$10+1,FALSE)","v":90},null,null,null,null,null,null,null,null,11,"Grad +200",1,null,null,null,null,null,"Micro Deval max,%","--",18,18]
["Sand Equiv min",{"$f":"VLOOKUP(A15,$S$10:$V$48,$H$10+1,FALSE)","v":60},null,null,null,null,null,null,null,null,12,"Grad 200",1,null,null,null,null,null,"F&E 3:1 max, %","--",25,25]
["FAA Min, ",{"$f":"VLOOKUP(A16,$S$10:$V$48,$H$10+1,FALSE)","v":45},null,null,null,null,null,null,null,null,13,"Lott Abs",1,null,null,null,null,null,"CAA min, %","--",90,90]
["LWT rut, mm",null,{"$f":"VLOOKUP(A17,$S$10:$V$48,$H$10+1,FALSE)","v":12},null,null,null,null,null,null,null,null,"Lott Satur",0,null,null,null,null,null,"Sand Equiv min",40,60,60]
["LWT Passes",{"$f":"VLOOKUP(A18,$S$10:$V$48,$H$10+1,FALSE)","v":5000},null,null,null,null,null,null,null,null,null,"Dia & Th",3,null,null,null,null,null,"FAA Min, ",35,45,45]
["Draindown max,%",null,{"$f":"VLOOKUP(A19,$S$10:$V$48,$H$10+1,FALSE)","v":0.3},null,null,null,null,null,null,null,null,"Strength",0,null,null,null,null,null,"LWT rut, mm",12,12,12]
["Voids Min",{"$f":"VLOOKUP(A20,$S$10:$V$48,$H$10+1,FALSE)","v":18},null,null,null,null,null,null,null,null,null,"TSR",0,null,null,null,null,null,"LWT Passes",12000,20000,5000]
["Voids Max",null,{"$f":"VLOOKUP(A21,$S$10:$V$48,$H$10+1,FALSE)","v":24},null,null,null,null,null,null,null,null,"LWT",2,null,null,null,null,null,"Draindown max,%","--",0.15,0.3]
["Boil Test min,%",{"$f":"VLOOKUP(A22,$S$10:$V$48,$H$10+1,FALSE)","v":90},null,null,null,null,null,null,null,null,null,"JMF",null,null,100,"No 200",null,null,"Voids Min",4,6,18]
["Tack Coat Min",{"$f":"VLOOKUP(A23,$S$10:$V$48,$H$10+1,FALSE)","v":0.15},null,null,null,null,null,null,null,null,null,"Gmm",3,null,null,null,null,null,"Voids Max",6,8,24]
["Tack Coat Max",null,{"$f":"VLOOKUP(A24,$S$10:$V$48,$H$10+1,FALSE)","v":0.4},null,null,null,null,null,null,null,null,"Gmb",3,null,null,null,null,null,"Boil Test min,%",90,90,90]
["Friction Rating",null,null,"I,II",null,null,null,null,null,null,null,"%Gmm",1,null,null,null,null,null,"Tack Coat Min",0.08,0.15,0.15]
[null,null,null,null,null,null,null,null,null,null,null,"%AC",1,null,null,null,null,null,"Tack Coat Max",0.4,0.4,0.4]
["3/4\"  19mm Tol",null,null,4,null,null,null,null,null,null,null,"VMA",1,null,null,null,null,null,"Friction Rating","I,II,III","I,II","I,II"]
["1/2\"  12.5mm Tol",null,null,4,null,null,null,null,null,null,null,"Voids",1,null,100,"No 100"]
["3/8\"  9.5mm Tol",null,null,4,null,null,null,null,null,null,null,"VFA",0,null,null,null,null,null,"3/4\"  19mm Tol",4,4,4]
["#4    4.75mm Tol",null,null,4,null,null,null,null,null,null,null,"log gyr",3,null,null,null,null,null,"1/2\"  12.5mm Tol",4,4,4]
["#8    2.36mm Tol",null,null,3,null,null,null,null,null,null,null,"slope",2,null,null,null,null,null,"3/8\"  9.5mm Tol",4,4,4]
["#16   1.18mm Tol",null,null,2,null,null,null,null,null,null,null,"CAA",1,null,null,null,null,null,"#4    4.75mm Tol",4,4,4]
["#30   0.60mm Tol",null,null,2,null,null,null,null,null,null,null,"FAA",1,null,null,null,null,null,"#8    2.36mm Tol",3,3,3]
["#50   0.30mm Tol",null,null,2,null,null,null,null,null,null,null,"Sand Eq",0,null,null,null,null,null,"#16   1.18mm Tol",2,2,2]
[null,null,null,null,null,null,null,null,null,null,null,"F&E",1,null,null,null,null,null,"#30   0.60mm Tol",2,2,2]
["#200  0.075mm Tol",null,null,1.5,null,null,null,null,null,null,null,"dust",2,null,null,null,null,null,"#50   0.30mm Tol",2,2,2]
["AC Tol",null,null,0.1,null,null,null,null,null,null,null,"absorb",2,null,100,"No 50"]
["Rap Max",null,{"$f":"VLOOKUP(A38,$S$10:$V$48,$H$10+1,FALSE)","v":0},null,null,null,null,null,null,null,null,"Validation",null,null,null,null,null,null,"#200  0.075mm Tol",1.5,1.5,1.5]
["Sand Max",null,{"$f":"VLOOKUP(A39,$S$10:$V$48,$H$10+1,FALSE)","v":0},null,null,null,null,null,null,null,null,"Gmm",3,null,null,null,null,null,"AC Tol",0.1,0.1,0.1]
["Mix Temp, F",null,null,25,null,null,null,null,null,null,null,"Gmb",3,null,null,null,null,null,"Rap Max",10,0,0]
[null,null,null,null,null,null,null,null,null,null,null,"%Gmm",1,null,null,null,null,null,"Sand Max",15,0,0]
["Fine Gsb tol",null,null,0.03,null,null,null,null,null,null,null,"Grad +200",1,null,null,null,null,null,"Mix Temp, F",25,25,25]
["Coarse Gsb tol",null,null,0.02,null,null,null,null,null,null,null,"Grad 200",1]
["Voids tol",null,null,1,null,null,null,null,null,null,null,"slope",2,null,null,null,null,null,"Fine Gsb tol",0.03,0.03,0.03]
["#4 tol pay",null,null,4,null,null,null,null,null,null,null,"%AC",1,null,null,null,null,null,"Coarse Gsb tol",0.02,0.02,0.02]
["#200 tol pay",null,null,1.5,null,null,null,null,null,null,null,"dust",2,null,null,null,null,null,"Voids tol",1,1,1]
[null,null,null,null,null,null,null,null,null,null,null,"Pba",1,null,null,null,null,null,"#4 tol pay",4,4,4]
[null,null,null,null,null,null,null,null,null,null,null,"VMA",1,null,100,"No 30",null,null,"#200 tol pay",1.5,1.5,1.5]
[null,null,null,null,null,null,null,null,null,null,null,"Voids",1]
[null,null,null,null,null,null,null,null,null,null,null,"VFA",0]
[null,null,null,null,null,null,null,null,null,null,null,"PWL"]
[null,null,null,null,null,null,null,null,null,null,null,"Gmm",3]
[{"$f":"setup!S2","v":"LaPave 501 v16.04.04"},null,null,null,null,null,null,{"$f":"TODAY()","v":"2023-03-31"},null,null,null,"Gmb",3]
[null,null,null,null,null,null,null,null,null,null,null,"%Gmm",1]
[null,null,null,null,null,null,null,null,null,null,null,"%Voids",1]
[null,null,null,null,null,null,null,null,null,null,null,"VMA",1]
[null,null,null,null,null,null,null,null,null,null,null,"VFA",0]
[null,null,null,null,null,null,null,null,null,null,null,"Slope",2]
[null,null,null,null,null,null,null,null,null,null,null,"Grad +200",0]
[null,null,null,null,null,null,null,null,null,null,null,"Grad 200",1]
[null,null,null,null,null,null,null,null,null,null,null,"%AC",1]
[null,null,null,null,null,null,null,null,null,null,null,"dust/Peff",2]
[null,null,null,null,null,null,null,null,null,null,null,"Pabsorb",2]
[null,null,null,null,null,null,null,null,null,null,null,"QA/Production",null,null,100,"No 16"]
[null,null,null,null,null,null,null,null,null,null,null,"Gmm",3]
[null,null,null,null,null,null,null,null,null,null,null,"Gmb",3]
[null,null,null,null,null,null,null,null,null,null,null,"%Gmm",1]
[null,null,null,null,null,null,null,null,null,null,null,"Grad +200",1]
[null,null,null,null,null,null,null,null,null,null,null,"Grad 200",1]
[null,null,null,null,null,null,null,null,null,null,null,"slope",3]
[null,null,null,null,null,null,null,null,null,null,null,"%AC",1]
[null,null,null,null,null,null,null,null,null,null,null,"dust",2]
[null,null,null,null,null,null,null,null,null,null,null,"absorb",2]
[null,null,null,null,null,null,null,null,null,null,null,"VMA",1]
[null,null,null,null,null,null,null,null,null,null,null,"Voids",1]
[null,null,null,null,null,null,null,null,null,null,null,"VFA",0]
[null,null,null,null,null,null,null,null,null,null,null,"LWT",2]
[]
[]
[]
[]
[]
[]
[]
[]
[null,null,null,null,null,null,null,null,null,null,null,null,null,null,100,"No 8"]
[]
[]
[]
[]
[]
[]
[]
[]
[]
[]
[]
[]
[]
[]
[]
[]
[]
[]
[]
[]
[]
[]
[]
[]
[]
[]
[]
[]
[null,null,null,null,null,null,null,null,null,null,null,null,null,null,100,"No 4"]
[]
[]
[]
[]
[]
[]
[]
[]
[]
[]
[]
[]
[]
[]
[]
[]
[]
[]
[]
[]
[]
[]
[]
[]
[]
[]
[]
[]
[]
[]
[]
[]
[]
[]
[]
[]
[]
[]
[]
[]
[null,null,null,null,null,null,null,null,null,null,null,null,null,null,100,"3/8 in"]
[]
[]
[]
[]
[]
[]
[]
[]
[]
[]
[]
[]
[]
[]
[]
[]
[]
[]
[null,null,null,null,null,null,null,null,null,null,null,null,null,null,100,"1/2 in"]
[]
[]
[]
[]
[]
[]
[]
[]
[]
[]
[]
[]
[]
[]
[]
[]
[]
[]
[]
[]
[]
[]
[]
[]
[]
[]
[]
[]
[]
[]
[]
[]
[]
[]
[]
[null,null,null,null,null,null,null,null,null,null,null,null,null,null,100,"3/4 in"]
[]
[]
[]
[]
[]
[]
[]
[]
[]
[]
[]
[]
[]
[]
[]
[]
[]
[]
[]
[]
[]
[]
[]
[]
[]
[]
[null,null,null,null,null,null,null,null,null,null,null,null,null,null,100,"1 in"]
[]
[]
[]
[]
[]
[]
[]
[]
[]
[]
[]
[]
[]
[]
[]
[]
[]
[]
[]
[]
[]
[]
[]
[]
[]
[]
[]
[]
[]
[]
[]
[]
[]
[]
[]
[]
[]
[]
[]
[]
[]
[]
[]
[]
[]
[]
[null,null,null,null,null,null,null,null,null,null,null,null,null,null,100,"1.5 in"]

{"sheet":"Signature","index":21,"n_rows":9,"n_cols":2,"rows_kept":9,"cut":false,"hidden":true,"merged":[[0,0,2,6]]}
["X"]
[]
[]
[]
["Signing for ","Signature box"]
[]
["Sign using Excel Pen or copy an image of signature into the space provided."]
["If using Excel Pen press \"Enter\" key to end Pen."]
["Press Done button when finished."]

{"sheet":"Admin","index":22,"n_rows":13,"n_cols":2,"rows_kept":13,"cut":false,"hidden":true,"merged":[]}
[]
[]
[]
[]
[]
[]
[]
[]
[]
[]
[]
[]
["Password","concrete"]

{"sheet":"Authentication","index":23,"n_rows":2,"n_cols":2,"rows_kept":2,"cut":false,"hidden":true,"merged":[]}
["Name","Pass"]
["Patrick Icenogle","test"]

{"sheet":"PS","index":24,"n_rows":382,"n_cols":13,"rows_kept":382,"cut":false,"hidden":false,"merged":[]}
["Type-PS","LAPAVE_CATG_T",null,"PRODR_SUPP_CD","PRODR_SUPP_NM","start","count",null,"MATL_CATG_T","start","count","start","count"]
[{"$f":"B2&\"-\"&D2","v":"ADAP-APS00000340"},"ADAP","APS00000340-Blacklidge Emulsions, Inc. - Gulfport, MS","APS00000340","Blacklidge Emulsions, Inc. - Gulfport, MS",{"$f":"MATCH(A2,MAT!$A$1:$A$50000,0)","v":2},{"$f":"COUNTIF(MAT!$A$1:$A$50000,A2)","v":1},null,"ADAP",{"$f":"MATCH(I2,$B$1:$B$2000,)","v":2},{"$f":"COUNTIF($B$1:$B$2000,I2)","v":22},{"$f":"MATCH(I2,MAT!$H$1:$H$50000,0)","v":2},{"$f":"COUNTIF(MAT!$H$1:$H$50000,I2)","v":82}]
[{"$f":"B3&\"-\"&D3","v":"ADAP-APS00003920"},"ADAP","APS00003920-Arr-Maz Products, Inc. - Mulberry, FL","APS00003920","Arr-Maz Products, Inc. - Mulberry, FL",{"$f":"MATCH(A3,MAT!$A$1:$A$50000,0)","v":3},{"$f":"COUNTIF(MAT!$A$1:$A$50000,A3)","v":9},null,"AGGR",{"$f":"MATCH(I3,$B$1:$B$2000,)","v":24},{"$f":"COUNTIF($B$1:$B$2000,I3)","v":278},{"$f":"MATCH(I3,MAT!$H$1:$H$50000,0)","v":84},{"$f":"COUNTIF(MAT!$H$1:$H$50000,I3)","v":501}]
["ADAP-APS00003940","ADAP","APS00003940-Kao Specialties Americas, LLC - High Point, NC","APS00003940","Kao Specialties Americas, LLC - High Point, NC",{"$f":"MATCH(A4,MAT!$A$1:$A$50000,0)","v":12},{"$f":"COUNTIF(MAT!$A$1:$A$50000,A4)","v":1},null,"ASPH",302,40,{"$f":"MATCH(I4,MAT!$H$1:$H$50000,0)","v":585},{"$f":"COUNTIF(MAT!$H$1:$H$50000,I4)","v":77}]
["ADAP-APS00003970","ADAP","APS00003970-Pre Tech Industries - Rye, NH","APS00003970","Pre Tech Industries - Rye, NH",{"$f":"MATCH(A5,MAT!$A$1:$A$50000,0)","v":13},{"$f":"COUNTIF(MAT!$A$1:$A$50000,A5)","v":4},null,"BIND",342,41,{"$f":"MATCH(I5,MAT!$H$1:$H$50000,0)","v":662},{"$f":"COUNTIF(MAT!$H$1:$H$50000,I5)","v":109}]
["ADAP-APS00011060","ADAP","APS00011060-Ingevity Corporation - North Charleston, SC","APS00011060","Ingevity Corporation - North Charleston, SC",{"$f":"MATCH(A6,MAT!$A$1:$A$50000,0)","v":17},{"$f":"COUNTIF(MAT!$A$1:$A$50000,A6)","v":22}]
["ADAP-APS00011510","ADAP","APS00011510-Zydex, Inc. - Morrisville, NC","APS00011510","Zydex, Inc. - Morrisville, NC",{"$f":"MATCH(A7,MAT!$A$1:$A$50000,0)","v":39},{"$f":"COUNTIF(MAT!$A$1:$A$50000,A7)","v":5}]
["ADAP-APS00011670","ADAP","APS00011670-Maxxchem, LLC - East Point, GA","APS00011670","Maxxchem, LLC - East Point, GA",{"$f":"MATCH(A8,MAT!$A$1:$A$50000,0)","v":44},{"$f":"COUNTIF(MAT!$A$1:$A$50000,A8)","v":3}]
["ADAP-APS00012210","ADAP","APS00012210-PQ Corporation - Valley Forge, PA","APS00012210","PQ Corporation - Valley Forge, PA",{"$f":"MATCH(A9,MAT!$A$1:$A$50000,0)","v":47},{"$f":"COUNTIF(MAT!$A$1:$A$50000,A9)","v":1}]
["ADAP-APS00012220","ADAP","APS00012220-ASPHA-MIN - Charlotte, NC","APS00012220","ASPHA-MIN - Charlotte, NC",{"$f":"MATCH(A10,MAT!$A$1:$A$50000,0)","v":48},{"$f":"COUNTIF(MAT!$A$1:$A$50000,A10)","v":1}]
["ADAP-APS00012240","ADAP","APS00012240-Sasol Wax North America Corp - Hiram, GA","APS00012240","Sasol Wax North America Corp - Hiram, GA",{"$f":"MATCH(A11,MAT!$A$1:$A$50000,0)","v":49},{"$f":"COUNTIF(MAT!$A$1:$A$50000,A11)","v":1}]
["ADAP-APS00012410","ADAP","APS00012410-Cargill - Chicago, IL","APS00012410","Cargill - Chicago, IL",{"$f":"MATCH(A12,MAT!$A$1:$A$50000,0)","v":50},{"$f":"COUNTIF(MAT!$A$1:$A$50000,A12)","v":1}]
["ADAP-APS00012690","ADAP","APS00012690-Surfax S.A.de C.V. - Tlajomulco, Jalisco","APS00012690","Surfax S.A.de C.V. - Tlajomulco, Jalisco",{"$f":"MATCH(A13,MAT!$A$1:$A$50000,0)","v":51},{"$f":"COUNTIF(MAT!$A$1:$A$50000,A13)","v":1}]
["ADAP-APS00012750","ADAP","APS00012750-Road Science, Division of ArrMaz - Mulberry, FL","APS00012750","Road Science, Division of ArrMaz - Mulberry, FL",{"$f":"MATCH(A14,MAT!$A$1:$A$50000,0)","v":52},{"$f":"COUNTIF(MAT!$A$1:$A$50000,A14)","v":2}]
["ADAP-APS00014510","ADAP","APS00014510-Nouryon - Chicago, IL","APS00014510","Nouryon - Chicago, IL",{"$f":"MATCH(A15,MAT!$A$1:$A$50000,0)","v":54},{"$f":"COUNTIF(MAT!$A$1:$A$50000,A15)","v":12}]
["ADAP-APS00014940","ADAP","APS00014940-Arkema-Road Science - Convent","APS00014940","Arkema-Road Science - Convent",{"$f":"MATCH(A16,MAT!$A$1:$A$50000,0)","v":66},{"$f":"COUNTIF(MAT!$A$1:$A$50000,A16)","v":7}]
["ADAP-PS00000520","ADAP","PS00000520-Contractor Supplied","PS00000520","Contractor Supplied",{"$f":"MATCH(A17,MAT!$A$1:$A$50000,0)","v":73},{"$f":"COUNTIF(MAT!$A$1:$A$50000,A17)","v":4}]
["ADAP-PS00004680","ADAP","PS00004680-Hi-Tech Asphalt Solutions, Inc. - Mechanicsville, ","PS00004680","Hi-Tech Asphalt Solutions, Inc. - Mechanicsville, ",{"$f":"MATCH(A18,MAT!$A$1:$A$50000,0)","v":77},{"$f":"COUNTIF(MAT!$A$1:$A$50000,A18)","v":1}]
["ADAP-PS00004710","ADAP","PS00004710-BASF Corp - Dispersants and Pigments - Charlotte","PS00004710","BASF Corp - Dispersants and Pigments - Charlotte",{"$f":"MATCH(A19,MAT!$A$1:$A$50000,0)","v":78},{"$f":"COUNTIF(MAT!$A$1:$A$50000,A19)","v":1}]
["ADAP-PS00004720","ADAP","PS00004720-Genan, Inc. - Houston, TX","PS00004720","Genan, Inc. - Houston, TX",{"$f":"MATCH(A20,MAT!$A$1:$A$50000,0)","v":79},{"$f":"COUNTIF(MAT!$A$1:$A$50000,A20)","v":1}]
["ADAP-PS00005130","ADAP","PS00005130-Lehigh Technologies - Tucker, GA","PS00005130","Lehigh Technologies - Tucker, GA",{"$f":"MATCH(A21,MAT!$A$1:$A$50000,0)","v":80},{"$f":"COUNTIF(MAT!$A$1:$A$50000,A21)","v":2}]
["ADAP-PS00005160","ADAP","PS00005160-EVR International - Vidalia","PS00005160","EVR International - Vidalia",{"$f":"MATCH(A22,MAT!$A$1:$A$50000,0)","v":82},{"$f":"COUNTIF(MAT!$A$1:$A$50000,A22)","v":1}]
["ADAP-PS00013630","ADAP","PS00013630-Iterchimica Srl","PS00013630","Iterchimica Srl",{"$f":"MATCH(A23,MAT!$A$1:$A$50000,0)","v":83},{"$f":"COUNTIF(MAT!$A$1:$A$50000,A23)","v":1}]
["AGGR-APS00001930","AGGR","APS00001930-Mississippi Lime Company - St. Genevieve, MO","APS00001930","Mississippi Lime Company - St. Genevieve, MO",{"$f":"MATCH(A24,MAT!$A$1:$A$50000,0)","v":84},{"$f":"COUNTIF(MAT!$A$1:$A$50000,A24)","v":1}]
["AGGR-APS00001940","AGGR","APS00001940-National Cement Company - Pell City, AL","APS00001940","National Cement Company - Pell City, AL",{"$f":"MATCH(A25,MAT!$A$1:$A$50000,0)","v":85},{"$f":"COUNTIF(MAT!$A$1:$A$50000,A25)","v":1}]
["AGGR-APS00002200","AGGR","APS00002200-Bear Industries - Port Allen, LA","APS00002200","Bear Industries - Port Allen, LA",{"$f":"MATCH(A26,MAT!$A$1:$A$50000,0)","v":86},{"$f":"COUNTIF(MAT!$A$1:$A$50000,A26)","v":1}]
["AGGR-APS00004890","AGGR","APS00004890-Lhoist North America  - New BraunfelsTX","APS00004890","Lhoist North America  - New BraunfelsTX",{"$f":"MATCH(A27,MAT!$A$1:$A$50000,0)","v":87},{"$f":"COUNTIF(MAT!$A$1:$A$50000,A27)","v":1}]
["AGGR-APS00004900","AGGR","APS00004900-Arkansas Lime Company - Batesville, AR","APS00004900","Arkansas Lime Company - Batesville, AR",{"$f":"MATCH(A28,MAT!$A$1:$A$50000,0)","v":88},{"$f":"COUNTIF(MAT!$A$1:$A$50000,A28)","v":1}]
["AGGR-APS00004910","AGGR","APS00004910-Austin White Lime Company - Austin, TX","APS00004910","Austin White Lime Company - Austin, TX",{"$f":"MATCH(A29,MAT!$A$1:$A$50000,0)","v":89},{"$f":"COUNTIF(MAT!$A$1:$A$50000,A29)","v":1}]
["AGGR-APS00004920","AGGR","APS00004920-Carmeuse Lime and Stone - Baton Rouge, LA","APS00004920","Carmeuse Lime and Stone - Baton Rouge, LA",{"$f":"MATCH(A30,MAT!$A$1:$A$50000,0)","v":90},{"$f":"COUNTIF(MAT!$A$1:$A$50000,A30)","v":1}]
["AGGR-APS00004940","AGGR","APS00004940-Lhoist North America - Clifton, TX","APS00004940","Lhoist North America - Clifton, TX",{"$f":"MATCH(A31,MAT!$A$1:$A$50000,0)","v":91},{"$f":"COUNTIF(MAT!$A$1:$A$50000,A31)","v":1}]
["AGGR-APS00004970","AGGR","APS00004970-Falco Lime, Inc. - Vicksburg, MS","APS00004970","Falco Lime, Inc. - Vicksburg, MS",{"$f":"MATCH(A32,MAT!$A$1:$A$50000,0)","v":92},{"$f":"COUNTIF(MAT!$A$1:$A$50000,A32)","v":1}]
["AGGR-APS00004990","AGGR","APS00004990-Texas Lime Company - Cleburne, TX","APS00004990","Texas Lime Company - Cleburne, TX",{"$f":"MATCH(A33,MAT!$A$1:$A$50000,0)","v":93},{"$f":"COUNTIF(MAT!$A$1:$A$50000,A33)","v":2}]
["AGGR-APS00005000","AGGR","APS00005000-U.S. Lime Company - Shreveport","APS00005000","U.S. Lime Company - Shreveport",{"$f":"MATCH(A34,MAT!$A$1:$A$50000,0)","v":95},{"$f":"COUNTIF(MAT!$A$1:$A$50000,A34)","v":1}]
["AGGR-APS00005700","AGGR","APS00005700-Accardo Materials, Inc-Franklinton,LA","APS00005700","Accardo Materials, Inc-Franklinton,LA",{"$f":"MATCH(A35,MAT!$A$1:$A$50000,0)","v":96},{"$f":"COUNTIF(MAT!$A$1:$A$50000,A35)","v":2}]
["AGGR-APS00005710","AGGR","APS00005710-Agrecasa Del Caribe-San Pedro Sula, HON","APS00005710","Agrecasa Del Caribe-San Pedro Sula, HON",{"$f":"MATCH(A36,MAT!$A$1:$A$50000,0)","v":98},{"$f":"COUNTIF(MAT!$A$1:$A$50000,A36)","v":3}]
["AGGR-APS00005730","AGGR","APS00005730-Alabama Sand and Gravel-Prattville, AL","APS00005730","Alabama Sand and Gravel-Prattville, AL",{"$f":"MATCH(A37,MAT!$A$1:$A$50000,0)","v":101},{"$f":"COUNTIF(MAT!$A$1:$A$50000,A37)","v":2}]
["AGGR-APS00005740","AGGR","APS00005740-Alliance Sand and Gravel, LLC-Phil Campbell, AL","APS00005740","Alliance Sand and Gravel, LLC-Phil Campbell, AL",{"$f":"MATCH(A38,MAT!$A$1:$A$50000,0)","v":103},{"$f":"COUNTIF(MAT!$A$1:$A$50000,A38)","v":1}]
["AGGR-APS00005750","AGGR","APS00005750-Allstate Deatsville, LLC-Deatsville, AL","APS00005750","Allstate Deatsville, LLC-Deatsville, AL",{"$f":"MATCH(A39,MAT!$A$1:$A$50000,0)","v":104},{"$f":"COUNTIF(MAT!$A$1:$A$50000,A39)","v":1}]
["AGGR-APS00005770","AGGR","APS00005770-APAC - Brickey's Stone-Bloomsdale, MO - Burlington","APS00005770","APAC - Brickey's Stone-Bloomsdale, MO - Burlington",{"$f":"MATCH(A40,MAT!$A$1:$A$50000,0)","v":105},{"$f":"COUNTIF(MAT!$A$1:$A$50000,A40)","v":3}]
["AGGR-APS00005780","AGGR","APS00005780-Arkansas Gravel Company, Inc.-Hampton, AR","APS00005780","Arkansas Gravel Company, Inc.-Hampton, AR",{"$f":"MATCH(A41,MAT!$A$1:$A$50000,0)","v":108},{"$f":"COUNTIF(MAT!$A$1:$A$50000,A41)","v":2}]
["AGGR-APS00005790","AGGR","APS00005790-B & B Gravel & Trucking Co.-Bearden, AR","APS00005790","B & B Gravel & Trucking Co.-Bearden, AR",{"$f":"MATCH(A42,MAT!$A$1:$A$50000,0)","v":110},{"$f":"COUNTIF(MAT!$A$1:$A$50000,A42)","v":2}]
["AGGR-APS00005830","AGGR","APS00005830-Baldwin Sand & Gravel-Crystal Springs,MS","APS00005830","Baldwin Sand & Gravel-Crystal Springs,MS",{"$f":"MATCH(A43,MAT!$A$1:$A$50000,0)","v":112},{"$f":"COUNTIF(MAT!$A$1:$A$50000,A43)","v":2}]
["AGGR-APS00005870","AGGR","APS00005870-Bass Sand & Gravel-Bogalusa, LA","APS00005870","Bass Sand & Gravel-Bogalusa, LA",{"$f":"MATCH(A44,MAT!$A$1:$A$50000,0)","v":114},{"$f":"COUNTIF(MAT!$A$1:$A$50000,A44)","v":2}]
["AGGR-APS00005920","AGGR","APS00005920-Blackwell Aggregates, Inc.-Nicholson, MS","APS00005920","Blackwell Aggregates, Inc.-Nicholson, MS",{"$f":"MATCH(A45,MAT!$A$1:$A$50000,0)","v":116},{"$f":"COUNTIF(MAT!$A$1:$A$50000,A45)","v":2}]
["AGGR-APS00005930","AGGR","APS00005930-Blain Sand & Gravel, Inc.-Natchez, MS","APS00005930","Blain Sand & Gravel, Inc.-Natchez, MS",{"$f":"MATCH(A46,MAT!$A$1:$A$50000,0)","v":118},{"$f":"COUNTIF(MAT!$A$1:$A$50000,A46)","v":2}]
["AGGR-APS00005940","AGGR","APS00005940-Blain Sand & Gravel, Inc.-Crystal Springs, MS","APS00005940","Blain Sand & Gravel, Inc.-Crystal Springs, MS",{"$f":"MATCH(A47,MAT!$A$1:$A$50000,0)","v":120},{"$f":"COUNTIF(MAT!$A$1:$A$50000,A47)","v":2}]
["AGGR-APS00005950","AGGR","APS00005950-Bunch Sand and Gravel #1 - Clinton, LA","APS00005950","Bunch Sand and Gravel #1 - Clinton, LA",{"$f":"MATCH(A48,MAT!$A$1:$A$50000,0)","v":122},{"$f":"COUNTIF(MAT!$A$1:$A$50000,A48)","v":2}]
["AGGR-APS00005960","AGGR","APS00005960-Winn Materials of Kentucky-Grand Rivers,KY-StLouis","APS00005960","Winn Materials of Kentucky-Grand Rivers,KY-StLouis",{"$f":"MATCH(A49,MAT!$A$1:$A$50000,0)","v":124},{"$f":"COUNTIF(MAT!$A$1:$A$50000,A49)","v":3}]
["AGGR-APS00005970","AGGR","APS00005970-Oldcastle Materials - Burnet, TX","APS00005970","Oldcastle Materials - Burnet, TX",{"$f":"MATCH(A50,MAT!$A$1:$A$50000,0)","v":127},{"$f":"COUNTIF(MAT!$A$1:$A$50000,A50)","v":3}]
["AGGR-APS00005990","AGGR","APS00005990-Cash Sand & Gravel, Inc.-Denham Springs, LA","APS00005990","Cash Sand & Gravel, Inc.-Denham Springs, LA",{"$f":"MATCH(A51,MAT!$A$1:$A$50000,0)","v":130},{"$f":"COUNTIF(MAT!$A$1:$A$50000,A51)","v":2}]
["AGGR-APS00006000","AGGR","APS00006000-Century Ready Mix-Monroe, LA","APS00006000","Century Ready Mix-Monroe, LA",{"$f":"MATCH(A52,MAT!$A$1:$A$50000,0)","v":132},{"$f":"COUNTIF(MAT!$A$1:$A$50000,A52)","v":1}]
["AGGR-APS00006030","AGGR","APS00006030-Cossatot Rock, LLC-Lockesburg, AR","APS00006030","Cossatot Rock, LLC-Lockesburg, AR",{"$f":"MATCH(A53,MAT!$A$1:$A$50000,0)","v":133},{"$f":"COUNTIF(MAT!$A$1:$A$50000,A53)","v":2}]
["AGGR-APS00006060","AGGR","APS00006060-Crawford Aggregate Industr-Pine Grove,LA - Jenkins","APS00006060","Crawford Aggregate Industr-Pine Grove,LA - Jenkins",{"$f":"MATCH(A54,MAT!$A$1:$A$50000,0)","v":135},{"$f":"COUNTIF(MAT!$A$1:$A$50000,A54)","v":2}]
["AGGR-APS00006080","AGGR","APS00006080-Crystal Hill Quarry-North Little Rock, AR","APS00006080","Crystal Hill Quarry-North Little Rock, AR",{"$f":"MATCH(A55,MAT!$A$1:$A$50000,0)","v":137},{"$f":"COUNTIF(MAT!$A$1:$A$50000,A55)","v":3}]
["AGGR-APS00006100","AGGR","APS00006100-Daley Sand & Gravel-Roseland,LA","APS00006100","Daley Sand & Gravel-Roseland,LA",{"$f":"MATCH(A56,MAT!$A$1:$A$50000,0)","v":140},{"$f":"COUNTIF(MAT!$A$1:$A$50000,A56)","v":2}]
["AGGR-APS00006110","AGGR","APS00006110-Dickerson & Bowen Riverside Gravel-Tylertown, MS","APS00006110","Dickerson & Bowen Riverside Gravel-Tylertown, MS",{"$f":"MATCH(A57,MAT!$A$1:$A$50000,0)","v":142},{"$f":"COUNTIF(MAT!$A$1:$A$50000,A57)","v":2}]
["AGGR-APS00006120","AGGR","APS00006120-3M Industrial Minerals Prods Div. - Little Rock,AR","APS00006120","3M Industrial Minerals Prods Div. - Little Rock,AR",{"$f":"MATCH(A58,MAT!$A$1:$A$50000,0)","v":144},{"$f":"COUNTIF(MAT!$A$1:$A$50000,A58)","v":3}]
["AGGR-APS00006130","AGGR","APS00006130-DSD Energy Services-Oakdale, LA","APS00006130","DSD Energy Services-Oakdale, LA",{"$f":"MATCH(A59,MAT!$A$1:$A$50000,0)","v":147},{"$f":"COUNTIF(MAT!$A$1:$A$50000,A59)","v":1}]
["AGGR-APS00006160","AGGR","APS00006160-Dupont Sand, LLC-Carencro, LA","APS00006160","Dupont Sand, LLC-Carencro, LA",{"$f":"MATCH(A60,MAT!$A$1:$A$50000,0)","v":148},{"$f":"COUNTIF(MAT!$A$1:$A$50000,A60)","v":1}]
["AGGR-APS00006170","AGGR","APS00006170-Brownstone Sand & Gravel - Franklinton, LA","APS00006170","Brownstone Sand & Gravel - Franklinton, LA",{"$f":"MATCH(A61,MAT!$A$1:$A$50000,0)","v":149},{"$f":"COUNTIF(MAT!$A$1:$A$50000,A61)","v":4}]
["AGGR-APS00006180","AGGR","APS00006180-Feliciana Farms, Inc.-St. Francisville, LA","APS00006180","Feliciana Farms, Inc.-St. Francisville, LA",{"$f":"MATCH(A62,MAT!$A$1:$A$50000,0)","v":153},{"$f":"COUNTIF(MAT!$A$1:$A$50000,A62)","v":2}]
["AGGR-APS00006190","AGGR","APS00006190-Florida Parishes Aggregate-Fluker, LA","APS00006190","Florida Parishes Aggregate-Fluker, LA",{"$f":"MATCH(A63,MAT!$A$1:$A$50000,0)","v":155},{"$f":"COUNTIF(MAT!$A$1:$A$50000,A63)","v":2}]
["AGGR-APS00006200","AGGR","APS00006200-Foley Materials Co.-Phenix City, AL- Plant 501","APS00006200","Foley Materials Co.-Phenix City, AL- Plant 501",{"$f":"MATCH(A64,MAT!$A$1:$A$50000,0)","v":157},{"$f":"COUNTIF(MAT!$A$1:$A$50000,A64)","v":1}]
["AGGR-APS00006210","AGGR","APS00006210-Foley Materials Co.-Phenix City, AL- Plant 505","APS00006210","Foley Materials Co.-Phenix City, AL- Plant 505",{"$f":"MATCH(A65,MAT!$A$1:$A$50000,0)","v":158},{"$f":"COUNTIF(MAT!$A$1:$A$50000,A65)","v":1}]
["AGGR-APS00006230","AGGR","APS00006230-Fouke Sand & Gravel, LLC-Fouke, AR","APS00006230","Fouke Sand & Gravel, LLC-Fouke, AR",{"$f":"MATCH(A66,MAT!$A$1:$A$50000,0)","v":159},{"$f":"COUNTIF(MAT!$A$1:$A$50000,A66)","v":2}]
[{"$f":"B67&\"-\"&D67","v":"AGGR-APS00006240"},"AGGR","APS00006240-Gillman Enterprises, LLC-Independence, LA","APS00006240","Gillman Enterprises, LLC-Independence, LA",{"$f":"MATCH(A67,MAT!$A$1:$A$50000,0)","v":161},{"$f":"COUNTIF(MAT!$A$1:$A$50000,A67)","v":2}]
["AGGR-APS00006250","AGGR","APS00006250-Granite Mountain Quarries-Little Rock, AR","APS00006250","Granite Mountain Quarries-Little Rock, AR",{"$f":"MATCH(A68,MAT!$A$1:$A$50000,0)","v":163},{"$f":"COUNTIF(MAT!$A$1:$A$50000,A68)","v":3}]
["AGGR-APS00006260","AGGR","APS00006260-Green Brothers Gravel Co.-Hazlehurst, MS","APS00006260","Green Brothers Gravel Co.-Hazlehurst, MS",{"$f":"MATCH(A69,MAT!$A$1:$A$50000,0)","v":166},{"$f":"COUNTIF(MAT!$A$1:$A$50000,A69)","v":2}]
["AGGR-APS00006270","AGGR","APS00006270-Green Brothers Gravel Co.-CrystalSprings, MS","APS00006270","Green Brothers Gravel Co.-CrystalSprings, MS",{"$f":"MATCH(A70,MAT!$A$1:$A$50000,0)","v":168},{"$f":"COUNTIF(MAT!$A$1:$A$50000,A70)","v":2}]
["AGGR-APS00006290","AGGR","APS00006290-Hallet Materials-Porter,TX","APS00006290","Hallet Materials-Porter,TX",{"$f":"MATCH(A71,MAT!$A$1:$A$50000,0)","v":170},{"$f":"COUNTIF(MAT!$A$1:$A$50000,A71)","v":1}]
["AGGR-APS00006300","AGGR","APS00006300-Hammett Gravel Company, Inc.-Bentonia, MS","APS00006300","Hammett Gravel Company, Inc.-Bentonia, MS",{"$f":"MATCH(A72,MAT!$A$1:$A$50000,0)","v":171},{"$f":"COUNTIF(MAT!$A$1:$A$50000,A72)","v":2}]
["AGGR-APS00006310","AGGR","APS00006310-Hanson Aggregates-Bearden,AR","APS00006310","Hanson Aggregates-Bearden,AR",{"$f":"MATCH(A73,MAT!$A$1:$A$50000,0)","v":173},{"$f":"COUNTIF(MAT!$A$1:$A$50000,A73)","v":2}]
["AGGR-APS00006320","AGGR","APS00006320-Hanson Aggregates-Ashdown,AR","APS00006320","Hanson Aggregates-Ashdown,AR",{"$f":"MATCH(A74,MAT!$A$1:$A$50000,0)","v":175},{"$f":"COUNTIF(MAT!$A$1:$A$50000,A74)","v":2}]
["AGGR-APS00006340","AGGR","APS00006340-Hanson Aggregates-Perch Hill Plant-Chico,TX","APS00006340","Hanson Aggregates-Perch Hill Plant-Chico,TX",{"$f":"MATCH(A75,MAT!$A$1:$A$50000,0)","v":177},{"$f":"COUNTIF(MAT!$A$1:$A$50000,A75)","v":2}]
["AGGR-APS00006350","AGGR","APS00006350-Hard Rock Sand & Gravel LLC - Franklinton, LA - #2","APS00006350","Hard Rock Sand & Gravel LLC - Franklinton, LA - #2",{"$f":"MATCH(A76,MAT!$A$1:$A$50000,0)","v":179},{"$f":"COUNTIF(MAT!$A$1:$A$50000,A76)","v":2}]
["AGGR-APS00006360","AGGR","APS00006360-Hard Rock Sand & Gravel, LLC-Mt. Hermon,LA","APS00006360","Hard Rock Sand & Gravel, LLC-Mt. Hermon,LA",{"$f":"MATCH(A77,MAT!$A$1:$A$50000,0)","v":181},{"$f":"COUNTIF(MAT!$A$1:$A$50000,A77)","v":2}]
["AGGR-APS00006370","AGGR","APS00006370-Hastie Mining Company-Cave-in-Rock,IL","APS00006370","Hastie Mining Company-Cave-in-Rock,IL",{"$f":"MATCH(A78,MAT!$A$1:$A$50000,0)","v":183},{"$f":"COUNTIF(MAT!$A$1:$A$50000,A78)","v":2}]
["AGGR-APS00006400","AGGR","APS00006400-Hooper Road Dirt Pit-Baton Rouge, LA","APS00006400","Hooper Road Dirt Pit-Baton Rouge, LA",{"$f":"MATCH(A79,MAT!$A$1:$A$50000,0)","v":185},{"$f":"COUNTIF(MAT!$A$1:$A$50000,A79)","v":1}]
["AGGR-APS00006420","AGGR","APS00006420-Huey Stockstill, LLC - Picayune, MS - 12 Oaks","APS00006420","Huey Stockstill, LLC - Picayune, MS - 12 Oaks",{"$f":"MATCH(A80,MAT!$A$1:$A$50000,0)","v":186},{"$f":"COUNTIF(MAT!$A$1:$A$50000,A80)","v":2}]
["AGGR-APS00006430","AGGR","APS00006430-Huey P. Stockstill, LLC -Picayune, MS - Pine Grove","APS00006430","Huey P. Stockstill, LLC -Picayune, MS - Pine Grove",{"$f":"MATCH(A81,MAT!$A$1:$A$50000,0)","v":188},{"$f":"COUNTIF(MAT!$A$1:$A$50000,A81)","v":2}]
["AGGR-APS00006440","AGGR","APS00006440-Ideal Domicana, SA-Santo Domingo, DR","APS00006440","Ideal Domicana, SA-Santo Domingo, DR",{"$f":"MATCH(A82,MAT!$A$1:$A$50000,0)","v":190},{"$f":"COUNTIF(MAT!$A$1:$A$50000,A82)","v":2}]
["AGGR-APS00006450","AGGR","APS00006450-Industrial Aggregates, LLC-Franklinton, LA-Pine Cl","APS00006450","Industrial Aggregates, LLC-Franklinton, LA-Pine Cl",{"$f":"MATCH(A83,MAT!$A$1:$A$50000,0)","v":192},{"$f":"COUNTIF(MAT!$A$1:$A$50000,A83)","v":3}]
["AGGR-APS00006480","AGGR","APS00006480-Jamaica Aggregates Limited dba Lafarge","APS00006480","Jamaica Aggregates Limited dba Lafarge",{"$f":"MATCH(A84,MAT!$A$1:$A$50000,0)","v":195},{"$f":"COUNTIF(MAT!$A$1:$A$50000,A84)","v":2}]
["AGGR-APS00006490","AGGR","APS00006490-JJ Ferguson Sand & Gravel-Cruger, MS","APS00006490","JJ Ferguson Sand & Gravel-Cruger, MS",{"$f":"MATCH(A85,MAT!$A$1:$A$50000,0)","v":197},{"$f":"COUNTIF(MAT!$A$1:$A$50000,A85)","v":2}]
["AGGR-APS00006500","AGGR","APS00006500-Johnsville Sand & Gravel-Hermitage, AR","APS00006500","Johnsville Sand & Gravel-Hermitage, AR",{"$f":"MATCH(A86,MAT!$A$1:$A$50000,0)","v":199},{"$f":"COUNTIF(MAT!$A$1:$A$50000,A86)","v":2}]
["AGGR-APS00006510","AGGR","APS00006510-K & C Gravel-Independence,LA","APS00006510","K & C Gravel-Independence,LA",{"$f":"MATCH(A87,MAT!$A$1:$A$50000,0)","v":201},{"$f":"COUNTIF(MAT!$A$1:$A$50000,A87)","v":1}]
["AGGR-APS00006520","AGGR","APS00006520-Kinder Sand Co.-Kinder, LA","APS00006520","Kinder Sand Co.-Kinder, LA",{"$f":"MATCH(A88,MAT!$A$1:$A$50000,0)","v":202},{"$f":"COUNTIF(MAT!$A$1:$A$50000,A88)","v":1}]
["AGGR-APS00006530","AGGR","APS00006530-King Sand & Gravel-Kerens, TX","APS00006530","King Sand & Gravel-Kerens, TX",{"$f":"MATCH(A89,MAT!$A$1:$A$50000,0)","v":203},{"$f":"COUNTIF(MAT!$A$1:$A$50000,A89)","v":1}]
["AGGR-APS00006540","AGGR","APS00006540-Krystal Gravel, Inc.-Crystal Springs, MS","APS00006540","Krystal Gravel, Inc.-Crystal Springs, MS",{"$f":"MATCH(A90,MAT!$A$1:$A$50000,0)","v":204},{"$f":"COUNTIF(MAT!$A$1:$A$50000,A90)","v":2}]
["AGGR-APS00006550","AGGR","APS00006550-L & W Sand Pit, LLC-Carencro, LA","APS00006550","L & W Sand Pit, LLC-Carencro, LA",{"$f":"MATCH(A91,MAT!$A$1:$A$50000,0)","v":206},{"$f":"COUNTIF(MAT!$A$1:$A$50000,A91)","v":1}]
["AGGR-APS00006560","AGGR","APS00006560-Lafarge Aggregates-Cave-In-Rock, IL - SandStone","APS00006560","Lafarge Aggregates-Cave-In-Rock, IL - SandStone",{"$f":"MATCH(A92,MAT!$A$1:$A$50000,0)","v":207},{"$f":"COUNTIF(MAT!$A$1:$A$50000,A92)","v":2}]
["AGGR-APS00006570","AGGR","APS00006570-Lafarge Aggregates-Cave-In-Rock, IL - Sil. Limestn","APS00006570","Lafarge Aggregates-Cave-In-Rock, IL - Sil. Limestn",{"$f":"MATCH(A93,MAT!$A$1:$A$50000,0)","v":209},{"$f":"COUNTIF(MAT!$A$1:$A$50000,A93)","v":2}]
["AGGR-APS00006580","AGGR","APS00006580-Lafarge Aggregates-Fredonia, KY","APS00006580","Lafarge Aggregates-Fredonia, KY",{"$f":"MATCH(A94,MAT!$A$1:$A$50000,0)","v":211},{"$f":"COUNTIF(MAT!$A$1:$A$50000,A94)","v":2}]
["AGGR-APS00006590","AGGR","APS00006590-Lafarge Aggregates-Pearl River,LA","APS00006590","Lafarge Aggregates-Pearl River,LA",{"$f":"MATCH(A95,MAT!$A$1:$A$50000,0)","v":213},{"$f":"COUNTIF(MAT!$A$1:$A$50000,A95)","v":2}]
["AGGR-APS00006600","AGGR","APS00006600-Lafarge Aggregates-Bogalusa,LA","APS00006600","Lafarge Aggregates-Bogalusa,LA",{"$f":"MATCH(A96,MAT!$A$1:$A$50000,0)","v":215},{"$f":"COUNTIF(MAT!$A$1:$A$50000,A96)","v":3}]
["AGGR-APS00006670","AGGR","APS00006670-Lon Land Gravel Co.-Mt Hermon, LA","APS00006670","Lon Land Gravel Co.-Mt Hermon, LA",{"$f":"MATCH(A97,MAT!$A$1:$A$50000,0)","v":218},{"$f":"COUNTIF(MAT!$A$1:$A$50000,A97)","v":2}]
["AGGR-APS00006680","AGGR","APS00006680-Marion Clay & Gravel, LLC-Columbia, MS","APS00006680","Marion Clay & Gravel, LLC-Columbia, MS",{"$f":"MATCH(A98,MAT!$A$1:$A$50000,0)","v":220},{"$f":"COUNTIF(MAT!$A$1:$A$50000,A98)","v":2}]
["AGGR-APS00006690","AGGR","APS00006690-Martin Marietta Aggregates-Bahamas,BAH","APS00006690","Martin Marietta Aggregates-Bahamas,BAH",{"$f":"MATCH(A99,MAT!$A$1:$A$50000,0)","v":222},{"$f":"COUNTIF(MAT!$A$1:$A$50000,A99)","v":2}]
["AGGR-APS00006700","AGGR","APS00006700-Martin Marietta Aggregates-Eagletown, OK","APS00006700","Martin Marietta Aggregates-Eagletown, OK",{"$f":"MATCH(A100,MAT!$A$1:$A$50000,0)","v":224},{"$f":"COUNTIF(MAT!$A$1:$A$50000,A100)","v":2}]
["AGGR-APS00006710","AGGR","APS00006710-Martin Marietta Aggregates-Cove,AR","APS00006710","Martin Marietta Aggregates-Cove,AR",{"$f":"MATCH(A101,MAT!$A$1:$A$50000,0)","v":226},{"$f":"COUNTIF(MAT!$A$1:$A$50000,A101)","v":2}]
["AGGR-APS00006720","AGGR","APS00006720-Martin Marietta Aggregates-Garwood,TX","APS00006720","Martin Marietta Aggregates-Garwood,TX",{"$f":"MATCH(A102,MAT!$A$1:$A$50000,0)","v":228},{"$f":"COUNTIF(MAT!$A$1:$A$50000,A102)","v":2}]
["AGGR-APS00006730","AGGR","APS00006730-Martin Marietta Aggregates-Malvern, AR - SandStone","APS00006730","Martin Marietta Aggregates-Malvern, AR - SandStone",{"$f":"MATCH(A103,MAT!$A$1:$A$50000,0)","v":230},{"$f":"COUNTIF(MAT!$A$1:$A$50000,A103)","v":2}]
["AGGR-APS00006740","AGGR","APS00006740-Martin Marietta Aggregates-Malvern, AR - Granite","APS00006740","Martin Marietta Aggregates-Malvern, AR - Granite",{"$f":"MATCH(A104,MAT!$A$1:$A$50000,0)","v":232},{"$f":"COUNTIF(MAT!$A$1:$A$50000,A104)","v":2}]
["AGGR-APS00006750","AGGR","APS00006750-Martin Marietta Aggregates-Mulgrave, NS","APS00006750","Martin Marietta Aggregates-Mulgrave, NS",{"$f":"MATCH(A105,MAT!$A$1:$A$50000,0)","v":234},{"$f":"COUNTIF(MAT!$A$1:$A$50000,A105)","v":4}]
["AGGR-APS00006760","AGGR","APS00006760-Martin Marietta Aggregates-Sawyer,OK","APS00006760","Martin Marietta Aggregates-Sawyer,OK",{"$f":"MATCH(A106,MAT!$A$1:$A$50000,0)","v":238},{"$f":"COUNTIF(MAT!$A$1:$A$50000,A106)","v":3}]
["AGGR-APS00006770","AGGR","APS00006770-Mears Sand & Gravel-Denham Springs,LA","APS00006770","Mears Sand & Gravel-Denham Springs,LA",{"$f":"MATCH(A107,MAT!$A$1:$A$50000,0)","v":241},{"$f":"COUNTIF(MAT!$A$1:$A$50000,A107)","v":2}]
["AGGR-APS00006780","AGGR","APS00006780-Memphis Stone & Gravel Co.-Nesbit, MS","APS00006780","Memphis Stone & Gravel Co.-Nesbit, MS",{"$f":"MATCH(A108,MAT!$A$1:$A$50000,0)","v":243},{"$f":"COUNTIF(MAT!$A$1:$A$50000,A108)","v":1}]
["AGGR-APS00006790","AGGR","APS00006790-Memphis Stone & Gravel Co.-Senatobia, MS","APS00006790","Memphis Stone & Gravel Co.-Senatobia, MS",{"$f":"MATCH(A109,MAT!$A$1:$A$50000,0)","v":244},{"$f":"COUNTIF(MAT!$A$1:$A$50000,A109)","v":1}]
["AGGR-APS00006830","AGGR","APS00006830-MRH Sand & Gravel-Benton, LA","APS00006830","MRH Sand & Gravel-Benton, LA",{"$f":"MATCH(A110,MAT!$A$1:$A$50000,0)","v":245},{"$f":"COUNTIF(MAT!$A$1:$A$50000,A110)","v":2}]
["AGGR-APS00006840","AGGR","APS00006840-ODDEE Smith Constr.Inc.-Brookhaven, MS","APS00006840","ODDEE Smith Constr.Inc.-Brookhaven, MS",{"$f":"MATCH(A111,MAT!$A$1:$A$50000,0)","v":247},{"$f":"COUNTIF(MAT!$A$1:$A$50000,A111)","v":2}]
["AGGR-APS00006850","AGGR","APS00006850-P & J Sand & Gravel, LLC-Independence, LA","APS00006850","P & J Sand & Gravel, LLC-Independence, LA",{"$f":"MATCH(A112,MAT!$A$1:$A$50000,0)","v":249},{"$f":"COUNTIF(MAT!$A$1:$A$50000,A112)","v":2}]
["AGGR-APS00006860","AGGR","APS00006860-Perkinston Sand & Gravel-Perkinston, MS","APS00006860","Perkinston Sand & Gravel-Perkinston, MS",{"$f":"MATCH(A113,MAT!$A$1:$A$50000,0)","v":251},{"$f":"COUNTIF(MAT!$A$1:$A$50000,A113)","v":1}]
["AGGR-APS00006880","AGGR","APS00006880-Pine Bluff Sand & Gravel-Deleware, AR","APS00006880","Pine Bluff Sand & Gravel-Deleware, AR",{"$f":"MATCH(A114,MAT!$A$1:$A$50000,0)","v":252},{"$f":"COUNTIF(MAT!$A$1:$A$50000,A114)","v":2}]
["AGGR-APS00006890","AGGR","APS00006890-Pine Bluff Sand & Gravel-Salem,KY","APS00006890","Pine Bluff Sand & Gravel-Salem,KY",{"$f":"MATCH(A115,MAT!$A$1:$A$50000,0)","v":254},{"$f":"COUNTIF(MAT!$A$1:$A$50000,A115)","v":2}]
["AGGR-APS00006910","AGGR","APS00006910-R & R Logging & Gravel-Columbia, MS","APS00006910","R & R Logging & Gravel-Columbia, MS",{"$f":"MATCH(A116,MAT!$A$1:$A$50000,0)","v":256},{"$f":"COUNTIF(MAT!$A$1:$A$50000,A116)","v":2}]
["AGGR-APS00006920","AGGR","APS00006920-Ram Industries-Mt. Hermon, LA","APS00006920","Ram Industries-Mt. Hermon, LA",{"$f":"MATCH(A117,MAT!$A$1:$A$50000,0)","v":258},{"$f":"COUNTIF(MAT!$A$1:$A$50000,A117)","v":2}]
["AGGR-APS00006930","AGGR","APS00006930-Riverside Sand & Gravel-Tylertown, MS","APS00006930","Riverside Sand & Gravel-Tylertown, MS",{"$f":"MATCH(A118,MAT!$A$1:$A$50000,0)","v":260},{"$f":"COUNTIF(MAT!$A$1:$A$50000,A118)","v":1}]
["AGGR-APS00006980","AGGR","APS00006980-Simpson Materials Co.-Valley Park, MO","APS00006980","Simpson Materials Co.-Valley Park, MO",{"$f":"MATCH(A119,MAT!$A$1:$A$50000,0)","v":261},{"$f":"COUNTIF(MAT!$A$1:$A$50000,A119)","v":2}]
["AGGR-APS00006990","AGGR","APS00006990-Smith Sand & Gravel-Franklinton,LA","APS00006990","Smith Sand & Gravel-Franklinton,LA",{"$f":"MATCH(A120,MAT!$A$1:$A$50000,0)","v":263},{"$f":"COUNTIF(MAT!$A$1:$A$50000,A120)","v":2}]
["AGGR-APS00007000","AGGR","APS00007000-South Land Sand-Ringgold, LA","APS00007000","South Land Sand-Ringgold, LA",{"$f":"MATCH(A121,MAT!$A$1:$A$50000,0)","v":265},{"$f":"COUNTIF(MAT!$A$1:$A$50000,A121)","v":2}]
["AGGR-APS00007010","AGGR","APS00007010-Southern Aggregates, LLC-Norwood,LA","APS00007010","Southern Aggregates, LLC-Norwood,LA",{"$f":"MATCH(A122,MAT!$A$1:$A$50000,0)","v":267},{"$f":"COUNTIF(MAT!$A$1:$A$50000,A122)","v":2}]
["AGGR-APS00007030","AGGR","APS00007030-Southern Aggregates, LLC-DenhamSprings,LA-Plant7","APS00007030","Southern Aggregates, LLC-DenhamSprings,LA-Plant7",{"$f":"MATCH(A123,MAT!$A$1:$A$50000,0)","v":269},{"$f":"COUNTIF(MAT!$A$1:$A$50000,A123)","v":2}]
["AGGR-APS00007130","AGGR","APS00007130-Swim Enterprises-Columbia, LA","APS00007130","Swim Enterprises-Columbia, LA",{"$f":"MATCH(A124,MAT!$A$1:$A$50000,0)","v":271},{"$f":"COUNTIF(MAT!$A$1:$A$50000,A124)","v":1}]
["AGGR-APS00007140","AGGR","APS00007140-T & D Sand & Gravel, LLC-Independence, LA","APS00007140","T & D Sand & Gravel, LLC-Independence, LA",{"$f":"MATCH(A125,MAT!$A$1:$A$50000,0)","v":272},{"$f":"COUNTIF(MAT!$A$1:$A$50000,A125)","v":2}]
["AGGR-APS00007150","AGGR","APS00007150-Tanner Heavy Equipment Co-Leesville, LA","APS00007150","Tanner Heavy Equipment Co-Leesville, LA",{"$f":"MATCH(A126,MAT!$A$1:$A$50000,0)","v":274},{"$f":"COUNTIF(MAT!$A$1:$A$50000,A126)","v":1}]
["AGGR-APS00007160","AGGR","APS00007160-Texas Crushed Stone Co., Inc.-Georgetown, TX","APS00007160","Texas Crushed Stone Co., Inc.-Georgetown, TX",{"$f":"MATCH(A127,MAT!$A$1:$A$50000,0)","v":275},{"$f":"COUNTIF(MAT!$A$1:$A$50000,A127)","v":2}]
["AGGR-APS00007170","AGGR","APS00007170-The Fordyce Co-Victoria, TX","APS00007170","The Fordyce Co-Victoria, TX",{"$f":"MATCH(A128,MAT!$A$1:$A$50000,0)","v":277},{"$f":"COUNTIF(MAT!$A$1:$A$50000,A128)","v":2}]
["AGGR-APS00007180","AGGR","APS00007180-Tower Rock Stone Co-St.Genevieve, MO- Limestn Zn8","APS00007180","Tower Rock Stone Co-St.Genevieve, MO- Limestn Zn8",{"$f":"MATCH(A129,MAT!$A$1:$A$50000,0)","v":279},{"$f":"COUNTIF(MAT!$A$1:$A$50000,A129)","v":2}]
["AGGR-APS00007190","AGGR","APS00007190-Tower Rock Stone Co-St.Genevieve, MO- Oolitic","APS00007190","Tower Rock Stone Co-St.Genevieve, MO- Oolitic",{"$f":"MATCH(A130,MAT!$A$1:$A$50000,0)","v":281},{"$f":"COUNTIF(MAT!$A$1:$A$50000,A130)","v":2}]
[{"$f":"B131&\"-\"&D131","v":"AGGR-APS00007210"},"AGGR","APS00007210-Triangle Aggregates, LLC-Jackson, AL","APS00007210","Triangle Aggregates, LLC-Jackson, AL",{"$f":"MATCH(A131,MAT!$A$1:$A$50000,0)","v":283},{"$f":"COUNTIF(MAT!$A$1:$A$50000,A131)","v":2}]
["AGGR-APS00007250","AGGR","APS00007250-Trinity Materials-West Lockesburg, AR","APS00007250","Trinity Materials-West Lockesburg, AR",{"$f":"MATCH(A132,MAT!$A$1:$A$50000,0)","v":285},{"$f":"COUNTIF(MAT!$A$1:$A$50000,A132)","v":2}]
["AGGR-APS00007260","AGGR","APS00007260-Martin Marietta - Bridgeport TX","APS00007260","Martin Marietta - Bridgeport TX",{"$f":"MATCH(A133,MAT!$A$1:$A$50000,0)","v":287},{"$f":"COUNTIF(MAT!$A$1:$A$50000,A133)","v":2}]
["AGGR-APS00007270","AGGR","APS00007270-Martin Marietta - Perryville,LA","APS00007270","Martin Marietta - Perryville,LA",{"$f":"MATCH(A134,MAT!$A$1:$A$50000,0)","v":289},{"$f":"COUNTIF(MAT!$A$1:$A$50000,A134)","v":3}]
["AGGR-APS00007290","AGGR","APS00007290-Martin Marietta - Jena, LA","APS00007290","Martin Marietta - Jena, LA",{"$f":"MATCH(A135,MAT!$A$1:$A$50000,0)","v":292},{"$f":"COUNTIF(MAT!$A$1:$A$50000,A135)","v":4}]
["AGGR-APS00007300","AGGR","APS00007300-Martin Marietta - Woodworth, LA","APS00007300","Martin Marietta - Woodworth, LA",{"$f":"MATCH(A136,MAT!$A$1:$A$50000,0)","v":296},{"$f":"COUNTIF(MAT!$A$1:$A$50000,A136)","v":4}]
["AGGR-APS00007310","AGGR","APS00007310-Vermillion Shell & Limestone Co. Inc.-Maurice, LA","APS00007310","Vermillion Shell & Limestone Co. Inc.-Maurice, LA",{"$f":"MATCH(A137,MAT!$A$1:$A$50000,0)","v":300},{"$f":"COUNTIF(MAT!$A$1:$A$50000,A137)","v":1}]
["AGGR-APS00007320","AGGR","APS00007320-Village Sand, Inc.-Kinder, LA","APS00007320","Village Sand, Inc.-Kinder, LA",{"$f":"MATCH(A138,MAT!$A$1:$A$50000,0)","v":301},{"$f":"COUNTIF(MAT!$A$1:$A$50000,A138)","v":3}]
["AGGR-APS00007340","AGGR","APS00007340-Vulcan Materials Co-Calera, AL","APS00007340","Vulcan Materials Co-Calera, AL",{"$f":"MATCH(A139,MAT!$A$1:$A$50000,0)","v":304},{"$f":"COUNTIF(MAT!$A$1:$A$50000,A139)","v":2}]
["AGGR-APS00007350","AGGR","APS00007350-Vulcan Materials Co-Cancun, MEX","APS00007350","Vulcan Materials Co-Cancun, MEX",{"$f":"MATCH(A140,MAT!$A$1:$A$50000,0)","v":306},{"$f":"COUNTIF(MAT!$A$1:$A$50000,A140)","v":2}]
["AGGR-APS00007380","AGGR","APS00007380-Vulcan Materials Co-Grand Rivers,KY- Ft Payne","APS00007380","Vulcan Materials Co-Grand Rivers,KY- Ft Payne",{"$f":"MATCH(A141,MAT!$A$1:$A$50000,0)","v":308},{"$f":"COUNTIF(MAT!$A$1:$A$50000,A141)","v":4}]
["AGGR-APS00007390","AGGR","APS00007390-Vulcan Materials Co-Grand Rivers,KY- Warsaw","APS00007390","Vulcan Materials Co-Grand Rivers,KY- Warsaw",{"$f":"MATCH(A142,MAT!$A$1:$A$50000,0)","v":312},{"$f":"COUNTIF(MAT!$A$1:$A$50000,A142)","v":2}]
["AGGR-APS00007430","AGGR","APS00007430-Vulcan Materials Co-Tuscumbia, AL- Pride Quarry","APS00007430","Vulcan Materials Co-Tuscumbia, AL- Pride Quarry",{"$f":"MATCH(A143,MAT!$A$1:$A$50000,0)","v":314},{"$f":"COUNTIF(MAT!$A$1:$A$50000,A143)","v":2}]
["AGGR-APS00007450","AGGR","APS00007450-Vulcan Materials Co-Trinity, AL","APS00007450","Vulcan Materials Co-Trinity, AL",{"$f":"MATCH(A144,MAT!$A$1:$A$50000,0)","v":316},{"$f":"COUNTIF(MAT!$A$1:$A$50000,A144)","v":2}]
["AGGR-APS00007480","AGGR","APS00007480-Warren Paving-Salem, KY-Slats Lucas Quarry","APS00007480","Warren Paving-Salem, KY-Slats Lucas Quarry",{"$f":"MATCH(A145,MAT!$A$1:$A$50000,0)","v":318},{"$f":"COUNTIF(MAT!$A$1:$A$50000,A145)","v":2}]
["AGGR-APS00007490","AGGR","APS00007490-Willis Sand & Gravel-Bogalusa, LA","APS00007490","Willis Sand & Gravel-Bogalusa, LA",{"$f":"MATCH(A146,MAT!$A$1:$A$50000,0)","v":320},{"$f":"COUNTIF(MAT!$A$1:$A$50000,A146)","v":2}]
["AGGR-APS00007500","AGGR","APS00007500-Winn Materials, Inc.-Clarksville, TN","APS00007500","Winn Materials, Inc.-Clarksville, TN",{"$f":"MATCH(A147,MAT!$A$1:$A$50000,0)","v":322},{"$f":"COUNTIF(MAT!$A$1:$A$50000,A147)","v":2}]
["AGGR-APS00007510","AGGR","APS00007510-Wooten Sand & Gravel-Fouke,AR","APS00007510","Wooten Sand & Gravel-Fouke,AR",{"$f":"MATCH(A148,MAT!$A$1:$A$50000,0)","v":324},{"$f":"COUNTIF(MAT!$A$1:$A$50000,A148)","v":2}]
["AGGR-APS00007520","AGGR","APS00007520-Delta Materials - Marble Falls, TX","APS00007520","Delta Materials - Marble Falls, TX",{"$f":"MATCH(A149,MAT!$A$1:$A$50000,0)","v":326},{"$f":"COUNTIF(MAT!$A$1:$A$50000,A149)","v":3}]
["AGGR-APS00011330","AGGR","APS00011330-Blount Brothers Construction, Inc. -Shreveport, LA","APS00011330","Blount Brothers Construction, Inc. -Shreveport, LA",{"$f":"MATCH(A150,MAT!$A$1:$A$50000,0)","v":329},{"$f":"COUNTIF(MAT!$A$1:$A$50000,A150)","v":1}]
["AGGR-APS00011340","AGGR","APS00011340-BMS, LLC - Amite, LA","APS00011340","BMS, LLC - Amite, LA",{"$f":"MATCH(A151,MAT!$A$1:$A$50000,0)","v":330},{"$f":"COUNTIF(MAT!$A$1:$A$50000,A151)","v":2}]
["AGGR-APS00011350","AGGR","APS00011350-Eastern Oklahoma Quarries, LLC - Spiro, OK","APS00011350","Eastern Oklahoma Quarries, LLC - Spiro, OK",{"$f":"MATCH(A152,MAT!$A$1:$A$50000,0)","v":332},{"$f":"COUNTIF(MAT!$A$1:$A$50000,A152)","v":1}]
["AGGR-APS00011360","AGGR","APS00011360-Shale Support Holdings, LLC - Nicholson, MS","APS00011360","Shale Support Holdings, LLC - Nicholson, MS",{"$f":"MATCH(A153,MAT!$A$1:$A$50000,0)","v":333},{"$f":"COUNTIF(MAT!$A$1:$A$50000,A153)","v":4}]
["AGGR-APS00011380","AGGR","APS00011380-South Gate Aggregates, LLC - Nicholson, MS","APS00011380","South Gate Aggregates, LLC - Nicholson, MS",{"$f":"MATCH(A154,MAT!$A$1:$A$50000,0)","v":337},{"$f":"COUNTIF(MAT!$A$1:$A$50000,A154)","v":2}]
["AGGR-APS00011410","AGGR","APS00011410-Hard Rock Sand & Gravel LLC - Franklinton, LA - #1","APS00011410","Hard Rock Sand & Gravel LLC - Franklinton, LA - #1",{"$f":"MATCH(A155,MAT!$A$1:$A$50000,0)","v":339},{"$f":"COUNTIF(MAT!$A$1:$A$50000,A155)","v":2}]
["AGGR-APS00011430","AGGR","APS00011430-APAC - Brickey's Stone-Bloomsdale, MO - Plattin","APS00011430","APAC - Brickey's Stone-Bloomsdale, MO - Plattin",{"$f":"MATCH(A156,MAT!$A$1:$A$50000,0)","v":341},{"$f":"COUNTIF(MAT!$A$1:$A$50000,A156)","v":3}]
["AGGR-APS00011450","AGGR","APS00011450-Huey P. Stockstill, LLC- Nicholson, MS","APS00011450","Huey P. Stockstill, LLC- Nicholson, MS",{"$f":"MATCH(A157,MAT!$A$1:$A$50000,0)","v":344},{"$f":"COUNTIF(MAT!$A$1:$A$50000,A157)","v":1}]
["AGGR-APS00011460","AGGR","APS00011460-Hunt Gravel - Franklinton, LA","APS00011460","Hunt Gravel - Franklinton, LA",{"$f":"MATCH(A158,MAT!$A$1:$A$50000,0)","v":345},{"$f":"COUNTIF(MAT!$A$1:$A$50000,A158)","v":2}]
["AGGR-APS00011470","AGGR","APS00011470-Eastern Oklahoma Quarries - Garland, AR","APS00011470","Eastern Oklahoma Quarries - Garland, AR",{"$f":"MATCH(A159,MAT!$A$1:$A$50000,0)","v":347},{"$f":"COUNTIF(MAT!$A$1:$A$50000,A159)","v":1}]
["AGGR-APS00011520","AGGR","APS00011520-Industrial Mining Plant 5 - Tickfaw, LA","APS00011520","Industrial Mining Plant 5 - Tickfaw, LA",{"$f":"MATCH(A160,MAT!$A$1:$A$50000,0)","v":348},{"$f":"COUNTIF(MAT!$A$1:$A$50000,A160)","v":2}]
["AGGR-APS00011620","AGGR","APS00011620-Central Stone Co - Farmington, MO","APS00011620","Central Stone Co - Farmington, MO",{"$f":"MATCH(A161,MAT!$A$1:$A$50000,0)","v":350},{"$f":"COUNTIF(MAT!$A$1:$A$50000,A161)","v":3}]
["AGGR-APS00011630","AGGR","APS00011630-Hanson Aggregate - Ennis, TX","APS00011630","Hanson Aggregate - Ennis, TX",{"$f":"MATCH(A162,MAT!$A$1:$A$50000,0)","v":353},{"$f":"COUNTIF(MAT!$A$1:$A$50000,A162)","v":1}]
["AGGR-APS00011640","AGGR","APS00011640-Fleniken Sand & Gravel Inc - Clinton, LA","APS00011640","Fleniken Sand & Gravel Inc - Clinton, LA",{"$f":"MATCH(A163,MAT!$A$1:$A$50000,0)","v":354},{"$f":"COUNTIF(MAT!$A$1:$A$50000,A163)","v":2}]
["AGGR-APS00011650","AGGR","APS00011650-Dolese Bros-St.HelenaSand&Gravel - Pine Grove, LA","APS00011650","Dolese Bros-St.HelenaSand&Gravel - Pine Grove, LA",{"$f":"MATCH(A164,MAT!$A$1:$A$50000,0)","v":356},{"$f":"COUNTIF(MAT!$A$1:$A$50000,A164)","v":2}]
["AGGR-APS00011660","AGGR","APS00011660-Perero Co. DBA-DND Landscape - Broussard, LA","APS00011660","Perero Co. DBA-DND Landscape - Broussard, LA",{"$f":"MATCH(A165,MAT!$A$1:$A$50000,0)","v":358},{"$f":"COUNTIF(MAT!$A$1:$A$50000,A165)","v":1}]
["AGGR-APS00011680","AGGR","APS00011680-Larry Grayson & Son Trucking, LLC -Forest Hill, LA","APS00011680","Larry Grayson & Son Trucking, LLC -Forest Hill, LA",{"$f":"MATCH(A166,MAT!$A$1:$A$50000,0)","v":359},{"$f":"COUNTIF(MAT!$A$1:$A$50000,A166)","v":2}]
["AGGR-APS00011690","AGGR","APS00011690-Hammett & Green Aggregates - Vicksburg, MS","APS00011690","Hammett & Green Aggregates - Vicksburg, MS",{"$f":"MATCH(A167,MAT!$A$1:$A$50000,0)","v":361},{"$f":"COUNTIF(MAT!$A$1:$A$50000,A167)","v":2}]
["AGGR-APS00011700","AGGR","APS00011700-Madden Roseland, LA Gravel Pit - Roseland, LA","APS00011700","Madden Roseland, LA Gravel Pit - Roseland, LA",{"$f":"MATCH(A168,MAT!$A$1:$A$50000,0)","v":363},{"$f":"COUNTIF(MAT!$A$1:$A$50000,A168)","v":4}]
["AGGR-APS00011710","AGGR","APS00011710-Diamond B Construction Co.,LLC - Boyce, LA","APS00011710","Diamond B Construction Co.,LLC - Boyce, LA",{"$f":"MATCH(A169,MAT!$A$1:$A$50000,0)","v":367},{"$f":"COUNTIF(MAT!$A$1:$A$50000,A169)","v":1}]
["AGGR-APS00011720","AGGR","APS00011720-Diamond B Construction Co., LLC  Woodworth, LA","APS00011720","Diamond B Construction Co., LLC  Woodworth, LA",{"$f":"MATCH(A170,MAT!$A$1:$A$50000,0)","v":368},{"$f":"COUNTIF(MAT!$A$1:$A$50000,A170)","v":1}]
["AGGR-APS00011760","AGGR","APS00011760-Lafayette Sand & Fill - Lafayette, LA","APS00011760","Lafayette Sand & Fill - Lafayette, LA",{"$f":"MATCH(A171,MAT!$A$1:$A$50000,0)","v":369},{"$f":"COUNTIF(MAT!$A$1:$A$50000,A171)","v":1}]
["AGGR-APS00011790","AGGR","APS00011790-Southern Aggregates - Amite, LA - #9","APS00011790","Southern Aggregates - Amite, LA - #9",{"$f":"MATCH(A172,MAT!$A$1:$A$50000,0)","v":370},{"$f":"COUNTIF(MAT!$A$1:$A$50000,A172)","v":2}]
["AGGR-APS00011800","AGGR","APS00011800-Bunch's Sand and Gravel #2 - Greensburg, LA","APS00011800","Bunch's Sand and Gravel #2 - Greensburg, LA",{"$f":"MATCH(A173,MAT!$A$1:$A$50000,0)","v":372},{"$f":"COUNTIF(MAT!$A$1:$A$50000,A173)","v":2}]
["AGGR-APS00011810","AGGR","APS00011810-Amberg Construction - Olla, LA","APS00011810","Amberg Construction - Olla, LA",{"$f":"MATCH(A174,MAT!$A$1:$A$50000,0)","v":374},{"$f":"COUNTIF(MAT!$A$1:$A$50000,A174)","v":2}]
["AGGR-APS00011870","AGGR","APS00011870-Lafarge Aggregates-Smithland, KY-Three Rivers-S1","APS00011870","Lafarge Aggregates-Smithland, KY-Three Rivers-S1",{"$f":"MATCH(A175,MAT!$A$1:$A$50000,0)","v":376},{"$f":"COUNTIF(MAT!$A$1:$A$50000,A175)","v":3}]
["AGGR-APS00011910","AGGR","APS00011910-Hat Creek Dirt Pit - Bossier City, LA","APS00011910","Hat Creek Dirt Pit - Bossier City, LA",{"$f":"MATCH(A176,MAT!$A$1:$A$50000,0)","v":379},{"$f":"COUNTIF(MAT!$A$1:$A$50000,A176)","v":1}]
["AGGR-APS00011920","AGGR","APS00011920-Regional Sand & Gravel - Clinton, LA","APS00011920","Regional Sand & Gravel - Clinton, LA",{"$f":"MATCH(A177,MAT!$A$1:$A$50000,0)","v":380},{"$f":"COUNTIF(MAT!$A$1:$A$50000,A177)","v":2}]
["AGGR-APS00011940","AGGR","APS00011940-Baldwin Redi-Mix Co. Inc.-Greensburg,H&LIsland Pit","APS00011940","Baldwin Redi-Mix Co. Inc.-Greensburg,H&LIsland Pit",{"$f":"MATCH(A178,MAT!$A$1:$A$50000,0)","v":382},{"$f":"COUNTIF(MAT!$A$1:$A$50000,A178)","v":2}]
["AGGR-APS00012000","AGGR","APS00012000-Red Hawk Materials - Maurice, LA","APS00012000","Red Hawk Materials - Maurice, LA",{"$f":"MATCH(A179,MAT!$A$1:$A$50000,0)","v":384},{"$f":"COUNTIF(MAT!$A$1:$A$50000,A179)","v":1}]
["AGGR-APS00012100","AGGR","APS00012100-Lake Area Materials, LLC - DeRidder","APS00012100","Lake Area Materials, LLC - DeRidder",{"$f":"MATCH(A180,MAT!$A$1:$A$50000,0)","v":385},{"$f":"COUNTIF(MAT!$A$1:$A$50000,A180)","v":3}]
["AGGR-APS00012130","AGGR","APS00012130-Tower Rock Stone Co-St.Genevieve, MO- Limestn Zn12","APS00012130","Tower Rock Stone Co-St.Genevieve, MO- Limestn Zn12",{"$f":"MATCH(A181,MAT!$A$1:$A$50000,0)","v":388},{"$f":"COUNTIF(MAT!$A$1:$A$50000,A181)","v":2}]
["AGGR-APS00012150","AGGR","APS00012150-Trinity Materials, Inc. - Waco, TX","APS00012150","Trinity Materials, Inc. - Waco, TX",{"$f":"MATCH(A182,MAT!$A$1:$A$50000,0)","v":390},{"$f":"COUNTIF(MAT!$A$1:$A$50000,A182)","v":2}]
["AGGR-APS00012160","AGGR","APS00012160-Dickerson & Bowen Co., Inc - Brookhaven, MS","APS00012160","Dickerson & Bowen Co., Inc - Brookhaven, MS",{"$f":"MATCH(A183,MAT!$A$1:$A$50000,0)","v":392},{"$f":"COUNTIF(MAT!$A$1:$A$50000,A183)","v":2}]
["AGGR-APS00012170","AGGR","APS00012170-Red Hawk Materials, LLC - Carencro, LA","APS00012170","Red Hawk Materials, LLC - Carencro, LA",{"$f":"MATCH(A184,MAT!$A$1:$A$50000,0)","v":394},{"$f":"COUNTIF(MAT!$A$1:$A$50000,A184)","v":1}]
["AGGR-APS00012190","AGGR","APS00012190-Elite Sand - Longville, LA","APS00012190","Elite Sand - Longville, LA",{"$f":"MATCH(A185,MAT!$A$1:$A$50000,0)","v":395},{"$f":"COUNTIF(MAT!$A$1:$A$50000,A185)","v":1}]
["AGGR-APS00012300","AGGR","APS00012300-Vulcan Materials Co-West Loachapoka, AL","APS00012300","Vulcan Materials Co-West Loachapoka, AL",{"$f":"MATCH(A186,MAT!$A$1:$A$50000,0)","v":396},{"$f":"COUNTIF(MAT!$A$1:$A$50000,A186)","v":2}]
["AGGR-APS00012310","AGGR","APS00012310-SiteWurx Sand - Sibley, LA","APS00012310","SiteWurx Sand - Sibley, LA",{"$f":"MATCH(A187,MAT!$A$1:$A$50000,0)","v":398},{"$f":"COUNTIF(MAT!$A$1:$A$50000,A187)","v":1}]
["AGGR-APS00012320","AGGR","APS00012320-Winn Materials of Kentucky-Grand Rivers,KY-Warsaw","APS00012320","Winn Materials of Kentucky-Grand Rivers,KY-Warsaw",{"$f":"MATCH(A188,MAT!$A$1:$A$50000,0)","v":399},{"$f":"COUNTIF(MAT!$A$1:$A$50000,A188)","v":2}]
["AGGR-APS00012340","AGGR","APS00012340-River Road Rock - Franklinton, LA","APS00012340","River Road Rock - Franklinton, LA",{"$f":"MATCH(A189,MAT!$A$1:$A$50000,0)","v":401},{"$f":"COUNTIF(MAT!$A$1:$A$50000,A189)","v":2}]
["AGGR-APS00012380","AGGR","APS00012380-LeHigh Hanson - Garwood, TX","APS00012380","LeHigh Hanson - Garwood, TX",{"$f":"MATCH(A190,MAT!$A$1:$A$50000,0)","v":403},{"$f":"COUNTIF(MAT!$A$1:$A$50000,A190)","v":1}]
["AGGR-APS00012390","AGGR","APS00012390-Gator Aggregates - Deridder, LA","APS00012390","Gator Aggregates - Deridder, LA",{"$f":"MATCH(A191,MAT!$A$1:$A$50000,0)","v":404},{"$f":"COUNTIF(MAT!$A$1:$A$50000,A191)","v":2}]
["AGGR-APS00012420","AGGR","APS00012420-Tate Construction, LLC - Franklinton, LA","APS00012420","Tate Construction, LLC - Franklinton, LA",{"$f":"MATCH(A192,MAT!$A$1:$A$50000,0)","v":406},{"$f":"COUNTIF(MAT!$A$1:$A$50000,A192)","v":2}]
["AGGR-APS00012510","AGGR","APS00012510-Industrial Aggregates, LLC - Covington, LA - #2","APS00012510","Industrial Aggregates, LLC - Covington, LA - #2",{"$f":"MATCH(A193,MAT!$A$1:$A$50000,0)","v":408},{"$f":"COUNTIF(MAT!$A$1:$A$50000,A193)","v":2}]
["AGGR-APS00012530","AGGR","APS00012530-Dennis Stewart Equipment Rental,Inc Baton Rouge,LA","APS00012530","Dennis Stewart Equipment Rental,Inc Baton Rouge,LA",{"$f":"MATCH(A194,MAT!$A$1:$A$50000,0)","v":410},{"$f":"COUNTIF(MAT!$A$1:$A$50000,A194)","v":1}]
[{"$f":"B195&\"-\"&D195","v":"AGGR-APS00012600"},"AGGR","APS00012600-Martin Marietta - MMR - Hondo, TX","APS00012600","Martin Marietta - MMR - Hondo, TX",{"$f":"MATCH(A195,MAT!$A$1:$A$50000,0)","v":411},{"$f":"COUNTIF(MAT!$A$1:$A$50000,A195)","v":2}]
["AGGR-APS00012620","AGGR","APS00012620-Industrial Aggregates - Franklinton, LA","APS00012620","Industrial Aggregates - Franklinton, LA",{"$f":"MATCH(A196,MAT!$A$1:$A$50000,0)","v":413},{"$f":"COUNTIF(MAT!$A$1:$A$50000,A196)","v":2}]
["AGGR-APS00012660","AGGR","APS00012660-Skyplex Trucking -Bentley, LA","APS00012660","Skyplex Trucking -Bentley, LA",{"$f":"MATCH(A197,MAT!$A$1:$A$50000,0)","v":415},{"$f":"COUNTIF(MAT!$A$1:$A$50000,A197)","v":1}]
["AGGR-APS00012680","AGGR","APS00012680-Warren Paving-Salem, KY-Lower Warsaw Formation","APS00012680","Warren Paving-Salem, KY-Lower Warsaw Formation",{"$f":"MATCH(A198,MAT!$A$1:$A$50000,0)","v":416},{"$f":"COUNTIF(MAT!$A$1:$A$50000,A198)","v":2}]
["AGGR-APS00012880","AGGR","APS00012880-Lafarge Aggregates-Smithland, KY-Three Rivers-S2","APS00012880","Lafarge Aggregates-Smithland, KY-Three Rivers-S2",{"$f":"MATCH(A199,MAT!$A$1:$A$50000,0)","v":418},{"$f":"COUNTIF(MAT!$A$1:$A$50000,A199)","v":2}]
["AGGR-APS00012890","AGGR","APS00012890-D & J Construction Company, LLC - West Monroe","APS00012890","D & J Construction Company, LLC - West Monroe",{"$f":"MATCH(A200,MAT!$A$1:$A$50000,0)","v":420},{"$f":"COUNTIF(MAT!$A$1:$A$50000,A200)","v":1}]
["AGGR-APS00012930","AGGR","APS00012930-Regional Sand & Gravel, LLC #2 - Clinton","APS00012930","Regional Sand & Gravel, LLC #2 - Clinton",{"$f":"MATCH(A201,MAT!$A$1:$A$50000,0)","v":421},{"$f":"COUNTIF(MAT!$A$1:$A$50000,A201)","v":2}]
["AGGR-APS00012960","AGGR","APS00012960-R4 ObrusS.A. D.C.V. - Boca Del Rio, Mexico","APS00012960","R4 ObrusS.A. D.C.V. - Boca Del Rio, Mexico",{"$f":"MATCH(A202,MAT!$A$1:$A$50000,0)","v":423},{"$f":"COUNTIF(MAT!$A$1:$A$50000,A202)","v":2}]
["AGGR-APS00012980","AGGR","APS00012980-Gulf Coast Sand & Gravel - Jackson, AL","APS00012980","Gulf Coast Sand & Gravel - Jackson, AL",{"$f":"MATCH(A203,MAT!$A$1:$A$50000,0)","v":425},{"$f":"COUNTIF(MAT!$A$1:$A$50000,A203)","v":6}]
["AGGR-APS00013080","AGGR","APS00013080-Northern Sand & Gravel, L.L.C. - Independence","APS00013080","Northern Sand & Gravel, L.L.C. - Independence",{"$f":"MATCH(A204,MAT!$A$1:$A$50000,0)","v":431},{"$f":"COUNTIF(MAT!$A$1:$A$50000,A204)","v":2}]
["AGGR-APS00013130","AGGR","APS00013130-South Louisiana Fill Materials - Vacherie Pt","APS00013130","South Louisiana Fill Materials - Vacherie Pt",{"$f":"MATCH(A205,MAT!$A$1:$A$50000,0)","v":433},{"$f":"COUNTIF(MAT!$A$1:$A$50000,A205)","v":1}]
["AGGR-APS00013250","AGGR","APS00013250-R & S Dozer Service, LLC - Franklinton","APS00013250","R & S Dozer Service, LLC - Franklinton",{"$f":"MATCH(A206,MAT!$A$1:$A$50000,0)","v":434},{"$f":"COUNTIF(MAT!$A$1:$A$50000,A206)","v":2}]
["AGGR-APS00013340","AGGR","APS00013340-Heritage Sand and Gravel - Columbia, MS","APS00013340","Heritage Sand and Gravel - Columbia, MS",{"$f":"MATCH(A207,MAT!$A$1:$A$50000,0)","v":436},{"$f":"COUNTIF(MAT!$A$1:$A$50000,A207)","v":2}]
["AGGR-APS00013370","AGGR","APS00013370-Canteras LA Ponderosa S.A. - OoliticStnFormtn -5.1","APS00013370","Canteras LA Ponderosa S.A. - OoliticStnFormtn -5.1",{"$f":"MATCH(A208,MAT!$A$1:$A$50000,0)","v":438},{"$f":"COUNTIF(MAT!$A$1:$A$50000,A208)","v":4}]
["AGGR-APS00013390","AGGR","APS00013390-L & C Gravel, LLC - Plant #6 - Fluker","APS00013390","L & C Gravel, LLC - Plant #6 - Fluker",{"$f":"MATCH(A209,MAT!$A$1:$A$50000,0)","v":442},{"$f":"COUNTIF(MAT!$A$1:$A$50000,A209)","v":2}]
["AGGR-APS00014030","AGGR","APS00014030-Sierra FRAC Sand - Plain Dealing","APS00014030","Sierra FRAC Sand - Plain Dealing",{"$f":"MATCH(A210,MAT!$A$1:$A$50000,0)","v":444},{"$f":"COUNTIF(MAT!$A$1:$A$50000,A210)","v":2}]
["AGGR-APS00014110","AGGR","APS00014110-Rogers Group - Lacey's Springs Quarry","APS00014110","Rogers Group - Lacey's Springs Quarry",{"$f":"MATCH(A211,MAT!$A$1:$A$50000,0)","v":446},{"$f":"COUNTIF(MAT!$A$1:$A$50000,A211)","v":2}]
["AGGR-APS00014150","AGGR","APS00014150-Lionel Boudreaux Trucking, LLC - St. Francisville","APS00014150","Lionel Boudreaux Trucking, LLC - St. Francisville",{"$f":"MATCH(A212,MAT!$A$1:$A$50000,0)","v":448},{"$f":"COUNTIF(MAT!$A$1:$A$50000,A212)","v":1}]
["AGGR-APS00014180","AGGR","APS00014180-Ivey Enterprises, LLC - Greenwell Springs, LA","APS00014180","Ivey Enterprises, LLC - Greenwell Springs, LA",{"$f":"MATCH(A213,MAT!$A$1:$A$50000,0)","v":449},{"$f":"COUNTIF(MAT!$A$1:$A$50000,A213)","v":2}]
["AGGR-APS00014300","AGGR","APS00014300-Southern Aggregates, LLC Plant 31 - Franklinton","APS00014300","Southern Aggregates, LLC Plant 31 - Franklinton",{"$f":"MATCH(A214,MAT!$A$1:$A$50000,0)","v":451},{"$f":"COUNTIF(MAT!$A$1:$A$50000,A214)","v":2}]
["AGGR-APS00014340","AGGR","APS00014340-Lafarge Aggregates-Smithland, KY-Upper Fredonia","APS00014340","Lafarge Aggregates-Smithland, KY-Upper Fredonia",{"$f":"MATCH(A215,MAT!$A$1:$A$50000,0)","v":453},{"$f":"COUNTIF(MAT!$A$1:$A$50000,A215)","v":2}]
["AGGR-APS00014350","AGGR","APS00014350-Barriere Construction Co., LLC - Independence, LA","APS00014350","Barriere Construction Co., LLC - Independence, LA",{"$f":"MATCH(A216,MAT!$A$1:$A$50000,0)","v":455},{"$f":"COUNTIF(MAT!$A$1:$A$50000,A216)","v":2}]
["AGGR-APS00014360","AGGR","APS00014360-Arcosa Aggregates - Anacoco Plant 1391-Merryville","APS00014360","Arcosa Aggregates - Anacoco Plant 1391-Merryville",{"$f":"MATCH(A217,MAT!$A$1:$A$50000,0)","v":457},{"$f":"COUNTIF(MAT!$A$1:$A$50000,A217)","v":4}]
["AGGR-APS00014370","AGGR","APS00014370-Arcosa Aggregates - Indian Village Plant 1284","APS00014370","Arcosa Aggregates - Indian Village Plant 1284",{"$f":"MATCH(A218,MAT!$A$1:$A$50000,0)","v":461},{"$f":"COUNTIF(MAT!$A$1:$A$50000,A218)","v":1}]
["AGGR-APS00014410","AGGR","APS00014410-Arcosa Aggregates - Pearl River Plant 1725","APS00014410","Arcosa Aggregates - Pearl River Plant 1725",{"$f":"MATCH(A219,MAT!$A$1:$A$50000,0)","v":462},{"$f":"COUNTIF(MAT!$A$1:$A$50000,A219)","v":2}]
["AGGR-APS00014440","AGGR","APS00014440-Cenla Materials - Forest Hill, LA","APS00014440","Cenla Materials - Forest Hill, LA",{"$f":"MATCH(A220,MAT!$A$1:$A$50000,0)","v":464},{"$f":"COUNTIF(MAT!$A$1:$A$50000,A220)","v":2}]
["AGGR-APS00014470","AGGR","APS00014470-Merryville Aggregate, LLC - Evans, LA","APS00014470","Merryville Aggregate, LLC - Evans, LA",{"$f":"MATCH(A221,MAT!$A$1:$A$50000,0)","v":466},{"$f":"COUNTIF(MAT!$A$1:$A$50000,A221)","v":2}]
["AGGR-APS00014530","AGGR","APS00014530-Martin Marietta - Mill Creek - Granite","APS00014530","Martin Marietta - Mill Creek - Granite",{"$f":"MATCH(A222,MAT!$A$1:$A$50000,0)","v":468},{"$f":"COUNTIF(MAT!$A$1:$A$50000,A222)","v":2}]
["AGGR-APS00014540","AGGR","APS00014540-Martin Marietta - Mill Creek - Limestone","APS00014540","Martin Marietta - Mill Creek - Limestone",{"$f":"MATCH(A223,MAT!$A$1:$A$50000,0)","v":470},{"$f":"COUNTIF(MAT!$A$1:$A$50000,A223)","v":2}]
["AGGR-APS00014560","AGGR","APS00014560-Shorline Aggregates Inc. -  South Brook Quarry","APS00014560","Shorline Aggregates Inc. -  South Brook Quarry",{"$f":"MATCH(A224,MAT!$A$1:$A$50000,0)","v":472},{"$f":"COUNTIF(MAT!$A$1:$A$50000,A224)","v":2}]
["AGGR-APS00014570","AGGR","APS00014570-Arkansas Granufill Supply - Hot Springs, AR","APS00014570","Arkansas Granufill Supply - Hot Springs, AR",{"$f":"MATCH(A225,MAT!$A$1:$A$50000,0)","v":474},{"$f":"COUNTIF(MAT!$A$1:$A$50000,A225)","v":1}]
["AGGR-APS00014700","AGGR","APS00014700-Hanson Aggregates - Servtex Quarry - New Braunfels","APS00014700","Hanson Aggregates - Servtex Quarry - New Braunfels",{"$f":"MATCH(A226,MAT!$A$1:$A$50000,0)","v":475},{"$f":"COUNTIF(MAT!$A$1:$A$50000,A226)","v":4}]
["AGGR-APS00014740","AGGR","APS00014740-Hanson Aggregates - Burnet Quarry - Burnet, TX","APS00014740","Hanson Aggregates - Burnet Quarry - Burnet, TX",{"$f":"MATCH(A227,MAT!$A$1:$A$50000,0)","v":479},{"$f":"COUNTIF(MAT!$A$1:$A$50000,A227)","v":2}]
["AGGR-APS00014750","AGGR","APS00014750-Rock Island Sand and Gravel - Harrell Pit-Hampton","APS00014750","Rock Island Sand and Gravel - Harrell Pit-Hampton",{"$f":"MATCH(A228,MAT!$A$1:$A$50000,0)","v":481},{"$f":"COUNTIF(MAT!$A$1:$A$50000,A228)","v":2}]
["AGGR-APS00014780","AGGR","APS00014780-Cash Sand & Gravel, Inc. - Kemp Plant -D.S., LA","APS00014780","Cash Sand & Gravel, Inc. - Kemp Plant -D.S., LA",{"$f":"MATCH(A229,MAT!$A$1:$A$50000,0)","v":483},{"$f":"COUNTIF(MAT!$A$1:$A$50000,A229)","v":2}]
["AGGR-APS00014850","AGGR","APS00014850-Superior Sand & Gravel - Plant 1 - Clinton, LA","APS00014850","Superior Sand & Gravel - Plant 1 - Clinton, LA",{"$f":"MATCH(A230,MAT!$A$1:$A$50000,0)","v":485},{"$f":"COUNTIF(MAT!$A$1:$A$50000,A230)","v":2}]
["AGGR-APS00014860","AGGR","APS00014860-Superior Sand & Gravel - Plant 2 - Clinton","APS00014860","Superior Sand & Gravel - Plant 2 - Clinton",{"$f":"MATCH(A231,MAT!$A$1:$A$50000,0)","v":487},{"$f":"COUNTIF(MAT!$A$1:$A$50000,A231)","v":2}]
["AGGR-APS00014890","AGGR","APS00014890-Longville Sand and Gravel - Longville, LA","APS00014890","Longville Sand and Gravel - Longville, LA",{"$f":"MATCH(A232,MAT!$A$1:$A$50000,0)","v":489},{"$f":"COUNTIF(MAT!$A$1:$A$50000,A232)","v":1}]
["AGGR-APS00014900","AGGR","APS00014900-Neely's Landing LLC.- Jackson, MO","APS00014900","Neely's Landing LLC.- Jackson, MO",{"$f":"MATCH(A233,MAT!$A$1:$A$50000,0)","v":490},{"$f":"COUNTIF(MAT!$A$1:$A$50000,A233)","v":2}]
["AGGR-APS00014950","AGGR","APS00014950-Star Silica LLC. - West Monroe, LA","APS00014950","Star Silica LLC. - West Monroe, LA",{"$f":"MATCH(A234,MAT!$A$1:$A$50000,0)","v":492},{"$f":"COUNTIF(MAT!$A$1:$A$50000,A234)","v":2}]
["AGGR-APS00014960","AGGR","APS00014960-Arcosa Aggregates - West Merryville, LA","APS00014960","Arcosa Aggregates - West Merryville, LA",{"$f":"MATCH(A235,MAT!$A$1:$A$50000,0)","v":494},{"$f":"COUNTIF(MAT!$A$1:$A$50000,A235)","v":2}]
["AGGR-APS00014970","AGGR","APS00014970-Gulf Coast Sand - Nicholson, MS","APS00014970","Gulf Coast Sand - Nicholson, MS",{"$f":"MATCH(A236,MAT!$A$1:$A$50000,0)","v":496},{"$f":"COUNTIF(MAT!$A$1:$A$50000,A236)","v":2}]
["AGGR-APS00014990","AGGR","APS00014990-Barriere Construction Co. LLC - Miley Pit","APS00014990","Barriere Construction Co. LLC - Miley Pit",{"$f":"MATCH(A237,MAT!$A$1:$A$50000,0)","v":498},{"$f":"COUNTIF(MAT!$A$1:$A$50000,A237)","v":2}]
["AGGR-APS00015000","AGGR","APS00015000-Barriere Construction Co. LLC - Map Pit","APS00015000","Barriere Construction Co. LLC - Map Pit",{"$f":"MATCH(A238,MAT!$A$1:$A$50000,0)","v":500},{"$f":"COUNTIF(MAT!$A$1:$A$50000,A238)","v":2}]
["AGGR-APS00015010","AGGR","APS00015010-Island Sand & Gravel - Crossett, AR","APS00015010","Island Sand & Gravel - Crossett, AR",{"$f":"MATCH(A239,MAT!$A$1:$A$50000,0)","v":502},{"$f":"COUNTIF(MAT!$A$1:$A$50000,A239)","v":2}]
["AGGR-APS00015020","AGGR","APS00015020-APAC Brickey Stone - Bloomdale - Kimmswick","APS00015020","APAC Brickey Stone - Bloomdale - Kimmswick",{"$f":"MATCH(A240,MAT!$A$1:$A$50000,0)","v":504},{"$f":"COUNTIF(MAT!$A$1:$A$50000,A240)","v":2}]
["AGGR-APS00015030","AGGR","APS00015030-Amberg Construction, LLC. - Jena","APS00015030","Amberg Construction, LLC. - Jena",{"$f":"MATCH(A241,MAT!$A$1:$A$50000,0)","v":506},{"$f":"COUNTIF(MAT!$A$1:$A$50000,A241)","v":2}]
["AGGR-APS00015080","AGGR","APS00015080-B & D Materials, LLC - Parks, LA","APS00015080","B & D Materials, LLC - Parks, LA",{"$f":"MATCH(A242,MAT!$A$1:$A$50000,0)","v":508},{"$f":"COUNTIF(MAT!$A$1:$A$50000,A242)","v":2}]
["AGGR-APS00015090","AGGR","APS00015090-D & J Construction Co., LLC - Aimwell, LA","APS00015090","D & J Construction Co., LLC - Aimwell, LA",{"$f":"MATCH(A243,MAT!$A$1:$A$50000,0)","v":510},{"$f":"COUNTIF(MAT!$A$1:$A$50000,A243)","v":1}]
["AGGR-APS00015110","AGGR","APS00015110-Lafarge Aggregates-Cave-In-Rock, IL-Dolomite Ledge","APS00015110","Lafarge Aggregates-Cave-In-Rock, IL-Dolomite Ledge",{"$f":"MATCH(A244,MAT!$A$1:$A$50000,0)","v":511},{"$f":"COUNTIF(MAT!$A$1:$A$50000,A244)","v":2}]
["AGGR-APS00015120","AGGR","APS00015120-Lafarge Aggrs-Cave-In-Rock, IL-Upper St. Gen Ledge","APS00015120","Lafarge Aggrs-Cave-In-Rock, IL-Upper St. Gen Ledge",{"$f":"MATCH(A245,MAT!$A$1:$A$50000,0)","v":513},{"$f":"COUNTIF(MAT!$A$1:$A$50000,A245)","v":2}]
["AGGR-APS00015130","AGGR","APS00015130-Lafarge Aggs - Cave-In-Rock, IL - Transition Ledge","APS00015130","Lafarge Aggs - Cave-In-Rock, IL - Transition Ledge",{"$f":"MATCH(A246,MAT!$A$1:$A$50000,0)","v":515},{"$f":"COUNTIF(MAT!$A$1:$A$50000,A246)","v":2}]
["AGGR-APS00015140","AGGR","APS00015140-Arcosa Aggregates - Plant LA 1343 - DeRidder","APS00015140","Arcosa Aggregates - Plant LA 1343 - DeRidder",{"$f":"MATCH(A247,MAT!$A$1:$A$50000,0)","v":517},{"$f":"COUNTIF(MAT!$A$1:$A$50000,A247)","v":2}]
["AGGR-APS00015150","AGGR","APS00015150-Arcosa Aggregates - Plant LA 1342 - Clinton Pit","APS00015150","Arcosa Aggregates - Plant LA 1342 - Clinton Pit",{"$f":"MATCH(A248,MAT!$A$1:$A$50000,0)","v":519},{"$f":"COUNTIF(MAT!$A$1:$A$50000,A248)","v":2}]
["AGGR-APS00015160","AGGR","APS00015160-Arcosa Aggregates - Plant LA 1349 - Pearl River","APS00015160","Arcosa Aggregates - Plant LA 1349 - Pearl River",{"$f":"MATCH(A249,MAT!$A$1:$A$50000,0)","v":521},{"$f":"COUNTIF(MAT!$A$1:$A$50000,A249)","v":2}]
["AGGR-APS00015170","AGGR","APS00015170-Arcosa Aggregates - Plant LA 1341 - Independence","APS00015170","Arcosa Aggregates - Plant LA 1341 - Independence",{"$f":"MATCH(A250,MAT!$A$1:$A$50000,0)","v":523},{"$f":"COUNTIF(MAT!$A$1:$A$50000,A250)","v":2}]
["AGGR-APS00015180","AGGR","APS00015180-Arcosa Aggregates - Plant 1347 - Hattiesburg, MS","APS00015180","Arcosa Aggregates - Plant 1347 - Hattiesburg, MS",{"$f":"MATCH(A251,MAT!$A$1:$A$50000,0)","v":525},{"$f":"COUNTIF(MAT!$A$1:$A$50000,A251)","v":2}]
["AGGR-APS00015190","AGGR","APS00015190-Arcosa Aggregates - Plant 1348 - Columbia, MS","APS00015190","Arcosa Aggregates - Plant 1348 - Columbia, MS",{"$f":"MATCH(A252,MAT!$A$1:$A$50000,0)","v":527},{"$f":"COUNTIF(MAT!$A$1:$A$50000,A252)","v":2}]
["AGGR-APS00015200","AGGR","APS00015200-Arcosa Aggregates - Plant LA 1345 - Franklinton","APS00015200","Arcosa Aggregates - Plant LA 1345 - Franklinton",{"$f":"MATCH(A253,MAT!$A$1:$A$50000,0)","v":529},{"$f":"COUNTIF(MAT!$A$1:$A$50000,A253)","v":2}]
["AGGR-APS00015210","AGGR","APS00015210-Arcosa Aggregates - Plant LA 1340 - Denham Springs","APS00015210","Arcosa Aggregates - Plant LA 1340 - Denham Springs",{"$f":"MATCH(A254,MAT!$A$1:$A$50000,0)","v":531},{"$f":"COUNTIF(MAT!$A$1:$A$50000,A254)","v":2}]
["AGGR-APS00015230","AGGR","APS00015230-Shoreline Agg., Inc. - Point Rousse Quarry","APS00015230","Shoreline Agg., Inc. - Point Rousse Quarry",{"$f":"MATCH(A255,MAT!$A$1:$A$50000,0)","v":533},{"$f":"COUNTIF(MAT!$A$1:$A$50000,A255)","v":2}]
["AGGR-APS00015250","AGGR","APS00015250-Beverly Industries, LLC. - Bridge City","APS00015250","Beverly Industries, LLC. - Bridge City",{"$f":"MATCH(A256,MAT!$A$1:$A$50000,0)","v":535},{"$f":"COUNTIF(MAT!$A$1:$A$50000,A256)","v":1}]
["AGGR-APS00015280","AGGR","APS00015280-Benton & Brown, LLC. #2 - Bossier City","APS00015280","Benton & Brown, LLC. #2 - Bossier City",{"$f":"MATCH(A257,MAT!$A$1:$A$50000,0)","v":536},{"$f":"COUNTIF(MAT!$A$1:$A$50000,A257)","v":1}]
["AGGR-APS00015310","AGGR","APS00015310-Hastie Mining and Trucking #2 - Cave-In-Rock, IL","APS00015310","Hastie Mining and Trucking #2 - Cave-In-Rock, IL",{"$f":"MATCH(A258,MAT!$A$1:$A$50000,0)","v":537},{"$f":"COUNTIF(MAT!$A$1:$A$50000,A258)","v":2}]
[{"$f":"B259&\"-\"&D259","v":"AGGR-APS00015320"},"AGGR","APS00015320-Hard Rock Sand & Gravel - Plant 30952 - Richton,MS","APS00015320","Hard Rock Sand & Gravel - Plant 30952 - Richton,MS",{"$f":"MATCH(A259,MAT!$A$1:$A$50000,0)","v":539},{"$f":"COUNTIF(MAT!$A$1:$A$50000,A259)","v":2}]
["AGGR-APS00015340","AGGR","APS00015340-P&K Stone LLC - Mill Creek","APS00015340","P&K Stone LLC - Mill Creek",{"$f":"MATCH(A260,MAT!$A$1:$A$50000,0)","v":541},{"$f":"COUNTIF(MAT!$A$1:$A$50000,A260)","v":2}]
["AGGR-PS00000560","AGGR","PS00000560-Barriere Construction Company, LLC - Boutte","PS00000560","Barriere Construction Company, LLC - Boutte",{"$f":"MATCH(A261,MAT!$A$1:$A$50000,0)","v":543},{"$f":"COUNTIF(MAT!$A$1:$A$50000,A261)","v":1}]
["AGGR-PS00000570","AGGR","PS00000570-Huey Stockstill Contractors, Inc. - Houma","PS00000570","Huey Stockstill Contractors, Inc. - Houma",{"$f":"MATCH(A262,MAT!$A$1:$A$50000,0)","v":544},{"$f":"COUNTIF(MAT!$A$1:$A$50000,A262)","v":1}]
["AGGR-PS00000590","AGGR","PS00000590-Prairie Contractors, Inc. - Opelousas","PS00000590","Prairie Contractors, Inc. - Opelousas",{"$f":"MATCH(A263,MAT!$A$1:$A$50000,0)","v":545},{"$f":"COUNTIF(MAT!$A$1:$A$50000,A263)","v":1}]
["AGGR-PS00000600","AGGR","PS00000600-Glen Lege Construction - Abbeville","PS00000600","Glen Lege Construction - Abbeville",{"$f":"MATCH(A264,MAT!$A$1:$A$50000,0)","v":546},{"$f":"COUNTIF(MAT!$A$1:$A$50000,A264)","v":1}]
["AGGR-PS00000610","AGGR","PS00000610-Prairie Contractors, Inc. - New Iberia","PS00000610","Prairie Contractors, Inc. - New Iberia",{"$f":"MATCH(A265,MAT!$A$1:$A$50000,0)","v":547},{"$f":"COUNTIF(MAT!$A$1:$A$50000,A265)","v":1}]
["AGGR-PS00000630","AGGR","PS00000630-Prairie Contractors, Inc. - Lafayette","PS00000630","Prairie Contractors, Inc. - Lafayette",{"$f":"MATCH(A266,MAT!$A$1:$A$50000,0)","v":548},{"$f":"COUNTIF(MAT!$A$1:$A$50000,A266)","v":1}]
["AGGR-PS00000640","AGGR","PS00000640-Benton & Brown - Bossier City","PS00000640","Benton & Brown - Bossier City",{"$f":"MATCH(A267,MAT!$A$1:$A$50000,0)","v":549},{"$f":"COUNTIF(MAT!$A$1:$A$50000,A267)","v":1}]
["AGGR-PS00000650","AGGR","PS00000650-Madden Contracting Company - Sibley","PS00000650","Madden Contracting Company - Sibley",{"$f":"MATCH(A268,MAT!$A$1:$A$50000,0)","v":550},{"$f":"COUNTIF(MAT!$A$1:$A$50000,A268)","v":1}]
["AGGR-PS00000660","AGGR","PS00000660-Madden Contracting Company - Shreveport","PS00000660","Madden Contracting Company - Shreveport",{"$f":"MATCH(A269,MAT!$A$1:$A$50000,0)","v":551},{"$f":"COUNTIF(MAT!$A$1:$A$50000,A269)","v":1}]
["AGGR-PS00000670","AGGR","PS00000670-Madden Contracting Company - Mansfield","PS00000670","Madden Contracting Company - Mansfield",{"$f":"MATCH(A270,MAT!$A$1:$A$50000,0)","v":552},{"$f":"COUNTIF(MAT!$A$1:$A$50000,A270)","v":1}]
["AGGR-PS00000680","AGGR","PS00000680-Amethyst Construction Company - Ruston","PS00000680","Amethyst Construction Company - Ruston",{"$f":"MATCH(A271,MAT!$A$1:$A$50000,0)","v":553},{"$f":"COUNTIF(MAT!$A$1:$A$50000,A271)","v":1}]
["AGGR-PS00000700","AGGR","PS00000700-D & J Construction Company, Inc. - Tallulah","PS00000700","D & J Construction Company, Inc. - Tallulah",{"$f":"MATCH(A272,MAT!$A$1:$A$50000,0)","v":554},{"$f":"COUNTIF(MAT!$A$1:$A$50000,A272)","v":1}]
["AGGR-PS00000710","AGGR","PS00000710-D & J Construction Company, Inc. - West Monroe","PS00000710","D & J Construction Company, Inc. - West Monroe",{"$f":"MATCH(A273,MAT!$A$1:$A$50000,0)","v":555},{"$f":"COUNTIF(MAT!$A$1:$A$50000,A273)","v":1}]
["AGGR-PS00000720","AGGR","PS00000720-Diamond B Construction Company, LLC - Monroe","PS00000720","Diamond B Construction Company, LLC - Monroe",{"$f":"MATCH(A274,MAT!$A$1:$A$50000,0)","v":556},{"$f":"COUNTIF(MAT!$A$1:$A$50000,A274)","v":1}]
["AGGR-PS00000750","AGGR","PS00000750-Prairie Contractors, Inc. - Westlake","PS00000750","Prairie Contractors, Inc. - Westlake",{"$f":"MATCH(A275,MAT!$A$1:$A$50000,0)","v":557},{"$f":"COUNTIF(MAT!$A$1:$A$50000,A275)","v":1}]
["AGGR-PS00000760","AGGR","PS00000760-R. E. Heidt #2 - Westlake","PS00000760","R. E. Heidt #2 - Westlake",{"$f":"MATCH(A276,MAT!$A$1:$A$50000,0)","v":558},{"$f":"COUNTIF(MAT!$A$1:$A$50000,A276)","v":1}]
["AGGR-PS00000780","AGGR","PS00000780-Diamond B Construction Company, LLC - Alexandria","PS00000780","Diamond B Construction Company, LLC - Alexandria",{"$f":"MATCH(A277,MAT!$A$1:$A$50000,0)","v":559},{"$f":"COUNTIF(MAT!$A$1:$A$50000,A277)","v":1}]
["AGGR-PS00000800","AGGR","PS00000800-Gilchrist Construction #6293 - Alexandria","PS00000800","Gilchrist Construction #6293 - Alexandria",{"$f":"MATCH(A278,MAT!$A$1:$A$50000,0)","v":560},{"$f":"COUNTIF(MAT!$A$1:$A$50000,A278)","v":1}]
["AGGR-PS00000810","AGGR","PS00000810-Madden Construction Company #AP16 - Campti","PS00000810","Madden Construction Company #AP16 - Campti",{"$f":"MATCH(A279,MAT!$A$1:$A$50000,0)","v":561},{"$f":"COUNTIF(MAT!$A$1:$A$50000,A279)","v":1}]
["AGGR-PS00000850","AGGR","PS00000850-Barber Brothers #1 - Darrow","PS00000850","Barber Brothers #1 - Darrow",{"$f":"MATCH(A280,MAT!$A$1:$A$50000,0)","v":562},{"$f":"COUNTIF(MAT!$A$1:$A$50000,A280)","v":1}]
["AGGR-PS00000860","AGGR","PS00000860-Barber Brothers #6 - Port Allen","PS00000860","Barber Brothers #6 - Port Allen",{"$f":"MATCH(A281,MAT!$A$1:$A$50000,0)","v":563},{"$f":"COUNTIF(MAT!$A$1:$A$50000,A281)","v":2}]
["AGGR-PS00000890","AGGR","PS00000890-R. J. Daigle & Son - Geismar","PS00000890","R. J. Daigle & Son - Geismar",{"$f":"MATCH(A282,MAT!$A$1:$A$50000,0)","v":565},{"$f":"COUNTIF(MAT!$A$1:$A$50000,A282)","v":1}]
["AGGR-PS00000940","AGGR","PS00000940-Huey Stockstill #1 - Picayune","PS00000940","Huey Stockstill #1 - Picayune",{"$f":"MATCH(A283,MAT!$A$1:$A$50000,0)","v":566},{"$f":"COUNTIF(MAT!$A$1:$A$50000,A283)","v":1}]
["AGGR-PS00000970","AGGR","PS00000970-Gilchrist Construction #1 - Walker","PS00000970","Gilchrist Construction #1 - Walker",{"$f":"MATCH(A284,MAT!$A$1:$A$50000,0)","v":567},{"$f":"COUNTIF(MAT!$A$1:$A$50000,A284)","v":1}]
["AGGR-PS00003940","AGGR","PS00003940-Barber Brothers Corporation - New Orleans East","PS00003940","Barber Brothers Corporation - New Orleans East",{"$f":"MATCH(A285,MAT!$A$1:$A$50000,0)","v":568},{"$f":"COUNTIF(MAT!$A$1:$A$50000,A285)","v":1}]
["AGGR-PS00003960","AGGR","PS00003960-R. J. Daigle - Baton Rouge, LA","PS00003960","R. J. Daigle - Baton Rouge, LA",{"$f":"MATCH(A286,MAT!$A$1:$A$50000,0)","v":569},{"$f":"COUNTIF(MAT!$A$1:$A$50000,A286)","v":1}]
["AGGR-PS00004140","AGGR","PS00004140-Prairie Contractors, Inc. - Leesville","PS00004140","Prairie Contractors, Inc. - Leesville",{"$f":"MATCH(A287,MAT!$A$1:$A$50000,0)","v":570},{"$f":"COUNTIF(MAT!$A$1:$A$50000,A287)","v":1}]
["AGGR-PS00004190","AGGR","PS00004190-Boh Brothers H230 - New Orleans East","PS00004190","Boh Brothers H230 - New Orleans East",{"$f":"MATCH(A288,MAT!$A$1:$A$50000,0)","v":571},{"$f":"COUNTIF(MAT!$A$1:$A$50000,A288)","v":1}]
["AGGR-PS00004260","AGGR","PS00004260-Wood Materials, LLC - Harahan, LA (SAND)","PS00004260","Wood Materials, LLC - Harahan, LA (SAND)",{"$f":"MATCH(A289,MAT!$A$1:$A$50000,0)","v":572},{"$f":"COUNTIF(MAT!$A$1:$A$50000,A289)","v":1}]
["AGGR-PS00004380","AGGR","PS00004380-D&J Construction, Inc. - Harrisonburg","PS00004380","D&J Construction, Inc. - Harrisonburg",{"$f":"MATCH(A290,MAT!$A$1:$A$50000,0)","v":573},{"$f":"COUNTIF(MAT!$A$1:$A$50000,A290)","v":1}]
["AGGR-PS00004850","AGGR","PS00004850-Benton & Brown, LLC","PS00004850","Benton & Brown, LLC",{"$f":"MATCH(A291,MAT!$A$1:$A$50000,0)","v":574},{"$f":"COUNTIF(MAT!$A$1:$A$50000,A291)","v":1}]
["AGGR-PS00005710","AGGR","PS00005710-Elliott Construction - Breaux Bridge, LA","PS00005710","Elliott Construction - Breaux Bridge, LA",{"$f":"MATCH(A292,MAT!$A$1:$A$50000,0)","v":575},{"$f":"COUNTIF(MAT!$A$1:$A$50000,A292)","v":1}]
["AGGR-PS00005820","AGGR","PS00005820-KanAgg Recycling - Harvey, TX","PS00005820","KanAgg Recycling - Harvey, TX",{"$f":"MATCH(A293,MAT!$A$1:$A$50000,0)","v":576},{"$f":"COUNTIF(MAT!$A$1:$A$50000,A293)","v":1}]
["AGGR-PS00005840","AGGR","PS00005840-Barriere Construction (CRH Company) - Franklinton","PS00005840","Barriere Construction (CRH Company) - Franklinton",{"$f":"MATCH(A294,MAT!$A$1:$A$50000,0)","v":577},{"$f":"COUNTIF(MAT!$A$1:$A$50000,A294)","v":1}]
["AGGR-PS00005850","AGGR","PS00005850-Madden Contracting - Port Allen, LA","PS00005850","Madden Contracting - Port Allen, LA",{"$f":"MATCH(A295,MAT!$A$1:$A$50000,0)","v":578},{"$f":"COUNTIF(MAT!$A$1:$A$50000,A295)","v":1}]
["AGGR-PS00005860","AGGR","PS00005860-Barriere Construction a CRH Company - Baton Rouge","PS00005860","Barriere Construction a CRH Company - Baton Rouge",{"$f":"MATCH(A296,MAT!$A$1:$A$50000,0)","v":579},{"$f":"COUNTIF(MAT!$A$1:$A$50000,A296)","v":1}]
["AGGR-PS00005870","AGGR","PS00005870-Madden Contracting Company, LLC - Amite","PS00005870","Madden Contracting Company, LLC - Amite",{"$f":"MATCH(A297,MAT!$A$1:$A$50000,0)","v":580},{"$f":"COUNTIF(MAT!$A$1:$A$50000,A297)","v":1}]
["AGGR-PS00005880","AGGR","PS00005880-Madden Contracting Company LLC - Westwego","PS00005880","Madden Contracting Company LLC - Westwego",{"$f":"MATCH(A298,MAT!$A$1:$A$50000,0)","v":581},{"$f":"COUNTIF(MAT!$A$1:$A$50000,A298)","v":1}]
["AGGR-PS00005890","AGGR","PS00005890-Barriere Construction a CRH Company - Boutte","PS00005890","Barriere Construction a CRH Company - Boutte",{"$f":"MATCH(A299,MAT!$A$1:$A$50000,0)","v":582},{"$f":"COUNTIF(MAT!$A$1:$A$50000,A299)","v":1}]
["AGGR-PS00005970","AGGR","PS00005970-Heritage Materials, LLC - Beaumont, TX","PS00005970","Heritage Materials, LLC - Beaumont, TX",{"$f":"MATCH(A300,MAT!$A$1:$A$50000,0)","v":583},{"$f":"COUNTIF(MAT!$A$1:$A$50000,A300)","v":1}]
["AGGR-PS99999999","AGGR","PS99999999-ZYX Test Plant - Baton Rouge, LA","PS99999999","ZYX Test Plant - Baton Rouge, LA",{"$f":"MATCH(A301,MAT!$A$1:$A$50000,0)","v":584},{"$f":"COUNTIF(MAT!$A$1:$A$50000,A301)","v":1}]
["ASPH-PS00000520","ASPH","PS00000520-Contractor Supplied","PS00000520","Contractor Supplied",{"$f":"MATCH(A302,MAT!$A$1:$A$50000,0)","v":585},{"$f":"COUNTIF(MAT!$A$1:$A$50000,A302)","v":1}]
["ASPH-PS00000560","ASPH","PS00000560-Barriere Construction Company, LLC - Boutte","PS00000560","Barriere Construction Company, LLC - Boutte",{"$f":"MATCH(A303,MAT!$A$1:$A$50000,0)","v":586},{"$f":"COUNTIF(MAT!$A$1:$A$50000,A303)","v":2}]
["ASPH-PS00000570","ASPH","PS00000570-Huey Stockstill Contractors, Inc. - Houma","PS00000570","Huey Stockstill Contractors, Inc. - Houma",{"$f":"MATCH(A304,MAT!$A$1:$A$50000,0)","v":588},{"$f":"COUNTIF(MAT!$A$1:$A$50000,A304)","v":2}]
["ASPH-PS00000590","ASPH","PS00000590-Prairie Contractors, Inc. - Opelousas","PS00000590","Prairie Contractors, Inc. - Opelousas",{"$f":"MATCH(A305,MAT!$A$1:$A$50000,0)","v":590},{"$f":"COUNTIF(MAT!$A$1:$A$50000,A305)","v":2}]
["ASPH-PS00000600","ASPH","PS00000600-Glen Lege Construction - Abbeville","PS00000600","Glen Lege Construction - Abbeville",{"$f":"MATCH(A306,MAT!$A$1:$A$50000,0)","v":592},{"$f":"COUNTIF(MAT!$A$1:$A$50000,A306)","v":2}]
["ASPH-PS00000610","ASPH","PS00000610-Prairie Contractors, Inc. - New Iberia","PS00000610","Prairie Contractors, Inc. - New Iberia",{"$f":"MATCH(A307,MAT!$A$1:$A$50000,0)","v":594},{"$f":"COUNTIF(MAT!$A$1:$A$50000,A307)","v":2}]
["ASPH-PS00000630","ASPH","PS00000630-Prairie Contractors, Inc. - Lafayette","PS00000630","Prairie Contractors, Inc. - Lafayette",{"$f":"MATCH(A308,MAT!$A$1:$A$50000,0)","v":596},{"$f":"COUNTIF(MAT!$A$1:$A$50000,A308)","v":2}]
["ASPH-PS00000640","ASPH","PS00000640-Benton & Brown - Bossier City","PS00000640","Benton & Brown - Bossier City",{"$f":"MATCH(A309,MAT!$A$1:$A$50000,0)","v":598},{"$f":"COUNTIF(MAT!$A$1:$A$50000,A309)","v":1}]
["ASPH-PS00000650","ASPH","PS00000650-Madden Contracting Company - Sibley","PS00000650","Madden Contracting Company - Sibley",{"$f":"MATCH(A310,MAT!$A$1:$A$50000,0)","v":599},{"$f":"COUNTIF(MAT!$A$1:$A$50000,A310)","v":2}]
["ASPH-PS00000660","ASPH","PS00000660-Madden Contracting Company - Shreveport","PS00000660","Madden Contracting Company - Shreveport",{"$f":"MATCH(A311,MAT!$A$1:$A$50000,0)","v":601},{"$f":"COUNTIF(MAT!$A$1:$A$50000,A311)","v":2}]
["ASPH-PS00000670","ASPH","PS00000670-Madden Contracting Company - Mansfield","PS00000670","Madden Contracting Company - Mansfield",{"$f":"MATCH(A312,MAT!$A$1:$A$50000,0)","v":603},{"$f":"COUNTIF(MAT!$A$1:$A$50000,A312)","v":2}]
["ASPH-PS00000680","ASPH","PS00000680-Amethyst Construction Company - Ruston","PS00000680","Amethyst Construction Company - Ruston",{"$f":"MATCH(A313,MAT!$A$1:$A$50000,0)","v":605},{"$f":"COUNTIF(MAT!$A$1:$A$50000,A313)","v":2}]
["ASPH-PS00000700","ASPH","PS00000700-D & J Construction Company, Inc. - Tallulah","PS00000700","D & J Construction Company, Inc. - Tallulah",{"$f":"MATCH(A314,MAT!$A$1:$A$50000,0)","v":607},{"$f":"COUNTIF(MAT!$A$1:$A$50000,A314)","v":2}]
["ASPH-PS00000710","ASPH","PS00000710-D & J Construction Company, Inc. - West Monroe","PS00000710","D & J Construction Company, Inc. - West Monroe",{"$f":"MATCH(A315,MAT!$A$1:$A$50000,0)","v":609},{"$f":"COUNTIF(MAT!$A$1:$A$50000,A315)","v":2}]
["ASPH-PS00000720","ASPH","PS00000720-Diamond B Construction Company, LLC - Monroe","PS00000720","Diamond B Construction Company, LLC - Monroe",{"$f":"MATCH(A316,MAT!$A$1:$A$50000,0)","v":611},{"$f":"COUNTIF(MAT!$A$1:$A$50000,A316)","v":2}]
["ASPH-PS00000730","ASPH","PS00000730-Dreher Contracting Company, - Bastrop","PS00000730","Dreher Contracting Company, - Bastrop",{"$f":"MATCH(A317,MAT!$A$1:$A$50000,0)","v":613},{"$f":"COUNTIF(MAT!$A$1:$A$50000,A317)","v":2}]
["ASPH-PS00000750","ASPH","PS00000750-Prairie Contractors, Inc. - Westlake","PS00000750","Prairie Contractors, Inc. - Westlake",{"$f":"MATCH(A318,MAT!$A$1:$A$50000,0)","v":615},{"$f":"COUNTIF(MAT!$A$1:$A$50000,A318)","v":2}]
["ASPH-PS00000760","ASPH","PS00000760-R. E. Heidt #2 - Westlake","PS00000760","R. E. Heidt #2 - Westlake",{"$f":"MATCH(A319,MAT!$A$1:$A$50000,0)","v":617},{"$f":"COUNTIF(MAT!$A$1:$A$50000,A319)","v":2}]
["ASPH-PS00000780","ASPH","PS00000780-Diamond B Construction Company, LLC - Alexandria","PS00000780","Diamond B Construction Company, LLC - Alexandria",{"$f":"MATCH(A320,MAT!$A$1:$A$50000,0)","v":619},{"$f":"COUNTIF(MAT!$A$1:$A$50000,A320)","v":2}]
["ASPH-PS00000800","ASPH","PS00000800-Gilchrist Construction #6293 - Alexandria","PS00000800","Gilchrist Construction #6293 - Alexandria",{"$f":"MATCH(A321,MAT!$A$1:$A$50000,0)","v":621},{"$f":"COUNTIF(MAT!$A$1:$A$50000,A321)","v":2}]
["ASPH-PS00000810","ASPH","PS00000810-Madden Construction Company #AP16 - Campti","PS00000810","Madden Construction Company #AP16 - Campti",{"$f":"MATCH(A322,MAT!$A$1:$A$50000,0)","v":623},{"$f":"COUNTIF(MAT!$A$1:$A$50000,A322)","v":2}]
[{"$f":"B323&\"-\"&D323","v":"ASPH-PS00000850"},"ASPH","PS00000850-Barber Brothers #1 - Darrow","PS00000850","Barber Brothers #1 - Darrow",{"$f":"MATCH(A323,MAT!$A$1:$A$50000,0)","v":625},{"$f":"COUNTIF(MAT!$A$1:$A$50000,A323)","v":2}]
["ASPH-PS00000860","ASPH","PS00000860-Barber Brothers #6 - Port Allen","PS00000860","Barber Brothers #6 - Port Allen",{"$f":"MATCH(A324,MAT!$A$1:$A$50000,0)","v":627},{"$f":"COUNTIF(MAT!$A$1:$A$50000,A324)","v":2}]
["ASPH-PS00000890","ASPH","PS00000890-R. J. Daigle & Son - Geismar","PS00000890","R. J. Daigle & Son - Geismar",{"$f":"MATCH(A325,MAT!$A$1:$A$50000,0)","v":629},{"$f":"COUNTIF(MAT!$A$1:$A$50000,A325)","v":2}]
["ASPH-PS00000940","ASPH","PS00000940-Huey Stockstill #1 - Picayune","PS00000940","Huey Stockstill #1 - Picayune",{"$f":"MATCH(A326,MAT!$A$1:$A$50000,0)","v":631},{"$f":"COUNTIF(MAT!$A$1:$A$50000,A326)","v":3}]
["ASPH-PS00003940","ASPH","PS00003940-Barber Brothers Corporation - New Orleans East","PS00003940","Barber Brothers Corporation - New Orleans East",{"$f":"MATCH(A327,MAT!$A$1:$A$50000,0)","v":634},{"$f":"COUNTIF(MAT!$A$1:$A$50000,A327)","v":1}]
["ASPH-PS00003960","ASPH","PS00003960-R. J. Daigle - Baton Rouge, LA","PS00003960","R. J. Daigle - Baton Rouge, LA",{"$f":"MATCH(A328,MAT!$A$1:$A$50000,0)","v":635},{"$f":"COUNTIF(MAT!$A$1:$A$50000,A328)","v":2}]
["ASPH-PS00004140","ASPH","PS00004140-Prairie Contractors, Inc. - Leesville","PS00004140","Prairie Contractors, Inc. - Leesville",{"$f":"MATCH(A329,MAT!$A$1:$A$50000,0)","v":637},{"$f":"COUNTIF(MAT!$A$1:$A$50000,A329)","v":2}]
["ASPH-PS00004190","ASPH","PS00004190-Boh Brothers H230 - New Orleans East","PS00004190","Boh Brothers H230 - New Orleans East",{"$f":"MATCH(A330,MAT!$A$1:$A$50000,0)","v":639},{"$f":"COUNTIF(MAT!$A$1:$A$50000,A330)","v":2}]
["ASPH-PS00004380","ASPH","PS00004380-D&J Construction, Inc. - Harrisonburg","PS00004380","D&J Construction, Inc. - Harrisonburg",{"$f":"MATCH(A331,MAT!$A$1:$A$50000,0)","v":641},{"$f":"COUNTIF(MAT!$A$1:$A$50000,A331)","v":1}]
["ASPH-PS00005710","ASPH","PS00005710-Elliott Construction - Breaux Bridge, LA","PS00005710","Elliott Construction - Breaux Bridge, LA",{"$f":"MATCH(A332,MAT!$A$1:$A$50000,0)","v":642},{"$f":"COUNTIF(MAT!$A$1:$A$50000,A332)","v":1}]
["ASPH-PS00005840","ASPH","PS00005840-Barriere Construction (CRH Company) - Franklinton","PS00005840","Barriere Construction (CRH Company) - Franklinton",{"$f":"MATCH(A333,MAT!$A$1:$A$50000,0)","v":643},{"$f":"COUNTIF(MAT!$A$1:$A$50000,A333)","v":2}]
["ASPH-PS00005850","ASPH","PS00005850-Madden Contracting - Port Allen, LA","PS00005850","Madden Contracting - Port Allen, LA",{"$f":"MATCH(A334,MAT!$A$1:$A$50000,0)","v":645},{"$f":"COUNTIF(MAT!$A$1:$A$50000,A334)","v":2}]
["ASPH-PS00005860","ASPH","PS00005860-Barriere Construction a CRH Company - Baton Rouge","PS00005860","Barriere Construction a CRH Company - Baton Rouge",{"$f":"MATCH(A335,MAT!$A$1:$A$50000,0)","v":647},{"$f":"COUNTIF(MAT!$A$1:$A$50000,A335)","v":2}]
["ASPH-PS00005870","ASPH","PS00005870-Madden Contracting Company, LLC - Amite","PS00005870","Madden Contracting Company, LLC - Amite",{"$f":"MATCH(A336,MAT!$A$1:$A$50000,0)","v":649},{"$f":"COUNTIF(MAT!$A$1:$A$50000,A336)","v":2}]
["ASPH-PS00005880","ASPH","PS00005880-Madden Contracting Company LLC - Westwego","PS00005880","Madden Contracting Company LLC - Westwego",{"$f":"MATCH(A337,MAT!$A$1:$A$50000,0)","v":651},{"$f":"COUNTIF(MAT!$A$1:$A$50000,A337)","v":2}]
["ASPH-PS00005890","ASPH","PS00005890-Barriere Construction a CRH Company - Boutte","PS00005890","Barriere Construction a CRH Company - Boutte",{"$f":"MATCH(A338,MAT!$A$1:$A$50000,0)","v":653},{"$f":"COUNTIF(MAT!$A$1:$A$50000,A338)","v":2}]
["ASPH-PS00005970","ASPH","PS00005970-Heritage Materials, LLC - Beaumont, TX","PS00005970","Heritage Materials, LLC - Beaumont, TX",{"$f":"MATCH(A339,MAT!$A$1:$A$50000,0)","v":655},{"$f":"COUNTIF(MAT!$A$1:$A$50000,A339)","v":3}]
["ASPH-PS99999999","ASPH","PS99999999-ZYX Test Plant - Baton Rouge, LA","PS99999999","ZYX Test Plant - Baton Rouge, LA",{"$f":"MATCH(A340,MAT!$A$1:$A$50000,0)","v":658},{"$f":"COUNTIF(MAT!$A$1:$A$50000,A340)","v":2}]
["ASPH-PS9999LTRC","ASPH","PS9999LTRC-LTRC - Baton Rouge, LA","PS9999LTRC","LTRC - Baton Rouge, LA",{"$f":"MATCH(A341,MAT!$A$1:$A$50000,0)","v":660},{"$f":"COUNTIF(MAT!$A$1:$A$50000,A341)","v":2}]
["BIND-APS00000330","BIND","APS00000330-Asphalt Products Unlimited, Inc. - Port Allen, LA","APS00000330","Asphalt Products Unlimited, Inc. - Port Allen, LA",{"$f":"MATCH(A342,MAT!$A$1:$A$50000,0)","v":662},{"$f":"COUNTIF(MAT!$A$1:$A$50000,A342)","v":1}]
["BIND-APS00000340","BIND","APS00000340-Blacklidge Emulsions, Inc. - Gulfport, MS","APS00000340","Blacklidge Emulsions, Inc. - Gulfport, MS",{"$f":"MATCH(A343,MAT!$A$1:$A$50000,0)","v":663},{"$f":"COUNTIF(MAT!$A$1:$A$50000,A343)","v":5}]
["BIND-APS00000360","BIND","APS00000360-Ergon Refining, Inc. - Vicksburg, MS","APS00000360","Ergon Refining, Inc. - Vicksburg, MS",{"$f":"MATCH(A344,MAT!$A$1:$A$50000,0)","v":668},{"$f":"COUNTIF(MAT!$A$1:$A$50000,A344)","v":5}]
["BIND-APS00000385","BIND","APS00000385-Hunt-Southland Refining Company - Heidelberg, MS","APS00000385","Hunt-Southland Refining Company - Heidelberg, MS",{"$f":"MATCH(A345,MAT!$A$1:$A$50000,0)","v":673},{"$f":"COUNTIF(MAT!$A$1:$A$50000,A345)","v":5}]
["BIND-APS00000390","BIND","APS00000390-Delek US Asphalt-TrinityAsphFacility Henderson, TX","APS00000390","Delek US Asphalt-TrinityAsphFacility Henderson, TX",{"$f":"MATCH(A346,MAT!$A$1:$A$50000,0)","v":678},{"$f":"COUNTIF(MAT!$A$1:$A$50000,A346)","v":11}]
["BIND-APS00000400","BIND","APS00000400-Marathon Petroleum Company - Garyville, LA","APS00000400","Marathon Petroleum Company - Garyville, LA",{"$f":"MATCH(A347,MAT!$A$1:$A$50000,0)","v":689},{"$f":"COUNTIF(MAT!$A$1:$A$50000,A347)","v":6}]
["BIND-APS00000510","BIND","APS00000510-Valero Marketing and Supply - St. James, LA","APS00000510","Valero Marketing and Supply - St. James, LA",{"$f":"MATCH(A348,MAT!$A$1:$A$50000,0)","v":695},{"$f":"COUNTIF(MAT!$A$1:$A$50000,A348)","v":5}]
["BIND-APS00002480","BIND","APS00002480-Calumet Laboratories/Lubricants - Shreveport, LA","APS00002480","Calumet Laboratories/Lubricants - Shreveport, LA",{"$f":"MATCH(A349,MAT!$A$1:$A$50000,0)","v":700},{"$f":"COUNTIF(MAT!$A$1:$A$50000,A349)","v":2}]
["BIND-APS00010280","BIND","APS00010280-Ergon Asphalt & Emulsions - Memphis, TN","APS00010280","Ergon Asphalt & Emulsions - Memphis, TN",{"$f":"MATCH(A350,MAT!$A$1:$A$50000,0)","v":702},{"$f":"COUNTIF(MAT!$A$1:$A$50000,A350)","v":3}]
["BIND-APS00010660","BIND","APS00010660-Martin Asphalt Company - South Houston, TX","APS00010660","Martin Asphalt Company - South Houston, TX",{"$f":"MATCH(A351,MAT!$A$1:$A$50000,0)","v":705},{"$f":"COUNTIF(MAT!$A$1:$A$50000,A351)","v":6}]
["BIND-APS00010870","BIND","APS00010870-Martin Asphalt Company Stanolind - Beaumont, TX","APS00010870","Martin Asphalt Company Stanolind - Beaumont, TX",{"$f":"MATCH(A352,MAT!$A$1:$A$50000,0)","v":711},{"$f":"COUNTIF(MAT!$A$1:$A$50000,A352)","v":2}]
["BIND-APS00010880","BIND","APS00010880-Martin Asphalt Company Neches - Beaumont, TX","APS00010880","Martin Asphalt Company Neches - Beaumont, TX",{"$f":"MATCH(A353,MAT!$A$1:$A$50000,0)","v":713},{"$f":"COUNTIF(MAT!$A$1:$A$50000,A353)","v":2}]
["BIND-APS00011110","BIND","APS00011110-Ergon Asphalt & Emulsion - Mulga, AL","APS00011110","Ergon Asphalt & Emulsion - Mulga, AL",{"$f":"MATCH(A354,MAT!$A$1:$A$50000,0)","v":715},{"$f":"COUNTIF(MAT!$A$1:$A$50000,A354)","v":1}]
["BIND-APS00011610","BIND","APS00011610-Valero Marketing and Supply Co., - Houston, TX","APS00011610","Valero Marketing and Supply Co., - Houston, TX",{"$f":"MATCH(A355,MAT!$A$1:$A$50000,0)","v":716},{"$f":"COUNTIF(MAT!$A$1:$A$50000,A355)","v":2}]
["BIND-APS00012550","BIND","APS00012550-PBF Energy - Parsippany, NJ","APS00012550","PBF Energy - Parsippany, NJ",{"$f":"MATCH(A356,MAT!$A$1:$A$50000,0)","v":718},{"$f":"COUNTIF(MAT!$A$1:$A$50000,A356)","v":1}]
["BIND-APS00013110","BIND","APS00013110-Asphalt & Wax Innovations, LLC - Gulfport, MS","APS00013110","Asphalt & Wax Innovations, LLC - Gulfport, MS",{"$f":"MATCH(A357,MAT!$A$1:$A$50000,0)","v":719},{"$f":"COUNTIF(MAT!$A$1:$A$50000,A357)","v":3}]
["BIND-APS00013120","BIND","APS00013120-Hunt Refining Company - Dallas, TX","APS00013120","Hunt Refining Company - Dallas, TX",{"$f":"MATCH(A358,MAT!$A$1:$A$50000,0)","v":722},{"$f":"COUNTIF(MAT!$A$1:$A$50000,A358)","v":1}]
["BIND-APS00013150","BIND","APS00013150-Hunt Refining Company - Tuscaloosa, AL","APS00013150","Hunt Refining Company - Tuscaloosa, AL",{"$f":"MATCH(A359,MAT!$A$1:$A$50000,0)","v":723},{"$f":"COUNTIF(MAT!$A$1:$A$50000,A359)","v":1}]
["BIND-APS00014390","BIND","APS00014390-Hunt Refining Co. - Zenith Terminal - Mobile, AL","APS00014390","Hunt Refining Co. - Zenith Terminal - Mobile, AL",{"$f":"MATCH(A360,MAT!$A$1:$A$50000,0)","v":724},{"$f":"COUNTIF(MAT!$A$1:$A$50000,A360)","v":2}]
["BIND-APS00014430","BIND","APS00014430-Martin Asphalt Company - St. Rose, LA","APS00014430","Martin Asphalt Company - St. Rose, LA",{"$f":"MATCH(A361,MAT!$A$1:$A$50000,0)","v":726},{"$f":"COUNTIF(MAT!$A$1:$A$50000,A361)","v":1}]
["BIND-APS00015040","BIND","APS00015040-Blacklidge Emulsions, Inc. - Fairfield, TX","APS00015040","Blacklidge Emulsions, Inc. - Fairfield, TX",{"$f":"MATCH(A362,MAT!$A$1:$A$50000,0)","v":727},{"$f":"COUNTIF(MAT!$A$1:$A$50000,A362)","v":1}]
["BIND-PS00000560","BIND","PS00000560-Barriere Construction Company, LLC - Boutte","PS00000560","Barriere Construction Company, LLC - Boutte",{"$f":"MATCH(A363,MAT!$A$1:$A$50000,0)","v":728},{"$f":"COUNTIF(MAT!$A$1:$A$50000,A363)","v":2}]
["BIND-PS00000590","BIND","PS00000590-Prairie Contractors, Inc. - Opelousas","PS00000590","Prairie Contractors, Inc. - Opelousas",{"$f":"MATCH(A364,MAT!$A$1:$A$50000,0)","v":730},{"$f":"COUNTIF(MAT!$A$1:$A$50000,A364)","v":2}]
["BIND-PS00000600","BIND","PS00000600-Glen Lege Construction - Abbeville","PS00000600","Glen Lege Construction - Abbeville",{"$f":"MATCH(A365,MAT!$A$1:$A$50000,0)","v":732},{"$f":"COUNTIF(MAT!$A$1:$A$50000,A365)","v":2}]
["BIND-PS00000610","BIND","PS00000610-Prairie Contractors, Inc. - New Iberia","PS00000610","Prairie Contractors, Inc. - New Iberia",{"$f":"MATCH(A366,MAT!$A$1:$A$50000,0)","v":734},{"$f":"COUNTIF(MAT!$A$1:$A$50000,A366)","v":2}]
["BIND-PS00000630","BIND","PS00000630-Prairie Contractors, Inc. - Lafayette","PS00000630","Prairie Contractors, Inc. - Lafayette",{"$f":"MATCH(A367,MAT!$A$1:$A$50000,0)","v":736},{"$f":"COUNTIF(MAT!$A$1:$A$50000,A367)","v":2}]
["BIND-PS00000720","BIND","PS00000720-Diamond B Construction Company, LLC - Monroe","PS00000720","Diamond B Construction Company, LLC - Monroe",{"$f":"MATCH(A368,MAT!$A$1:$A$50000,0)","v":738},{"$f":"COUNTIF(MAT!$A$1:$A$50000,A368)","v":2}]
["BIND-PS00000750","BIND","PS00000750-Prairie Contractors, Inc. - Westlake","PS00000750","Prairie Contractors, Inc. - Westlake",{"$f":"MATCH(A369,MAT!$A$1:$A$50000,0)","v":740},{"$f":"COUNTIF(MAT!$A$1:$A$50000,A369)","v":2}]
["BIND-PS00000780","BIND","PS00000780-Diamond B Construction Company, LLC - Alexandria","PS00000780","Diamond B Construction Company, LLC - Alexandria",{"$f":"MATCH(A370,MAT!$A$1:$A$50000,0)","v":742},{"$f":"COUNTIF(MAT!$A$1:$A$50000,A370)","v":2}]
["BIND-PS00000800","BIND","PS00000800-Gilchrist Construction #6293 - Alexandria","PS00000800","Gilchrist Construction #6293 - Alexandria",{"$f":"MATCH(A371,MAT!$A$1:$A$50000,0)","v":744},{"$f":"COUNTIF(MAT!$A$1:$A$50000,A371)","v":2}]
["BIND-PS00000850","BIND","PS00000850-Barber Brothers #1 - Darrow","PS00000850","Barber Brothers #1 - Darrow",{"$f":"MATCH(A372,MAT!$A$1:$A$50000,0)","v":746},{"$f":"COUNTIF(MAT!$A$1:$A$50000,A372)","v":2}]
["BIND-PS00000860","BIND","PS00000860-Barber Brothers #6 - Port Allen","PS00000860","Barber Brothers #6 - Port Allen",{"$f":"MATCH(A373,MAT!$A$1:$A$50000,0)","v":748},{"$f":"COUNTIF(MAT!$A$1:$A$50000,A373)","v":2}]
["BIND-PS00003960","BIND","PS00003960-R. J. Daigle - Baton Rouge, LA","PS00003960","R. J. Daigle - Baton Rouge, LA",{"$f":"MATCH(A374,MAT!$A$1:$A$50000,0)","v":750},{"$f":"COUNTIF(MAT!$A$1:$A$50000,A374)","v":2}]
["BIND-PS00004140","BIND","PS00004140-Prairie Contractors, Inc. - Leesville","PS00004140","Prairie Contractors, Inc. - Leesville",{"$f":"MATCH(A375,MAT!$A$1:$A$50000,0)","v":752},{"$f":"COUNTIF(MAT!$A$1:$A$50000,A375)","v":2}]
["BIND-PS00005840","BIND","PS00005840-Barriere Construction (CRH Company) - Franklinton","PS00005840","Barriere Construction (CRH Company) - Franklinton",{"$f":"MATCH(A376,MAT!$A$1:$A$50000,0)","v":754},{"$f":"COUNTIF(MAT!$A$1:$A$50000,A376)","v":2}]
["BIND-PS00005850","BIND","PS00005850-Madden Contracting - Port Allen, LA","PS00005850","Madden Contracting - Port Allen, LA",{"$f":"MATCH(A377,MAT!$A$1:$A$50000,0)","v":756},{"$f":"COUNTIF(MAT!$A$1:$A$50000,A377)","v":3}]
["BIND-PS00005860","BIND","PS00005860-Barriere Construction a CRH Company - Baton Rouge","PS00005860","Barriere Construction a CRH Company - Baton Rouge",{"$f":"MATCH(A378,MAT!$A$1:$A$50000,0)","v":759},{"$f":"COUNTIF(MAT!$A$1:$A$50000,A378)","v":3}]
["BIND-PS00005870","BIND","PS00005870-Madden Contracting Company, LLC - Amite","PS00005870","Madden Contracting Company, LLC - Amite",{"$f":"MATCH(A379,MAT!$A$1:$A$50000,0)","v":762},{"$f":"COUNTIF(MAT!$A$1:$A$50000,A379)","v":3}]
["BIND-PS00005880","BIND","PS00005880-Madden Contracting Company LLC - Westwego","PS00005880","Madden Contracting Company LLC - Westwego",{"$f":"MATCH(A380,MAT!$A$1:$A$50000,0)","v":765},{"$f":"COUNTIF(MAT!$A$1:$A$50000,A380)","v":2}]
["BIND-PS00005890","BIND","PS00005890-Barriere Construction a CRH Company - Boutte","PS00005890","Barriere Construction a CRH Company - Boutte",{"$f":"MATCH(A381,MAT!$A$1:$A$50000,0)","v":767},{"$f":"COUNTIF(MAT!$A$1:$A$50000,A381)","v":2}]
["BIND-PS99999999","BIND","PS99999999-ZYX Test Plant - Baton Rouge, LA","PS99999999","ZYX Test Plant - Baton Rouge, LA",{"$f":"MATCH(A382,MAT!$A$1:$A$50000,0)","v":769},{"$f":"COUNTIF(MAT!$A$1:$A$50000,A382)","v":2}]

{"sheet":"MAT","index":25,"n_rows":770,"n_cols":11,"rows_kept":770,"cut":false,"hidden":false,"merged":[]}
["Type-PS","PS-MAT","PS-NM","MAT-NM","PRODR_SUPP_CD","PRODR_SUPP_NM","MATL_CD","MATL_CATG_T","MATL_FULL_NM","PROD_NM","EXP_DT"]
[{"$f":"H2&\"-\"&E2","v":"ADAP-APS00000340"},{"$f":"E2&\"-\"&G2","v":"APS00000340-1002M00220"},{"$f":"E2&\"-\"&F2","v":"APS00000340-Blacklidge Emulsions, Inc. - Gulfport, MS"},{"$f":"G2&\"-\"&I2&IF(J2<>\"\", \"-\"&J2, \"\")","v":"1002M00220-Anti-Strip Additive-B-AS2 - Blacklidge Emulsion"},"APS00000340","Blacklidge Emulsions, Inc. - Gulfport, MS","1002M00220","ADAP","Anti-Strip Additive","B-AS2 - Blacklidge Emulsion",20190327]
[{"$f":"H3&\"-\"&E3","v":"ADAP-APS00003920"},{"$f":"E3&\"-\"&G3","v":"APS00003920-1002M00220"},{"$f":"E3&\"-\"&F3","v":"APS00003920-Arr-Maz Products, Inc. - Mulberry, FL"},{"$f":"G3&\"-\"&I3&IF(J3<>\"\", \"-\"&J3, \"\")","v":"1002M00220-Anti-Strip Additive-Ad-Here 62-40 - Arr-MazProducts"},"APS00003920","Arr-Maz Products, Inc. - Mulberry, FL","1002M00220","ADAP","Anti-Strip Additive","Ad-Here 62-40 - Arr-MazProducts",20210824]
["ADAP-APS00003920","APS00003920-1002M00220","APS00003920-Arr-Maz Products, Inc. - Mulberry, FL","1002M00220-Anti-Strip Additive-Ad-Here 66-01 LS - Arr-MazProducts","APS00003920","Arr-Maz Products, Inc. - Mulberry, FL","1002M00220","ADAP","Anti-Strip Additive","Ad-Here 66-01 LS - Arr-MazProducts",20210824]
["ADAP-APS00003920","APS00003920-1002M00220","APS00003920-Arr-Maz Products, Inc. - Mulberry, FL","1002M00220-Anti-Strip Additive-Ad-Here 67-00 - Arr-MazProducts","APS00003920","Arr-Maz Products, Inc. - Mulberry, FL","1002M00220","ADAP","Anti-Strip Additive","Ad-Here 67-00 - Arr-MazProducts",20210824]
["ADAP-APS00003920","APS00003920-1002M00220","APS00003920-Arr-Maz Products, Inc. - Mulberry, FL","1002M00220-Anti-Strip Additive-Ad-Here HP Plus - Arr-MazProducts","APS00003920","Arr-Maz Products, Inc. - Mulberry, FL","1002M00220","ADAP","Anti-Strip Additive","Ad-Here HP Plus - Arr-MazProducts",20210824]
["ADAP-APS00003920","APS00003920-1002M00220","APS00003920-Arr-Maz Products, Inc. - Mulberry, FL","1002M00220-Anti-Strip Additive-Ad-Here LA - Arr-MazProducts","APS00003920","Arr-Maz Products, Inc. - Mulberry, FL","1002M00220","ADAP","Anti-Strip Additive","Ad-Here LA - Arr-MazProducts",20210824]
["ADAP-APS00003920","APS00003920-1002M00220","APS00003920-Arr-Maz Products, Inc. - Mulberry, FL","1002M00220-Anti-Strip Additive-Ad-Here LA 2 - Arr-MazProducts","APS00003920","Arr-Maz Products, Inc. - Mulberry, FL","1002M00220","ADAP","Anti-Strip Additive","Ad-Here LA 2 - Arr-MazProducts",20210824]
["ADAP-APS00003920","APS00003920-1002M00220","APS00003920-Arr-Maz Products, Inc. - Mulberry, FL","1002M00220-Anti-Strip Additive-Ad-Here LA 3 - Arr-MazProducts","APS00003920","Arr-Maz Products, Inc. - Mulberry, FL","1002M00220","ADAP","Anti-Strip Additive","Ad-Here LA 3 - Arr-MazProducts",20210824]
["ADAP-APS00003920","APS00003920-1002M00220","APS00003920-Arr-Maz Products, Inc. - Mulberry, FL","1002M00220-Anti-Strip Additive-Ad-Here LOF 65-00 LS - Arr-MazProducts","APS00003920","Arr-Maz Products, Inc. - Mulberry, FL","1002M00220","ADAP","Anti-Strip Additive","Ad-Here LOF 65-00 LS - Arr-MazProducts",20210824]
["ADAP-APS00003920","APS00003920-1002M00220","APS00003920-Arr-Maz Products, Inc. - Mulberry, FL","1002M00220-Anti-Strip Additive-Ad-Here LOF-65-00 - Arr-MazProducts","APS00003920","Arr-Maz Products, Inc. - Mulberry, FL","1002M00220","ADAP","Anti-Strip Additive","Ad-Here LOF-65-00 - Arr-MazProducts",20210824]
["ADAP-APS00003940","APS00003940-1002M00220","APS00003940-Kao Specialties Americas, LLC - High Point, NC","1002M00220-Anti-Strip Additive-Kao Gripper X2 - Kao Spec. Americas","APS00003940","Kao Specialties Americas, LLC - High Point, NC","1002M00220","ADAP","Anti-Strip Additive","Kao Gripper X2 - Kao Spec. Americas",20490101]
["ADAP-APS00003970","APS00003970-1002M00220","APS00003970-Pre Tech Industries - Rye, NH","1002M00220-Anti-Strip Additive-Pavegrip 200 - Pre Tech","APS00003970","Pre Tech Industries - Rye, NH","1002M00220","ADAP","Anti-Strip Additive","Pavegrip 200 - Pre Tech",20490101]
["ADAP-APS00003970","APS00003970-1002M00220","APS00003970-Pre Tech Industries - Rye, NH","1002M00220-Anti-Strip Additive-Pavegrip 450 - Pre Tech","APS00003970","Pre Tech Industries - Rye, NH","1002M00220","ADAP","Anti-Strip Additive","Pavegrip 450 - Pre Tech",20130703]
["ADAP-APS00003970","APS00003970-1002M00220","APS00003970-Pre Tech Industries - Rye, NH","1002M00220-Anti-Strip Additive-Pavegrip 519 - Pre Tech Ind., Inc","APS00003970","Pre Tech Industries - Rye, NH","1002M00220","ADAP","Anti-Strip Additive","Pavegrip 519 - Pre Tech Ind., Inc",20140611]
["ADAP-APS00003970","APS00003970-1002M00220","APS00003970-Pre Tech Industries - Rye, NH","1002M00220-Anti-Strip Additive-Pavegrip PA-30 - Pre Tech Ind., Inc.","APS00003970","Pre Tech Industries - Rye, NH","1002M00220","ADAP","Anti-Strip Additive","Pavegrip PA-30 - Pre Tech Ind., Inc.",20140611]
["ADAP-APS00011060","APS00011060-1002M00220","APS00011060-Ingevity Corporation - North Charleston, SC","1002M00220-Anti-Strip Additive-Evotherm  J1 - MWV SpecialtyChem","APS00011060","Ingevity Corporation - North Charleston, SC","1002M00220","ADAP","Anti-Strip Additive","Evotherm  J1 - MWV SpecialtyChem",20490101]
["ADAP-APS00011060","APS00011060-1002M00220","APS00011060-Ingevity Corporation - North Charleston, SC","1002M00220-Anti-Strip Additive-Evotherm J12 - MWV Specialty Chem","APS00011060","Ingevity Corporation - North Charleston, SC","1002M00220","ADAP","Anti-Strip Additive","Evotherm J12 - MWV Specialty Chem",20490101]
["ADAP-APS00011060","APS00011060-1002M00220","APS00011060-Ingevity Corporation - North Charleston, SC","1002M00220-Anti-Strip Additive-Evotherm M1 - MWV SpecialtyChem","APS00011060","Ingevity Corporation - North Charleston, SC","1002M00220","ADAP","Anti-Strip Additive","Evotherm M1 - MWV SpecialtyChem",20490101]
["ADAP-APS00011060","APS00011060-1002M00220","APS00011060-Ingevity Corporation - North Charleston, SC","1002M00220-Anti-Strip Additive-Evotherm M14 - MWV Specialty Chem","APS00011060","Ingevity Corporation - North Charleston, SC","1002M00220","ADAP","Anti-Strip Additive","Evotherm M14 - MWV Specialty Chem",20490101]
["ADAP-APS00011060","APS00011060-1002M00220","APS00011060-Ingevity Corporation - North Charleston, SC","1002M00220-Anti-Strip Additive-Evotherm M1A - MWV SpecialtyChem","APS00011060","Ingevity Corporation - North Charleston, SC","1002M00220","ADAP","Anti-Strip Additive","Evotherm M1A - MWV SpecialtyChem",20490101]
["ADAP-APS00011060","APS00011060-1002M00220","APS00011060-Ingevity Corporation - North Charleston, SC","1002M00220-Anti-Strip Additive-Evotherm P15 - MWV Specialty Chem","APS00011060","Ingevity Corporation - North Charleston, SC","1002M00220","ADAP","Anti-Strip Additive","Evotherm P15 - MWV Specialty Chem",20490101]
["ADAP-APS00011060","APS00011060-1002M00220","APS00011060-Ingevity Corporation - North Charleston, SC","1002M00220-Anti-Strip Additive-Evotherm P25 - Ingevity Corporation","APS00011060","Ingevity Corporation - North Charleston, SC","1002M00220","ADAP","Anti-Strip Additive","Evotherm P25 - Ingevity Corporation",20490101]
["ADAP-APS00011060","APS00011060-1002M00220","APS00011060-Ingevity Corporation - North Charleston, SC","1002M00220-Anti-Strip Additive-Evotherm PC-1755 - MWV SpecialtyChem","APS00011060","Ingevity Corporation - North Charleston, SC","1002M00220","ADAP","Anti-Strip Additive","Evotherm PC-1755 - MWV SpecialtyChem",20121119]
["ADAP-APS00011060","APS00011060-1002M00220","APS00011060-Ingevity Corporation - North Charleston, SC","1002M00220-Anti-Strip Additive-Evotherm PC-1847 - MWV SpecialtyChem","APS00011060","Ingevity Corporation - North Charleston, SC","1002M00220","ADAP","Anti-Strip Additive","Evotherm PC-1847 - MWV SpecialtyChem",20490101]
["ADAP-APS00011060","APS00011060-1002M00220","APS00011060-Ingevity Corporation - North Charleston, SC","1002M00220-Anti-Strip Additive-Evotherm PC-1848 - MWV SpecialtyChem","APS00011060","Ingevity Corporation - North Charleston, SC","1002M00220","ADAP","Anti-Strip Additive","Evotherm PC-1848 - MWV SpecialtyChem",20490101]
["ADAP-APS00011060","APS00011060-1002M00220","APS00011060-Ingevity Corporation - North Charleston, SC","1002M00220-Anti-Strip Additive-Evotherm Q1 - MWV SpecialtyChem","APS00011060","Ingevity Corporation - North Charleston, SC","1002M00220","ADAP","Anti-Strip Additive","Evotherm Q1 - MWV SpecialtyChem",20160909]
["ADAP-APS00011060","APS00011060-1002M00220","APS00011060-Ingevity Corporation - North Charleston, SC","1002M00220-Anti-Strip Additive-Evotherm R1 - MWV Specialty Chem","APS00011060","Ingevity Corporation - North Charleston, SC","1002M00220","ADAP","Anti-Strip Additive","Evotherm R1 - MWV Specialty Chem",20160909]
["ADAP-APS00011060","APS00011060-1002M00220","APS00011060-Ingevity Corporation - North Charleston, SC","1002M00220-Anti-Strip Additive-Evotherm S1 - MWV Specialty Chem","APS00011060","Ingevity Corporation - North Charleston, SC","1002M00220","ADAP","Anti-Strip Additive","Evotherm S1 - MWV Specialty Chem",20160909]
["ADAP-APS00011060","APS00011060-1002M00220","APS00011060-Ingevity Corporation - North Charleston, SC","1002M00220-Anti-Strip Additive-Evotherm T1 - MWV Specialty Chem","APS00011060","Ingevity Corporation - North Charleston, SC","1002M00220","ADAP","Anti-Strip Additive","Evotherm T1 - MWV Specialty Chem",20490101]
["ADAP-APS00011060","APS00011060-1002M00220","APS00011060-Ingevity Corporation - North Charleston, SC","1002M00220-Anti-Strip Additive-Morlife 2200 - MWV SpecialtyChem","APS00011060","Ingevity Corporation - North Charleston, SC","1002M00220","ADAP","Anti-Strip Additive","Morlife 2200 - MWV SpecialtyChem",20490101]
["ADAP-APS00011060","APS00011060-1002M00220","APS00011060-Ingevity Corporation - North Charleston, SC","1002M00220-Anti-Strip Additive-Morlife 300 - MWV SpecialtyChem","APS00011060","Ingevity Corporation - North Charleston, SC","1002M00220","ADAP","Anti-Strip Additive","Morlife 300 - MWV SpecialtyChem",20490101]
["ADAP-APS00011060","APS00011060-1002M00220","APS00011060-Ingevity Corporation - North Charleston, SC","1002M00220-Anti-Strip Additive-Morlife 3300 - MWV SpecialtyChem","APS00011060","Ingevity Corporation - North Charleston, SC","1002M00220","ADAP","Anti-Strip Additive","Morlife 3300 - MWV SpecialtyChem",20490101]
["ADAP-APS00011060","APS00011060-1002M00220","APS00011060-Ingevity Corporation - North Charleston, SC","1002M00220-Anti-Strip Additive-Morlife 4400 - MWV SpecialtyChem","APS00011060","Ingevity Corporation - North Charleston, SC","1002M00220","ADAP","Anti-Strip Additive","Morlife 4400 - MWV SpecialtyChem",20130228]
["ADAP-APS00011060","APS00011060-1002M00220","APS00011060-Ingevity Corporation - North Charleston, SC","1002M00220-Anti-Strip Additive-Morlife 5000 - MWV SpecialtyChem","APS00011060","Ingevity Corporation - North Charleston, SC","1002M00220","ADAP","Anti-Strip Additive","Morlife 5000 - MWV SpecialtyChem",20490101]
["ADAP-APS00011060","APS00011060-1002M00220","APS00011060-Ingevity Corporation - North Charleston, SC","1002M00220-Anti-Strip Additive-Pave 192 - MWV SpecialtyChem","APS00011060","Ingevity Corporation - North Charleston, SC","1002M00220","ADAP","Anti-Strip Additive","Pave 192 - MWV SpecialtyChem",20490101]
["ADAP-APS00011060","APS00011060-1002M00220","APS00011060-Ingevity Corporation - North Charleston, SC","1002M00220-Anti-Strip Additive-Pave Bond Lite - MWV SpecialtyChem","APS00011060","Ingevity Corporation - North Charleston, SC","1002M00220","ADAP","Anti-Strip Additive","Pave Bond Lite - MWV SpecialtyChem",20490101]
["ADAP-APS00011060","APS00011060-1002M00270","APS00011060-Ingevity Corporation - North Charleston, SC","1002M00270-Warm Mix Asphalt Chemical Additive-Evotherm 3G- Ingevity Corp-Charleston","APS00011060","Ingevity Corporation - North Charleston, SC","1002M00270","ADAP","Warm Mix Asphalt Chemical Additive","Evotherm 3G- Ingevity Corp-Charleston",20490101]
["ADAP-APS00011510","APS00011510-1002M00220","APS00011510-Zydex, Inc. - Morrisville, NC","1002M00220-Anti-Strip Additive-ZycoTherm - Zydex, Inc.","APS00011510","Zydex, Inc. - Morrisville, NC","1002M00220","ADAP","Anti-Strip Additive","ZycoTherm - Zydex, Inc.",20180919]
["ADAP-APS00011510","APS00011510-1002M00220","APS00011510-Zydex, Inc. - Morrisville, NC","1002M00220-Anti-Strip Additive-ZycoTherm SP2 - Zydex, Inc.","APS00011510","Zydex, Inc. - Morrisville, NC","1002M00220","ADAP","Anti-Strip Additive","ZycoTherm SP2 - Zydex, Inc.",20490101]
["ADAP-APS00011510","APS00011510-1002M00220","APS00011510-Zydex, Inc. - Morrisville, NC","1002M00220-Anti-Strip Additive-ZycoTherm-EZ - Zydex,, Inc","APS00011510","Zydex, Inc. - Morrisville, NC","1002M00220","ADAP","Anti-Strip Additive","ZycoTherm-EZ - Zydex,, Inc",20490101]
["ADAP-APS00011510","APS00011510-1002M00220","APS00011510-Zydex, Inc. - Morrisville, NC","1002M00220-Anti-Strip Additive-ZycoTherm-SP - Zydex, Inc","APS00011510","Zydex, Inc. - Morrisville, NC","1002M00220","ADAP","Anti-Strip Additive","ZycoTherm-SP - Zydex, Inc",20490101]
["ADAP-APS00011510","APS00011510-1002M00220","APS00011510-Zydex, Inc. - Morrisville, NC","1002M00220-Anti-Strip Additive-Zycosoil - Zydex, Inc.","APS00011510","Zydex, Inc. - Morrisville, NC","1002M00220","ADAP","Anti-Strip Additive","Zycosoil - Zydex, Inc.",20490101]
["ADAP-APS00011670","APS00011670-1002M00220","APS00011670-Maxxchem, LLC - East Point, GA","1002M00220-Anti-Strip Additive-Kohere AS 1000 - Maxxchem, LLC","APS00011670","Maxxchem, LLC - East Point, GA","1002M00220","ADAP","Anti-Strip Additive","Kohere AS 1000 - Maxxchem, LLC",20490101]
["ADAP-APS00011670","APS00011670-1002M00220","APS00011670-Maxxchem, LLC - East Point, GA","1002M00220-Anti-Strip Additive-Kohere AS 700 - Maxxchem, LLC","APS00011670","Maxxchem, LLC - East Point, GA","1002M00220","ADAP","Anti-Strip Additive","Kohere AS 700 - Maxxchem, LLC",20490101]
["ADAP-APS00011670","APS00011670-1002M00220","APS00011670-Maxxchem, LLC - East Point, GA","1002M00220-Anti-Strip Additive-Kohere AT 1000 - Maxxchem, LLC","APS00011670","Maxxchem, LLC - East Point, GA","1002M00220","ADAP","Anti-Strip Additive","Kohere AT 1000 - Maxxchem, LLC",20490101]
["ADAP-APS00012210","APS00012210-1002M00270","APS00012210-PQ Corporation - Valley Forge, PA","1002M00270-Warm Mix Asphalt Chemical Additive-Advera WMA - PQ Corp-Valley Forge, PA","APS00012210","PQ Corporation - Valley Forge, PA","1002M00270","ADAP","Warm Mix Asphalt Chemical Additive","Advera WMA - PQ Corp-Valley Forge, PA",20490101]
["ADAP-APS00012220","APS00012220-1002M00270","APS00012220-ASPHA-MIN - Charlotte, NC","1002M00270-Warm Mix Asphalt Chemical Additive-Aspha-min - ASPHA MIN-Charlotte, NC","APS00012220","ASPHA-MIN - Charlotte, NC","1002M00270","ADAP","Warm Mix Asphalt Chemical Additive","Aspha-min - ASPHA MIN-Charlotte, NC",20490101]
["ADAP-APS00012240","APS00012240-1002M00270","APS00012240-Sasol Wax North America Corp - Hiram, GA","1002M00270-Warm Mix Asphalt Chemical Additive-Sasobit -Sasol Wax N. America Corp-Hiram","APS00012240","Sasol Wax North America Corp - Hiram, GA","1002M00270","ADAP","Warm Mix Asphalt Chemical Additive","Sasobit -Sasol Wax N. America Corp-Hiram",20490101]
["ADAP-APS00012410","APS00012410-1002M00220","APS00012410-Cargill - Chicago, IL","1002M00220-Anti-Strip Additive-Anova 1410 - Cargill","APS00012410","Cargill - Chicago, IL","1002M00220","ADAP","Anti-Strip Additive","Anova 1410 - Cargill",20490101]
["ADAP-APS00012690","APS00012690-1002M00220","APS00012690-Surfax S.A.de C.V. - Tlajomulco, Jalisco","1002M00220-Anti-Strip Additive-Surfax AS-500 - Surfax S.A. de C.V","APS00012690","Surfax S.A.de C.V. - Tlajomulco, Jalisco","1002M00220","ADAP","Anti-Strip Additive","Surfax AS-500 - Surfax S.A. de C.V",20490101]
["ADAP-APS00012750","APS00012750-1002M00220","APS00012750-Road Science, Division of ArrMaz - Mulberry, FL","1002M00220-Anti-Strip Additive-NovaGrip 1016 - Road Science ArrMaz","APS00012750","Road Science, Division of ArrMaz - Mulberry, FL","1002M00220","ADAP","Anti-Strip Additive","NovaGrip 1016 - Road Science ArrMaz",20210824]
["ADAP-APS00012750","APS00012750-1002M00220","APS00012750-Road Science, Division of ArrMaz - Mulberry, FL","1002M00220-Anti-Strip Additive-NovaGrip 1212 - Road Science ArrMaz","APS00012750","Road Science, Division of ArrMaz - Mulberry, FL","1002M00220","ADAP","Anti-Strip Additive","NovaGrip 1212 - Road Science ArrMaz",20490101]
["ADAP-APS00014510","APS00014510-1002M00220","APS00014510-Nouryon - Chicago, IL","1002M00220-Anti-Strip Additive-Kling Beta 2550 (HM) - Nouryon","APS00014510","Nouryon - Chicago, IL","1002M00220","ADAP","Anti-Strip Additive","Kling Beta 2550 (HM) - Nouryon",20490101]
["ADAP-APS00014510","APS00014510-1002M00220","APS00014510-Nouryon - Chicago, IL","1002M00220-Anti-Strip Additive-Kling Beta 2700 - Nouryon","APS00014510","Nouryon - Chicago, IL","1002M00220","ADAP","Anti-Strip Additive","Kling Beta 2700 - Nouryon",20490101]
["ADAP-APS00014510","APS00014510-1002M00220","APS00014510-Nouryon - Chicago, IL","1002M00220-Anti-Strip Additive-Kling Beta 2912 - Nouryon","APS00014510","Nouryon - Chicago, IL","1002M00220","ADAP","Anti-Strip Additive","Kling Beta 2912 - Nouryon",20490101]
["ADAP-APS00014510","APS00014510-1002M00220","APS00014510-Nouryon - Chicago, IL","1002M00220-Anti-Strip Additive-Perma-Tac 99 - Nouryon","APS00014510","Nouryon - Chicago, IL","1002M00220","ADAP","Anti-Strip Additive","Perma-Tac 99 - Nouryon",20490101]
["ADAP-APS00014510","APS00014510-1002M00220","APS00014510-Nouryon - Chicago, IL","1002M00220-Anti-Strip Additive-Perma-Tac 99-5 - Nouryon","APS00014510","Nouryon - Chicago, IL","1002M00220","ADAP","Anti-Strip Additive","Perma-Tac 99-5 - Nouryon",20490101]
["ADAP-APS00014510","APS00014510-1002M00220","APS00014510-Nouryon - Chicago, IL","1002M00220-Anti-Strip Additive-Redicote 82S-1 - Nouryon","APS00014510","Nouryon - Chicago, IL","1002M00220","ADAP","Anti-Strip Additive","Redicote 82S-1 - Nouryon",20490101]
["ADAP-APS00014510","APS00014510-1002M00220","APS00014510-Nouryon - Chicago, IL","1002M00220-Anti-Strip Additive-Redicote E-6 - Nouryon","APS00014510","Nouryon - Chicago, IL","1002M00220","ADAP","Anti-Strip Additive","Redicote E-6 - Nouryon",20490101]
["ADAP-APS00014510","APS00014510-1002M00220","APS00014510-Nouryon - Chicago, IL","1002M00220-Anti-Strip Additive-Rediset 1102C- Nouryon","APS00014510","Nouryon - Chicago, IL","1002M00220","ADAP","Anti-Strip Additive","Rediset 1102C- Nouryon",20210513]
["ADAP-APS00014510","APS00014510-1002M00220","APS00014510-Nouryon - Chicago, IL","1002M00220-Anti-Strip Additive-Rediset LQ-1200- Nouryon","APS00014510","Nouryon - Chicago, IL","1002M00220","ADAP","Anti-Strip Additive","Rediset LQ-1200- Nouryon",20210522]
["ADAP-APS00014510","APS00014510-1002M00220","APS00014510-Nouryon - Chicago, IL","1002M00220-Anti-Strip Additive-Rediset LQ1106 - Nouryon","APS00014510","Nouryon - Chicago, IL","1002M00220","ADAP","Anti-Strip Additive","Rediset LQ1106 - Nouryon",20490101]
["ADAP-APS00014510","APS00014510-1002M00220","APS00014510-Nouryon - Chicago, IL","1002M00220-Anti-Strip Additive-Wetfix 312 - Nouryon","APS00014510","Nouryon - Chicago, IL","1002M00220","ADAP","Anti-Strip Additive","Wetfix 312 - Nouryon",20490101]
["ADAP-APS00014510","APS00014510-1002M00270","APS00014510-Nouryon - Chicago, IL","1002M00270-Warm Mix Asphalt Chemical Additive-Rediset WMX - Nouryon","APS00014510","Nouryon - Chicago, IL","1002M00270","ADAP","Warm Mix Asphalt Chemical Additive","Rediset WMX - Nouryon",20490101]
["ADAP-APS00014940","APS00014940-1002M00220","APS00014940-Arkema-Road Science - Convent","1002M00220-Anti-Strip Additive-AD-Here Ultra P - Arkema-Road Science","APS00014940","Arkema-Road Science - Convent","1002M00220","ADAP","Anti-Strip Additive","AD-Here Ultra P - Arkema-Road Science",20490101]
[{"$f":"H67&\"-\"&E67","v":"ADAP-APS00014940"},{"$f":"E67&\"-\"&G67","v":"APS00014940-1002M00220"},{"$f":"E67&\"-\"&F67","v":"APS00014940-Arkema-Road Science - Convent"},{"$f":"G67&\"-\"&I67&IF(J67<>\"\", \"-\"&J67, \"\")","v":"1002M00220-Anti-Strip Additive-Ad-Her 62-40 - Arkema-Road Science "},"APS00014940","Arkema-Road Science - Convent","1002M00220","ADAP","Anti-Strip Additive","Ad-Her 62-40 - Arkema-Road Science ",20490101]
["ADAP-APS00014940","APS00014940-1002M00220","APS00014940-Arkema-Road Science - Convent","1002M00220-Anti-Strip Additive-Ad-Here HP Plus - Arkema-Road Science","APS00014940","Arkema-Road Science - Convent","1002M00220","ADAP","Anti-Strip Additive","Ad-Here HP Plus - Arkema-Road Science",20490101]
["ADAP-APS00014940","APS00014940-1002M00220","APS00014940-Arkema-Road Science - Convent","1002M00220-Anti-Strip Additive-Ad-Here LA - Arkema-Road Science","APS00014940","Arkema-Road Science - Convent","1002M00220","ADAP","Anti-Strip Additive","Ad-Here LA - Arkema-Road Science",20490101]
["ADAP-APS00014940","APS00014940-1002M00220","APS00014940-Arkema-Road Science - Convent","1002M00220-Anti-Strip Additive-Ad-Here LA 2 - Arkema-Road Science","APS00014940","Arkema-Road Science - Convent","1002M00220","ADAP","Anti-Strip Additive","Ad-Here LA 2 - Arkema-Road Science",20490101]
["ADAP-APS00014940","APS00014940-1002M00220","APS00014940-Arkema-Road Science - Convent","1002M00220-Anti-Strip Additive-Ad-Here LOF 65-00LS -Arkema-Road Science","APS00014940","Arkema-Road Science - Convent","1002M00220","ADAP","Anti-Strip Additive","Ad-Here LOF 65-00LS -Arkema-Road Science",20490101]
["ADAP-APS00014940","APS00014940-1002M00220","APS00014940-Arkema-Road Science - Convent","1002M00220-Anti-Strip Additive-Ad-Here LOF-65-00 - Arkema-Road Science","APS00014940","Arkema-Road Science - Convent","1002M00220","ADAP","Anti-Strip Additive","Ad-Here LOF-65-00 - Arkema-Road Science",20490101]
["ADAP-PS00000520","PS00000520-1002M00230","PS00000520-Contractor Supplied","1002M00230-Cellulose Fibers","PS00000520","Contractor Supplied","1002M00230","ADAP","Cellulose Fibers"]
["ADAP-PS00000520","PS00000520-1002M00240","PS00000520-Contractor Supplied","1002M00240-Mineral Fibers","PS00000520","Contractor Supplied","1002M00240","ADAP","Mineral Fibers"]
["ADAP-PS00000520","PS00000520-1002M00290","PS00000520-Contractor Supplied","1002M00290-Waste Tire Crumb Rubber","PS00000520","Contractor Supplied","1002M00290","ADAP","Waste Tire Crumb Rubber"]
["ADAP-PS00000520","PS00000520-1002M00300","PS00000520-Contractor Supplied","1002M00300-Latex Additive","PS00000520","Contractor Supplied","1002M00300","ADAP","Latex Additive"]
["ADAP-PS00004680","PS00004680-1002M00230","PS00004680-Hi-Tech Asphalt Solutions, Inc. - Mechanicsville, ","1002M00230-Cellulose Fibers","PS00004680","Hi-Tech Asphalt Solutions, Inc. - Mechanicsville, ","1002M00230","ADAP","Cellulose Fibers"]
["ADAP-PS00004710","PS00004710-1002M00300","PS00004710-BASF Corp - Dispersants and Pigments - Charlotte","1002M00300-Latex Additive","PS00004710","BASF Corp - Dispersants and Pigments - Charlotte","1002M00300","ADAP","Latex Additive"]
["ADAP-PS00004720","PS00004720-1002M00290","PS00004720-Genan, Inc. - Houston, TX","1002M00290-Waste Tire Crumb Rubber","PS00004720","Genan, Inc. - Houston, TX","1002M00290","ADAP","Waste Tire Crumb Rubber"]
["ADAP-PS00005130","PS00005130-1002M00290","PS00005130-Lehigh Technologies - Tucker, GA","1002M00290-Waste Tire Crumb Rubber-MicroDyne 400-TR","PS00005130","Lehigh Technologies - Tucker, GA","1002M00290","ADAP","Waste Tire Crumb Rubber","MicroDyne 400-TR",20490101]
["ADAP-PS00005130","PS00005130-1002M00290","PS00005130-Lehigh Technologies - Tucker, GA","1002M00290-Waste Tire Crumb Rubber-MicroDyne 400-TRXP","PS00005130","Lehigh Technologies - Tucker, GA","1002M00290","ADAP","Waste Tire Crumb Rubber","MicroDyne 400-TRXP",20490101]
["ADAP-PS00005160","PS00005160-1002M00290","PS00005160-EVR International - Vidalia","1002M00290-Waste Tire Crumb Rubber-EVR 535 - EVR International","PS00005160","EVR International - Vidalia","1002M00290","ADAP","Waste Tire Crumb Rubber","EVR 535 - EVR International",20490101]
["ADAP-PS00013630","PS00013630-1002M00230","PS00013630-Iterchimica Srl","1002M00230-Cellulose Fibers-Iterfibra C Plus","PS00013630","Iterchimica Srl","1002M00230","ADAP","Cellulose Fibers","Iterfibra C Plus",20490101]
["AGGR-APS00001930","APS00001930-1018M00130","APS00001930-Mississippi Lime Company - St. Genevieve, MO","1018M00130-Lime, Hydrated-Hydrated Lime Mississippi Lime","APS00001930","Mississippi Lime Company - St. Genevieve, MO","1018M00130","AGGR","Lime, Hydrated","Hydrated Lime Mississippi Lime",20490101]
["AGGR-APS00001940","APS00001940-1003M01800","APS00001940-National Cement Company - Pell City, AL","1003M01800-Mineral Filler for AsphConc-MinFiller AspConc National Cement Co","APS00001940","National Cement Company - Pell City, AL","1003M01800","AGGR","Mineral Filler for AsphConc","MinFiller AspConc National Cement Co",20490101]
["AGGR-APS00002200","APS00002200-1003M00110","APS00002200-Bear Industries - Port Allen, LA","1003M00110-Agg, Fine  - HMAC-FnSandHMAC Bear Industries-Port Allen","APS00002200","Bear Industries - Port Allen, LA","1003M00110","AGGR","Agg, Fine  - HMAC","FnSandHMAC Bear Industries-Port Allen",20490101]
["AGGR-APS00004890","APS00004890-1018M00130","APS00004890-Lhoist North America  - New BraunfelsTX","1018M00130-Lime, Hydrated-Hydrated Lime - Lhoist N.A. New Braunfel","APS00004890","Lhoist North America  - New BraunfelsTX","1018M00130","AGGR","Lime, Hydrated","Hydrated Lime - Lhoist N.A. New Braunfel",20490101]
["AGGR-APS00004900","APS00004900-1018M00130","APS00004900-Arkansas Lime Company - Batesville, AR","1018M00130-Lime, Hydrated-Hydrated Lime - Arkansas Lime Co","APS00004900","Arkansas Lime Company - Batesville, AR","1018M00130","AGGR","Lime, Hydrated","Hydrated Lime - Arkansas Lime Co",20490101]
["AGGR-APS00004910","APS00004910-1018M00130","APS00004910-Austin White Lime Company - Austin, TX","1018M00130-Lime, Hydrated-Hydrated Lime - Austin White Lime Co.","APS00004910","Austin White Lime Company - Austin, TX","1018M00130","AGGR","Lime, Hydrated","Hydrated Lime - Austin White Lime Co.",20490101]
["AGGR-APS00004920","APS00004920-1018M00130","APS00004920-Carmeuse Lime and Stone - Baton Rouge, LA","1018M00130-Lime, Hydrated-Hydrated Lime - Carmeuse Baton Rouge","APS00004920","Carmeuse Lime and Stone - Baton Rouge, LA","1018M00130","AGGR","Lime, Hydrated","Hydrated Lime - Carmeuse Baton Rouge",20490101]
["AGGR-APS00004940","APS00004940-1018M00130","APS00004940-Lhoist North America - Clifton, TX","1018M00130-Lime, Hydrated-Hydrated Lime - Lhoist N.A. CliftonTX","APS00004940","Lhoist North America - Clifton, TX","1018M00130","AGGR","Lime, Hydrated","Hydrated Lime - Lhoist N.A. CliftonTX",20490101]
["AGGR-APS00004970","APS00004970-1018M00130","APS00004970-Falco Lime, Inc. - Vicksburg, MS","1018M00130-Lime, Hydrated-Hydrated Lime Falco/Chemical Lime","APS00004970","Falco Lime, Inc. - Vicksburg, MS","1018M00130","AGGR","Lime, Hydrated","Hydrated Lime Falco/Chemical Lime",20490101]
["AGGR-APS00004990","APS00004990-1003M01800","APS00004990-Texas Lime Company - Cleburne, TX","1003M01800-Mineral Filler for AsphConc-MinFiller AspConc Texas Lime Co","APS00004990","Texas Lime Company - Cleburne, TX","1003M01800","AGGR","Mineral Filler for AsphConc","MinFiller AspConc Texas Lime Co",20490101]
["AGGR-APS00004990","APS00004990-1018M00130","APS00004990-Texas Lime Company - Cleburne, TX","1018M00130-Lime, Hydrated-Hydrated Lime - Texas Lime","APS00004990","Texas Lime Company - Cleburne, TX","1018M00130","AGGR","Lime, Hydrated","Hydrated Lime - Texas Lime",20490101]
["AGGR-APS00005000","APS00005000-1018M00130","APS00005000-U.S. Lime Company - Shreveport","1018M00130-Lime, Hydrated-Hydrated Lime - US Lime Shreveport","APS00005000","U.S. Lime Company - Shreveport","1018M00130","AGGR","Lime, Hydrated","Hydrated Lime - US Lime Shreveport",20490101]
["AGGR-APS00005700","APS00005700-1003M00110","APS00005700-Accardo Materials, Inc-Franklinton,LA","1003M00110-Agg, Fine  - HMAC-FnSandHMAC AccardoMatlsFranklinLA","APS00005700","Accardo Materials, Inc-Franklinton,LA","1003M00110","AGGR","Agg, Fine  - HMAC","FnSandHMAC AccardoMatlsFranklinLA",20490101]
["AGGR-APS00005700","APS00005700-1003M00120","APS00005700-Accardo Materials, Inc-Franklinton,LA","1003M00120-Agg, Coarse - HMAC-Agg, Coarse - HMAC Accardo Matls","APS00005700","Accardo Materials, Inc-Franklinton,LA","1003M00120","AGGR","Agg, Coarse - HMAC","Agg, Coarse - HMAC Accardo Matls",20490101]
["AGGR-APS00005710","APS00005710-1003M00110","APS00005710-Agrecasa Del Caribe-San Pedro Sula, HON","1003M00110-Agg, Fine  - HMAC-FnSandHMAC Agrecasa Del Caribe","APS00005710","Agrecasa Del Caribe-San Pedro Sula, HON","1003M00110","AGGR","Agg, Fine  - HMAC","FnSandHMAC Agrecasa Del Caribe",20490101]
["AGGR-APS00005710","APS00005710-1003M00110","APS00005710-Agrecasa Del Caribe-San Pedro Sula, HON","1003M00110-Agg, Fine  - HMAC-FnSandHMAC AgrecasaDelCaribeHON","APS00005710","Agrecasa Del Caribe-San Pedro Sula, HON","1003M00110","AGGR","Agg, Fine  - HMAC","FnSandHMAC AgrecasaDelCaribeHON",20150528]
["AGGR-APS00005710","APS00005710-1003M00120","APS00005710-Agrecasa Del Caribe-San Pedro Sula, HON","1003M00120-Agg, Coarse - HMAC-Agg, Coarse - HMAC - AgrecasaDelCaribe","APS00005710","Agrecasa Del Caribe-San Pedro Sula, HON","1003M00120","AGGR","Agg, Coarse - HMAC","Agg, Coarse - HMAC - AgrecasaDelCaribe",20490101]
["AGGR-APS00005730","APS00005730-1003M00110","APS00005730-Alabama Sand and Gravel-Prattville, AL","1003M00110-Agg, Fine  - HMAC-FnSandHMAC AlabamaSandGrvlPrattvil","APS00005730","Alabama Sand and Gravel-Prattville, AL","1003M00110","AGGR","Agg, Fine  - HMAC","FnSandHMAC AlabamaSandGrvlPrattvil",20490101]
["AGGR-APS00005730","APS00005730-1003M00120","APS00005730-Alabama Sand and Gravel-Prattville, AL","1003M00120-Agg, Coarse - HMAC-Agg, Coarse - HMAC - Alabama S&G","APS00005730","Alabama Sand and Gravel-Prattville, AL","1003M00120","AGGR","Agg, Coarse - HMAC","Agg, Coarse - HMAC - Alabama S&G",20490101]
["AGGR-APS00005740","APS00005740-1003M00110","APS00005740-Alliance Sand and Gravel, LLC-Phil Campbell, AL","1003M00110-Agg, Fine  - HMAC-FnSandHMAC AllianceSndGrvlPhilCampbell","APS00005740","Alliance Sand and Gravel, LLC-Phil Campbell, AL","1003M00110","AGGR","Agg, Fine  - HMAC","FnSandHMAC AllianceSndGrvlPhilCampbell",20490101]
["AGGR-APS00005750","APS00005750-1003M00110","APS00005750-Allstate Deatsville, LLC-Deatsville, AL","1003M00110-Agg, Fine  - HMAC-FnSandHMAC AllstateDeatsvilleAL","APS00005750","Allstate Deatsville, LLC-Deatsville, AL","1003M00110","AGGR","Agg, Fine  - HMAC","FnSandHMAC AllstateDeatsvilleAL",20490101]
["AGGR-APS00005770","APS00005770-1003M00110","APS00005770-APAC - Brickey's Stone-Bloomsdale, MO - Burlington","1003M00110-Agg, Fine  - HMAC-FnSandHMAC APAC-Brickeys Stn Burlington","APS00005770","APAC - Brickey's Stone-Bloomsdale, MO - Burlington","1003M00110","AGGR","Agg, Fine  - HMAC","FnSandHMAC APAC-Brickeys Stn Burlington",20150528]
["AGGR-APS00005770","APS00005770-1003M00110","APS00005770-APAC - Brickey's Stone-Bloomsdale, MO - Burlington","1003M00110-Agg, Fine  - HMAC-FnSandHMAC APACBrickey'sStone Burlington","APS00005770","APAC - Brickey's Stone-Bloomsdale, MO - Burlington","1003M00110","AGGR","Agg, Fine  - HMAC","FnSandHMAC APACBrickey'sStone Burlington",20490101]
["AGGR-APS00005770","APS00005770-1003M00120","APS00005770-APAC - Brickey's Stone-Bloomsdale, MO - Burlington","1003M00120-Agg, Coarse - HMAC-Agg-CoarseHMAC - APAC Brickey's Stone","APS00005770","APAC - Brickey's Stone-Bloomsdale, MO - Burlington","1003M00120","AGGR","Agg, Coarse - HMAC","Agg-CoarseHMAC - APAC Brickey's Stone",20490101]
["AGGR-APS00005780","APS00005780-1003M00110","APS00005780-Arkansas Gravel Company, Inc.-Hampton, AR","1003M00110-Agg, Fine  - HMAC-FnSandHMAC ArkansasGravel-Hampton,AR","APS00005780","Arkansas Gravel Company, Inc.-Hampton, AR","1003M00110","AGGR","Agg, Fine  - HMAC","FnSandHMAC ArkansasGravel-Hampton,AR",20490101]
["AGGR-APS00005780","APS00005780-1003M00120","APS00005780-Arkansas Gravel Company, Inc.-Hampton, AR","1003M00120-Agg, Coarse - HMAC-Agg, Coarse - HMAC Arkansas Gravel Co","APS00005780","Arkansas Gravel Company, Inc.-Hampton, AR","1003M00120","AGGR","Agg, Coarse - HMAC","Agg, Coarse - HMAC Arkansas Gravel Co",20490101]
["AGGR-APS00005790","APS00005790-1003M00110","APS00005790-B & B Gravel & Trucking Co.-Bearden, AR","1003M00110-Agg, Fine  - HMAC-FnSandHMAC B&BTruckingBeardenAR","APS00005790","B & B Gravel & Trucking Co.-Bearden, AR","1003M00110","AGGR","Agg, Fine  - HMAC","FnSandHMAC B&BTruckingBeardenAR",20490101]
["AGGR-APS00005790","APS00005790-1003M00120","APS00005790-B & B Gravel & Trucking Co.-Bearden, AR","1003M00120-Agg, Coarse - HMAC-Agg, Coarse - HMAC B & B Grav&Trucking","APS00005790","B & B Gravel & Trucking Co.-Bearden, AR","1003M00120","AGGR","Agg, Coarse - HMAC","Agg, Coarse - HMAC B & B Grav&Trucking",20490101]
["AGGR-APS00005830","APS00005830-1003M00110","APS00005830-Baldwin Sand & Gravel-Crystal Springs,MS","1003M00110-Agg, Fine  - HMAC-FnSandHMAC BaldwinSandGrvlCrystalSpr","APS00005830","Baldwin Sand & Gravel-Crystal Springs,MS","1003M00110","AGGR","Agg, Fine  - HMAC","FnSandHMAC BaldwinSandGrvlCrystalSpr",20490101]
["AGGR-APS00005830","APS00005830-1003M00120","APS00005830-Baldwin Sand & Gravel-Crystal Springs,MS","1003M00120-Agg, Coarse - HMAC-Agg, Coarse - HMAC Baldwin S&G CrySprgs","APS00005830","Baldwin Sand & Gravel-Crystal Springs,MS","1003M00120","AGGR","Agg, Coarse - HMAC","Agg, Coarse - HMAC Baldwin S&G CrySprgs",20490101]
["AGGR-APS00005870","APS00005870-1003M00110","APS00005870-Bass Sand & Gravel-Bogalusa, LA","1003M00110-Agg, Fine  - HMAC-FnSandHMAC BassSandGravelBogalusa","APS00005870","Bass Sand & Gravel-Bogalusa, LA","1003M00110","AGGR","Agg, Fine  - HMAC","FnSandHMAC BassSandGravelBogalusa",20490101]
["AGGR-APS00005870","APS00005870-1003M00120","APS00005870-Bass Sand & Gravel-Bogalusa, LA","1003M00120-Agg, Coarse - HMAC-Agg, Coarse - HMAC - Bass S & G","APS00005870","Bass Sand & Gravel-Bogalusa, LA","1003M00120","AGGR","Agg, Coarse - HMAC","Agg, Coarse - HMAC - Bass S & G",20490101]
["AGGR-APS00005920","APS00005920-1003M00110","APS00005920-Blackwell Aggregates, Inc.-Nicholson, MS","1003M00110-Agg, Fine  - HMAC-FnSandHMAC BlackwellAggJacksonLanding","APS00005920","Blackwell Aggregates, Inc.-Nicholson, MS","1003M00110","AGGR","Agg, Fine  - HMAC","FnSandHMAC BlackwellAggJacksonLanding",20490101]
["AGGR-APS00005920","APS00005920-1003M00120","APS00005920-Blackwell Aggregates, Inc.-Nicholson, MS","1003M00120-Agg, Coarse - HMAC-Agg, Coarse HMAC Blackwell Agg Jackson","APS00005920","Blackwell Aggregates, Inc.-Nicholson, MS","1003M00120","AGGR","Agg, Coarse - HMAC","Agg, Coarse HMAC Blackwell Agg Jackson",20490101]
["AGGR-APS00005930","APS00005930-1003M00110","APS00005930-Blain Sand & Gravel, Inc.-Natchez, MS","1003M00110-Agg, Fine  - HMAC-FnSandHMAC BlainSandGravelCloverhill","APS00005930","Blain Sand & Gravel, Inc.-Natchez, MS","1003M00110","AGGR","Agg, Fine  - HMAC","FnSandHMAC BlainSandGravelCloverhill",20490101]
["AGGR-APS00005930","APS00005930-1003M00120","APS00005930-Blain Sand & Gravel, Inc.-Natchez, MS","1003M00120-Agg, Coarse - HMAC-Agg, Coarse - HMAC - BlainSand&Grav","APS00005930","Blain Sand & Gravel, Inc.-Natchez, MS","1003M00120","AGGR","Agg, Coarse - HMAC","Agg, Coarse - HMAC - BlainSand&Grav",20490101]
["AGGR-APS00005940","APS00005940-1003M00110","APS00005940-Blain Sand & Gravel, Inc.-Crystal Springs, MS","1003M00110-Agg, Fine  - HMAC-FnSandHMAC BlainSandGrvlCrystalSprings","APS00005940","Blain Sand & Gravel, Inc.-Crystal Springs, MS","1003M00110","AGGR","Agg, Fine  - HMAC","FnSandHMAC BlainSandGrvlCrystalSprings",20490101]
["AGGR-APS00005940","APS00005940-1003M00120","APS00005940-Blain Sand & Gravel, Inc.-Crystal Springs, MS","1003M00120-Agg, Coarse - HMAC-Agg, Coarse HMAC Blain Sand&Gravel","APS00005940","Blain Sand & Gravel, Inc.-Crystal Springs, MS","1003M00120","AGGR","Agg, Coarse - HMAC","Agg, Coarse HMAC Blain Sand&Gravel",20490101]
["AGGR-APS00005950","APS00005950-1003M00110","APS00005950-Bunch Sand and Gravel #1 - Clinton, LA","1003M00110-Agg, Fine  - HMAC-FnSandHMAC Bunch Gravel  #1 Clinton","APS00005950","Bunch Sand and Gravel #1 - Clinton, LA","1003M00110","AGGR","Agg, Fine  - HMAC","FnSandHMAC Bunch Gravel  #1 Clinton",20490101]
["AGGR-APS00005950","APS00005950-1003M00120","APS00005950-Bunch Sand and Gravel #1 - Clinton, LA","1003M00120-Agg, Coarse - HMAC-Agg, Coarse - HMAC - Bunch's Gravel","APS00005950","Bunch Sand and Gravel #1 - Clinton, LA","1003M00120","AGGR","Agg, Coarse - HMAC","Agg, Coarse - HMAC - Bunch's Gravel",20490101]
["AGGR-APS00005960","APS00005960-1003M00110","APS00005960-Winn Materials of Kentucky-Grand Rivers,KY-StLouis","1003M00110-Agg, Fine  - HMAC-FnSandHMAC CalxResourcesGrandRivers","APS00005960","Winn Materials of Kentucky-Grand Rivers,KY-StLouis","1003M00110","AGGR","Agg, Fine  - HMAC","FnSandHMAC CalxResourcesGrandRivers",20160804]
["AGGR-APS00005960","APS00005960-1003M00110","APS00005960-Winn Materials of Kentucky-Grand Rivers,KY-StLouis","1003M00110-Agg, Fine  - HMAC-FnSandHMAC Winn Matls of KY ChaudetCreek","APS00005960","Winn Materials of Kentucky-Grand Rivers,KY-StLouis","1003M00110","AGGR","Agg, Fine  - HMAC","FnSandHMAC Winn Matls of KY ChaudetCreek",20490101]
["AGGR-APS00005960","APS00005960-1003M00120","APS00005960-Winn Materials of Kentucky-Grand Rivers,KY-StLouis","1003M00120-Agg, Coarse - HMAC-Agg-CoarseHMAC - Winn Matls of KY","APS00005960","Winn Materials of Kentucky-Grand Rivers,KY-StLouis","1003M00120","AGGR","Agg, Coarse - HMAC","Agg-CoarseHMAC - Winn Matls of KY",20490101]
["AGGR-APS00005970","APS00005970-1003M00110","APS00005970-Oldcastle Materials - Burnet, TX","1003M00110-Agg, Fine  - HMAC-FnSandHMAC Capital Aggs Marble Falls","APS00005970","Oldcastle Materials - Burnet, TX","1003M00110","AGGR","Agg, Fine  - HMAC","FnSandHMAC Capital Aggs Marble Falls",20490101]
["AGGR-APS00005970","APS00005970-1003M00110","APS00005970-Oldcastle Materials - Burnet, TX","1003M00110-Agg, Fine  - HMAC-FnSandHMAC CapitalAggMarbleFalls","APS00005970","Oldcastle Materials - Burnet, TX","1003M00110","AGGR","Agg, Fine  - HMAC","FnSandHMAC CapitalAggMarbleFalls",20150601]
["AGGR-APS00005970","APS00005970-1003M00120","APS00005970-Oldcastle Materials - Burnet, TX","1003M00120-Agg, Coarse - HMAC-Agg-CoarseHMAC -Capital Aggs MarbleFalls","APS00005970","Oldcastle Materials - Burnet, TX","1003M00120","AGGR","Agg, Coarse - HMAC","Agg-CoarseHMAC -Capital Aggs MarbleFalls",20490101]
["AGGR-APS00005990","APS00005990-1003M00110","APS00005990-Cash Sand & Gravel, Inc.-Denham Springs, LA","1003M00110-Agg, Fine  - HMAC-FnSandHMAC CashSand&GravelEasterly","APS00005990","Cash Sand & Gravel, Inc.-Denham Springs, LA","1003M00110","AGGR","Agg, Fine  - HMAC","FnSandHMAC CashSand&GravelEasterly",20490101]
[{"$f":"H131&\"-\"&E131","v":"AGGR-APS00005990"},{"$f":"E131&\"-\"&G131","v":"APS00005990-1003M00120"},{"$f":"E131&\"-\"&F131","v":"APS00005990-Cash Sand & Gravel, Inc.-Denham Springs, LA"},{"$f":"G131&\"-\"&I131&IF(J131<>\"\", \"-\"&J131, \"\")","v":"1003M00120-Agg, Coarse - HMAC-Agg, Coarse - HMAC Cash S & G (Easterly)"},"APS00005990","Cash Sand & Gravel, Inc.-Denham Springs, LA","1003M00120","AGGR","Agg, Coarse - HMAC","Agg, Coarse - HMAC Cash S & G (Easterly)",20490101]
["AGGR-APS00006000","APS00006000-1003M00110","APS00006000-Century Ready Mix-Monroe, LA","1003M00110-Agg, Fine  - HMAC-FnSandHMAC Century Redy Mix MonroeLA","APS00006000","Century Ready Mix-Monroe, LA","1003M00110","AGGR","Agg, Fine  - HMAC","FnSandHMAC Century Redy Mix MonroeLA",20490101]
["AGGR-APS00006030","APS00006030-1003M00110","APS00006030-Cossatot Rock, LLC-Lockesburg, AR","1003M00110-Agg, Fine  - HMAC-FnSandHMAC CossatotRockLockesburgAR","APS00006030","Cossatot Rock, LLC-Lockesburg, AR","1003M00110","AGGR","Agg, Fine  - HMAC","FnSandHMAC CossatotRockLockesburgAR",20490101]
["AGGR-APS00006030","APS00006030-1003M00120","APS00006030-Cossatot Rock, LLC-Lockesburg, AR","1003M00120-Agg, Coarse - HMAC-Agg, Coarse HMAC - Cossatot Materials","APS00006030","Cossatot Rock, LLC-Lockesburg, AR","1003M00120","AGGR","Agg, Coarse - HMAC","Agg, Coarse HMAC - Cossatot Materials",20490101]
["AGGR-APS00006060","APS00006060-1003M00110","APS00006060-Crawford Aggregate Industr-Pine Grove,LA - Jenkins","1003M00110-Agg, Fine  - HMAC-FnSandHMAC CrawfordAggJenkinsPineGrove","APS00006060","Crawford Aggregate Industr-Pine Grove,LA - Jenkins","1003M00110","AGGR","Agg, Fine  - HMAC","FnSandHMAC CrawfordAggJenkinsPineGrove",20490101]
["AGGR-APS00006060","APS00006060-1003M00120","APS00006060-Crawford Aggregate Industr-Pine Grove,LA - Jenkins","1003M00120-Agg, Coarse - HMAC-Agg, Coarse - HMAC Crawford Agg(Jenkins)","APS00006060","Crawford Aggregate Industr-Pine Grove,LA - Jenkins","1003M00120","AGGR","Agg, Coarse - HMAC","Agg, Coarse - HMAC Crawford Agg(Jenkins)",20490101]
["AGGR-APS00006080","APS00006080-1003M00110","APS00006080-Crystal Hill Quarry-North Little Rock, AR","1003M00110-Agg, Fine  - HMAC-FnSandHMAC Crystal HillQuarry GraniteMtn","APS00006080","Crystal Hill Quarry-North Little Rock, AR","1003M00110","AGGR","Agg, Fine  - HMAC","FnSandHMAC Crystal HillQuarry GraniteMtn",20490101]
["AGGR-APS00006080","APS00006080-1003M00110","APS00006080-Crystal Hill Quarry-North Little Rock, AR","1003M00110-Agg, Fine  - HMAC-FnSandHMAC CrystalHillNorthLittleRock","APS00006080","Crystal Hill Quarry-North Little Rock, AR","1003M00110","AGGR","Agg, Fine  - HMAC","FnSandHMAC CrystalHillNorthLittleRock",20150601]
["AGGR-APS00006080","APS00006080-1003M00120","APS00006080-Crystal Hill Quarry-North Little Rock, AR","1003M00120-Agg, Coarse - HMAC-Agg-CoarseHMAC -Crystal Hill Quary","APS00006080","Crystal Hill Quarry-North Little Rock, AR","1003M00120","AGGR","Agg, Coarse - HMAC","Agg-CoarseHMAC -Crystal Hill Quary",20490101]
["AGGR-APS00006100","APS00006100-1003M00110","APS00006100-Daley Sand & Gravel-Roseland,LA","1003M00110-Agg, Fine  - HMAC-FnSandHMAC DaleySandGravelRoseland","APS00006100","Daley Sand & Gravel-Roseland,LA","1003M00110","AGGR","Agg, Fine  - HMAC","FnSandHMAC DaleySandGravelRoseland",20490101]
["AGGR-APS00006100","APS00006100-1003M00120","APS00006100-Daley Sand & Gravel-Roseland,LA","1003M00120-Agg, Coarse - HMAC-Agg, Coarse - HMAC - Daley S&G(Roseland)","APS00006100","Daley Sand & Gravel-Roseland,LA","1003M00120","AGGR","Agg, Coarse - HMAC","Agg, Coarse - HMAC - Daley S&G(Roseland)",20490101]
["AGGR-APS00006110","APS00006110-1003M00110","APS00006110-Dickerson & Bowen Riverside Gravel-Tylertown, MS","1003M00110-Agg, Fine  - HMAC-FnSandHMAC DickersonBowenRiverside","APS00006110","Dickerson & Bowen Riverside Gravel-Tylertown, MS","1003M00110","AGGR","Agg, Fine  - HMAC","FnSandHMAC DickersonBowenRiverside",20490101]
["AGGR-APS00006110","APS00006110-1003M00120","APS00006110-Dickerson & Bowen Riverside Gravel-Tylertown, MS","1003M00120-Agg, Coarse - HMAC-Agg, Coarse HMAC - Dickerson&Bowen ","APS00006110","Dickerson & Bowen Riverside Gravel-Tylertown, MS","1003M00120","AGGR","Agg, Coarse - HMAC","Agg, Coarse HMAC - Dickerson&Bowen ",20490101]
["AGGR-APS00006120","APS00006120-1003M00110","APS00006120-3M Industrial Minerals Prods Div. - Little Rock,AR","1003M00110-Agg, Fine  - HMAC-FnSandHMAC DonnaFillLittleRockAR","APS00006120","3M Industrial Minerals Prods Div. - Little Rock,AR","1003M00110","AGGR","Agg, Fine  - HMAC","FnSandHMAC DonnaFillLittleRockAR",20210207]
["AGGR-APS00006120","APS00006120-1003M00120","APS00006120-3M Industrial Minerals Prods Div. - Little Rock,AR","1003M00120-Agg, Coarse - HMAC-Agg, Coarse - HMAC - Donna Fill, Inc.","APS00006120","3M Industrial Minerals Prods Div. - Little Rock,AR","1003M00120","AGGR","Agg, Coarse - HMAC","Agg, Coarse - HMAC - Donna Fill, Inc.",20210207]
["AGGR-APS00006120","APS00006120-1003M00120","APS00006120-3M Industrial Minerals Prods Div. - Little Rock,AR","1003M00120-Agg, Coarse - HMAC-Agg, Coarse - HMAC -Donna Fill, Inc","APS00006120","3M Industrial Minerals Prods Div. - Little Rock,AR","1003M00120","AGGR","Agg, Coarse - HMAC","Agg, Coarse - HMAC -Donna Fill, Inc",20210207]
["AGGR-APS00006130","APS00006130-1003M00110","APS00006130-DSD Energy Services-Oakdale, LA","1003M00110-Agg, Fine  - HMAC-FnSandHMAC DSDEnergyServicesOakdale","APS00006130","DSD Energy Services-Oakdale, LA","1003M00110","AGGR","Agg, Fine  - HMAC","FnSandHMAC DSDEnergyServicesOakdale",20490101]
["AGGR-APS00006160","APS00006160-1003M00110","APS00006160-Dupont Sand, LLC-Carencro, LA","1003M00110-Agg, Fine  - HMAC-FnSandHMAC DupontSandCarencroLA","APS00006160","Dupont Sand, LLC-Carencro, LA","1003M00110","AGGR","Agg, Fine  - HMAC","FnSandHMAC DupontSandCarencroLA",20490101]
["AGGR-APS00006170","APS00006170-1003M00110","APS00006170-Brownstone Sand & Gravel - Franklinton, LA","1003M00110-Agg, Fine  - HMAC-FnSandHMAC Brownstone S&GFranklinton","APS00006170","Brownstone Sand & Gravel - Franklinton, LA","1003M00110","AGGR","Agg, Fine  - HMAC","FnSandHMAC Brownstone S&GFranklinton",20490101]
["AGGR-APS00006170","APS00006170-1003M00110","APS00006170-Brownstone Sand & Gravel - Franklinton, LA","1003M00110-Agg, Fine  - HMAC-FnSandHMAC ENONSandGravelFranklinton","APS00006170","Brownstone Sand & Gravel - Franklinton, LA","1003M00110","AGGR","Agg, Fine  - HMAC","FnSandHMAC ENONSandGravelFranklinton",20190313]
["AGGR-APS00006170","APS00006170-1003M00120","APS00006170-Brownstone Sand & Gravel - Franklinton, LA","1003M00120-Agg, Coarse - HMAC-Agg, Coarse - HMAC - BrownstoneS&G","APS00006170","Brownstone Sand & Gravel - Franklinton, LA","1003M00120","AGGR","Agg, Coarse - HMAC","Agg, Coarse - HMAC - BrownstoneS&G",20490101]
["AGGR-APS00006170","APS00006170-1003M00120","APS00006170-Brownstone Sand & Gravel - Franklinton, LA","1003M00120-Agg, Coarse - HMAC-Agg, Coarse - HMAC - Enon S & G","APS00006170","Brownstone Sand & Gravel - Franklinton, LA","1003M00120","AGGR","Agg, Coarse - HMAC","Agg, Coarse - HMAC - Enon S & G",20190313]
["AGGR-APS00006180","APS00006180-1003M00110","APS00006180-Feliciana Farms, Inc.-St. Francisville, LA","1003M00110-Agg, Fine  - HMAC-FnSandHMAC FelicianaFarmsBayouSara","APS00006180","Feliciana Farms, Inc.-St. Francisville, LA","1003M00110","AGGR","Agg, Fine  - HMAC","FnSandHMAC FelicianaFarmsBayouSara",20490101]
["AGGR-APS00006180","APS00006180-1003M00120","APS00006180-Feliciana Farms, Inc.-St. Francisville, LA","1003M00120-Agg, Coarse - HMAC-Agg, Coarse - HMAC - Feliciana Farms","APS00006180","Feliciana Farms, Inc.-St. Francisville, LA","1003M00120","AGGR","Agg, Coarse - HMAC","Agg, Coarse - HMAC - Feliciana Farms",20490101]
["AGGR-APS00006190","APS00006190-1003M00110","APS00006190-Florida Parishes Aggregate-Fluker, LA","1003M00110-Agg, Fine  - HMAC-FnSandHMAC FloridaParAggKentPitFluker","APS00006190","Florida Parishes Aggregate-Fluker, LA","1003M00110","AGGR","Agg, Fine  - HMAC","FnSandHMAC FloridaParAggKentPitFluker",20490101]
["AGGR-APS00006190","APS00006190-1003M00120","APS00006190-Florida Parishes Aggregate-Fluker, LA","1003M00120-Agg, Coarse - HMAC-Agg, Coarse - HMAC - FL Par Agg (Fluker)","APS00006190","Florida Parishes Aggregate-Fluker, LA","1003M00120","AGGR","Agg, Coarse - HMAC","Agg, Coarse - HMAC - FL Par Agg (Fluker)",20490101]
["AGGR-APS00006200","APS00006200-1003M00110","APS00006200-Foley Materials Co.-Phenix City, AL- Plant 501","1003M00110-Agg, Fine  - HMAC-FnSandHMAC FoleyMatlPl501PhenixCityAL","APS00006200","Foley Materials Co.-Phenix City, AL- Plant 501","1003M00110","AGGR","Agg, Fine  - HMAC","FnSandHMAC FoleyMatlPl501PhenixCityAL",20490101]
["AGGR-APS00006210","APS00006210-1003M00110","APS00006210-Foley Materials Co.-Phenix City, AL- Plant 505","1003M00110-Agg, Fine  - HMAC-FnSandHMAC FoleyMatlPl505PhenixCityAL","APS00006210","Foley Materials Co.-Phenix City, AL- Plant 505","1003M00110","AGGR","Agg, Fine  - HMAC","FnSandHMAC FoleyMatlPl505PhenixCityAL",20490101]
["AGGR-APS00006230","APS00006230-1003M00110","APS00006230-Fouke Sand & Gravel, LLC-Fouke, AR","1003M00110-Agg, Fine  - HMAC-FnSandHMAC FoukeSand&GravelFoukeAR","APS00006230","Fouke Sand & Gravel, LLC-Fouke, AR","1003M00110","AGGR","Agg, Fine  - HMAC","FnSandHMAC FoukeSand&GravelFoukeAR",20490101]
["AGGR-APS00006230","APS00006230-1003M00120","APS00006230-Fouke Sand & Gravel, LLC-Fouke, AR","1003M00120-Agg, Coarse - HMAC-Agg, Coarse HMAC - Fouke Aggregate","APS00006230","Fouke Sand & Gravel, LLC-Fouke, AR","1003M00120","AGGR","Agg, Coarse - HMAC","Agg, Coarse HMAC - Fouke Aggregate",20490101]
["AGGR-APS00006240","APS00006240-1003M00110","APS00006240-Gillman Enterprises, LLC-Independence, LA","1003M00110-Agg, Fine  - HMAC-FnSandHMAC GillmanIndependenceLA","APS00006240","Gillman Enterprises, LLC-Independence, LA","1003M00110","AGGR","Agg, Fine  - HMAC","FnSandHMAC GillmanIndependenceLA",20490101]
["AGGR-APS00006240","APS00006240-1003M00120","APS00006240-Gillman Enterprises, LLC-Independence, LA","1003M00120-Agg, Coarse - HMAC-Agg, Coarse - HMAC - Gillman Enterprises","APS00006240","Gillman Enterprises, LLC-Independence, LA","1003M00120","AGGR","Agg, Coarse - HMAC","Agg, Coarse - HMAC - Gillman Enterprises",20490101]
["AGGR-APS00006250","APS00006250-1003M00110","APS00006250-Granite Mountain Quarries-Little Rock, AR","1003M00110-Agg, Fine  - HMAC-FnSandHMAC Granite Mountain Quarries","APS00006250","Granite Mountain Quarries-Little Rock, AR","1003M00110","AGGR","Agg, Fine  - HMAC","FnSandHMAC Granite Mountain Quarries",20490101]
["AGGR-APS00006250","APS00006250-1003M00110","APS00006250-Granite Mountain Quarries-Little Rock, AR","1003M00110-Agg, Fine  - HMAC-FnSandHMAC GraniteMtnQuarLittleRock","APS00006250","Granite Mountain Quarries-Little Rock, AR","1003M00110","AGGR","Agg, Fine  - HMAC","FnSandHMAC GraniteMtnQuarLittleRock",20150604]
["AGGR-APS00006250","APS00006250-1003M00120","APS00006250-Granite Mountain Quarries-Little Rock, AR","1003M00120-Agg, Coarse - HMAC-Agg-CoarseHMAC - Granite Mntn Quarries","APS00006250","Granite Mountain Quarries-Little Rock, AR","1003M00120","AGGR","Agg, Coarse - HMAC","Agg-CoarseHMAC - Granite Mntn Quarries",20490101]
["AGGR-APS00006260","APS00006260-1003M00110","APS00006260-Green Brothers Gravel Co.-Hazlehurst, MS","1003M00110-Agg, Fine  - HMAC-FnSandHMAC GreenBrosP22Hazlehurst","APS00006260","Green Brothers Gravel Co.-Hazlehurst, MS","1003M00110","AGGR","Agg, Fine  - HMAC","FnSandHMAC GreenBrosP22Hazlehurst",20490101]
["AGGR-APS00006260","APS00006260-1003M00120","APS00006260-Green Brothers Gravel Co.-Hazlehurst, MS","1003M00120-Agg, Coarse - HMAC-Agg, Coarse - HMAC-Green Bros Grav #22","APS00006260","Green Brothers Gravel Co.-Hazlehurst, MS","1003M00120","AGGR","Agg, Coarse - HMAC","Agg, Coarse - HMAC-Green Bros Grav #22",20490101]
["AGGR-APS00006270","APS00006270-1003M00110","APS00006270-Green Brothers Gravel Co.-CrystalSprings, MS","1003M00110-Agg, Fine  - HMAC-FnSandHMAC GreenBrosP22CrystalSprg","APS00006270","Green Brothers Gravel Co.-CrystalSprings, MS","1003M00110","AGGR","Agg, Fine  - HMAC","FnSandHMAC GreenBrosP22CrystalSprg",20490101]
["AGGR-APS00006270","APS00006270-1003M00120","APS00006270-Green Brothers Gravel Co.-CrystalSprings, MS","1003M00120-Agg, Coarse - HMAC-Agg, Coarse - HMAC-Green Bros Grav #65","APS00006270","Green Brothers Gravel Co.-CrystalSprings, MS","1003M00120","AGGR","Agg, Coarse - HMAC","Agg, Coarse - HMAC-Green Bros Grav #65",20490101]
["AGGR-APS00006290","APS00006290-1003M00110","APS00006290-Hallet Materials-Porter,TX","1003M00110-Agg, Fine  - HMAC-FnSandHMAC HalletMatlsPorterTX","APS00006290","Hallet Materials-Porter,TX","1003M00110","AGGR","Agg, Fine  - HMAC","FnSandHMAC HalletMatlsPorterTX",20490101]
["AGGR-APS00006300","APS00006300-1003M00110","APS00006300-Hammett Gravel Company, Inc.-Bentonia, MS","1003M00110-Agg, Fine  - HMAC-FnSandHMAC HammettGravelYazooCity","APS00006300","Hammett Gravel Company, Inc.-Bentonia, MS","1003M00110","AGGR","Agg, Fine  - HMAC","FnSandHMAC HammettGravelYazooCity",20490101]
["AGGR-APS00006300","APS00006300-1003M00120","APS00006300-Hammett Gravel Company, Inc.-Bentonia, MS","1003M00120-Agg, Coarse - HMAC-Agg, Coarse - HMAC HammettGrav YazooCity","APS00006300","Hammett Gravel Company, Inc.-Bentonia, MS","1003M00120","AGGR","Agg, Coarse - HMAC","Agg, Coarse - HMAC HammettGrav YazooCity",20490101]
["AGGR-APS00006310","APS00006310-1003M00110","APS00006310-Hanson Aggregates-Bearden,AR","1003M00110-Agg, Fine  - HMAC-FnSandHMAC HansonAggEagleMillsBeardenAR","APS00006310","Hanson Aggregates-Bearden,AR","1003M00110","AGGR","Agg, Fine  - HMAC","FnSandHMAC HansonAggEagleMillsBeardenAR",20490101]
["AGGR-APS00006310","APS00006310-1003M00120","APS00006310-Hanson Aggregates-Bearden,AR","1003M00120-Agg, Coarse - HMAC-Agg, Coarse - HMAC-HansonAggsEagleMills","APS00006310","Hanson Aggregates-Bearden,AR","1003M00120","AGGR","Agg, Coarse - HMAC","Agg, Coarse - HMAC-HansonAggsEagleMills",20490101]
["AGGR-APS00006320","APS00006320-1003M00110","APS00006320-Hanson Aggregates-Ashdown,AR","1003M00110-Agg, Fine  - HMAC-FnSandHMAC HansonAggLittleRiverAshdownAR","APS00006320","Hanson Aggregates-Ashdown,AR","1003M00110","AGGR","Agg, Fine  - HMAC","FnSandHMAC HansonAggLittleRiverAshdownAR",20490101]
["AGGR-APS00006320","APS00006320-1003M00120","APS00006320-Hanson Aggregates-Ashdown,AR","1003M00120-Agg, Coarse - HMAC-Agg, Coarse - HMAC HansonAggsLittleRiver","APS00006320","Hanson Aggregates-Ashdown,AR","1003M00120","AGGR","Agg, Coarse - HMAC","Agg, Coarse - HMAC HansonAggsLittleRiver",20490101]
["AGGR-APS00006340","APS00006340-1003M00110","APS00006340-Hanson Aggregates-Perch Hill Plant-Chico,TX","1003M00110-Agg, Fine  - HMAC-FnSandHMAC Hanson Aggs Perch hill Plant","APS00006340","Hanson Aggregates-Perch Hill Plant-Chico,TX","1003M00110","AGGR","Agg, Fine  - HMAC","FnSandHMAC Hanson Aggs Perch hill Plant",20490101]
["AGGR-APS00006340","APS00006340-1003M00120","APS00006340-Hanson Aggregates-Perch Hill Plant-Chico,TX","1003M00120-Agg, Coarse - HMAC-Agg-CoarseHMAC - HansonAggs-PerchHill","APS00006340","Hanson Aggregates-Perch Hill Plant-Chico,TX","1003M00120","AGGR","Agg, Coarse - HMAC","Agg-CoarseHMAC - HansonAggs-PerchHill",20490101]
["AGGR-APS00006350","APS00006350-1003M00110","APS00006350-Hard Rock Sand & Gravel LLC - Franklinton, LA - #2","1003M00110-Agg, Fine  - HMAC-FnSandHMAC HardRockS&GFranklinton","APS00006350","Hard Rock Sand & Gravel LLC - Franklinton, LA - #2","1003M00110","AGGR","Agg, Fine  - HMAC","FnSandHMAC HardRockS&GFranklinton",20490101]
["AGGR-APS00006350","APS00006350-1003M00120","APS00006350-Hard Rock Sand & Gravel LLC - Franklinton, LA - #2","1003M00120-Agg, Coarse - HMAC-Agg, Coarse -HMAC - Hard Rock S%G #2","APS00006350","Hard Rock Sand & Gravel LLC - Franklinton, LA - #2","1003M00120","AGGR","Agg, Coarse - HMAC","Agg, Coarse -HMAC - Hard Rock S%G #2",20490101]
["AGGR-APS00006360","APS00006360-1003M00110","APS00006360-Hard Rock Sand & Gravel, LLC-Mt. Hermon,LA","1003M00110-Agg, Fine  - HMAC-FnSandHMAC HardRockS&GMtHermanLA","APS00006360","Hard Rock Sand & Gravel, LLC-Mt. Hermon,LA","1003M00110","AGGR","Agg, Fine  - HMAC","FnSandHMAC HardRockS&GMtHermanLA",20490101]
["AGGR-APS00006360","APS00006360-1003M00120","APS00006360-Hard Rock Sand & Gravel, LLC-Mt. Hermon,LA","1003M00120-Agg, Coarse - HMAC-Agg, Coarse -HMAC - HardRockS&GMt.Hermon","APS00006360","Hard Rock Sand & Gravel, LLC-Mt. Hermon,LA","1003M00120","AGGR","Agg, Coarse - HMAC","Agg, Coarse -HMAC - HardRockS&GMt.Hermon",20490101]
["AGGR-APS00006370","APS00006370-1003M00110","APS00006370-Hastie Mining Company-Cave-in-Rock,IL","1003M00110-Agg, Fine  - HMAC-FnSandHMAC  Hastie Mining Sandstone","APS00006370","Hastie Mining Company-Cave-in-Rock,IL","1003M00110","AGGR","Agg, Fine  - HMAC","FnSandHMAC  Hastie Mining Sandstone",20490101]
["AGGR-APS00006370","APS00006370-1003M00120","APS00006370-Hastie Mining Company-Cave-in-Rock,IL","1003M00120-Agg, Coarse - HMAC-Agg-CoarseHMAC-HastieMiningCo-CaveInRock","APS00006370","Hastie Mining Company-Cave-in-Rock,IL","1003M00120","AGGR","Agg, Coarse - HMAC","Agg-CoarseHMAC-HastieMiningCo-CaveInRock",20490101]
["AGGR-APS00006400","APS00006400-1003M00110","APS00006400-Hooper Road Dirt Pit-Baton Rouge, LA","1003M00110-Agg, Fine  - HMAC-FnSandHMAC HooperRoadDirtPitBRLA","APS00006400","Hooper Road Dirt Pit-Baton Rouge, LA","1003M00110","AGGR","Agg, Fine  - HMAC","FnSandHMAC HooperRoadDirtPitBRLA",20490101]
["AGGR-APS00006420","APS00006420-1003M00110","APS00006420-Huey Stockstill, LLC - Picayune, MS - 12 Oaks","1003M00110-Agg, Fine  - HMAC-FnSandHMAC HueyStockstillPicayuneMS","APS00006420","Huey Stockstill, LLC - Picayune, MS - 12 Oaks","1003M00110","AGGR","Agg, Fine  - HMAC","FnSandHMAC HueyStockstillPicayuneMS",20490101]
["AGGR-APS00006420","APS00006420-1003M00120","APS00006420-Huey Stockstill, LLC - Picayune, MS - 12 Oaks","1003M00120-Agg, Coarse - HMAC-Agg, Coarse - HMAC - Huey Stockstill","APS00006420","Huey Stockstill, LLC - Picayune, MS - 12 Oaks","1003M00120","AGGR","Agg, Coarse - HMAC","Agg, Coarse - HMAC - Huey Stockstill",20490101]
["AGGR-APS00006430","APS00006430-1003M00110","APS00006430-Huey P. Stockstill, LLC -Picayune, MS - Pine Grove","1003M00110-Agg, Fine  - HMAC-FnSandHMAC HutchinsonIslandPicayuneMS","APS00006430","Huey P. Stockstill, LLC -Picayune, MS - Pine Grove","1003M00110","AGGR","Agg, Fine  - HMAC","FnSandHMAC HutchinsonIslandPicayuneMS",20490101]
["AGGR-APS00006430","APS00006430-1003M00120","APS00006430-Huey P. Stockstill, LLC -Picayune, MS - Pine Grove","1003M00120-Agg, Coarse - HMAC-Agg, Coarse - HMAC HutchinsonIslPicayune","APS00006430","Huey P. Stockstill, LLC -Picayune, MS - Pine Grove","1003M00120","AGGR","Agg, Coarse - HMAC","Agg, Coarse - HMAC HutchinsonIslPicayune",20490101]
["AGGR-APS00006440","APS00006440-1003M00110","APS00006440-Ideal Domicana, SA-Santo Domingo, DR","1003M00110-Agg, Fine  - HMAC-FnSandHMAC  Ideal Dominicana","APS00006440","Ideal Domicana, SA-Santo Domingo, DR","1003M00110","AGGR","Agg, Fine  - HMAC","FnSandHMAC  Ideal Dominicana",20490101]
["AGGR-APS00006440","APS00006440-1003M00120","APS00006440-Ideal Domicana, SA-Santo Domingo, DR","1003M00120-Agg, Coarse - HMAC-Agg-CoarseHMAC-IdealDomicana,SA","APS00006440","Ideal Domicana, SA-Santo Domingo, DR","1003M00120","AGGR","Agg, Coarse - HMAC","Agg-CoarseHMAC-IdealDomicana,SA",20490101]
["AGGR-APS00006450","APS00006450-1003M00110","APS00006450-Industrial Aggregates, LLC-Franklinton, LA-Pine Cl","1003M00110-Agg, Fine  - HMAC-FnSandHMAC IndustrialAggFranklinton","APS00006450","Industrial Aggregates, LLC-Franklinton, LA-Pine Cl","1003M00110","AGGR","Agg, Fine  - HMAC","FnSandHMAC IndustrialAggFranklinton",20490101]
["AGGR-APS00006450","APS00006450-1003M00110","APS00006450-Industrial Aggregates, LLC-Franklinton, LA-Pine Cl","1003M00110-Agg, Fine  - HMAC-FnSandHMAC IndustriasdeAgregadosDomRep","APS00006450","Industrial Aggregates, LLC-Franklinton, LA-Pine Cl","1003M00110","AGGR","Agg, Fine  - HMAC","FnSandHMAC IndustriasdeAgregadosDomRep",20150513]
["AGGR-APS00006450","APS00006450-1003M00120","APS00006450-Industrial Aggregates, LLC-Franklinton, LA-Pine Cl","1003M00120-Agg, Coarse - HMAC-Agg, Coarse - HMAC Industrial Aggs","APS00006450","Industrial Aggregates, LLC-Franklinton, LA-Pine Cl","1003M00120","AGGR","Agg, Coarse - HMAC","Agg, Coarse - HMAC Industrial Aggs",20490101]
[{"$f":"H195&\"-\"&E195","v":"AGGR-APS00006480"},{"$f":"E195&\"-\"&G195","v":"APS00006480-1003M00110"},{"$f":"E195&\"-\"&F195","v":"APS00006480-Jamaica Aggregates Limited dba Lafarge"},{"$f":"G195&\"-\"&I195&IF(J195<>\"\", \"-\"&J195, \"\")","v":"1003M00110-Agg, Fine  - HMAC-FnSandHMAC Jamaica Aggs Ltd"},"APS00006480","Jamaica Aggregates Limited dba Lafarge","1003M00110","AGGR","Agg, Fine  - HMAC","FnSandHMAC Jamaica Aggs Ltd",20490101]
["AGGR-APS00006480","APS00006480-1003M00120","APS00006480-Jamaica Aggregates Limited dba Lafarge","1003M00120-Agg, Coarse - HMAC-Agg-CoarseHMAC-JamaicaAggsLtd dbaLafarge","APS00006480","Jamaica Aggregates Limited dba Lafarge","1003M00120","AGGR","Agg, Coarse - HMAC","Agg-CoarseHMAC-JamaicaAggsLtd dbaLafarge",20490101]
["AGGR-APS00006490","APS00006490-1003M00110","APS00006490-JJ Ferguson Sand & Gravel-Cruger, MS","1003M00110-Agg, Fine  - HMAC-FnSandHMAC JJFergusonS&GBlackhawk","APS00006490","JJ Ferguson Sand & Gravel-Cruger, MS","1003M00110","AGGR","Agg, Fine  - HMAC","FnSandHMAC JJFergusonS&GBlackhawk",20490101]
["AGGR-APS00006490","APS00006490-1003M00120","APS00006490-JJ Ferguson Sand & Gravel-Cruger, MS","1003M00120-Agg, Coarse - HMAC-Agg, Coarse - HMAC - JJ Ferguson","APS00006490","JJ Ferguson Sand & Gravel-Cruger, MS","1003M00120","AGGR","Agg, Coarse - HMAC","Agg, Coarse - HMAC - JJ Ferguson",20490101]
["AGGR-APS00006500","APS00006500-1003M00110","APS00006500-Johnsville Sand & Gravel-Hermitage, AR","1003M00110-Agg, Fine  - HMAC-FnSandHMAC JohnsvilleS&GHermitage","APS00006500","Johnsville Sand & Gravel-Hermitage, AR","1003M00110","AGGR","Agg, Fine  - HMAC","FnSandHMAC JohnsvilleS&GHermitage",20490101]
["AGGR-APS00006500","APS00006500-1003M00120","APS00006500-Johnsville Sand & Gravel-Hermitage, AR","1003M00120-Agg, Coarse - HMAC-Agg, Coarse - HMAC - Johnsville S&G","APS00006500","Johnsville Sand & Gravel-Hermitage, AR","1003M00120","AGGR","Agg, Coarse - HMAC","Agg, Coarse - HMAC - Johnsville S&G",20490101]
["AGGR-APS00006510","APS00006510-1003M00110","APS00006510-K & C Gravel-Independence,LA","1003M00110-Agg, Fine  - HMAC-FnSandHMAC K&CGravelIndependenceLA","APS00006510","K & C Gravel-Independence,LA","1003M00110","AGGR","Agg, Fine  - HMAC","FnSandHMAC K&CGravelIndependenceLA",20490101]
["AGGR-APS00006520","APS00006520-1003M00110","APS00006520-Kinder Sand Co.-Kinder, LA","1003M00110-Agg, Fine  - HMAC-FnSandHMAC KinderSandCoKinderLA","APS00006520","Kinder Sand Co.-Kinder, LA","1003M00110","AGGR","Agg, Fine  - HMAC","FnSandHMAC KinderSandCoKinderLA",20490101]
["AGGR-APS00006530","APS00006530-1003M00110","APS00006530-King Sand & Gravel-Kerens, TX","1003M00110-Agg, Fine  - HMAC-FnSandHMAC KingSandGravelKerensTX","APS00006530","King Sand & Gravel-Kerens, TX","1003M00110","AGGR","Agg, Fine  - HMAC","FnSandHMAC KingSandGravelKerensTX",20490101]
["AGGR-APS00006540","APS00006540-1003M00110","APS00006540-Krystal Gravel, Inc.-Crystal Springs, MS","1003M00110-Agg, Fine  - HMAC-FnSandHMAC KrystalGravelCrystalSpringsMS","APS00006540","Krystal Gravel, Inc.-Crystal Springs, MS","1003M00110","AGGR","Agg, Fine  - HMAC","FnSandHMAC KrystalGravelCrystalSpringsMS",20490101]
["AGGR-APS00006540","APS00006540-1003M00120","APS00006540-Krystal Gravel, Inc.-Crystal Springs, MS","1003M00120-Agg, Coarse - HMAC-Agg, Coarse - HMAC - Krystal Gravel","APS00006540","Krystal Gravel, Inc.-Crystal Springs, MS","1003M00120","AGGR","Agg, Coarse - HMAC","Agg, Coarse - HMAC - Krystal Gravel",20490101]
["AGGR-APS00006550","APS00006550-1003M00110","APS00006550-L & W Sand Pit, LLC-Carencro, LA","1003M00110-Agg, Fine  - HMAC-FnSandHMAC L&WSandPitCarencroLA","APS00006550","L & W Sand Pit, LLC-Carencro, LA","1003M00110","AGGR","Agg, Fine  - HMAC","FnSandHMAC L&WSandPitCarencroLA",20490101]
["AGGR-APS00006560","APS00006560-1003M00110","APS00006560-Lafarge Aggregates-Cave-In-Rock, IL - SandStone","1003M00110-Agg, Fine  - HMAC-FnSandHMAC  Lafarge Aggs Sandstone","APS00006560","Lafarge Aggregates-Cave-In-Rock, IL - SandStone","1003M00110","AGGR","Agg, Fine  - HMAC","FnSandHMAC  Lafarge Aggs Sandstone",20490101]
["AGGR-APS00006560","APS00006560-1003M00120","APS00006560-Lafarge Aggregates-Cave-In-Rock, IL - SandStone","1003M00120-Agg, Coarse - HMAC-Agg-CoarseHMAC-LafargeAggs-Sandstn","APS00006560","Lafarge Aggregates-Cave-In-Rock, IL - SandStone","1003M00120","AGGR","Agg, Coarse - HMAC","Agg-CoarseHMAC-LafargeAggs-Sandstn",20490101]
["AGGR-APS00006570","APS00006570-1003M00110","APS00006570-Lafarge Aggregates-Cave-In-Rock, IL - Sil. Limestn","1003M00110-Agg, Fine  - HMAC-FnSandHMAC  Lafarge Aggs Ledges 8-10","APS00006570","Lafarge Aggregates-Cave-In-Rock, IL - Sil. Limestn","1003M00110","AGGR","Agg, Fine  - HMAC","FnSandHMAC  Lafarge Aggs Ledges 8-10",20490101]
["AGGR-APS00006570","APS00006570-1003M00120","APS00006570-Lafarge Aggregates-Cave-In-Rock, IL - Sil. Limestn","1003M00120-Agg, Coarse - HMAC-Agg-CoarseHMAC-LafargeAggs-SilLmStn","APS00006570","Lafarge Aggregates-Cave-In-Rock, IL - Sil. Limestn","1003M00120","AGGR","Agg, Coarse - HMAC","Agg-CoarseHMAC-LafargeAggs-SilLmStn",20490101]
["AGGR-APS00006580","APS00006580-1003M00110","APS00006580-Lafarge Aggregates-Fredonia, KY","1003M00110-Agg, Fine  - HMAC-FnSandHMAC  Lafarge N.A. Fredonia","APS00006580","Lafarge Aggregates-Fredonia, KY","1003M00110","AGGR","Agg, Fine  - HMAC","FnSandHMAC  Lafarge N.A. Fredonia",20490101]
["AGGR-APS00006580","APS00006580-1003M00120","APS00006580-Lafarge Aggregates-Fredonia, KY","1003M00120-Agg, Coarse - HMAC-Agg-CoarseHMAC-LafargeAggs-Fredonia","APS00006580","Lafarge Aggregates-Fredonia, KY","1003M00120","AGGR","Agg, Coarse - HMAC","Agg-CoarseHMAC-LafargeAggs-Fredonia",20490101]
["AGGR-APS00006590","APS00006590-1003M00110","APS00006590-Lafarge Aggregates-Pearl River,LA","1003M00110-Agg, Fine  - HMAC-FnSandHMAC LafargeAggHoneyIsland","APS00006590","Lafarge Aggregates-Pearl River,LA","1003M00110","AGGR","Agg, Fine  - HMAC","FnSandHMAC LafargeAggHoneyIsland",20490101]
["AGGR-APS00006590","APS00006590-1003M00120","APS00006590-Lafarge Aggregates-Pearl River,LA","1003M00120-Agg, Coarse - HMAC-Agg, Coarse - HMAC-LafargeAggsHoney Isl","APS00006590","Lafarge Aggregates-Pearl River,LA","1003M00120","AGGR","Agg, Coarse - HMAC","Agg, Coarse - HMAC-LafargeAggsHoney Isl",20490101]
["AGGR-APS00006600","APS00006600-1003M00110","APS00006600-Lafarge Aggregates-Bogalusa,LA","1003M00110-Agg, Fine  - HMAC-FnSandHMAC LafargeAggIsabelBogalusa","APS00006600","Lafarge Aggregates-Bogalusa,LA","1003M00110","AGGR","Agg, Fine  - HMAC","FnSandHMAC LafargeAggIsabelBogalusa",20490101]
["AGGR-APS00006600","APS00006600-1003M00120","APS00006600-Lafarge Aggregates-Bogalusa,LA","1003M00120-Agg, Coarse - HMAC-Agg, Coarse - HMAC - Lafarge (Isabel)","APS00006600","Lafarge Aggregates-Bogalusa,LA","1003M00120","AGGR","Agg, Coarse - HMAC","Agg, Coarse - HMAC - Lafarge (Isabel)",20490101]
["AGGR-APS00006600","APS00006600-1003M00120","APS00006600-Lafarge Aggregates-Bogalusa,LA","1003M00120-Agg, Coarse - HMAC-Agg, Coarse - HMAC-Lafarge(Honey Island)","APS00006600","Lafarge Aggregates-Bogalusa,LA","1003M00120","AGGR","Agg, Coarse - HMAC","Agg, Coarse - HMAC-Lafarge(Honey Island)",20490101]
["AGGR-APS00006670","APS00006670-1003M00110","APS00006670-Lon Land Gravel Co.-Mt Hermon, LA","1003M00110-Agg, Fine  - HMAC-FnSandHMAC LonLandGravelMtHermonLA","APS00006670","Lon Land Gravel Co.-Mt Hermon, LA","1003M00110","AGGR","Agg, Fine  - HMAC","FnSandHMAC LonLandGravelMtHermonLA",20490101]
["AGGR-APS00006670","APS00006670-1003M00120","APS00006670-Lon Land Gravel Co.-Mt Hermon, LA","1003M00120-Agg, Coarse - HMAC-Agg, Coarse - HMAC - Lon-Land Gravel Co.","APS00006670","Lon Land Gravel Co.-Mt Hermon, LA","1003M00120","AGGR","Agg, Coarse - HMAC","Agg, Coarse - HMAC - Lon-Land Gravel Co.",20490101]
["AGGR-APS00006680","APS00006680-1003M00110","APS00006680-Marion Clay & Gravel, LLC-Columbia, MS","1003M00110-Agg, Fine  - HMAC-FnSandHMAC MarionClayGravelColumbiaMS","APS00006680","Marion Clay & Gravel, LLC-Columbia, MS","1003M00110","AGGR","Agg, Fine  - HMAC","FnSandHMAC MarionClayGravelColumbiaMS",20490101]
["AGGR-APS00006680","APS00006680-1003M00120","APS00006680-Marion Clay & Gravel, LLC-Columbia, MS","1003M00120-Agg, Coarse - HMAC-Agg, Coarse - HMAC - Marion Clay & Grav","APS00006680","Marion Clay & Gravel, LLC-Columbia, MS","1003M00120","AGGR","Agg, Coarse - HMAC","Agg, Coarse - HMAC - Marion Clay & Grav",20490101]
["AGGR-APS00006690","APS00006690-1003M00110","APS00006690-Martin Marietta Aggregates-Bahamas,BAH","1003M00110-Agg, Fine  - HMAC-FnSandHMAC Martin Marietta Aggs Bahama","APS00006690","Martin Marietta Aggregates-Bahamas,BAH","1003M00110","AGGR","Agg, Fine  - HMAC","FnSandHMAC Martin Marietta Aggs Bahama",20490101]
["AGGR-APS00006690","APS00006690-1003M00120","APS00006690-Martin Marietta Aggregates-Bahamas,BAH","1003M00120-Agg, Coarse - HMAC-Agg-CoarseHMAC-MartinMariettaAggsBahamas","APS00006690","Martin Marietta Aggregates-Bahamas,BAH","1003M00120","AGGR","Agg, Coarse - HMAC","Agg-CoarseHMAC-MartinMariettaAggsBahamas",20490101]
["AGGR-APS00006700","APS00006700-1003M00110","APS00006700-Martin Marietta Aggregates-Eagletown, OK","1003M00110-Agg, Fine  - HMAC-FnSandHMAC MartinMarietta(Broken Bow)","APS00006700","Martin Marietta Aggregates-Eagletown, OK","1003M00110","AGGR","Agg, Fine  - HMAC","FnSandHMAC MartinMarietta(Broken Bow)",20490101]
["AGGR-APS00006700","APS00006700-1003M00120","APS00006700-Martin Marietta Aggregates-Eagletown, OK","1003M00120-Agg, Coarse - HMAC-Agg, Coarse - HMAC -MartinMar Broken Bow","APS00006700","Martin Marietta Aggregates-Eagletown, OK","1003M00120","AGGR","Agg, Coarse - HMAC","Agg, Coarse - HMAC -MartinMar Broken Bow",20490101]
["AGGR-APS00006710","APS00006710-1003M00110","APS00006710-Martin Marietta Aggregates-Cove,AR","1003M00110-Agg, Fine  - HMAC-FnSandHMAC Martin Marietta Aggs Cove","APS00006710","Martin Marietta Aggregates-Cove,AR","1003M00110","AGGR","Agg, Fine  - HMAC","FnSandHMAC Martin Marietta Aggs Cove",20490101]
["AGGR-APS00006710","APS00006710-1003M00120","APS00006710-Martin Marietta Aggregates-Cove,AR","1003M00120-Agg, Coarse - HMAC-Agg-CoarseHMAC-MartinMariettaAggs-Cove","APS00006710","Martin Marietta Aggregates-Cove,AR","1003M00120","AGGR","Agg, Coarse - HMAC","Agg-CoarseHMAC-MartinMariettaAggs-Cove",20490101]
["AGGR-APS00006720","APS00006720-1003M00110","APS00006720-Martin Marietta Aggregates-Garwood,TX","1003M00110-Agg, Fine  - HMAC-FnSandHMAC Martin Marietta Agg Garwood","APS00006720","Martin Marietta Aggregates-Garwood,TX","1003M00110","AGGR","Agg, Fine  - HMAC","FnSandHMAC Martin Marietta Agg Garwood",20490101]
["AGGR-APS00006720","APS00006720-1003M00120","APS00006720-Martin Marietta Aggregates-Garwood,TX","1003M00120-Agg, Coarse - HMAC-Agg, Coarse - HMAC - MartinMar Garwood","APS00006720","Martin Marietta Aggregates-Garwood,TX","1003M00120","AGGR","Agg, Coarse - HMAC","Agg, Coarse - HMAC - MartinMar Garwood",20490101]
["AGGR-APS00006730","APS00006730-1003M00110","APS00006730-Martin Marietta Aggregates-Malvern, AR - SandStone","1003M00110-Agg, Fine  - HMAC-FnSandHMAC MartinMarietta-Jones Mill Pit","APS00006730","Martin Marietta Aggregates-Malvern, AR - SandStone","1003M00110","AGGR","Agg, Fine  - HMAC","FnSandHMAC MartinMarietta-Jones Mill Pit",20490101]
["AGGR-APS00006730","APS00006730-1003M00120","APS00006730-Martin Marietta Aggregates-Malvern, AR - SandStone","1003M00120-Agg, Coarse - HMAC-Agg.CoarseHMAC MartinMarietta-Jones Mill","APS00006730","Martin Marietta Aggregates-Malvern, AR - SandStone","1003M00120","AGGR","Agg, Coarse - HMAC","Agg.CoarseHMAC MartinMarietta-Jones Mill",20490101]
["AGGR-APS00006740","APS00006740-1003M00110","APS00006740-Martin Marietta Aggregates-Malvern, AR - Granite","1003M00110-Agg, Fine  - HMAC-FnSand HMAC MartinMariettaAggs Syenite","APS00006740","Martin Marietta Aggregates-Malvern, AR - Granite","1003M00110","AGGR","Agg, Fine  - HMAC","FnSand HMAC MartinMariettaAggs Syenite",20490101]
["AGGR-APS00006740","APS00006740-1003M00120","APS00006740-Martin Marietta Aggregates-Malvern, AR - Granite","1003M00120-Agg, Coarse - HMAC-Agg-CoarseHMAC-MartinMariettaAggs-Grnt","APS00006740","Martin Marietta Aggregates-Malvern, AR - Granite","1003M00120","AGGR","Agg, Coarse - HMAC","Agg-CoarseHMAC-MartinMariettaAggs-Grnt",20490101]
["AGGR-APS00006750","APS00006750-1003M00110","APS00006750-Martin Marietta Aggregates-Mulgrave, NS","1003M00110-Agg, Fine  - HMAC-FnSandHMAC Martin Marietta Aggs NovaScot","APS00006750","Martin Marietta Aggregates-Mulgrave, NS","1003M00110","AGGR","Agg, Fine  - HMAC","FnSandHMAC Martin Marietta Aggs NovaScot",20490101]
["AGGR-APS00006750","APS00006750-1003M00110","APS00006750-Martin Marietta Aggregates-Mulgrave, NS","1003M00110-Agg, Fine  - HMAC-FnSandHMAC MartinMarietta - Mulgrave","APS00006750","Martin Marietta Aggregates-Mulgrave, NS","1003M00110","AGGR","Agg, Fine  - HMAC","FnSandHMAC MartinMarietta - Mulgrave",20150618]
["AGGR-APS00006750","APS00006750-1003M00120","APS00006750-Martin Marietta Aggregates-Mulgrave, NS","1003M00120-Agg, Coarse - HMAC-Agg, Coarse - HMAC - Martin Marietta N.S","APS00006750","Martin Marietta Aggregates-Mulgrave, NS","1003M00120","AGGR","Agg, Coarse - HMAC","Agg, Coarse - HMAC - Martin Marietta N.S",20490101]
["AGGR-APS00006750","APS00006750-1003M00120","APS00006750-Martin Marietta Aggregates-Mulgrave, NS","1003M00120-Agg, Coarse - HMAC-Agg.CoarseHMAC MartinMarietta -Mulgrave","APS00006750","Martin Marietta Aggregates-Mulgrave, NS","1003M00120","AGGR","Agg, Coarse - HMAC","Agg.CoarseHMAC MartinMarietta -Mulgrave",20150618]
["AGGR-APS00006760","APS00006760-1003M00110","APS00006760-Martin Marietta Aggregates-Sawyer,OK","1003M00110-Agg, Fine  - HMAC-FnSand HMAC Martin Marietta Aggs Sawyer ","APS00006760","Martin Marietta Aggregates-Sawyer,OK","1003M00110","AGGR","Agg, Fine  - HMAC","FnSand HMAC Martin Marietta Aggs Sawyer ",20490101]
["AGGR-APS00006760","APS00006760-1003M00120","APS00006760-Martin Marietta Aggregates-Sawyer,OK","1003M00120-Agg, Coarse - HMAC-Agg, Coarse -HMAC- Martin Marietta Sawye","APS00006760","Martin Marietta Aggregates-Sawyer,OK","1003M00120","AGGR","Agg, Coarse - HMAC","Agg, Coarse -HMAC- Martin Marietta Sawye",20490101]
["AGGR-APS00006760","APS00006760-1003M00120","APS00006760-Martin Marietta Aggregates-Sawyer,OK","1003M00120-Agg, Coarse - HMAC-Agg-CoarseHMAC-MartinMariettaAggs-Sawyer","APS00006760","Martin Marietta Aggregates-Sawyer,OK","1003M00120","AGGR","Agg, Coarse - HMAC","Agg-CoarseHMAC-MartinMariettaAggs-Sawyer",20490101]
["AGGR-APS00006770","APS00006770-1003M00110","APS00006770-Mears Sand & Gravel-Denham Springs,LA","1003M00110-Agg, Fine  - HMAC-FnSandHMAC MearsSandGravelDennisMills","APS00006770","Mears Sand & Gravel-Denham Springs,LA","1003M00110","AGGR","Agg, Fine  - HMAC","FnSandHMAC MearsSandGravelDennisMills",20490101]
["AGGR-APS00006770","APS00006770-1003M00120","APS00006770-Mears Sand & Gravel-Denham Springs,LA","1003M00120-Agg, Coarse - HMAC-Agg, Coarse - HMAC - Mears S & G","APS00006770","Mears Sand & Gravel-Denham Springs,LA","1003M00120","AGGR","Agg, Coarse - HMAC","Agg, Coarse - HMAC - Mears S & G",20490101]
["AGGR-APS00006780","APS00006780-1003M00110","APS00006780-Memphis Stone & Gravel Co.-Nesbit, MS","1003M00110-Agg, Fine  - HMAC-FnSandHMAC MemphisStnGrvlAndersonPl","APS00006780","Memphis Stone & Gravel Co.-Nesbit, MS","1003M00110","AGGR","Agg, Fine  - HMAC","FnSandHMAC MemphisStnGrvlAndersonPl",20490101]
["AGGR-APS00006790","APS00006790-1003M00110","APS00006790-Memphis Stone & Gravel Co.-Senatobia, MS","1003M00110-Agg, Fine  - HMAC-FnSandHMAC MemphisStoneGravelPerryPl","APS00006790","Memphis Stone & Gravel Co.-Senatobia, MS","1003M00110","AGGR","Agg, Fine  - HMAC","FnSandHMAC MemphisStoneGravelPerryPl",20490101]
["AGGR-APS00006830","APS00006830-1003M00110","APS00006830-MRH Sand & Gravel-Benton, LA","1003M00110-Agg, Fine  - HMAC-FnSandHMAC MRHSandGravelBentonLA","APS00006830","MRH Sand & Gravel-Benton, LA","1003M00110","AGGR","Agg, Fine  - HMAC","FnSandHMAC MRHSandGravelBentonLA",20490101]
["AGGR-APS00006830","APS00006830-1003M00120","APS00006830-MRH Sand & Gravel-Benton, LA","1003M00120-Agg, Coarse - HMAC-Agg, Coarse - HMAC - MRH S&G","APS00006830","MRH Sand & Gravel-Benton, LA","1003M00120","AGGR","Agg, Coarse - HMAC","Agg, Coarse - HMAC - MRH S&G",20150428]
["AGGR-APS00006840","APS00006840-1003M00110","APS00006840-ODDEE Smith Constr.Inc.-Brookhaven, MS","1003M00110-Agg, Fine  - HMAC-FnSandHMAC ODDEE Smith Constr","APS00006840","ODDEE Smith Constr.Inc.-Brookhaven, MS","1003M00110","AGGR","Agg, Fine  - HMAC","FnSandHMAC ODDEE Smith Constr",20490101]
["AGGR-APS00006840","APS00006840-1003M00120","APS00006840-ODDEE Smith Constr.Inc.-Brookhaven, MS","1003M00120-Agg, Coarse - HMAC-Agg, Coarse - HMAC-ODDEESmithConstr-Brkh","APS00006840","ODDEE Smith Constr.Inc.-Brookhaven, MS","1003M00120","AGGR","Agg, Coarse - HMAC","Agg, Coarse - HMAC-ODDEESmithConstr-Brkh",20490101]
["AGGR-APS00006850","APS00006850-1003M00110","APS00006850-P & J Sand & Gravel, LLC-Independence, LA","1003M00110-Agg, Fine  - HMAC-FnSandHMAC P&JSndGrvlIndependenceLA","APS00006850","P & J Sand & Gravel, LLC-Independence, LA","1003M00110","AGGR","Agg, Fine  - HMAC","FnSandHMAC P&JSndGrvlIndependenceLA",20490101]
["AGGR-APS00006850","APS00006850-1003M00120","APS00006850-P & J Sand & Gravel, LLC-Independence, LA","1003M00120-Agg, Coarse - HMAC-Agg. Coarse - HMAC - P & J  Sand& Gravel","APS00006850","P & J Sand & Gravel, LLC-Independence, LA","1003M00120","AGGR","Agg, Coarse - HMAC","Agg. Coarse - HMAC - P & J  Sand& Gravel",20490101]
["AGGR-APS00006860","APS00006860-1003M00110","APS00006860-Perkinston Sand & Gravel-Perkinston, MS","1003M00110-Agg, Fine  - HMAC-FnSandHMAC PerkinstonS&GPerkinstonMS","APS00006860","Perkinston Sand & Gravel-Perkinston, MS","1003M00110","AGGR","Agg, Fine  - HMAC","FnSandHMAC PerkinstonS&GPerkinstonMS",20490101]
["AGGR-APS00006880","APS00006880-1003M00110","APS00006880-Pine Bluff Sand & Gravel-Deleware, AR","1003M00110-Agg, Fine  - HMAC-FnSandHMAC Pine Bluff S&G - Deleware","APS00006880","Pine Bluff Sand & Gravel-Deleware, AR","1003M00110","AGGR","Agg, Fine  - HMAC","FnSandHMAC Pine Bluff S&G - Deleware",20491231]
["AGGR-APS00006880","APS00006880-1003M00120","APS00006880-Pine Bluff Sand & Gravel-Deleware, AR","1003M00120-Agg, Coarse - HMAC-Agg.Coarse-HMAC Pine Bluff S&G- Deleware","APS00006880","Pine Bluff Sand & Gravel-Deleware, AR","1003M00120","AGGR","Agg, Coarse - HMAC","Agg.Coarse-HMAC Pine Bluff S&G- Deleware",20491231]
["AGGR-APS00006890","APS00006890-1003M00110","APS00006890-Pine Bluff Sand & Gravel-Salem,KY","1003M00110-Agg, Fine  - HMAC-FnSand HMAC Pine Bluff S&G Cumberland","APS00006890","Pine Bluff Sand & Gravel-Salem,KY","1003M00110","AGGR","Agg, Fine  - HMAC","FnSand HMAC Pine Bluff S&G Cumberland",20490101]
["AGGR-APS00006890","APS00006890-1003M00120","APS00006890-Pine Bluff Sand & Gravel-Salem,KY","1003M00120-Agg, Coarse - HMAC-Agg-CoarseHMAC-PineBluffSand&Grav-Salem","APS00006890","Pine Bluff Sand & Gravel-Salem,KY","1003M00120","AGGR","Agg, Coarse - HMAC","Agg-CoarseHMAC-PineBluffSand&Grav-Salem",20490101]
["AGGR-APS00006910","APS00006910-1003M00110","APS00006910-R & R Logging & Gravel-Columbia, MS","1003M00110-Agg, Fine  - HMAC-FnSandHMAC R&RLogging&GrColumbiaMS","APS00006910","R & R Logging & Gravel-Columbia, MS","1003M00110","AGGR","Agg, Fine  - HMAC","FnSandHMAC R&RLogging&GrColumbiaMS",20490101]
["AGGR-APS00006910","APS00006910-1003M00120","APS00006910-R & R Logging & Gravel-Columbia, MS","1003M00120-Agg, Coarse - HMAC-Agg, Coarse - HMAC - R & R Logging &Grav","APS00006910","R & R Logging & Gravel-Columbia, MS","1003M00120","AGGR","Agg, Coarse - HMAC","Agg, Coarse - HMAC - R & R Logging &Grav",20490101]
["AGGR-APS00006920","APS00006920-1003M00110","APS00006920-Ram Industries-Mt. Hermon, LA","1003M00110-Agg, Fine  - HMAC-FnSandHMAC RamIndustriesMtHermonLA","APS00006920","Ram Industries-Mt. Hermon, LA","1003M00110","AGGR","Agg, Fine  - HMAC","FnSandHMAC RamIndustriesMtHermonLA",20490101]
[{"$f":"H259&\"-\"&E259","v":"AGGR-APS00006920"},{"$f":"E259&\"-\"&G259","v":"APS00006920-1003M00120"},{"$f":"E259&\"-\"&F259","v":"APS00006920-Ram Industries-Mt. Hermon, LA"},{"$f":"G259&\"-\"&I259&IF(J259<>\"\", \"-\"&J259, \"\")","v":"1003M00120-Agg, Coarse - HMAC-Agg, Coarse - HMAC - Ram Industries"},"APS00006920","Ram Industries-Mt. Hermon, LA","1003M00120","AGGR","Agg, Coarse - HMAC","Agg, Coarse - HMAC - Ram Industries",20490101]
["AGGR-APS00006930","APS00006930-1003M00110","APS00006930-Riverside Sand & Gravel-Tylertown, MS","1003M00110-Agg, Fine  - HMAC-FnSandHMAC RiversideSndGrvlTylertownMS","APS00006930","Riverside Sand & Gravel-Tylertown, MS","1003M00110","AGGR","Agg, Fine  - HMAC","FnSandHMAC RiversideSndGrvlTylertownMS",20490101]
["AGGR-APS00006980","APS00006980-1003M00110","APS00006980-Simpson Materials Co.-Valley Park, MO","1003M00110-Agg, Fine  - HMAC-FnSandHMAC Simpson Materials Ranken Site","APS00006980","Simpson Materials Co.-Valley Park, MO","1003M00110","AGGR","Agg, Fine  - HMAC","FnSandHMAC Simpson Materials Ranken Site",20490101]
["AGGR-APS00006980","APS00006980-1003M00120","APS00006980-Simpson Materials Co.-Valley Park, MO","1003M00120-Agg, Coarse - HMAC-Agg, Coarse - HMAC - Simpson Materials ","APS00006980","Simpson Materials Co.-Valley Park, MO","1003M00120","AGGR","Agg, Coarse - HMAC","Agg, Coarse - HMAC - Simpson Materials ",20490101]
["AGGR-APS00006990","APS00006990-1003M00110","APS00006990-Smith Sand & Gravel-Franklinton,LA","1003M00110-Agg, Fine  - HMAC-FnSandHMAC SmithSndGrvlFranklintonLA","APS00006990","Smith Sand & Gravel-Franklinton,LA","1003M00110","AGGR","Agg, Fine  - HMAC","FnSandHMAC SmithSndGrvlFranklintonLA",20490101]
["AGGR-APS00006990","APS00006990-1003M00120","APS00006990-Smith Sand & Gravel-Franklinton,LA","1003M00120-Agg, Coarse - HMAC-Agg, Coarse - HMAC - Smith Sand&Gravel","APS00006990","Smith Sand & Gravel-Franklinton,LA","1003M00120","AGGR","Agg, Coarse - HMAC","Agg, Coarse - HMAC - Smith Sand&Gravel",20490101]
["AGGR-APS00007000","APS00007000-1003M00110","APS00007000-South Land Sand-Ringgold, LA","1003M00110-Agg, Fine  - HMAC-FnSandHMAC South Land Sand Ringgold","APS00007000","South Land Sand-Ringgold, LA","1003M00110","AGGR","Agg, Fine  - HMAC","FnSandHMAC South Land Sand Ringgold",20490101]
["AGGR-APS00007000","APS00007000-1003M00120","APS00007000-South Land Sand-Ringgold, LA","1003M00120-Agg, Coarse - HMAC-Agg. Coarse - HMAC - South Land Sand","APS00007000","South Land Sand-Ringgold, LA","1003M00120","AGGR","Agg, Coarse - HMAC","Agg. Coarse - HMAC - South Land Sand",20490101]
["AGGR-APS00007010","APS00007010-1003M00110","APS00007010-Southern Aggregates, LLC-Norwood,LA","1003M00110-Agg, Fine  - HMAC-FnSandHMAC SouthernAggNorwoodLA","APS00007010","Southern Aggregates, LLC-Norwood,LA","1003M00110","AGGR","Agg, Fine  - HMAC","FnSandHMAC SouthernAggNorwoodLA",20490101]
["AGGR-APS00007010","APS00007010-1003M00120","APS00007010-Southern Aggregates, LLC-Norwood,LA","1003M00120-Agg, Coarse - HMAC-Agg. Coarse - HMAC - Southern Aggs","APS00007010","Southern Aggregates, LLC-Norwood,LA","1003M00120","AGGR","Agg, Coarse - HMAC","Agg. Coarse - HMAC - Southern Aggs",20490101]
["AGGR-APS00007030","APS00007030-1003M00110","APS00007030-Southern Aggregates, LLC-DenhamSprings,LA-Plant7","1003M00110-Agg, Fine  - HMAC-FnSandHMAC SouthernAgg-DS-Plant7","APS00007030","Southern Aggregates, LLC-DenhamSprings,LA-Plant7","1003M00110","AGGR","Agg, Fine  - HMAC","FnSandHMAC SouthernAgg-DS-Plant7",20200227]
["AGGR-APS00007030","APS00007030-1003M00120","APS00007030-Southern Aggregates, LLC-DenhamSprings,LA-Plant7","1003M00120-Agg, Coarse - HMAC-Agg, Coarse - HMAC - Southern Aggs #7","APS00007030","Southern Aggregates, LLC-DenhamSprings,LA-Plant7","1003M00120","AGGR","Agg, Coarse - HMAC","Agg, Coarse - HMAC - Southern Aggs #7",20200227]
["AGGR-APS00007130","APS00007130-1003M00110","APS00007130-Swim Enterprises-Columbia, LA","1003M00110-Agg, Fine  - HMAC-FnSandHMAC SwimEnterprisesColumbiaLA","APS00007130","Swim Enterprises-Columbia, LA","1003M00110","AGGR","Agg, Fine  - HMAC","FnSandHMAC SwimEnterprisesColumbiaLA",20490101]
["AGGR-APS00007140","APS00007140-1003M00110","APS00007140-T & D Sand & Gravel, LLC-Independence, LA","1003M00110-Agg, Fine  - HMAC-FnSandHMAC T&DSndGrvlIndependenceLA","APS00007140","T & D Sand & Gravel, LLC-Independence, LA","1003M00110","AGGR","Agg, Fine  - HMAC","FnSandHMAC T&DSndGrvlIndependenceLA",20490101]
["AGGR-APS00007140","APS00007140-1003M00120","APS00007140-T & D Sand & Gravel, LLC-Independence, LA","1003M00120-Agg, Coarse - HMAC-Agg, Coarse - HMAC - T & D Sand &Gravel","APS00007140","T & D Sand & Gravel, LLC-Independence, LA","1003M00120","AGGR","Agg, Coarse - HMAC","Agg, Coarse - HMAC - T & D Sand &Gravel",20490101]
["AGGR-APS00007150","APS00007150-1003M00110","APS00007150-Tanner Heavy Equipment Co-Leesville, LA","1003M00110-Agg, Fine  - HMAC-FnSandHMAC TannerHeavyEquipLeesvilleLA","APS00007150","Tanner Heavy Equipment Co-Leesville, LA","1003M00110","AGGR","Agg, Fine  - HMAC","FnSandHMAC TannerHeavyEquipLeesvilleLA",20490101]
["AGGR-APS00007160","APS00007160-1003M00110","APS00007160-Texas Crushed Stone Co., Inc.-Georgetown, TX","1003M00110-Agg, Fine  - HMAC-FnSand HMAC Texas Crushed  Co","APS00007160","Texas Crushed Stone Co., Inc.-Georgetown, TX","1003M00110","AGGR","Agg, Fine  - HMAC","FnSand HMAC Texas Crushed  Co",20490101]
["AGGR-APS00007160","APS00007160-1003M00120","APS00007160-Texas Crushed Stone Co., Inc.-Georgetown, TX","1003M00120-Agg, Coarse - HMAC-Agg-CoarseHMAC-Texas Crushed Stone Co","APS00007160","Texas Crushed Stone Co., Inc.-Georgetown, TX","1003M00120","AGGR","Agg, Coarse - HMAC","Agg-CoarseHMAC-Texas Crushed Stone Co",20490101]
["AGGR-APS00007170","APS00007170-1003M00110","APS00007170-The Fordyce Co-Victoria, TX","1003M00110-Agg, Fine  - HMAC-FnSandHMAC FordyceCoVictoriaTX","APS00007170","The Fordyce Co-Victoria, TX","1003M00110","AGGR","Agg, Fine  - HMAC","FnSandHMAC FordyceCoVictoriaTX",20490101]
["AGGR-APS00007170","APS00007170-1003M00120","APS00007170-The Fordyce Co-Victoria, TX","1003M00120-Agg, Coarse - HMAC-Agg, Coarse - HMAC - FordyceCoVictoriaTX","APS00007170","The Fordyce Co-Victoria, TX","1003M00120","AGGR","Agg, Coarse - HMAC","Agg, Coarse - HMAC - FordyceCoVictoriaTX",20490101]
["AGGR-APS00007180","APS00007180-1003M00110","APS00007180-Tower Rock Stone Co-St.Genevieve, MO- Limestn Zn8","1003M00110-Agg, Fine  - HMAC-FnSand HMAC Tower Rock Stone Co","APS00007180","Tower Rock Stone Co-St.Genevieve, MO- Limestn Zn8","1003M00110","AGGR","Agg, Fine  - HMAC","FnSand HMAC Tower Rock Stone Co",20490101]
["AGGR-APS00007180","APS00007180-1003M00120","APS00007180-Tower Rock Stone Co-St.Genevieve, MO- Limestn Zn8","1003M00120-Agg, Coarse - HMAC-Agg-CoarseHMAC-Tower Rock Stone-Lmstn","APS00007180","Tower Rock Stone Co-St.Genevieve, MO- Limestn Zn8","1003M00120","AGGR","Agg, Coarse - HMAC","Agg-CoarseHMAC-Tower Rock Stone-Lmstn",20490101]
["AGGR-APS00007190","APS00007190-1003M00110","APS00007190-Tower Rock Stone Co-St.Genevieve, MO- Oolitic","1003M00110-Agg, Fine  - HMAC-FnSandHMAC Tower Rock Oolitic Columbia","APS00007190","Tower Rock Stone Co-St.Genevieve, MO- Oolitic","1003M00110","AGGR","Agg, Fine  - HMAC","FnSandHMAC Tower Rock Oolitic Columbia",20490101]
["AGGR-APS00007190","APS00007190-1003M00120","APS00007190-Tower Rock Stone Co-St.Genevieve, MO- Oolitic","1003M00120-Agg, Coarse - HMAC-Agg-CoarseHMAC-Tower Rock Stone -Oolitic","APS00007190","Tower Rock Stone Co-St.Genevieve, MO- Oolitic","1003M00120","AGGR","Agg, Coarse - HMAC","Agg-CoarseHMAC-Tower Rock Stone -Oolitic",20490101]
["AGGR-APS00007210","APS00007210-1003M00110","APS00007210-Triangle Aggregates, LLC-Jackson, AL","1003M00110-Agg, Fine  - HMAC-FnSandHMAC Triangle Aggs Jackson,AL","APS00007210","Triangle Aggregates, LLC-Jackson, AL","1003M00110","AGGR","Agg, Fine  - HMAC","FnSandHMAC Triangle Aggs Jackson,AL",20490101]
["AGGR-APS00007210","APS00007210-1003M00120","APS00007210-Triangle Aggregates, LLC-Jackson, AL","1003M00120-Agg, Coarse - HMAC-Agg, Coarse - HMAC - Triangle Aggs Inc","APS00007210","Triangle Aggregates, LLC-Jackson, AL","1003M00120","AGGR","Agg, Coarse - HMAC","Agg, Coarse - HMAC - Triangle Aggs Inc",20490101]
["AGGR-APS00007250","APS00007250-1003M00110","APS00007250-Trinity Materials-West Lockesburg, AR","1003M00110-Agg, Fine  - HMAC-FnSandHMAC TrinityMatlWestLockesburgAR","APS00007250","Trinity Materials-West Lockesburg, AR","1003M00110","AGGR","Agg, Fine  - HMAC","FnSandHMAC TrinityMatlWestLockesburgAR",20490101]
["AGGR-APS00007250","APS00007250-1003M00120","APS00007250-Trinity Materials-West Lockesburg, AR","1003M00120-Agg, Coarse - HMAC-Agg, Coarse-HMAC-TrinityMatlsWLockesburg","APS00007250","Trinity Materials-West Lockesburg, AR","1003M00120","AGGR","Agg, Coarse - HMAC","Agg, Coarse-HMAC-TrinityMatlsWLockesburg",20490101]
["AGGR-APS00007260","APS00007260-1003M00110","APS00007260-Martin Marietta - Bridgeport TX","1003M00110-Agg, Fine  - HMAC-FnSandHMAC MartinMariettaBridgeport","APS00007260","Martin Marietta - Bridgeport TX","1003M00110","AGGR","Agg, Fine  - HMAC","FnSandHMAC MartinMariettaBridgeport",20490101]
["AGGR-APS00007260","APS00007260-1003M00120","APS00007260-Martin Marietta - Bridgeport TX","1003M00120-Agg, Coarse - HMAC-Agg-CoarseHMAC-MartinMariettaBridgeport","APS00007260","Martin Marietta - Bridgeport TX","1003M00120","AGGR","Agg, Coarse - HMAC","Agg-CoarseHMAC-MartinMariettaBridgeport",20490101]
["AGGR-APS00007270","APS00007270-1003M00110","APS00007270-Martin Marietta - Perryville,LA","1003M00110-Agg, Fine  - HMAC-FnSandHMAC Martin Mar-Perryville","APS00007270","Martin Marietta - Perryville,LA","1003M00110","AGGR","Agg, Fine  - HMAC","FnSandHMAC Martin Mar-Perryville",20490101]
["AGGR-APS00007270","APS00007270-1003M00110","APS00007270-Martin Marietta - Perryville,LA","1003M00110-Agg, Fine  - HMAC-FnSandHMAC TXI-BastropLA","APS00007270","Martin Marietta - Perryville,LA","1003M00110","AGGR","Agg, Fine  - HMAC","FnSandHMAC TXI-BastropLA",20490101]
["AGGR-APS00007270","APS00007270-1003M00120","APS00007270-Martin Marietta - Perryville,LA","1003M00120-Agg, Coarse - HMAC-Agg, Coarse - HMAC - TXI -Bastrop","APS00007270","Martin Marietta - Perryville,LA","1003M00120","AGGR","Agg, Coarse - HMAC","Agg, Coarse - HMAC - TXI -Bastrop",20150511]
["AGGR-APS00007290","APS00007290-1003M00110","APS00007290-Martin Marietta - Jena, LA","1003M00110-Agg, Fine  - HMAC-FnSandHMAC Martin Mar - Jena","APS00007290","Martin Marietta - Jena, LA","1003M00110","AGGR","Agg, Fine  - HMAC","FnSandHMAC Martin Mar - Jena",20490101]
["AGGR-APS00007290","APS00007290-1003M00110","APS00007290-Martin Marietta - Jena, LA","1003M00110-Agg, Fine  - HMAC-FnSandHMAC TXI-JenaLA","APS00007290","Martin Marietta - Jena, LA","1003M00110","AGGR","Agg, Fine  - HMAC","FnSandHMAC TXI-JenaLA",20490101]
["AGGR-APS00007290","APS00007290-1003M00120","APS00007290-Martin Marietta - Jena, LA","1003M00120-Agg, Coarse - HMAC-Agg, Coarse - HMAC - Martin Mar - Jena","APS00007290","Martin Marietta - Jena, LA","1003M00120","AGGR","Agg, Coarse - HMAC","Agg, Coarse - HMAC - Martin Mar - Jena",20490101]
["AGGR-APS00007290","APS00007290-1003M00120","APS00007290-Martin Marietta - Jena, LA","1003M00120-Agg, Coarse - HMAC-Agg, Coarse - HMAC - TXI - Jena","APS00007290","Martin Marietta - Jena, LA","1003M00120","AGGR","Agg, Coarse - HMAC","Agg, Coarse - HMAC - TXI - Jena",20490101]
["AGGR-APS00007300","APS00007300-1003M00110","APS00007300-Martin Marietta - Woodworth, LA","1003M00110-Agg, Fine  - HMAC-FnSandHMAC TXI-WoodworthLA","APS00007300","Martin Marietta - Woodworth, LA","1003M00110","AGGR","Agg, Fine  - HMAC","FnSandHMAC TXI-WoodworthLA",20190116]
["AGGR-APS00007300","APS00007300-1003M00110","APS00007300-Martin Marietta - Woodworth, LA","1003M00110-Agg, Fine  - HMAC-rFnSandHMAC MartinMarWoodworth","APS00007300","Martin Marietta - Woodworth, LA","1003M00110","AGGR","Agg, Fine  - HMAC","rFnSandHMAC MartinMarWoodworth",20490101]
["AGGR-APS00007300","APS00007300-1003M00120","APS00007300-Martin Marietta - Woodworth, LA","1003M00120-Agg, Coarse - HMAC-Agg, Coarse - HMAC - TXI - Woodwoorth","APS00007300","Martin Marietta - Woodworth, LA","1003M00120","AGGR","Agg, Coarse - HMAC","Agg, Coarse - HMAC - TXI - Woodwoorth",20190116]
["AGGR-APS00007300","APS00007300-1003M00120","APS00007300-Martin Marietta - Woodworth, LA","1003M00120-Agg, Coarse - HMAC-Agg, Coarse -HMAC Martin Marr Woodwoorth","APS00007300","Martin Marietta - Woodworth, LA","1003M00120","AGGR","Agg, Coarse - HMAC","Agg, Coarse -HMAC Martin Marr Woodwoorth",20490101]
["AGGR-APS00007310","APS00007310-1003M00110","APS00007310-Vermillion Shell & Limestone Co. Inc.-Maurice, LA","1003M00110-Agg, Fine  - HMAC-FnSandHMAC VermillionShellMauriceLA","APS00007310","Vermillion Shell & Limestone Co. Inc.-Maurice, LA","1003M00110","AGGR","Agg, Fine  - HMAC","FnSandHMAC VermillionShellMauriceLA",20490101]
["AGGR-APS00007320","APS00007320-1003M00110","APS00007320-Village Sand, Inc.-Kinder, LA","1003M00110-Agg, Fine  - HMAC-FnSandHMAC VillageSandKinderLA","APS00007320","Village Sand, Inc.-Kinder, LA","1003M00110","AGGR","Agg, Fine  - HMAC","FnSandHMAC VillageSandKinderLA",20490101]
["AGGR-APS00007320","APS00007320-1003M00120","APS00007320-Village Sand, Inc.-Kinder, LA","1003M00120-Agg, Coarse - HMAC-Agg-CoarseHMAC-Village Sand, Inc-Kinder","APS00007320","Village Sand, Inc.-Kinder, LA","1003M00120","AGGR","Agg, Coarse - HMAC","Agg-CoarseHMAC-Village Sand, Inc-Kinder",20490101]
["AGGR-APS00007320","APS00007320-1003M00120","APS00007320-Village Sand, Inc.-Kinder, LA","1003M00120-Agg, Coarse - HMAC-Agg-CoarseHMAC-Vulcan Matls-Kinder, LA","APS00007320","Village Sand, Inc.-Kinder, LA","1003M00120","AGGR","Agg, Coarse - HMAC","Agg-CoarseHMAC-Vulcan Matls-Kinder, LA",20490101]
["AGGR-APS00007340","APS00007340-1003M00110","APS00007340-Vulcan Materials Co-Calera, AL","1003M00110-Agg, Fine  - HMAC-FnSandHMAC Vulcan Matls Co Calera","APS00007340","Vulcan Materials Co-Calera, AL","1003M00110","AGGR","Agg, Fine  - HMAC","FnSandHMAC Vulcan Matls Co Calera",20490101]
["AGGR-APS00007340","APS00007340-1003M00120","APS00007340-Vulcan Materials Co-Calera, AL","1003M00120-Agg, Coarse - HMAC-Agg-CoarseHMAC-Vulcan Matls-CaleraQuarry","APS00007340","Vulcan Materials Co-Calera, AL","1003M00120","AGGR","Agg, Coarse - HMAC","Agg-CoarseHMAC-Vulcan Matls-CaleraQuarry",20490101]
["AGGR-APS00007350","APS00007350-1003M00110","APS00007350-Vulcan Materials Co-Cancun, MEX","1003M00110-Agg, Fine  - HMAC-FnSandHMAC  Vulcan Matls Mexico","APS00007350","Vulcan Materials Co-Cancun, MEX","1003M00110","AGGR","Agg, Fine  - HMAC","FnSandHMAC  Vulcan Matls Mexico",20490101]
["AGGR-APS00007350","APS00007350-1003M00120","APS00007350-Vulcan Materials Co-Cancun, MEX","1003M00120-Agg, Coarse - HMAC-Agg-CoarseHMAC-Vulcan Matls-CancunSactun","APS00007350","Vulcan Materials Co-Cancun, MEX","1003M00120","AGGR","Agg, Coarse - HMAC","Agg-CoarseHMAC-Vulcan Matls-CancunSactun",20490101]
["AGGR-APS00007380","APS00007380-1003M00110","APS00007380-Vulcan Materials Co-Grand Rivers,KY- Ft Payne","1003M00110-Agg, Fine  - HMAC-FnSandHMAC Vulcan Matls - Ft. Payne","APS00007380","Vulcan Materials Co-Grand Rivers,KY- Ft Payne","1003M00110","AGGR","Agg, Fine  - HMAC","FnSandHMAC Vulcan Matls - Ft. Payne",20150728]
["AGGR-APS00007380","APS00007380-1003M00110","APS00007380-Vulcan Materials Co-Grand Rivers,KY- Ft Payne","1003M00110-Agg, Fine  - HMAC-FnSandHMAC Vulcan Matls Ft. Payne","APS00007380","Vulcan Materials Co-Grand Rivers,KY- Ft Payne","1003M00110","AGGR","Agg, Fine  - HMAC","FnSandHMAC Vulcan Matls Ft. Payne",20490101]
["AGGR-APS00007380","APS00007380-1003M00120","APS00007380-Vulcan Materials Co-Grand Rivers,KY- Ft Payne","1003M00120-Agg, Coarse - HMAC-Agg, Coarse - HMAC - VulcanMatlsFtPayne","APS00007380","Vulcan Materials Co-Grand Rivers,KY- Ft Payne","1003M00120","AGGR","Agg, Coarse - HMAC","Agg, Coarse - HMAC - VulcanMatlsFtPayne",20490101]
["AGGR-APS00007380","APS00007380-1003M00120","APS00007380-Vulcan Materials Co-Grand Rivers,KY- Ft Payne","1003M00120-Agg, Coarse - HMAC-Agg.CoarseHMAC VulcanMatls - Ft Payne","APS00007380","Vulcan Materials Co-Grand Rivers,KY- Ft Payne","1003M00120","AGGR","Agg, Coarse - HMAC","Agg.CoarseHMAC VulcanMatls - Ft Payne",20150728]
["AGGR-APS00007390","APS00007390-1003M00110","APS00007390-Vulcan Materials Co-Grand Rivers,KY- Warsaw","1003M00110-Agg, Fine  - HMAC-FnSandHMAC Vulcan Matls Warsaw","APS00007390","Vulcan Materials Co-Grand Rivers,KY- Warsaw","1003M00110","AGGR","Agg, Fine  - HMAC","FnSandHMAC Vulcan Matls Warsaw",20490101]
["AGGR-APS00007390","APS00007390-1003M00120","APS00007390-Vulcan Materials Co-Grand Rivers,KY- Warsaw","1003M00120-Agg, Coarse - HMAC-Agg-CoarseHMAC-Vulcan Matls-Warsaw","APS00007390","Vulcan Materials Co-Grand Rivers,KY- Warsaw","1003M00120","AGGR","Agg, Coarse - HMAC","Agg-CoarseHMAC-Vulcan Matls-Warsaw",20490101]
["AGGR-APS00007430","APS00007430-1003M00110","APS00007430-Vulcan Materials Co-Tuscumbia, AL- Pride Quarry","1003M00110-Agg, Fine  - HMAC-FnSandHMAC Vulcan Matls Pride Tuscambia","APS00007430","Vulcan Materials Co-Tuscumbia, AL- Pride Quarry","1003M00110","AGGR","Agg, Fine  - HMAC","FnSandHMAC Vulcan Matls Pride Tuscambia",20490101]
["AGGR-APS00007430","APS00007430-1003M00120","APS00007430-Vulcan Materials Co-Tuscumbia, AL- Pride Quarry","1003M00120-Agg, Coarse - HMAC-Agg-CoarseHMAC-Vulcan Matls-Pride Quarry","APS00007430","Vulcan Materials Co-Tuscumbia, AL- Pride Quarry","1003M00120","AGGR","Agg, Coarse - HMAC","Agg-CoarseHMAC-Vulcan Matls-Pride Quarry",20490101]
["AGGR-APS00007450","APS00007450-1003M00110","APS00007450-Vulcan Materials Co-Trinity, AL","1003M00110-Agg, Fine  - HMAC-FnSandHMAC Vulcan Matls Trinity Plant","APS00007450","Vulcan Materials Co-Trinity, AL","1003M00110","AGGR","Agg, Fine  - HMAC","FnSandHMAC Vulcan Matls Trinity Plant",20490101]
["AGGR-APS00007450","APS00007450-1003M00120","APS00007450-Vulcan Materials Co-Trinity, AL","1003M00120-Agg, Coarse - HMAC-Agg-CoarseHMAC-Vulcan Matls-Trinity, AL","APS00007450","Vulcan Materials Co-Trinity, AL","1003M00120","AGGR","Agg, Coarse - HMAC","Agg-CoarseHMAC-Vulcan Matls-Trinity, AL",20490101]
["AGGR-APS00007480","APS00007480-1003M00110","APS00007480-Warren Paving-Salem, KY-Slats Lucas Quarry","1003M00110-Agg, Fine  - HMAC-FnSandHMAC Warren Paving Lucas quarry","APS00007480","Warren Paving-Salem, KY-Slats Lucas Quarry","1003M00110","AGGR","Agg, Fine  - HMAC","FnSandHMAC Warren Paving Lucas quarry",20490101]
["AGGR-APS00007480","APS00007480-1003M00120","APS00007480-Warren Paving-Salem, KY-Slats Lucas Quarry","1003M00120-Agg, Coarse - HMAC-Agg-CoarseHMAC-Warren Paving-Slats Lucas","APS00007480","Warren Paving-Salem, KY-Slats Lucas Quarry","1003M00120","AGGR","Agg, Coarse - HMAC","Agg-CoarseHMAC-Warren Paving-Slats Lucas",20490101]
["AGGR-APS00007490","APS00007490-1003M00110","APS00007490-Willis Sand & Gravel-Bogalusa, LA","1003M00110-Agg, Fine  - HMAC-FnSandHMAC WillisSndGrvlBogalusaLA","APS00007490","Willis Sand & Gravel-Bogalusa, LA","1003M00110","AGGR","Agg, Fine  - HMAC","FnSandHMAC WillisSndGrvlBogalusaLA",20490101]
["AGGR-APS00007490","APS00007490-1003M00120","APS00007490-Willis Sand & Gravel-Bogalusa, LA","1003M00120-Agg, Coarse - HMAC-Agg, Coarse - HMAC - Willis Sand&Gravel","APS00007490","Willis Sand & Gravel-Bogalusa, LA","1003M00120","AGGR","Agg, Coarse - HMAC","Agg, Coarse - HMAC - Willis Sand&Gravel",20490101]
["AGGR-APS00007500","APS00007500-1003M00110","APS00007500-Winn Materials, Inc.-Clarksville, TN","1003M00110-Agg, Fine  - HMAC-FnSandHMAC Winn Materials Clarksville","APS00007500","Winn Materials, Inc.-Clarksville, TN","1003M00110","AGGR","Agg, Fine  - HMAC","FnSandHMAC Winn Materials Clarksville",20490101]
[{"$f":"H323&\"-\"&E323","v":"AGGR-APS00007500"},{"$f":"E323&\"-\"&G323","v":"APS00007500-1003M00120"},{"$f":"E323&\"-\"&F323","v":"APS00007500-Winn Materials, Inc.-Clarksville, TN"},{"$f":"G323&\"-\"&I323&IF(J323<>\"\", \"-\"&J323, \"\")","v":"1003M00120-Agg, Coarse - HMAC-Agg-CoarseHMAC-Winn Matls,IncClarksville"},"APS00007500","Winn Materials, Inc.-Clarksville, TN","1003M00120","AGGR","Agg, Coarse - HMAC","Agg-CoarseHMAC-Winn Matls,IncClarksville",20490101]
["AGGR-APS00007510","APS00007510-1003M00110","APS00007510-Wooten Sand & Gravel-Fouke,AR","1003M00110-Agg, Fine  - HMAC-FnSandHMAC WootenSandGravelFoukeAR","APS00007510","Wooten Sand & Gravel-Fouke,AR","1003M00110","AGGR","Agg, Fine  - HMAC","FnSandHMAC WootenSandGravelFoukeAR",20490101]
["AGGR-APS00007510","APS00007510-1003M00120","APS00007510-Wooten Sand & Gravel-Fouke,AR","1003M00120-Agg, Coarse - HMAC-Agg, Coarse - HMAC - Wooten Sand&Gravel","APS00007510","Wooten Sand & Gravel-Fouke,AR","1003M00120","AGGR","Agg, Coarse - HMAC","Agg, Coarse - HMAC - Wooten Sand&Gravel",20490101]
["AGGR-APS00007520","APS00007520-1003M00110","APS00007520-Delta Materials - Marble Falls, TX","1003M00110-Agg, Fine  - HMAC-FnSandHMAC Delta Materials Fairland","APS00007520","Delta Materials - Marble Falls, TX","1003M00110","AGGR","Agg, Fine  - HMAC","FnSandHMAC Delta Materials Fairland",20490101]
["AGGR-APS00007520","APS00007520-1003M00110","APS00007520-Delta Materials - Marble Falls, TX","1003M00110-Agg, Fine  - HMAC-FnSandHMAC Delta Matls - Marble Falls","APS00007520","Delta Materials - Marble Falls, TX","1003M00110","AGGR","Agg, Fine  - HMAC","FnSandHMAC Delta Matls - Marble Falls",20150601]
["AGGR-APS00007520","APS00007520-1003M00120","APS00007520-Delta Materials - Marble Falls, TX","1003M00120-Agg, Coarse - HMAC-Agg-CoarseHMAC-Delta Matls (Fairland)","APS00007520","Delta Materials - Marble Falls, TX","1003M00120","AGGR","Agg, Coarse - HMAC","Agg-CoarseHMAC-Delta Matls (Fairland)",20490101]
["AGGR-APS00011330","APS00011330-1003M00110","APS00011330-Blount Brothers Construction, Inc. -Shreveport, LA","1003M00110-Agg, Fine  - HMAC-FnSandHMAC BlountBrosShreveport","APS00011330","Blount Brothers Construction, Inc. -Shreveport, LA","1003M00110","AGGR","Agg, Fine  - HMAC","FnSandHMAC BlountBrosShreveport",20490101]
["AGGR-APS00011340","APS00011340-1003M00110","APS00011340-BMS, LLC - Amite, LA","1003M00110-Agg, Fine  - HMAC-FnSnadHMAC BMSLLC - Amite","APS00011340","BMS, LLC - Amite, LA","1003M00110","AGGR","Agg, Fine  - HMAC","FnSnadHMAC BMSLLC - Amite",20490101]
["AGGR-APS00011340","APS00011340-1003M00120","APS00011340-BMS, LLC - Amite, LA","1003M00120-Agg, Coarse - HMAC-Agg, Coarse - HMAC BMX, LLC (Amite) ","APS00011340","BMS, LLC - Amite, LA","1003M00120","AGGR","Agg, Coarse - HMAC","Agg, Coarse - HMAC BMX, LLC (Amite) ",20490101]
["AGGR-APS00011350","APS00011350-1003M00110","APS00011350-Eastern Oklahoma Quarries, LLC - Spiro, OK","1003M00110-Agg, Fine  - HMAC-FnSandHMAC Eastern OK Quarries Spiro","APS00011350","Eastern Oklahoma Quarries, LLC - Spiro, OK","1003M00110","AGGR","Agg, Fine  - HMAC","FnSandHMAC Eastern OK Quarries Spiro",20490101]
["AGGR-APS00011360","APS00011360-1003M00110","APS00011360-Shale Support Holdings, LLC - Nicholson, MS","1003M00110-Agg, Fine  - HMAC-FnSandHMAC FRAC Diamond Agg Nicholson","APS00011360","Shale Support Holdings, LLC - Nicholson, MS","1003M00110","AGGR","Agg, Fine  - HMAC","FnSandHMAC FRAC Diamond Agg Nicholson",20160719]
["AGGR-APS00011360","APS00011360-1003M00110","APS00011360-Shale Support Holdings, LLC - Nicholson, MS","1003M00110-Agg, Fine  - HMAC-FnSandHMAC Shale Supp Hldgs Nicholson","APS00011360","Shale Support Holdings, LLC - Nicholson, MS","1003M00110","AGGR","Agg, Fine  - HMAC","FnSandHMAC Shale Supp Hldgs Nicholson",20490101]
["AGGR-APS00011360","APS00011360-1003M00120","APS00011360-Shale Support Holdings, LLC - Nicholson, MS","1003M00120-Agg, Coarse - HMAC-Agg, Coarse HMAC - FRAC Diamond","APS00011360","Shale Support Holdings, LLC - Nicholson, MS","1003M00120","AGGR","Agg, Coarse - HMAC","Agg, Coarse HMAC - FRAC Diamond",20160719]
["AGGR-APS00011360","APS00011360-1003M00120","APS00011360-Shale Support Holdings, LLC - Nicholson, MS","1003M00120-Agg, Coarse - HMAC-Agg, Coarse-HMAC ShaleSuppHldgs Nic'son","APS00011360","Shale Support Holdings, LLC - Nicholson, MS","1003M00120","AGGR","Agg, Coarse - HMAC","Agg, Coarse-HMAC ShaleSuppHldgs Nic'son",20490101]
["AGGR-APS00011380","APS00011380-1003M00110","APS00011380-South Gate Aggregates, LLC - Nicholson, MS","1003M00110-Agg, Fine  - HMAC-FnSandHMAC SGate Agg Burge NicholsonMS","APS00011380","South Gate Aggregates, LLC - Nicholson, MS","1003M00110","AGGR","Agg, Fine  - HMAC","FnSandHMAC SGate Agg Burge NicholsonMS",20490101]
["AGGR-APS00011380","APS00011380-1003M00120","APS00011380-South Gate Aggregates, LLC - Nicholson, MS","1003M00120-Agg, Coarse - HMAC-Agg, Coarse - HMAC - South Gate Aggs","APS00011380","South Gate Aggregates, LLC - Nicholson, MS","1003M00120","AGGR","Agg, Coarse - HMAC","Agg, Coarse - HMAC - South Gate Aggs",20490101]
["AGGR-APS00011410","APS00011410-1003M00110","APS00011410-Hard Rock Sand & Gravel LLC - Franklinton, LA - #1","1003M00110-Agg, Fine  - HMAC-FnSandHMAC HardRockS&G#2 Franklinton","APS00011410","Hard Rock Sand & Gravel LLC - Franklinton, LA - #1","1003M00110","AGGR","Agg, Fine  - HMAC","FnSandHMAC HardRockS&G#2 Franklinton",20490101]
["AGGR-APS00011410","APS00011410-1003M00120","APS00011410-Hard Rock Sand & Gravel LLC - Franklinton, LA - #1","1003M00120-Agg, Coarse - HMAC-Agg, Coarse -HMAC-Hard Rock S&G #1","APS00011410","Hard Rock Sand & Gravel LLC - Franklinton, LA - #1","1003M00120","AGGR","Agg, Coarse - HMAC","Agg, Coarse -HMAC-Hard Rock S&G #1",20490101]
["AGGR-APS00011430","APS00011430-1003M00110","APS00011430-APAC - Brickey's Stone-Bloomsdale, MO - Plattin","1003M00110-Agg, Fine  - HMAC-FnSandHMAC APAC Brickeys Stn Plattin","APS00011430","APAC - Brickey's Stone-Bloomsdale, MO - Plattin","1003M00110","AGGR","Agg, Fine  - HMAC","FnSandHMAC APAC Brickeys Stn Plattin",20150528]
["AGGR-APS00011430","APS00011430-1003M00110","APS00011430-APAC - Brickey's Stone-Bloomsdale, MO - Plattin","1003M00110-Agg, Fine  - HMAC-FnSandHMAC APACBrickey'sStone Plattin","APS00011430","APAC - Brickey's Stone-Bloomsdale, MO - Plattin","1003M00110","AGGR","Agg, Fine  - HMAC","FnSandHMAC APACBrickey'sStone Plattin",20490101]
["AGGR-APS00011430","APS00011430-1003M00120","APS00011430-APAC - Brickey's Stone-Bloomsdale, MO - Plattin","1003M00120-Agg, Coarse - HMAC-Agg-CoarseHMAC-APAC-Brickey'sStn-Plattin","APS00011430","APAC - Brickey's Stone-Bloomsdale, MO - Plattin","1003M00120","AGGR","Agg, Coarse - HMAC","Agg-CoarseHMAC-APAC-Brickey'sStn-Plattin",20490101]
["AGGR-APS00011450","APS00011450-1003M00110","APS00011450-Huey P. Stockstill, LLC- Nicholson, MS","1003M00110-Agg, Fine  - HMAC- FnSandHMAC Huey Stockstill-Nicholson","APS00011450","Huey P. Stockstill, LLC- Nicholson, MS","1003M00110","AGGR","Agg, Fine  - HMAC"," FnSandHMAC Huey Stockstill-Nicholson",20490101]
["AGGR-APS00011460","APS00011460-1003M00110","APS00011460-Hunt Gravel - Franklinton, LA","1003M00110-Agg, Fine  - HMAC-FnSandHMAC Hunt Gravel Franklinton","APS00011460","Hunt Gravel - Franklinton, LA","1003M00110","AGGR","Agg, Fine  - HMAC","FnSandHMAC Hunt Gravel Franklinton",20490101]
["AGGR-APS00011460","APS00011460-1003M00120","APS00011460-Hunt Gravel - Franklinton, LA","1003M00120-Agg, Coarse - HMAC-Agg, Coarse-HMAC-Hunt Gravel Franklinton","APS00011460","Hunt Gravel - Franklinton, LA","1003M00120","AGGR","Agg, Coarse - HMAC","Agg, Coarse-HMAC-Hunt Gravel Franklinton",20490101]
["AGGR-APS00011470","APS00011470-1003M00110","APS00011470-Eastern Oklahoma Quarries - Garland, AR","1003M00110-Agg, Fine  - HMAC-FnSandHMAC Eastern OK Quarries GarlandAR","APS00011470","Eastern Oklahoma Quarries - Garland, AR","1003M00110","AGGR","Agg, Fine  - HMAC","FnSandHMAC Eastern OK Quarries GarlandAR",20490101]
["AGGR-APS00011520","APS00011520-1003M00110","APS00011520-Industrial Mining Plant 5 - Tickfaw, LA","1003M00110-Agg, Fine  - HMAC-FnSandHMAC IndMinningPlt5-Tickfaw","APS00011520","Industrial Mining Plant 5 - Tickfaw, LA","1003M00110","AGGR","Agg, Fine  - HMAC","FnSandHMAC IndMinningPlt5-Tickfaw",20490101]
["AGGR-APS00011520","APS00011520-1003M00120","APS00011520-Industrial Mining Plant 5 - Tickfaw, LA","1003M00120-Agg, Coarse - HMAC-Agg, Coarse - HMAC Industrial Mining","APS00011520","Industrial Mining Plant 5 - Tickfaw, LA","1003M00120","AGGR","Agg, Coarse - HMAC","Agg, Coarse - HMAC Industrial Mining",20490101]
["AGGR-APS00011620","APS00011620-1003M00110","APS00011620-Central Stone Co - Farmington, MO","1003M00110-Agg, Fine  - HMAC-FnSandHMAC Central Stone Butler Hill","APS00011620","Central Stone Co - Farmington, MO","1003M00110","AGGR","Agg, Fine  - HMAC","FnSandHMAC Central Stone Butler Hill",20490101]
["AGGR-APS00011620","APS00011620-1003M00110","APS00011620-Central Stone Co - Farmington, MO","1003M00110-Agg, Fine  - HMAC-FnSandHMAC Central Stone Farmington","APS00011620","Central Stone Co - Farmington, MO","1003M00110","AGGR","Agg, Fine  - HMAC","FnSandHMAC Central Stone Farmington",20150601]
["AGGR-APS00011620","APS00011620-1003M00120","APS00011620-Central Stone Co - Farmington, MO","1003M00120-Agg, Coarse - HMAC-Agg, Coarse - HMAC- Central Stone Co","APS00011620","Central Stone Co - Farmington, MO","1003M00120","AGGR","Agg, Coarse - HMAC","Agg, Coarse - HMAC- Central Stone Co",20490101]
["AGGR-APS00011630","APS00011630-1003M00110","APS00011630-Hanson Aggregate - Ennis, TX","1003M00110-Agg, Fine  - HMAC-FnSandHMAC HansonAgg Bristol Ennis","APS00011630","Hanson Aggregate - Ennis, TX","1003M00110","AGGR","Agg, Fine  - HMAC","FnSandHMAC HansonAgg Bristol Ennis",20150520]
["AGGR-APS00011640","APS00011640-1003M00110","APS00011640-Fleniken Sand & Gravel Inc - Clinton, LA","1003M00110-Agg, Fine  - HMAC-FnSandHMAC BarberBros Clinton","APS00011640","Fleniken Sand & Gravel Inc - Clinton, LA","1003M00110","AGGR","Agg, Fine  - HMAC","FnSandHMAC BarberBros Clinton",20490101]
["AGGR-APS00011640","APS00011640-1003M00120","APS00011640-Fleniken Sand & Gravel Inc - Clinton, LA","1003M00120-Agg, Coarse - HMAC-Agg, Coarse - HMAC- Barber Bros.-Clinton","APS00011640","Fleniken Sand & Gravel Inc - Clinton, LA","1003M00120","AGGR","Agg, Coarse - HMAC","Agg, Coarse - HMAC- Barber Bros.-Clinton",20490101]
["AGGR-APS00011650","APS00011650-1003M00110","APS00011650-Dolese Bros-St.HelenaSand&Gravel - Pine Grove, LA","1003M00110-Agg, Fine  - HMAC-FnSandHMAC DoleseBro Pine Grove","APS00011650","Dolese Bros-St.HelenaSand&Gravel - Pine Grove, LA","1003M00110","AGGR","Agg, Fine  - HMAC","FnSandHMAC DoleseBro Pine Grove",20200829]
["AGGR-APS00011650","APS00011650-1003M00120","APS00011650-Dolese Bros-St.HelenaSand&Gravel - Pine Grove, LA","1003M00120-Agg, Coarse - HMAC-Agg, Coarse - HMAC - Dolese Bros","APS00011650","Dolese Bros-St.HelenaSand&Gravel - Pine Grove, LA","1003M00120","AGGR","Agg, Coarse - HMAC","Agg, Coarse - HMAC - Dolese Bros",20200829]
["AGGR-APS00011660","APS00011660-1003M00110","APS00011660-Perero Co. DBA-DND Landscape - Broussard, LA","1003M00110-Agg, Fine  - HMAC-FnSandHMAC Perero Co DND Landscape","APS00011660","Perero Co. DBA-DND Landscape - Broussard, LA","1003M00110","AGGR","Agg, Fine  - HMAC","FnSandHMAC Perero Co DND Landscape",20490101]
["AGGR-APS00011680","APS00011680-1003M00110","APS00011680-Larry Grayson & Son Trucking, LLC -Forest Hill, LA","1003M00110-Agg, Fine  - HMAC-FnSandHMAC Larry Grayson&Son-Ahtus Pit","APS00011680","Larry Grayson & Son Trucking, LLC -Forest Hill, LA","1003M00110","AGGR","Agg, Fine  - HMAC","FnSandHMAC Larry Grayson&Son-Ahtus Pit",20490101]
["AGGR-APS00011680","APS00011680-1003M00120","APS00011680-Larry Grayson & Son Trucking, LLC -Forest Hill, LA","1003M00120-Agg, Coarse - HMAC-Agg, Coarse - HMAC - Larry Grayson","APS00011680","Larry Grayson & Son Trucking, LLC -Forest Hill, LA","1003M00120","AGGR","Agg, Coarse - HMAC","Agg, Coarse - HMAC - Larry Grayson",20490101]
["AGGR-APS00011690","APS00011690-1003M00110","APS00011690-Hammett & Green Aggregates - Vicksburg, MS","1003M00110-Agg, Fine  - HMAC-FnSandHMAC Hammett&Green Vicksburg","APS00011690","Hammett & Green Aggregates - Vicksburg, MS","1003M00110","AGGR","Agg, Fine  - HMAC","FnSandHMAC Hammett&Green Vicksburg",20490101]
["AGGR-APS00011690","APS00011690-1003M00120","APS00011690-Hammett & Green Aggregates - Vicksburg, MS","1003M00120-Agg, Coarse - HMAC-Agg, Coarse - HMAC-Hamm&GreenAgg Vicksbg","APS00011690","Hammett & Green Aggregates - Vicksburg, MS","1003M00120","AGGR","Agg, Coarse - HMAC","Agg, Coarse - HMAC-Hamm&GreenAgg Vicksbg",20490101]
["AGGR-APS00011700","APS00011700-1003M00110","APS00011700-Madden Roseland, LA Gravel Pit - Roseland, LA","1003M00110-Agg, Fine  - HMAC-FnSandHMAC DiamondB Drude Roseland","APS00011700","Madden Roseland, LA Gravel Pit - Roseland, LA","1003M00110","AGGR","Agg, Fine  - HMAC","FnSandHMAC DiamondB Drude Roseland",20221117]
["AGGR-APS00011700","APS00011700-1003M00110","APS00011700-Madden Roseland, LA Gravel Pit - Roseland, LA","1003M00110-Agg, Fine  - HMAC-FnSandHMAC Madden Roseland Grav Pit","APS00011700","Madden Roseland, LA Gravel Pit - Roseland, LA","1003M00110","AGGR","Agg, Fine  - HMAC","FnSandHMAC Madden Roseland Grav Pit",20490101]
["AGGR-APS00011700","APS00011700-1003M00120","APS00011700-Madden Roseland, LA Gravel Pit - Roseland, LA","1003M00120-Agg, Coarse - HMAC-Agg, Coarse - HMAC - Diamond B(Roseland)","APS00011700","Madden Roseland, LA Gravel Pit - Roseland, LA","1003M00120","AGGR","Agg, Coarse - HMAC","Agg, Coarse - HMAC - Diamond B(Roseland)",20221117]
["AGGR-APS00011700","APS00011700-1003M00120","APS00011700-Madden Roseland, LA Gravel Pit - Roseland, LA","1003M00120-Agg, Coarse - HMAC-Agg, Coarse - HMAC -Madden Roseland","APS00011700","Madden Roseland, LA Gravel Pit - Roseland, LA","1003M00120","AGGR","Agg, Coarse - HMAC","Agg, Coarse - HMAC -Madden Roseland",20490101]
["AGGR-APS00011710","APS00011710-1003M00110","APS00011710-Diamond B Construction Co.,LLC - Boyce, LA","1003M00110-Agg, Fine  - HMAC-FnSandHMAC Dia B Wells/Gard Boyce","APS00011710","Diamond B Construction Co.,LLC - Boyce, LA","1003M00110","AGGR","Agg, Fine  - HMAC","FnSandHMAC Dia B Wells/Gard Boyce",20490101]
["AGGR-APS00011720","APS00011720-1003M00110","APS00011720-Diamond B Construction Co., LLC  Woodworth, LA","1003M00110-Agg, Fine  - HMAC-FnSandHMAC Diamond B Woodworth","APS00011720","Diamond B Construction Co., LLC  Woodworth, LA","1003M00110","AGGR","Agg, Fine  - HMAC","FnSandHMAC Diamond B Woodworth",20490101]
["AGGR-APS00011760","APS00011760-1003M00110","APS00011760-Lafayette Sand & Fill - Lafayette, LA","1003M00110-Agg, Fine  - HMAC-FnSandHMAC Lafayette Sand&Fill-Carencro","APS00011760","Lafayette Sand & Fill - Lafayette, LA","1003M00110","AGGR","Agg, Fine  - HMAC","FnSandHMAC Lafayette Sand&Fill-Carencro",20490101]
["AGGR-APS00011790","APS00011790-1003M00110","APS00011790-Southern Aggregates - Amite, LA - #9","1003M00110-Agg, Fine  - HMAC-FnSandHMAC Southern Aggs - Amite","APS00011790","Southern Aggregates - Amite, LA - #9","1003M00110","AGGR","Agg, Fine  - HMAC","FnSandHMAC Southern Aggs - Amite",20200529]
["AGGR-APS00011790","APS00011790-1003M00120","APS00011790-Southern Aggregates - Amite, LA - #9","1003M00120-Agg, Coarse - HMAC-Agg, Coarse - HMAC - Southern Aggs #9","APS00011790","Southern Aggregates - Amite, LA - #9","1003M00120","AGGR","Agg, Coarse - HMAC","Agg, Coarse - HMAC - Southern Aggs #9",20200529]
["AGGR-APS00011800","APS00011800-1003M00110","APS00011800-Bunch's Sand and Gravel #2 - Greensburg, LA","1003M00110-Agg, Fine  - HMAC-FnSandHMAC Bunch Gravel#2 Grnsburg","APS00011800","Bunch's Sand and Gravel #2 - Greensburg, LA","1003M00110","AGGR","Agg, Fine  - HMAC","FnSandHMAC Bunch Gravel#2 Grnsburg",20490101]
["AGGR-APS00011800","APS00011800-1003M00120","APS00011800-Bunch's Sand and Gravel #2 - Greensburg, LA","1003M00120-Agg, Coarse - HMAC-Agg, Coarse - HMAC-Bunch's Gravel(Grnbg)","APS00011800","Bunch's Sand and Gravel #2 - Greensburg, LA","1003M00120","AGGR","Agg, Coarse - HMAC","Agg, Coarse - HMAC-Bunch's Gravel(Grnbg)",20490101]
["AGGR-APS00011810","APS00011810-1003M00110","APS00011810-Amberg Construction - Olla, LA","1003M00110-Agg, Fine  - HMAC-FnSandHMAC Amberg Constr-Aiwell-Olla","APS00011810","Amberg Construction - Olla, LA","1003M00110","AGGR","Agg, Fine  - HMAC","FnSandHMAC Amberg Constr-Aiwell-Olla",20220104]
["AGGR-APS00011810","APS00011810-1003M00120","APS00011810-Amberg Construction - Olla, LA","1003M00120-Agg, Coarse - HMAC-Agg, Coarse - HMAC  AmbergConstr Aimwell","APS00011810","Amberg Construction - Olla, LA","1003M00120","AGGR","Agg, Coarse - HMAC","Agg, Coarse - HMAC  AmbergConstr Aimwell",20220104]
["AGGR-APS00011870","APS00011870-1003M00110","APS00011870-Lafarge Aggregates-Smithland, KY-Three Rivers-S1","1003M00110-Agg, Fine  - HMAC-FnSandHMAC  Lafarge N. A. Pit #1 BenchS1","APS00011870","Lafarge Aggregates-Smithland, KY-Three Rivers-S1","1003M00110","AGGR","Agg, Fine  - HMAC","FnSandHMAC  Lafarge N. A. Pit #1 BenchS1",20490101]
["AGGR-APS00011870","APS00011870-1003M00110","APS00011870-Lafarge Aggregates-Smithland, KY-Three Rivers-S1","1003M00110-Agg, Fine  - HMAC-FnSandHMAC LafargeN.A.3RvrsS1-Smithland","APS00011870","Lafarge Aggregates-Smithland, KY-Three Rivers-S1","1003M00110","AGGR","Agg, Fine  - HMAC","FnSandHMAC LafargeN.A.3RvrsS1-Smithland",20150608]
["AGGR-APS00011870","APS00011870-1003M00120","APS00011870-Lafarge Aggregates-Smithland, KY-Three Rivers-S1","1003M00120-Agg, Coarse - HMAC-Agg.Coarse-HMAC Lafarge3RvrsS1-Smithland","APS00011870","Lafarge Aggregates-Smithland, KY-Three Rivers-S1","1003M00120","AGGR","Agg, Coarse - HMAC","Agg.Coarse-HMAC Lafarge3RvrsS1-Smithland",20220608]
["AGGR-APS00011910","APS00011910-1003M00110","APS00011910-Hat Creek Dirt Pit - Bossier City, LA","1003M00110-Agg, Fine  - HMAC-FnSandHMAC Hat Creek Dirt Pit - Bossier","APS00011910","Hat Creek Dirt Pit - Bossier City, LA","1003M00110","AGGR","Agg, Fine  - HMAC","FnSandHMAC Hat Creek Dirt Pit - Bossier",20490101]
["AGGR-APS00011920","APS00011920-1003M00110","APS00011920-Regional Sand & Gravel - Clinton, LA","1003M00110-Agg, Fine  - HMAC-FnSandHMAC Regional S&G Clinton","APS00011920","Regional Sand & Gravel - Clinton, LA","1003M00110","AGGR","Agg, Fine  - HMAC","FnSandHMAC Regional S&G Clinton",20490101]
["AGGR-APS00011920","APS00011920-1003M00120","APS00011920-Regional Sand & Gravel - Clinton, LA","1003M00120-Agg, Coarse - HMAC-Agg, Coarse - HMAC - Regional S&G","APS00011920","Regional Sand & Gravel - Clinton, LA","1003M00120","AGGR","Agg, Coarse - HMAC","Agg, Coarse - HMAC - Regional S&G",20490101]
["AGGR-APS00011940","APS00011940-1003M00110","APS00011940-Baldwin Redi-Mix Co. Inc.-Greensburg,H&LIsland Pit","1003M00110-Agg, Fine  - HMAC-FnSandHMAC Baldwin Redi-Mix-Grnbg","APS00011940","Baldwin Redi-Mix Co. Inc.-Greensburg,H&LIsland Pit","1003M00110","AGGR","Agg, Fine  - HMAC","FnSandHMAC Baldwin Redi-Mix-Grnbg",20490101]
["AGGR-APS00011940","APS00011940-1003M00120","APS00011940-Baldwin Redi-Mix Co. Inc.-Greensburg,H&LIsland Pit","1003M00120-Agg, Coarse - HMAC-Agg.Coarse-HMAC Baldwin Redi-Mix-Grnbg","APS00011940","Baldwin Redi-Mix Co. Inc.-Greensburg,H&LIsland Pit","1003M00120","AGGR","Agg, Coarse - HMAC","Agg.Coarse-HMAC Baldwin Redi-Mix-Grnbg",20490101]
["AGGR-APS00012000","APS00012000-1003M00110","APS00012000-Red Hawk Materials - Maurice, LA","1003M00110-Agg, Fine  - HMAC-FnSandHMAC Red Hawk Matls-Maurice","APS00012000","Red Hawk Materials - Maurice, LA","1003M00110","AGGR","Agg, Fine  - HMAC","FnSandHMAC Red Hawk Matls-Maurice",20490101]
["AGGR-APS00012100","APS00012100-1003M00110","APS00012100-Lake Area Materials, LLC - DeRidder","1003M00110-Agg, Fine  - HMAC- FnSandHMAC Lake Area Matls-DeRidder","APS00012100","Lake Area Materials, LLC - DeRidder","1003M00110","AGGR","Agg, Fine  - HMAC"," FnSandHMAC Lake Area Matls-DeRidder",20490101]
["AGGR-APS00012100","APS00012100-1003M00110","APS00012100-Lake Area Materials, LLC - DeRidder","1003M00110-Agg, Fine  - HMAC-FnSandHMAC Lake Area Materials-DeRidder","APS00012100","Lake Area Materials, LLC - DeRidder","1003M00110","AGGR","Agg, Fine  - HMAC","FnSandHMAC Lake Area Materials-DeRidder",20490101]
[{"$f":"H387&\"-\"&E387","v":"AGGR-APS00012100"},{"$f":"E387&\"-\"&G387","v":"APS00012100-1003M00120"},{"$f":"E387&\"-\"&F387","v":"APS00012100-Lake Area Materials, LLC - DeRidder"},{"$f":"G387&\"-\"&I387&IF(J387<>\"\", \"-\"&J387, \"\")","v":"1003M00120-Agg, Coarse - HMAC-Agg, Coarse-HMAC LakeAreaMatls Deridde4"},"APS00012100","Lake Area Materials, LLC - DeRidder","1003M00120","AGGR","Agg, Coarse - HMAC","Agg, Coarse-HMAC LakeAreaMatls Deridde4",20490101]
["AGGR-APS00012130","APS00012130-1003M00110","APS00012130-Tower Rock Stone Co-St.Genevieve, MO- Limestn Zn12","1003M00110-Agg, Fine  - HMAC-FnSandHMAC Tower Rock Limestone St. Gen","APS00012130","Tower Rock Stone Co-St.Genevieve, MO- Limestn Zn12","1003M00110","AGGR","Agg, Fine  - HMAC","FnSandHMAC Tower Rock Limestone St. Gen",20490101]
["AGGR-APS00012130","APS00012130-1003M00120","APS00012130-Tower Rock Stone Co-St.Genevieve, MO- Limestn Zn12","1003M00120-Agg, Coarse - HMAC-Agg, Coarse-HMAC Tower Rock Ledge 12","APS00012130","Tower Rock Stone Co-St.Genevieve, MO- Limestn Zn12","1003M00120","AGGR","Agg, Coarse - HMAC","Agg, Coarse-HMAC Tower Rock Ledge 12",20490101]
["AGGR-APS00012150","APS00012150-1003M00110","APS00012150-Trinity Materials, Inc. - Waco, TX","1003M00110-Agg, Fine  - HMAC-FnSandHMAC Trinity Materials Pit 1588","APS00012150","Trinity Materials, Inc. - Waco, TX","1003M00110","AGGR","Agg, Fine  - HMAC","FnSandHMAC Trinity Materials Pit 1588",20490101]
["AGGR-APS00012150","APS00012150-1003M00120","APS00012150-Trinity Materials, Inc. - Waco, TX","1003M00120-Agg, Coarse - HMAC-Agg, Coarse - HMAC Trinity Matls - Waco","APS00012150","Trinity Materials, Inc. - Waco, TX","1003M00120","AGGR","Agg, Coarse - HMAC","Agg, Coarse - HMAC Trinity Matls - Waco",20490101]
["AGGR-APS00012160","APS00012160-1003M00110","APS00012160-Dickerson & Bowen Co., Inc - Brookhaven, MS","1003M00110-Agg, Fine  - HMAC-FnSandHMAC Dickerson & Bowen Longhaven","APS00012160","Dickerson & Bowen Co., Inc - Brookhaven, MS","1003M00110","AGGR","Agg, Fine  - HMAC","FnSandHMAC Dickerson & Bowen Longhaven",20490101]
["AGGR-APS00012160","APS00012160-1003M00120","APS00012160-Dickerson & Bowen Co., Inc - Brookhaven, MS","1003M00120-Agg, Coarse - HMAC-Agg, Coarse - HMAC-Dick.&BowenBrookhaven","APS00012160","Dickerson & Bowen Co., Inc - Brookhaven, MS","1003M00120","AGGR","Agg, Coarse - HMAC","Agg, Coarse - HMAC-Dick.&BowenBrookhaven",20490101]
["AGGR-APS00012170","APS00012170-1003M00110","APS00012170-Red Hawk Materials, LLC - Carencro, LA","1003M00110-Agg, Fine  - HMAC-FnSandHMAC Red Hawk Materials Carencro","APS00012170","Red Hawk Materials, LLC - Carencro, LA","1003M00110","AGGR","Agg, Fine  - HMAC","FnSandHMAC Red Hawk Materials Carencro",20490101]
["AGGR-APS00012190","APS00012190-1003M00110","APS00012190-Elite Sand - Longville, LA","1003M00110-Agg, Fine  - HMAC-FnSandHMAC Elite Sand - Longville","APS00012190","Elite Sand - Longville, LA","1003M00110","AGGR","Agg, Fine  - HMAC","FnSandHMAC Elite Sand - Longville",20210919]
["AGGR-APS00012300","APS00012300-1003M00110","APS00012300-Vulcan Materials Co-West Loachapoka, AL","1003M00110-Agg, Fine  - HMAC-FnSandHMAC Vulcan Matls Notsulga Quarry","APS00012300","Vulcan Materials Co-West Loachapoka, AL","1003M00110","AGGR","Agg, Fine  - HMAC","FnSandHMAC Vulcan Matls Notsulga Quarry",20490101]
["AGGR-APS00012300","APS00012300-1003M00120","APS00012300-Vulcan Materials Co-West Loachapoka, AL","1003M00120-Agg, Coarse - HMAC-Agg, Coarse-HMAC Vulcan Matls Notsulga","APS00012300","Vulcan Materials Co-West Loachapoka, AL","1003M00120","AGGR","Agg, Coarse - HMAC","Agg, Coarse-HMAC Vulcan Matls Notsulga",20490101]
["AGGR-APS00012310","APS00012310-1003M00110","APS00012310-SiteWurx Sand - Sibley, LA","1003M00110-Agg, Fine  - HMAC-FnSandHMAC SiteWurx Sand - Sibley","APS00012310","SiteWurx Sand - Sibley, LA","1003M00110","AGGR","Agg, Fine  - HMAC","FnSandHMAC SiteWurx Sand - Sibley",20490101]
["AGGR-APS00012320","APS00012320-1003M00110","APS00012320-Winn Materials of Kentucky-Grand Rivers,KY-Warsaw","1003M00110-Agg, Fine  - HMAC-FnSandHMAC Winn Matls of KY Warsaw","APS00012320","Winn Materials of Kentucky-Grand Rivers,KY-Warsaw","1003M00110","AGGR","Agg, Fine  - HMAC","FnSandHMAC Winn Matls of KY Warsaw",20490101]
["AGGR-APS00012320","APS00012320-1003M00120","APS00012320-Winn Materials of Kentucky-Grand Rivers,KY-Warsaw","1003M00120-Agg, Coarse - HMAC-Agg, Coarse-HMAC Winn Matls of KY Warsaw","APS00012320","Winn Materials of Kentucky-Grand Rivers,KY-Warsaw","1003M00120","AGGR","Agg, Coarse - HMAC","Agg, Coarse-HMAC Winn Matls of KY Warsaw",20490101]
["AGGR-APS00012340","APS00012340-1003M00110","APS00012340-River Road Rock - Franklinton, LA","1003M00110-Agg, Fine  - HMAC","APS00012340","River Road Rock - Franklinton, LA","1003M00110","AGGR","Agg, Fine  - HMAC"]
["AGGR-APS00012340","APS00012340-1003M00120","APS00012340-River Road Rock - Franklinton, LA","1003M00120-Agg, Coarse - HMAC-Agg, Coarse - HMAC - River Road Rock ","APS00012340","River Road Rock - Franklinton, LA","1003M00120","AGGR","Agg, Coarse - HMAC","Agg, Coarse - HMAC - River Road Rock ",20490101]
["AGGR-APS00012380","APS00012380-1003M00110","APS00012380-LeHigh Hanson - Garwood, TX","1003M00110-Agg, Fine  - HMAC-FnSandHMAC LeHigh Hanson - Garwood","APS00012380","LeHigh Hanson - Garwood, TX","1003M00110","AGGR","Agg, Fine  - HMAC","FnSandHMAC LeHigh Hanson - Garwood",20490101]
["AGGR-APS00012390","APS00012390-1003M00110","APS00012390-Gator Aggregates - Deridder, LA","1003M00110-Agg, Fine  - HMAC-FnSandHMAC Gator Aggs - Pippin-Deridder","APS00012390","Gator Aggregates - Deridder, LA","1003M00110","AGGR","Agg, Fine  - HMAC","FnSandHMAC Gator Aggs - Pippin-Deridder",20490101]
["AGGR-APS00012390","APS00012390-1003M00120","APS00012390-Gator Aggregates - Deridder, LA","1003M00120-Agg, Coarse - HMAC-Agg, Coarse-HMAC-Gator Aggs-Deridder","APS00012390","Gator Aggregates - Deridder, LA","1003M00120","AGGR","Agg, Coarse - HMAC","Agg, Coarse-HMAC-Gator Aggs-Deridder",20490101]
["AGGR-APS00012420","APS00012420-1003M00110","APS00012420-Tate Construction, LLC - Franklinton, LA","1003M00110-Agg, Fine  - HMAC-FnSandHMAC Tate Construction-Franklinton","APS00012420","Tate Construction, LLC - Franklinton, LA","1003M00110","AGGR","Agg, Fine  - HMAC","FnSandHMAC Tate Construction-Franklinton",20490101]
["AGGR-APS00012420","APS00012420-1003M00120","APS00012420-Tate Construction, LLC - Franklinton, LA","1003M00120-Agg, Coarse - HMAC-Agg, Coarse-HMAC-Tate Constr-Franklinton","APS00012420","Tate Construction, LLC - Franklinton, LA","1003M00120","AGGR","Agg, Coarse - HMAC","Agg, Coarse-HMAC-Tate Constr-Franklinton",20490101]
["AGGR-APS00012510","APS00012510-1003M00110","APS00012510-Industrial Aggregates, LLC - Covington, LA - #2","1003M00110-Agg, Fine  - HMAC-FnSandHMAC Industrial Aggs #2 Covingoton","APS00012510","Industrial Aggregates, LLC - Covington, LA - #2","1003M00110","AGGR","Agg, Fine  - HMAC","FnSandHMAC Industrial Aggs #2 Covingoton",20490101]
["AGGR-APS00012510","APS00012510-1003M00120","APS00012510-Industrial Aggregates, LLC - Covington, LA - #2","1003M00120-Agg, Coarse - HMAC-Agg, Coarse - HMAC - Industrial Aggs #2","APS00012510","Industrial Aggregates, LLC - Covington, LA - #2","1003M00120","AGGR","Agg, Coarse - HMAC","Agg, Coarse - HMAC - Industrial Aggs #2",20490101]
["AGGR-APS00012530","APS00012530-1003M00110","APS00012530-Dennis Stewart Equipment Rental,Inc Baton Rouge,LA","1003M00110-Agg, Fine  - HMAC-FnSandHMAC DennisStewartEqup Joor Rd-BR","APS00012530","Dennis Stewart Equipment Rental,Inc Baton Rouge,LA","1003M00110","AGGR","Agg, Fine  - HMAC","FnSandHMAC DennisStewartEqup Joor Rd-BR",20490101]
["AGGR-APS00012600","APS00012600-1003M00110","APS00012600-Martin Marietta - MMR - Hondo, TX","1003M00110-Agg, Fine  - HMAC-FnSandHMAC Martin Marietta Hondo","APS00012600","Martin Marietta - MMR - Hondo, TX","1003M00110","AGGR","Agg, Fine  - HMAC","FnSandHMAC Martin Marietta Hondo",20490101]
["AGGR-APS00012600","APS00012600-1003M00120","APS00012600-Martin Marietta - MMR - Hondo, TX","1003M00120-Agg, Coarse - HMAC-Agg, Coarse-HMAC-MartinMariettaHondo","APS00012600","Martin Marietta - MMR - Hondo, TX","1003M00120","AGGR","Agg, Coarse - HMAC","Agg, Coarse-HMAC-MartinMariettaHondo",20490101]
["AGGR-APS00012620","APS00012620-1003M00110","APS00012620-Industrial Aggregates - Franklinton, LA","1003M00110-Agg, Fine  - HMAC-FnSandHMAC Ind Agg PineCliff-Franklinton","APS00012620","Industrial Aggregates - Franklinton, LA","1003M00110","AGGR","Agg, Fine  - HMAC","FnSandHMAC Ind Agg PineCliff-Franklinton",20490101]
["AGGR-APS00012620","APS00012620-1003M00120","APS00012620-Industrial Aggregates - Franklinton, LA","1003M00120-Agg, Coarse - HMAC-Agg, Coarse HMAC-Ind Agg-Franklinton","APS00012620","Industrial Aggregates - Franklinton, LA","1003M00120","AGGR","Agg, Coarse - HMAC","Agg, Coarse HMAC-Ind Agg-Franklinton",20490101]
["AGGR-APS00012660","APS00012660-1003M00110","APS00012660-Skyplex Trucking -Bentley, LA","1003M00110-Agg, Fine  - HMAC-FnSandHMAC Skyplex Trucking - Natchitoch","APS00012660","Skyplex Trucking -Bentley, LA","1003M00110","AGGR","Agg, Fine  - HMAC","FnSandHMAC Skyplex Trucking - Natchitoch",20490101]
["AGGR-APS00012680","APS00012680-1003M00110","APS00012680-Warren Paving-Salem, KY-Lower Warsaw Formation","1003M00110-Agg, Fine  - HMAC-FnSandHMAC Warren Paving Lower Warsaw","APS00012680","Warren Paving-Salem, KY-Lower Warsaw Formation","1003M00110","AGGR","Agg, Fine  - HMAC","FnSandHMAC Warren Paving Lower Warsaw",20170522]
["AGGR-APS00012680","APS00012680-1003M00120","APS00012680-Warren Paving-Salem, KY-Lower Warsaw Formation","1003M00120-Agg, Coarse - HMAC-Agg, Coarse-Warren Paving Salem-Warsaw","APS00012680","Warren Paving-Salem, KY-Lower Warsaw Formation","1003M00120","AGGR","Agg, Coarse - HMAC","Agg, Coarse-Warren Paving Salem-Warsaw",20490101]
["AGGR-APS00012880","APS00012880-1003M00110","APS00012880-Lafarge Aggregates-Smithland, KY-Three Rivers-S2","1003M00110-Agg, Fine  - HMAC-FnSandHMAC Lafarge N.A. -SL Bench S2","APS00012880","Lafarge Aggregates-Smithland, KY-Three Rivers-S2","1003M00110","AGGR","Agg, Fine  - HMAC","FnSandHMAC Lafarge N.A. -SL Bench S2",20490101]
["AGGR-APS00012880","APS00012880-1003M00120","APS00012880-Lafarge Aggregates-Smithland, KY-Three Rivers-S2","1003M00120-Agg, Coarse - HMAC-Agg-CoarseHMAC-LafargeN.A.-SLBenchS2","APS00012880","Lafarge Aggregates-Smithland, KY-Three Rivers-S2","1003M00120","AGGR","Agg, Coarse - HMAC","Agg-CoarseHMAC-LafargeN.A.-SLBenchS2",20490101]
["AGGR-APS00012890","APS00012890-1003M00110","APS00012890-D & J Construction Company, LLC - West Monroe","1003M00110-Agg, Fine  - HMAC-FnSandHMAC D & J Constr - W Monroe","APS00012890","D & J Construction Company, LLC - West Monroe","1003M00110","AGGR","Agg, Fine  - HMAC","FnSandHMAC D & J Constr - W Monroe",20490101]
["AGGR-APS00012930","APS00012930-1003M00110","APS00012930-Regional Sand & Gravel, LLC #2 - Clinton","1003M00110-Agg, Fine  - HMAC-FnSandHMAC RegionalS&G GwellSpr","APS00012930","Regional Sand & Gravel, LLC #2 - Clinton","1003M00110","AGGR","Agg, Fine  - HMAC","FnSandHMAC RegionalS&G GwellSpr",20490101]
["AGGR-APS00012930","APS00012930-1003M00120","APS00012930-Regional Sand & Gravel, LLC #2 - Clinton","1003M00120-Agg, Coarse - HMAC-Agg, Coarse - HMAC-RegionalS&G GwellSpr","APS00012930","Regional Sand & Gravel, LLC #2 - Clinton","1003M00120","AGGR","Agg, Coarse - HMAC","Agg, Coarse - HMAC-RegionalS&G GwellSpr",20490101]
["AGGR-APS00012960","APS00012960-1003M00110","APS00012960-R4 ObrusS.A. D.C.V. - Boca Del Rio, Mexico","1003M00110-Agg, Fine  - HMAC-FnSandHMAC APAC - R4 Obrus Boca Del Rio","APS00012960","R4 ObrusS.A. D.C.V. - Boca Del Rio, Mexico","1003M00110","AGGR","Agg, Fine  - HMAC","FnSandHMAC APAC - R4 Obrus Boca Del Rio",20490101]
["AGGR-APS00012960","APS00012960-1003M00120","APS00012960-R4 ObrusS.A. D.C.V. - Boca Del Rio, Mexico","1003M00120-Agg, Coarse - HMAC-Agg-CoarseHMAC - R4 Obrus Boca Del Rio","APS00012960","R4 ObrusS.A. D.C.V. - Boca Del Rio, Mexico","1003M00120","AGGR","Agg, Coarse - HMAC","Agg-CoarseHMAC - R4 Obrus Boca Del Rio",20490101]
["AGGR-APS00012980","APS00012980-1003M00110","APS00012980-Gulf Coast Sand & Gravel - Jackson, AL","1003M00110-Agg, Fine  - HMAC-FnSandHMAC  Gulf Coast-Jackson","APS00012980","Gulf Coast Sand & Gravel - Jackson, AL","1003M00110","AGGR","Agg, Fine  - HMAC","FnSandHMAC  Gulf Coast-Jackson",20490101]
["AGGR-APS00012980","APS00012980-1003M00110","APS00012980-Gulf Coast Sand & Gravel - Jackson, AL","1003M00110-Agg, Fine  - HMAC-FnSandHMAC Gulf Coast S&G - Jackson","APS00012980","Gulf Coast Sand & Gravel - Jackson, AL","1003M00110","AGGR","Agg, Fine  - HMAC","FnSandHMAC Gulf Coast S&G - Jackson",20490101]
["AGGR-APS00012980","APS00012980-1003M00110","APS00012980-Gulf Coast Sand & Gravel - Jackson, AL","1003M00110-Agg, Fine  - HMAC-FnSandHMAC Gulf Coast S&G-Jackson","APS00012980","Gulf Coast Sand & Gravel - Jackson, AL","1003M00110","AGGR","Agg, Fine  - HMAC","FnSandHMAC Gulf Coast S&G-Jackson",20490101]
["AGGR-APS00012980","APS00012980-1003M00120","APS00012980-Gulf Coast Sand & Gravel - Jackson, AL","1003M00120-Agg, Coarse - HMAC-Agg, Coarse - HMAC-Gulf Coast S&G","APS00012980","Gulf Coast Sand & Gravel - Jackson, AL","1003M00120","AGGR","Agg, Coarse - HMAC","Agg, Coarse - HMAC-Gulf Coast S&G",20490101]
["AGGR-APS00012980","APS00012980-1003M00120","APS00012980-Gulf Coast Sand & Gravel - Jackson, AL","1003M00120-Agg, Coarse - HMAC-Agg, Coarse - HMAC-GulfCoast S&G-Jackson","APS00012980","Gulf Coast Sand & Gravel - Jackson, AL","1003M00120","AGGR","Agg, Coarse - HMAC","Agg, Coarse - HMAC-GulfCoast S&G-Jackson",20490101]
["AGGR-APS00012980","APS00012980-1003M00120","APS00012980-Gulf Coast Sand & Gravel - Jackson, AL","1003M00120-Agg, Coarse - HMAC-Agg, Coarse - HMAC-GulfCoast-Jackson","APS00012980","Gulf Coast Sand & Gravel - Jackson, AL","1003M00120","AGGR","Agg, Coarse - HMAC","Agg, Coarse - HMAC-GulfCoast-Jackson",20490101]
["AGGR-APS00013080","APS00013080-1003M00110","APS00013080-Northern Sand & Gravel, L.L.C. - Independence","1003M00110-Agg, Fine  - HMAC-FnSandHMAC Gulf Coast S&G-Indep","APS00013080","Northern Sand & Gravel, L.L.C. - Independence","1003M00110","AGGR","Agg, Fine  - HMAC","FnSandHMAC Gulf Coast S&G-Indep",20490101]
["AGGR-APS00013080","APS00013080-1003M00120","APS00013080-Northern Sand & Gravel, L.L.C. - Independence","1003M00120-Agg, Coarse - HMAC-Agg, Coarse-HMAC-Gulf Coast S&G-Indep","APS00013080","Northern Sand & Gravel, L.L.C. - Independence","1003M00120","AGGR","Agg, Coarse - HMAC","Agg, Coarse-HMAC-Gulf Coast S&G-Indep",20490101]
["AGGR-APS00013130","APS00013130-1003M00110","APS00013130-South Louisiana Fill Materials - Vacherie Pt","1003M00110-Agg, Fine  - HMAC-FnSandHMAC SLAFillMaterials-Vacharie","APS00013130","South Louisiana Fill Materials - Vacherie Pt","1003M00110","AGGR","Agg, Fine  - HMAC","FnSandHMAC SLAFillMaterials-Vacharie",20490101]
["AGGR-APS00013250","APS00013250-1003M00110","APS00013250-R & S Dozer Service, LLC - Franklinton","1003M00110-Agg, Fine  - HMAC-FnSandHMAC  R&S Dozer Service","APS00013250","R & S Dozer Service, LLC - Franklinton","1003M00110","AGGR","Agg, Fine  - HMAC","FnSandHMAC  R&S Dozer Service",20210927]
["AGGR-APS00013250","APS00013250-1003M00120","APS00013250-R & S Dozer Service, LLC - Franklinton","1003M00120-Agg, Coarse - HMAC-Agg, Coarse - HMAC- R&S Dozer Service","APS00013250","R & S Dozer Service, LLC - Franklinton","1003M00120","AGGR","Agg, Coarse - HMAC","Agg, Coarse - HMAC- R&S Dozer Service",20490101]
["AGGR-APS00013340","APS00013340-1003M00110","APS00013340-Heritage Sand and Gravel - Columbia, MS","1003M00110-Agg, Fine  - HMAC-FnSandHMAC Heritage Sand & Grav","APS00013340","Heritage Sand and Gravel - Columbia, MS","1003M00110","AGGR","Agg, Fine  - HMAC","FnSandHMAC Heritage Sand & Grav",20490101]
["AGGR-APS00013340","APS00013340-1003M00120","APS00013340-Heritage Sand and Gravel - Columbia, MS","1003M00120-Agg, Coarse - HMAC-Agg, Coarse - HMAC - Heritage S & G","APS00013340","Heritage Sand and Gravel - Columbia, MS","1003M00120","AGGR","Agg, Coarse - HMAC","Agg, Coarse - HMAC - Heritage S & G",20150511]
["AGGR-APS00013370","APS00013370-1003M00110","APS00013370-Canteras LA Ponderosa S.A. - OoliticStnFormtn -5.1","1003M00110-Agg, Fine  - HMAC-FnSandHMAC Canteras LA Pond Formation5.1","APS00013370","Canteras LA Ponderosa S.A. - OoliticStnFormtn -5.1","1003M00110","AGGR","Agg, Fine  - HMAC","FnSandHMAC Canteras LA Pond Formation5.1",20490101]
["AGGR-APS00013370","APS00013370-1003M00110","APS00013370-Canteras LA Ponderosa S.A. - OoliticStnFormtn -5.1","1003M00110-Agg, Fine  - HMAC-FnSandHMAC CanterasLAPondForm12/20","APS00013370","Canteras LA Ponderosa S.A. - OoliticStnFormtn -5.1","1003M00110","AGGR","Agg, Fine  - HMAC","FnSandHMAC CanterasLAPondForm12/20",20490101]
["AGGR-APS00013370","APS00013370-1003M00120","APS00013370-Canteras LA Ponderosa S.A. - OoliticStnFormtn -5.1","1003M00120-Agg, Coarse - HMAC-Agg-CoarseHMAC-Canteras LA PondForm5.1","APS00013370","Canteras LA Ponderosa S.A. - OoliticStnFormtn -5.1","1003M00120","AGGR","Agg, Coarse - HMAC","Agg-CoarseHMAC-Canteras LA PondForm5.1",20490101]
["AGGR-APS00013370","APS00013370-1003M00120","APS00013370-Canteras LA Ponderosa S.A. - OoliticStnFormtn -5.1","1003M00120-Agg, Coarse - HMAC-Agg-CoarseHMAC-CanterasLAPondForm12/20","APS00013370","Canteras LA Ponderosa S.A. - OoliticStnFormtn -5.1","1003M00120","AGGR","Agg, Coarse - HMAC","Agg-CoarseHMAC-CanterasLAPondForm12/20",20490101]
["AGGR-APS00013390","APS00013390-1003M00110","APS00013390-L & C Gravel, LLC - Plant #6 - Fluker","1003M00110-Agg, Fine  - HMAC-FnSandHMAC L&C Gravel Plt 6-Amite","APS00013390","L & C Gravel, LLC - Plant #6 - Fluker","1003M00110","AGGR","Agg, Fine  - HMAC","FnSandHMAC L&C Gravel Plt 6-Amite",20490101]
["AGGR-APS00013390","APS00013390-1003M00120","APS00013390-L & C Gravel, LLC - Plant #6 - Fluker","1003M00120-Agg, Coarse - HMAC","APS00013390","L & C Gravel, LLC - Plant #6 - Fluker","1003M00120","AGGR","Agg, Coarse - HMAC"]
["AGGR-APS00014030","APS00014030-1003M00110","APS00014030-Sierra FRAC Sand - Plain Dealing","1003M00110-Agg, Fine  - HMAC-FnSandHMAC LionelBoudreauxTrucking","APS00014030","Sierra FRAC Sand - Plain Dealing","1003M00110","AGGR","Agg, Fine  - HMAC","FnSandHMAC LionelBoudreauxTrucking",20490101]
["AGGR-APS00014030","APS00014030-1003M00110","APS00014030-Sierra FRAC Sand - Plain Dealing","1003M00110-Agg, Fine  - HMAC-FnSandHMAC SierraFracSand CedarBluff","APS00014030","Sierra FRAC Sand - Plain Dealing","1003M00110","AGGR","Agg, Fine  - HMAC","FnSandHMAC SierraFracSand CedarBluff",20490101]
["AGGR-APS00014110","APS00014110-1003M00110","APS00014110-Rogers Group - Lacey's Springs Quarry","1003M00110-Agg, Fine  - HMAC-FnSandHMAC Rogers Grp Lacey Sprgs Quarry","APS00014110","Rogers Group - Lacey's Springs Quarry","1003M00110","AGGR","Agg, Fine  - HMAC","FnSandHMAC Rogers Grp Lacey Sprgs Quarry",20490101]
["AGGR-APS00014110","APS00014110-1003M00120","APS00014110-Rogers Group - Lacey's Springs Quarry","1003M00120-Agg, Coarse - HMAC-Agg, Coarse - HMAC - RogersGrp LaceySprg","APS00014110","Rogers Group - Lacey's Springs Quarry","1003M00120","AGGR","Agg, Coarse - HMAC","Agg, Coarse - HMAC - RogersGrp LaceySprg",20490101]
["AGGR-APS00014150","APS00014150-1003M00110","APS00014150-Lionel Boudreaux Trucking, LLC - St. Francisville","1003M00110-Agg, Fine  - HMAC","APS00014150","Lionel Boudreaux Trucking, LLC - St. Francisville","1003M00110","AGGR","Agg, Fine  - HMAC"]
["AGGR-APS00014180","APS00014180-1003M00110","APS00014180-Ivey Enterprises, LLC - Greenwell Springs, LA","1003M00110-Agg, Fine  - HMAC-FnSandHMAC Ivey Enterprises GSLA","APS00014180","Ivey Enterprises, LLC - Greenwell Springs, LA","1003M00110","AGGR","Agg, Fine  - HMAC","FnSandHMAC Ivey Enterprises GSLA",20490101]
["AGGR-APS00014180","APS00014180-1003M00120","APS00014180-Ivey Enterprises, LLC - Greenwell Springs, LA","1003M00120-Agg, Coarse - HMAC-Agg. Coarse - HMAC - Ivey Enterprs GSLA","APS00014180","Ivey Enterprises, LLC - Greenwell Springs, LA","1003M00120","AGGR","Agg, Coarse - HMAC","Agg. Coarse - HMAC - Ivey Enterprs GSLA",20490101]
[{"$f":"H451&\"-\"&E451","v":"AGGR-APS00014300"},{"$f":"E451&\"-\"&G451","v":"APS00014300-1003M00110"},{"$f":"E451&\"-\"&F451","v":"APS00014300-Southern Aggregates, LLC Plant 31 - Franklinton"},{"$f":"G451&\"-\"&I451&IF(J451<>\"\", \"-\"&J451, \"\")","v":"1003M00110-Agg, Fine  - HMAC-FnSandHMAC Southern Agg Plant 31"},"APS00014300","Southern Aggregates, LLC Plant 31 - Franklinton","1003M00110","AGGR","Agg, Fine  - HMAC","FnSandHMAC Southern Agg Plant 31",20490101]
["AGGR-APS00014300","APS00014300-1003M00120","APS00014300-Southern Aggregates, LLC Plant 31 - Franklinton","1003M00120-Agg, Coarse - HMAC-Agg, Coarse - HMAC Southern Agg Plant 31","APS00014300","Southern Aggregates, LLC Plant 31 - Franklinton","1003M00120","AGGR","Agg, Coarse - HMAC","Agg, Coarse - HMAC Southern Agg Plant 31",20490101]
["AGGR-APS00014340","APS00014340-1003M00110","APS00014340-Lafarge Aggregates-Smithland, KY-Upper Fredonia","1003M00110-Agg, Fine  - HMAC-FnSandHMAC Lafarge UF 3 Rivers","APS00014340","Lafarge Aggregates-Smithland, KY-Upper Fredonia","1003M00110","AGGR","Agg, Fine  - HMAC","FnSandHMAC Lafarge UF 3 Rivers",20490101]
["AGGR-APS00014340","APS00014340-1003M00120","APS00014340-Lafarge Aggregates-Smithland, KY-Upper Fredonia","1003M00120-Agg, Coarse - HMAC-Agg, Coarse - HMAC Lafarge UF 3 Rivers","APS00014340","Lafarge Aggregates-Smithland, KY-Upper Fredonia","1003M00120","AGGR","Agg, Coarse - HMAC","Agg, Coarse - HMAC Lafarge UF 3 Rivers",20490101]
["AGGR-APS00014350","APS00014350-1003M00110","APS00014350-Barriere Construction Co., LLC - Independence, LA","1003M00110-Agg, Fine  - HMAC-FnSandHMAC Barriere Const-Candiotto","APS00014350","Barriere Construction Co., LLC - Independence, LA","1003M00110","AGGR","Agg, Fine  - HMAC","FnSandHMAC Barriere Const-Candiotto",20490101]
["AGGR-APS00014350","APS00014350-1003M00120","APS00014350-Barriere Construction Co., LLC - Independence, LA","1003M00120-Agg, Coarse - HMAC-Agg, Coarse- HMAC-BarriereConCandiotto","APS00014350","Barriere Construction Co., LLC - Independence, LA","1003M00120","AGGR","Agg, Coarse - HMAC","Agg, Coarse- HMAC-BarriereConCandiotto",20490101]
["AGGR-APS00014360","APS00014360-1003M00110","APS00014360-Arcosa Aggregates - Anacoco Plant 1391-Merryville","1003M00110-Agg, Fine  - HMAC-FnSandHMAC Arcosa Agg Plt 1391","APS00014360","Arcosa Aggregates - Anacoco Plant 1391-Merryville","1003M00110","AGGR","Agg, Fine  - HMAC","FnSandHMAC Arcosa Agg Plt 1391",20201006]
["AGGR-APS00014360","APS00014360-1003M00110","APS00014360-Arcosa Aggregates - Anacoco Plant 1391-Merryville","1003M00110-Agg, Fine  - HMAC-FnSandHMAC ArcosaAggs Anacoco1391","APS00014360","Arcosa Aggregates - Anacoco Plant 1391-Merryville","1003M00110","AGGR","Agg, Fine  - HMAC","FnSandHMAC ArcosaAggs Anacoco1391",20490101]
["AGGR-APS00014360","APS00014360-1003M00120","APS00014360-Arcosa Aggregates - Anacoco Plant 1391-Merryville","1003M00120-Agg, Coarse - HMAC-Agg, Coarse - HMAC-Arcosa Agg Plt 1391","APS00014360","Arcosa Aggregates - Anacoco Plant 1391-Merryville","1003M00120","AGGR","Agg, Coarse - HMAC","Agg, Coarse - HMAC-Arcosa Agg Plt 1391",20490101]
["AGGR-APS00014360","APS00014360-1003M00120","APS00014360-Arcosa Aggregates - Anacoco Plant 1391-Merryville","1003M00120-Agg, Coarse - HMAC-Agg. Coarse - HMAC ArcosaAggs  #1391","APS00014360","Arcosa Aggregates - Anacoco Plant 1391-Merryville","1003M00120","AGGR","Agg, Coarse - HMAC","Agg. Coarse - HMAC ArcosaAggs  #1391",20200613]
["AGGR-APS00014370","APS00014370-1003M00110","APS00014370-Arcosa Aggregates - Indian Village Plant 1284","1003M00110-Agg, Fine  - HMAC-FnSandHMAC ArcosaAggs IndVillage1284","APS00014370","Arcosa Aggregates - Indian Village Plant 1284","1003M00110","AGGR","Agg, Fine  - HMAC","FnSandHMAC ArcosaAggs IndVillage1284",20490101]
["AGGR-APS00014410","APS00014410-1003M00110","APS00014410-Arcosa Aggregates - Pearl River Plant 1725","1003M00110-Agg, Fine  - HMAC-FnSandHMAC Arcosa Aggs Plant 1725","APS00014410","Arcosa Aggregates - Pearl River Plant 1725","1003M00110","AGGR","Agg, Fine  - HMAC","FnSandHMAC Arcosa Aggs Plant 1725",20490101]
["AGGR-APS00014410","APS00014410-1003M00120","APS00014410-Arcosa Aggregates - Pearl River Plant 1725","1003M00120-Agg, Coarse - HMAC-Agg. Coarse - HMAC -ArcosaAggsPlant1725","APS00014410","Arcosa Aggregates - Pearl River Plant 1725","1003M00120","AGGR","Agg, Coarse - HMAC","Agg. Coarse - HMAC -ArcosaAggsPlant1725",20490101]
["AGGR-APS00014440","APS00014440-1003M00110","APS00014440-Cenla Materials - Forest Hill, LA","1003M00110-Agg, Fine  - HMAC-FnSandHMAC CenlaMatls - Forest Hill","APS00014440","Cenla Materials - Forest Hill, LA","1003M00110","AGGR","Agg, Fine  - HMAC","FnSandHMAC CenlaMatls - Forest Hill",20490101]
["AGGR-APS00014440","APS00014440-1003M00120","APS00014440-Cenla Materials - Forest Hill, LA","1003M00120-Agg, Coarse - HMAC-Agg, Coarse - HMAC-CenlaMatlsForest Hill","APS00014440","Cenla Materials - Forest Hill, LA","1003M00120","AGGR","Agg, Coarse - HMAC","Agg, Coarse - HMAC-CenlaMatlsForest Hill",20490101]
["AGGR-APS00014470","APS00014470-1003M00110","APS00014470-Merryville Aggregate, LLC - Evans, LA","1003M00110-Agg, Fine  - HMAC-FnSandHMAC - Merryville Aggs-Evans","APS00014470","Merryville Aggregate, LLC - Evans, LA","1003M00110","AGGR","Agg, Fine  - HMAC","FnSandHMAC - Merryville Aggs-Evans",20490101]
["AGGR-APS00014470","APS00014470-1003M00120","APS00014470-Merryville Aggregate, LLC - Evans, LA","1003M00120-Agg, Coarse - HMAC","APS00014470","Merryville Aggregate, LLC - Evans, LA","1003M00120","AGGR","Agg, Coarse - HMAC"]
["AGGR-APS00014530","APS00014530-1003M00110","APS00014530-Martin Marietta - Mill Creek - Granite","1003M00110-Agg, Fine  - HMAC-FnSand Martin Mar Mill Creek Granite","APS00014530","Martin Marietta - Mill Creek - Granite","1003M00110","AGGR","Agg, Fine  - HMAC","FnSand Martin Mar Mill Creek Granite",20490101]
["AGGR-APS00014530","APS00014530-1003M00120","APS00014530-Martin Marietta - Mill Creek - Granite","1003M00120-Agg, Coarse - HMAC-Agg-CoarseHMAC-MartMarMillCreek Grnt","APS00014530","Martin Marietta - Mill Creek - Granite","1003M00120","AGGR","Agg, Coarse - HMAC","Agg-CoarseHMAC-MartMarMillCreek Grnt",20490101]
["AGGR-APS00014540","APS00014540-1003M00110","APS00014540-Martin Marietta - Mill Creek - Limestone","1003M00110-Agg, Fine  - HMAC-FnSandHMAC MartMarMill Creek Lmstn","APS00014540","Martin Marietta - Mill Creek - Limestone","1003M00110","AGGR","Agg, Fine  - HMAC","FnSandHMAC MartMarMill Creek Lmstn",20490101]
["AGGR-APS00014540","APS00014540-1003M00120","APS00014540-Martin Marietta - Mill Creek - Limestone","1003M00120-Agg, Coarse - HMAC-Agg. Coarse - HMAC MartMarMillCreekLmstn","APS00014540","Martin Marietta - Mill Creek - Limestone","1003M00120","AGGR","Agg, Coarse - HMAC","Agg. Coarse - HMAC MartMarMillCreekLmstn",20490101]
["AGGR-APS00014560","APS00014560-1003M00110","APS00014560-Shorline Aggregates Inc. -  South Brook Quarry","1003M00110-Agg, Fine  - HMAC-FnSandHNAC Shoreline Agg South Brook","APS00014560","Shorline Aggregates Inc. -  South Brook Quarry","1003M00110","AGGR","Agg, Fine  - HMAC","FnSandHNAC Shoreline Agg South Brook",20490101]
["AGGR-APS00014560","APS00014560-1003M00120","APS00014560-Shorline Aggregates Inc. -  South Brook Quarry","1003M00120-Agg, Coarse - HMAC-Agg-CoarseHMAC-ShorelineAgg SBrook","APS00014560","Shorline Aggregates Inc. -  South Brook Quarry","1003M00120","AGGR","Agg, Coarse - HMAC","Agg-CoarseHMAC-ShorelineAgg SBrook",20490101]
["AGGR-APS00014570","APS00014570-1003M00110","APS00014570-Arkansas Granufill Supply - Hot Springs, AR","1003M00110-Agg, Fine  - HMAC-FnSandHMAC Arkansas Granufill Supply","APS00014570","Arkansas Granufill Supply - Hot Springs, AR","1003M00110","AGGR","Agg, Fine  - HMAC","FnSandHMAC Arkansas Granufill Supply",20490101]
["AGGR-APS00014700","APS00014700-1003M00110","APS00014700-Hanson Aggregates - Servtex Quarry - New Braunfels","1003M00110-Agg, Fine  - HMAC-FnSandHMAC Hanson Aggs Servtex Quarry","APS00014700","Hanson Aggregates - Servtex Quarry - New Braunfels","1003M00110","AGGR","Agg, Fine  - HMAC","FnSandHMAC Hanson Aggs Servtex Quarry",20230130]
["AGGR-APS00014700","APS00014700-1003M00110","APS00014700-Hanson Aggregates - Servtex Quarry - New Braunfels","1003M00110-Agg, Fine  - HMAC-FnSandHMAC Heidelberg Servtex Quarry","APS00014700","Hanson Aggregates - Servtex Quarry - New Braunfels","1003M00110","AGGR","Agg, Fine  - HMAC","FnSandHMAC Heidelberg Servtex Quarry",20490101]
["AGGR-APS00014700","APS00014700-1003M00120","APS00014700-Hanson Aggregates - Servtex Quarry - New Braunfels","1003M00120-Agg, Coarse - HMAC-Agg-CoarseHMAC-Hanson Aggs Servtex","APS00014700","Hanson Aggregates - Servtex Quarry - New Braunfels","1003M00120","AGGR","Agg, Coarse - HMAC","Agg-CoarseHMAC-Hanson Aggs Servtex",20230130]
["AGGR-APS00014700","APS00014700-1003M00120","APS00014700-Hanson Aggregates - Servtex Quarry - New Braunfels","1003M00120-Agg, Coarse - HMAC-Agg-CoarseHMAC-Heidelberg Servtex","APS00014700","Hanson Aggregates - Servtex Quarry - New Braunfels","1003M00120","AGGR","Agg, Coarse - HMAC","Agg-CoarseHMAC-Heidelberg Servtex",20490101]
["AGGR-APS00014740","APS00014740-1003M00110","APS00014740-Hanson Aggregates - Burnet Quarry - Burnet, TX","1003M00110-Agg, Fine  - HMAC-FnSand Hanson Aggs Brunet Quarry","APS00014740","Hanson Aggregates - Burnet Quarry - Burnet, TX","1003M00110","AGGR","Agg, Fine  - HMAC","FnSand Hanson Aggs Brunet Quarry",20490101]
["AGGR-APS00014740","APS00014740-1003M00120","APS00014740-Hanson Aggregates - Burnet Quarry - Burnet, TX","1003M00120-Agg, Coarse - HMAC-Agg-CoarseHMAC-Hanson Aggs Brunet","APS00014740","Hanson Aggregates - Burnet Quarry - Burnet, TX","1003M00120","AGGR","Agg, Coarse - HMAC","Agg-CoarseHMAC-Hanson Aggs Brunet",20490101]
["AGGR-APS00014750","APS00014750-1003M00110","APS00014750-Rock Island Sand and Gravel - Harrell Pit-Hampton","1003M00110-Agg, Fine  - HMAC-FnSandHMAC Rock Island S&G Harrell","APS00014750","Rock Island Sand and Gravel - Harrell Pit-Hampton","1003M00110","AGGR","Agg, Fine  - HMAC","FnSandHMAC Rock Island S&G Harrell",20490101]
["AGGR-APS00014750","APS00014750-1003M00120","APS00014750-Rock Island Sand and Gravel - Harrell Pit-Hampton","1003M00120-Agg, Coarse - HMAC-Agg. Coarse - HMAC RockIslandS&G Harrell","APS00014750","Rock Island Sand and Gravel - Harrell Pit-Hampton","1003M00120","AGGR","Agg, Coarse - HMAC","Agg. Coarse - HMAC RockIslandS&G Harrell",20490101]
["AGGR-APS00014780","APS00014780-1003M00110","APS00014780-Cash Sand & Gravel, Inc. - Kemp Plant -D.S., LA","1003M00110-Agg, Fine  - HMAC-FnSandHMAC Cash S&G-Kemp","APS00014780","Cash Sand & Gravel, Inc. - Kemp Plant -D.S., LA","1003M00110","AGGR","Agg, Fine  - HMAC","FnSandHMAC Cash S&G-Kemp",20490101]
["AGGR-APS00014780","APS00014780-1003M00120","APS00014780-Cash Sand & Gravel, Inc. - Kemp Plant -D.S., LA","1003M00120-Agg, Coarse - HMAC-Agg. Coarse -Cash S&G-Kemp","APS00014780","Cash Sand & Gravel, Inc. - Kemp Plant -D.S., LA","1003M00120","AGGR","Agg, Coarse - HMAC","Agg. Coarse -Cash S&G-Kemp",20490101]
["AGGR-APS00014850","APS00014850-1003M00110","APS00014850-Superior Sand & Gravel - Plant 1 - Clinton, LA","1003M00110-Agg, Fine  - HMAC-FnSandHMAC Superior S&G Plt1","APS00014850","Superior Sand & Gravel - Plant 1 - Clinton, LA","1003M00110","AGGR","Agg, Fine  - HMAC","FnSandHMAC Superior S&G Plt1",20490101]
["AGGR-APS00014850","APS00014850-1003M00120","APS00014850-Superior Sand & Gravel - Plant 1 - Clinton, LA","1003M00120-Agg, Coarse - HMAC-Agg. Coarse -Superior S&G Plt1","APS00014850","Superior Sand & Gravel - Plant 1 - Clinton, LA","1003M00120","AGGR","Agg, Coarse - HMAC","Agg. Coarse -Superior S&G Plt1",20490101]
["AGGR-APS00014860","APS00014860-1003M00110","APS00014860-Superior Sand & Gravel - Plant 2 - Clinton","1003M00110-Agg, Fine  - HMAC-FnSandHMAC Superior S&G Plt2","APS00014860","Superior Sand & Gravel - Plant 2 - Clinton","1003M00110","AGGR","Agg, Fine  - HMAC","FnSandHMAC Superior S&G Plt2",20490101]
["AGGR-APS00014860","APS00014860-1003M00120","APS00014860-Superior Sand & Gravel - Plant 2 - Clinton","1003M00120-Agg, Coarse - HMAC-Agg. Coarse -Superior S&G Plt2","APS00014860","Superior Sand & Gravel - Plant 2 - Clinton","1003M00120","AGGR","Agg, Coarse - HMAC","Agg. Coarse -Superior S&G Plt2",20490101]
["AGGR-APS00014890","APS00014890-1003M00110","APS00014890-Longville Sand and Gravel - Longville, LA","1003M00110-Agg, Fine  - HMAC-FnSandHMAC Longvilee S&G - Longville","APS00014890","Longville Sand and Gravel - Longville, LA","1003M00110","AGGR","Agg, Fine  - HMAC","FnSandHMAC Longvilee S&G - Longville",20490101]
["AGGR-APS00014900","APS00014900-1003M00110","APS00014900-Neely's Landing LLC.- Jackson, MO","1003M00110-Agg, Fine  - HMAC-FnSand HMAC Neely's Landing-JacksonMO","APS00014900","Neely's Landing LLC.- Jackson, MO","1003M00110","AGGR","Agg, Fine  - HMAC","FnSand HMAC Neely's Landing-JacksonMO",20210717]
["AGGR-APS00014900","APS00014900-1003M00120","APS00014900-Neely's Landing LLC.- Jackson, MO","1003M00120-Agg, Coarse - HMAC-Agg-CoarseHMAC-Neely'sLanding-JacksonMO","APS00014900","Neely's Landing LLC.- Jackson, MO","1003M00120","AGGR","Agg, Coarse - HMAC","Agg-CoarseHMAC-Neely'sLanding-JacksonMO",20210717]
["AGGR-APS00014950","APS00014950-1003M00110","APS00014950-Star Silica LLC. - West Monroe, LA","1003M00110-Agg, Fine  - HMAC-FnSandHMAC Star Silica W. Monroe","APS00014950","Star Silica LLC. - West Monroe, LA","1003M00110","AGGR","Agg, Fine  - HMAC","FnSandHMAC Star Silica W. Monroe",20490101]
["AGGR-APS00014950","APS00014950-1003M00120","APS00014950-Star Silica LLC. - West Monroe, LA","1003M00120-Agg, Coarse - HMAC-Agg. Coarse -Star Silica W. Monroe","APS00014950","Star Silica LLC. - West Monroe, LA","1003M00120","AGGR","Agg, Coarse - HMAC","Agg. Coarse -Star Silica W. Monroe",20490101]
["AGGR-APS00014960","APS00014960-1003M00110","APS00014960-Arcosa Aggregates - West Merryville, LA","1003M00110-Agg, Fine  - HMAC-FnSandHMAC Arcosa Aggs Plant2228","APS00014960","Arcosa Aggregates - West Merryville, LA","1003M00110","AGGR","Agg, Fine  - HMAC","FnSandHMAC Arcosa Aggs Plant2228",20490101]
["AGGR-APS00014960","APS00014960-1003M00120","APS00014960-Arcosa Aggregates - West Merryville, LA","1003M00120-Agg, Coarse - HMAC-Agg. Coarse - HMAC -ArcosaAggsPlant2228","APS00014960","Arcosa Aggregates - West Merryville, LA","1003M00120","AGGR","Agg, Coarse - HMAC","Agg. Coarse - HMAC -ArcosaAggsPlant2228",20490101]
["AGGR-APS00014970","APS00014970-1003M00110","APS00014970-Gulf Coast Sand - Nicholson, MS","1003M00110-Agg, Fine  - HMAC-FnSandHMAC Gulf Coast Sands Nicholson","APS00014970","Gulf Coast Sand - Nicholson, MS","1003M00110","AGGR","Agg, Fine  - HMAC","FnSandHMAC Gulf Coast Sands Nicholson",20490101]
["AGGR-APS00014970","APS00014970-1003M00120","APS00014970-Gulf Coast Sand - Nicholson, MS","1003M00120-Agg, Coarse - HMAC-Agg. Coarse -Gulf Coast Sands Nicholson","APS00014970","Gulf Coast Sand - Nicholson, MS","1003M00120","AGGR","Agg, Coarse - HMAC","Agg. Coarse -Gulf Coast Sands Nicholson",20490101]
["AGGR-APS00014990","APS00014990-1003M00110","APS00014990-Barriere Construction Co. LLC - Miley Pit","1003M00110-Agg, Fine  - HMAC-FnSandHMAC Barriere Miley Pit","APS00014990","Barriere Construction Co. LLC - Miley Pit","1003M00110","AGGR","Agg, Fine  - HMAC","FnSandHMAC Barriere Miley Pit",20490101]
["AGGR-APS00014990","APS00014990-1003M00120","APS00014990-Barriere Construction Co. LLC - Miley Pit","1003M00120-Agg, Coarse - HMAC-Agg. Coarse - Barriere Miley Pit","APS00014990","Barriere Construction Co. LLC - Miley Pit","1003M00120","AGGR","Agg, Coarse - HMAC","Agg. Coarse - Barriere Miley Pit",20490101]
["AGGR-APS00015000","APS00015000-1003M00110","APS00015000-Barriere Construction Co. LLC - Map Pit","1003M00110-Agg, Fine  - HMAC-FnSandHMAC Barriere Constr-Map","APS00015000","Barriere Construction Co. LLC - Map Pit","1003M00110","AGGR","Agg, Fine  - HMAC","FnSandHMAC Barriere Constr-Map",20490101]
["AGGR-APS00015000","APS00015000-1003M00120","APS00015000-Barriere Construction Co. LLC - Map Pit","1003M00120-Agg, Coarse - HMAC-Agg. Coarse -Barriere Constr-Map","APS00015000","Barriere Construction Co. LLC - Map Pit","1003M00120","AGGR","Agg, Coarse - HMAC","Agg. Coarse -Barriere Constr-Map",20490101]
["AGGR-APS00015010","APS00015010-1003M00110","APS00015010-Island Sand & Gravel - Crossett, AR","1003M00110-Agg, Fine  - HMAC","APS00015010","Island Sand & Gravel - Crossett, AR","1003M00110","AGGR","Agg, Fine  - HMAC"]
["AGGR-APS00015010","APS00015010-1003M00120","APS00015010-Island Sand & Gravel - Crossett, AR","1003M00120-Agg, Coarse - HMAC-Agg. Coarse -Island S&G-Miley","APS00015010","Island Sand & Gravel - Crossett, AR","1003M00120","AGGR","Agg, Coarse - HMAC","Agg. Coarse -Island S&G-Miley",20490101]
["AGGR-APS00015020","APS00015020-1003M00110","APS00015020-APAC Brickey Stone - Bloomdale - Kimmswick","1003M00110-Agg, Fine  - HMAC-FnSand APAC Brickey-Bloomsdale","APS00015020","APAC Brickey Stone - Bloomdale - Kimmswick","1003M00110","AGGR","Agg, Fine  - HMAC","FnSand APAC Brickey-Bloomsdale",20490101]
["AGGR-APS00015020","APS00015020-1003M00120","APS00015020-APAC Brickey Stone - Bloomdale - Kimmswick","1003M00120-Agg, Coarse - HMAC-Agg-CoarseHMAC-APAC Brickey-Bloomsdale","APS00015020","APAC Brickey Stone - Bloomdale - Kimmswick","1003M00120","AGGR","Agg, Coarse - HMAC","Agg-CoarseHMAC-APAC Brickey-Bloomsdale",20490101]
["AGGR-APS00015030","APS00015030-1003M00110","APS00015030-Amberg Construction, LLC. - Jena","1003M00110-Agg, Fine  - HMAC-FnSandHMAC Amberg Constr Aimwell","APS00015030","Amberg Construction, LLC. - Jena","1003M00110","AGGR","Agg, Fine  - HMAC","FnSandHMAC Amberg Constr Aimwell",20490101]
["AGGR-APS00015030","APS00015030-1003M00120","APS00015030-Amberg Construction, LLC. - Jena","1003M00120-Agg, Coarse - HMAC-Agg. Coarse -Amberg Constr Aimwell","APS00015030","Amberg Construction, LLC. - Jena","1003M00120","AGGR","Agg, Coarse - HMAC","Agg. Coarse -Amberg Constr Aimwell",20490101]
["AGGR-APS00015080","APS00015080-1003M00110","APS00015080-B & D Materials, LLC - Parks, LA","1003M00110-Agg, Fine  - HMAC-FnSandHMAC B&D Materials-Parks","APS00015080","B & D Materials, LLC - Parks, LA","1003M00110","AGGR","Agg, Fine  - HMAC","FnSandHMAC B&D Materials-Parks",20490101]
["AGGR-APS00015080","APS00015080-1003M00120","APS00015080-B & D Materials, LLC - Parks, LA","1003M00120-Agg, Coarse - HMAC","APS00015080","B & D Materials, LLC - Parks, LA","1003M00120","AGGR","Agg, Coarse - HMAC"]
["AGGR-APS00015090","APS00015090-1003M00110","APS00015090-D & J Construction Co., LLC - Aimwell, LA","1003M00110-Agg, Fine  - HMAC-FnSandHMAC D&J Constr Co-Aimwell","APS00015090","D & J Construction Co., LLC - Aimwell, LA","1003M00110","AGGR","Agg, Fine  - HMAC","FnSandHMAC D&J Constr Co-Aimwell",20490101]
["AGGR-APS00015110","APS00015110-1003M00110","APS00015110-Lafarge Aggregates-Cave-In-Rock, IL-Dolomite Ledge","1003M00110-Agg, Fine  - HMAC-FnSand HMAC Lafarge-Dolomite Ledge","APS00015110","Lafarge Aggregates-Cave-In-Rock, IL-Dolomite Ledge","1003M00110","AGGR","Agg, Fine  - HMAC","FnSand HMAC Lafarge-Dolomite Ledge",20490101]
["AGGR-APS00015110","APS00015110-1003M00120","APS00015110-Lafarge Aggregates-Cave-In-Rock, IL-Dolomite Ledge","1003M00120-Agg, Coarse - HMAC-Agg-CoarseHMAC-Lafarge-Dolomite Ledge","APS00015110","Lafarge Aggregates-Cave-In-Rock, IL-Dolomite Ledge","1003M00120","AGGR","Agg, Coarse - HMAC","Agg-CoarseHMAC-Lafarge-Dolomite Ledge",20490101]
["AGGR-APS00015120","APS00015120-1003M00110","APS00015120-Lafarge Aggrs-Cave-In-Rock, IL-Upper St. Gen Ledge","1003M00110-Agg, Fine  - HMAC-FnSand HMAC Lafarge-UpperStGenevieve","APS00015120","Lafarge Aggrs-Cave-In-Rock, IL-Upper St. Gen Ledge","1003M00110","AGGR","Agg, Fine  - HMAC","FnSand HMAC Lafarge-UpperStGenevieve",20490101]
["AGGR-APS00015120","APS00015120-1003M00120","APS00015120-Lafarge Aggrs-Cave-In-Rock, IL-Upper St. Gen Ledge","1003M00120-Agg, Coarse - HMAC-Agg-CoarseHMAC-LafargeUpperStGenevieve","APS00015120","Lafarge Aggrs-Cave-In-Rock, IL-Upper St. Gen Ledge","1003M00120","AGGR","Agg, Coarse - HMAC","Agg-CoarseHMAC-LafargeUpperStGenevieve",20490101]
[{"$f":"H515&\"-\"&E515","v":"AGGR-APS00015130"},{"$f":"E515&\"-\"&G515","v":"APS00015130-1003M00110"},{"$f":"E515&\"-\"&F515","v":"APS00015130-Lafarge Aggs - Cave-In-Rock, IL - Transition Ledge"},{"$f":"G515&\"-\"&I515&IF(J515<>\"\", \"-\"&J515, \"\")","v":"1003M00110-Agg, Fine  - HMAC-FnSand HMAC Lafarge-Transition Ledge"},"APS00015130","Lafarge Aggs - Cave-In-Rock, IL - Transition Ledge","1003M00110","AGGR","Agg, Fine  - HMAC","FnSand HMAC Lafarge-Transition Ledge",20490101]
["AGGR-APS00015130","APS00015130-1003M00120","APS00015130-Lafarge Aggs - Cave-In-Rock, IL - Transition Ledge","1003M00120-Agg, Coarse - HMAC-Agg-CoarseHMAC-Lafarge-TransitionLedge","APS00015130","Lafarge Aggs - Cave-In-Rock, IL - Transition Ledge","1003M00120","AGGR","Agg, Coarse - HMAC","Agg-CoarseHMAC-Lafarge-TransitionLedge",20490101]
["AGGR-APS00015140","APS00015140-1003M00110","APS00015140-Arcosa Aggregates - Plant LA 1343 - DeRidder","1003M00110-Agg, Fine  - HMAC-FnSandHMAC - Arcosa Plant 1343","APS00015140","Arcosa Aggregates - Plant LA 1343 - DeRidder","1003M00110","AGGR","Agg, Fine  - HMAC","FnSandHMAC - Arcosa Plant 1343",20490101]
["AGGR-APS00015140","APS00015140-1003M00120","APS00015140-Arcosa Aggregates - Plant LA 1343 - DeRidder","1003M00120-Agg, Coarse - HMAC-Agg, Coarse - HMAC-Arcosa Plant 1343","APS00015140","Arcosa Aggregates - Plant LA 1343 - DeRidder","1003M00120","AGGR","Agg, Coarse - HMAC","Agg, Coarse - HMAC-Arcosa Plant 1343",20490101]
["AGGR-APS00015150","APS00015150-1003M00110","APS00015150-Arcosa Aggregates - Plant LA 1342 - Clinton Pit","1003M00110-Agg, Fine  - HMAC-FnSandHMAC Arcosa Plant 1342-Clinton","APS00015150","Arcosa Aggregates - Plant LA 1342 - Clinton Pit","1003M00110","AGGR","Agg, Fine  - HMAC","FnSandHMAC Arcosa Plant 1342-Clinton",20490101]
["AGGR-APS00015150","APS00015150-1003M00120","APS00015150-Arcosa Aggregates - Plant LA 1342 - Clinton Pit","1003M00120-Agg, Coarse - HMAC-Agg. Coarse - HMAC Arcosa Plt1342Clinton","APS00015150","Arcosa Aggregates - Plant LA 1342 - Clinton Pit","1003M00120","AGGR","Agg, Coarse - HMAC","Agg. Coarse - HMAC Arcosa Plt1342Clinton",20490101]
["AGGR-APS00015160","APS00015160-1003M00110","APS00015160-Arcosa Aggregates - Plant LA 1349 - Pearl River","1003M00110-Agg, Fine  - HMAC-FnSandHMAC Arcosa Plant 1349","APS00015160","Arcosa Aggregates - Plant LA 1349 - Pearl River","1003M00110","AGGR","Agg, Fine  - HMAC","FnSandHMAC Arcosa Plant 1349",20490101]
["AGGR-APS00015160","APS00015160-1003M00120","APS00015160-Arcosa Aggregates - Plant LA 1349 - Pearl River","1003M00120-Agg, Coarse - HMAC-Agg, Coarse - HMAC  Arcosa Plant 1349","APS00015160","Arcosa Aggregates - Plant LA 1349 - Pearl River","1003M00120","AGGR","Agg, Coarse - HMAC","Agg, Coarse - HMAC  Arcosa Plant 1349",20490101]
["AGGR-APS00015170","APS00015170-1003M00110","APS00015170-Arcosa Aggregates - Plant LA 1341 - Independence","1003M00110-Agg, Fine  - HMAC-FnSandHMAC Arcosa Plant 1341","APS00015170","Arcosa Aggregates - Plant LA 1341 - Independence","1003M00110","AGGR","Agg, Fine  - HMAC","FnSandHMAC Arcosa Plant 1341",20490101]
["AGGR-APS00015170","APS00015170-1003M00120","APS00015170-Arcosa Aggregates - Plant LA 1341 - Independence","1003M00120-Agg, Coarse - HMAC-Agg. Coarse - HMAC - Arcosa Plant 1341","APS00015170","Arcosa Aggregates - Plant LA 1341 - Independence","1003M00120","AGGR","Agg, Coarse - HMAC","Agg. Coarse - HMAC - Arcosa Plant 1341",20490101]
["AGGR-APS00015180","APS00015180-1003M00110","APS00015180-Arcosa Aggregates - Plant 1347 - Hattiesburg, MS","1003M00110-Agg, Fine  - HMAC-FnSandHMAC Arcosa Plant 1347","APS00015180","Arcosa Aggregates - Plant 1347 - Hattiesburg, MS","1003M00110","AGGR","Agg, Fine  - HMAC","FnSandHMAC Arcosa Plant 1347",20490101]
["AGGR-APS00015180","APS00015180-1003M00120","APS00015180-Arcosa Aggregates - Plant 1347 - Hattiesburg, MS","1003M00120-Agg, Coarse - HMAC-Agg, Coarse - HMAC-Arcosa Plant 1347","APS00015180","Arcosa Aggregates - Plant 1347 - Hattiesburg, MS","1003M00120","AGGR","Agg, Coarse - HMAC","Agg, Coarse - HMAC-Arcosa Plant 1347",20490101]
["AGGR-APS00015190","APS00015190-1003M00110","APS00015190-Arcosa Aggregates - Plant 1348 - Columbia, MS","1003M00110-Agg, Fine  - HMAC-FnSandHMAC Arcosa Plant 1348","APS00015190","Arcosa Aggregates - Plant 1348 - Columbia, MS","1003M00110","AGGR","Agg, Fine  - HMAC","FnSandHMAC Arcosa Plant 1348",20490101]
["AGGR-APS00015190","APS00015190-1003M00120","APS00015190-Arcosa Aggregates - Plant 1348 - Columbia, MS","1003M00120-Agg, Coarse - HMAC-Agg, Coarse-HMAC-Arcosa Plant 1348","APS00015190","Arcosa Aggregates - Plant 1348 - Columbia, MS","1003M00120","AGGR","Agg, Coarse - HMAC","Agg, Coarse-HMAC-Arcosa Plant 1348",20490101]
["AGGR-APS00015200","APS00015200-1003M00110","APS00015200-Arcosa Aggregates - Plant LA 1345 - Franklinton","1003M00110-Agg, Fine  - HMAC-FnSandHMAC Arcosa Plant 1345","APS00015200","Arcosa Aggregates - Plant LA 1345 - Franklinton","1003M00110","AGGR","Agg, Fine  - HMAC","FnSandHMAC Arcosa Plant 1345",20490101]
["AGGR-APS00015200","APS00015200-1003M00120","APS00015200-Arcosa Aggregates - Plant LA 1345 - Franklinton","1003M00120-Agg, Coarse - HMAC-Agg. Coarse - HMAC Arcosa Plant 1345","APS00015200","Arcosa Aggregates - Plant LA 1345 - Franklinton","1003M00120","AGGR","Agg, Coarse - HMAC","Agg. Coarse - HMAC Arcosa Plant 1345",20490101]
["AGGR-APS00015210","APS00015210-1003M00110","APS00015210-Arcosa Aggregates - Plant LA 1340 - Denham Springs","1003M00110-Agg, Fine  - HMAC-FnSandHMAC Arcosa Plant 1340","APS00015210","Arcosa Aggregates - Plant LA 1340 - Denham Springs","1003M00110","AGGR","Agg, Fine  - HMAC","FnSandHMAC Arcosa Plant 1340",20490101]
["AGGR-APS00015210","APS00015210-1003M00120","APS00015210-Arcosa Aggregates - Plant LA 1340 - Denham Springs","1003M00120-Agg, Coarse - HMAC-Agg, Coarse - HMAC-Arcosa Plant 1340","APS00015210","Arcosa Aggregates - Plant LA 1340 - Denham Springs","1003M00120","AGGR","Agg, Coarse - HMAC","Agg, Coarse - HMAC-Arcosa Plant 1340",20490101]
["AGGR-APS00015230","APS00015230-1003M00110","APS00015230-Shoreline Agg., Inc. - Point Rousse Quarry","1003M00110-Agg, Fine  - HMAC-FnSandHMAC Shoreline Agg.,Inc-Pt. Rousse","APS00015230","Shoreline Agg., Inc. - Point Rousse Quarry","1003M00110","AGGR","Agg, Fine  - HMAC","FnSandHMAC Shoreline Agg.,Inc-Pt. Rousse",20490101]
["AGGR-APS00015230","APS00015230-1003M00120","APS00015230-Shoreline Agg., Inc. - Point Rousse Quarry","1003M00120-Agg, Coarse - HMAC-Agg-CoarseHMAC-ShorelineAggIncPt.Rousse","APS00015230","Shoreline Agg., Inc. - Point Rousse Quarry","1003M00120","AGGR","Agg, Coarse - HMAC","Agg-CoarseHMAC-ShorelineAggIncPt.Rousse",20490101]
["AGGR-APS00015250","APS00015250-1003M00110","APS00015250-Beverly Industries, LLC. - Bridge City","1003M00110-Agg, Fine  - HMAC-FnSandHMAC Beverly-Bridge City","APS00015250","Beverly Industries, LLC. - Bridge City","1003M00110","AGGR","Agg, Fine  - HMAC","FnSandHMAC Beverly-Bridge City",20490101]
["AGGR-APS00015280","APS00015280-1003M00110","APS00015280-Benton & Brown, LLC. #2 - Bossier City","1003M00110-Agg, Fine  - HMAC-FnSandHMAC Benton&Brown-Doddridge","APS00015280","Benton & Brown, LLC. #2 - Bossier City","1003M00110","AGGR","Agg, Fine  - HMAC","FnSandHMAC Benton&Brown-Doddridge",20490101]
["AGGR-APS00015310","APS00015310-1003M00110","APS00015310-Hastie Mining and Trucking #2 - Cave-In-Rock, IL","1003M00110-Agg, Fine  - HMAC-FnSand HMAC Hastie Mining-CaveInRock","APS00015310","Hastie Mining and Trucking #2 - Cave-In-Rock, IL","1003M00110","AGGR","Agg, Fine  - HMAC","FnSand HMAC Hastie Mining-CaveInRock",20490101]
["AGGR-APS00015310","APS00015310-1003M00120","APS00015310-Hastie Mining and Trucking #2 - Cave-In-Rock, IL","1003M00120-Agg, Coarse - HMAC-Agg-CoarseHMAC-Hastie Mining-CaveInRock","APS00015310","Hastie Mining and Trucking #2 - Cave-In-Rock, IL","1003M00120","AGGR","Agg, Coarse - HMAC","Agg-CoarseHMAC-Hastie Mining-CaveInRock",20490101]
["AGGR-APS00015320","APS00015320-1003M00110","APS00015320-Hard Rock Sand & Gravel - Plant 30952 - Richton,MS","1003M00110-Agg, Fine  - HMAC-FnSandHMAC Hard Rock S&G #30952","APS00015320","Hard Rock Sand & Gravel - Plant 30952 - Richton,MS","1003M00110","AGGR","Agg, Fine  - HMAC","FnSandHMAC Hard Rock S&G #30952",20490101]
["AGGR-APS00015320","APS00015320-1003M00120","APS00015320-Hard Rock Sand & Gravel - Plant 30952 - Richton,MS","1003M00120-Agg, Coarse - HMAC-Agg. Coarse -Hard Rock S&G #30952","APS00015320","Hard Rock Sand & Gravel - Plant 30952 - Richton,MS","1003M00120","AGGR","Agg, Coarse - HMAC","Agg. Coarse -Hard Rock S&G #30952",20490101]
["AGGR-APS00015340","APS00015340-1003M00110","APS00015340-P&K Stone LLC - Mill Creek","1003M00110-Agg, Fine  - HMAC-FnSandHMAC P&K Stone-Mill Creek","APS00015340","P&K Stone LLC - Mill Creek","1003M00110","AGGR","Agg, Fine  - HMAC","FnSandHMAC P&K Stone-Mill Creek",20490101]
["AGGR-APS00015340","APS00015340-1003M00120","APS00015340-P&K Stone LLC - Mill Creek","1003M00120-Agg, Coarse - HMAC-Agg-CoarseHMAC-P&K Stone-Mill Creek","APS00015340","P&K Stone LLC - Mill Creek","1003M00120","AGGR","Agg, Coarse - HMAC","Agg-CoarseHMAC-P&K Stone-Mill Creek",20490101]
["AGGR-PS00000560","PS00000560-1003M01000","PS00000560-Barriere Construction Company, LLC - Boutte","1003M01000-Agg, RAP for Asphaltic Mixtures","PS00000560","Barriere Construction Company, LLC - Boutte","1003M01000","AGGR","Agg, RAP for Asphaltic Mixtures"]
["AGGR-PS00000570","PS00000570-1003M01000","PS00000570-Huey Stockstill Contractors, Inc. - Houma","1003M01000-Agg, RAP for Asphaltic Mixtures","PS00000570","Huey Stockstill Contractors, Inc. - Houma","1003M01000","AGGR","Agg, RAP for Asphaltic Mixtures"]
["AGGR-PS00000590","PS00000590-1003M01000","PS00000590-Prairie Contractors, Inc. - Opelousas","1003M01000-Agg, RAP for Asphaltic Mixtures","PS00000590","Prairie Contractors, Inc. - Opelousas","1003M01000","AGGR","Agg, RAP for Asphaltic Mixtures"]
["AGGR-PS00000600","PS00000600-1003M01000","PS00000600-Glen Lege Construction - Abbeville","1003M01000-Agg, RAP for Asphaltic Mixtures","PS00000600","Glen Lege Construction - Abbeville","1003M01000","AGGR","Agg, RAP for Asphaltic Mixtures"]
["AGGR-PS00000610","PS00000610-1003M01000","PS00000610-Prairie Contractors, Inc. - New Iberia","1003M01000-Agg, RAP for Asphaltic Mixtures","PS00000610","Prairie Contractors, Inc. - New Iberia","1003M01000","AGGR","Agg, RAP for Asphaltic Mixtures"]
["AGGR-PS00000630","PS00000630-1003M01000","PS00000630-Prairie Contractors, Inc. - Lafayette","1003M01000-Agg, RAP for Asphaltic Mixtures","PS00000630","Prairie Contractors, Inc. - Lafayette","1003M01000","AGGR","Agg, RAP for Asphaltic Mixtures"]
["AGGR-PS00000640","PS00000640-1003M01000","PS00000640-Benton & Brown - Bossier City","1003M01000-Agg, RAP for Asphaltic Mixtures","PS00000640","Benton & Brown - Bossier City","1003M01000","AGGR","Agg, RAP for Asphaltic Mixtures"]
["AGGR-PS00000650","PS00000650-1003M01000","PS00000650-Madden Contracting Company - Sibley","1003M01000-Agg, RAP for Asphaltic Mixtures","PS00000650","Madden Contracting Company - Sibley","1003M01000","AGGR","Agg, RAP for Asphaltic Mixtures"]
["AGGR-PS00000660","PS00000660-1003M01000","PS00000660-Madden Contracting Company - Shreveport","1003M01000-Agg, RAP for Asphaltic Mixtures","PS00000660","Madden Contracting Company - Shreveport","1003M01000","AGGR","Agg, RAP for Asphaltic Mixtures"]
["AGGR-PS00000670","PS00000670-1003M01000","PS00000670-Madden Contracting Company - Mansfield","1003M01000-Agg, RAP for Asphaltic Mixtures","PS00000670","Madden Contracting Company - Mansfield","1003M01000","AGGR","Agg, RAP for Asphaltic Mixtures"]
["AGGR-PS00000680","PS00000680-1003M01000","PS00000680-Amethyst Construction Company - Ruston","1003M01000-Agg, RAP for Asphaltic Mixtures","PS00000680","Amethyst Construction Company - Ruston","1003M01000","AGGR","Agg, RAP for Asphaltic Mixtures"]
["AGGR-PS00000700","PS00000700-1003M01000","PS00000700-D & J Construction Company, Inc. - Tallulah","1003M01000-Agg, RAP for Asphaltic Mixtures","PS00000700","D & J Construction Company, Inc. - Tallulah","1003M01000","AGGR","Agg, RAP for Asphaltic Mixtures"]
["AGGR-PS00000710","PS00000710-1003M01000","PS00000710-D & J Construction Company, Inc. - West Monroe","1003M01000-Agg, RAP for Asphaltic Mixtures","PS00000710","D & J Construction Company, Inc. - West Monroe","1003M01000","AGGR","Agg, RAP for Asphaltic Mixtures"]
["AGGR-PS00000720","PS00000720-1003M01000","PS00000720-Diamond B Construction Company, LLC - Monroe","1003M01000-Agg, RAP for Asphaltic Mixtures","PS00000720","Diamond B Construction Company, LLC - Monroe","1003M01000","AGGR","Agg, RAP for Asphaltic Mixtures"]
["AGGR-PS00000750","PS00000750-1003M01000","PS00000750-Prairie Contractors, Inc. - Westlake","1003M01000-Agg, RAP for Asphaltic Mixtures","PS00000750","Prairie Contractors, Inc. - Westlake","1003M01000","AGGR","Agg, RAP for Asphaltic Mixtures"]
["AGGR-PS00000760","PS00000760-1003M01000","PS00000760-R. E. Heidt #2 - Westlake","1003M01000-Agg, RAP for Asphaltic Mixtures","PS00000760","R. E. Heidt #2 - Westlake","1003M01000","AGGR","Agg, RAP for Asphaltic Mixtures"]
["AGGR-PS00000780","PS00000780-1003M01000","PS00000780-Diamond B Construction Company, LLC - Alexandria","1003M01000-Agg, RAP for Asphaltic Mixtures","PS00000780","Diamond B Construction Company, LLC - Alexandria","1003M01000","AGGR","Agg, RAP for Asphaltic Mixtures"]
["AGGR-PS00000800","PS00000800-1003M01000","PS00000800-Gilchrist Construction #6293 - Alexandria","1003M01000-Agg, RAP for Asphaltic Mixtures","PS00000800","Gilchrist Construction #6293 - Alexandria","1003M01000","AGGR","Agg, RAP for Asphaltic Mixtures"]
["AGGR-PS00000810","PS00000810-1003M01000","PS00000810-Madden Construction Company #AP16 - Campti","1003M01000-Agg, RAP for Asphaltic Mixtures","PS00000810","Madden Construction Company #AP16 - Campti","1003M01000","AGGR","Agg, RAP for Asphaltic Mixtures"]
["AGGR-PS00000850","PS00000850-1003M01000","PS00000850-Barber Brothers #1 - Darrow","1003M01000-Agg, RAP for Asphaltic Mixtures","PS00000850","Barber Brothers #1 - Darrow","1003M01000","AGGR","Agg, RAP for Asphaltic Mixtures"]
["AGGR-PS00000860","PS00000860-1003M00110","PS00000860-Barber Brothers #6 - Port Allen","1003M00110-Agg, Fine  - HMAC-FnSandHMAC DonnaFillBarberPlant","PS00000860","Barber Brothers #6 - Port Allen","1003M00110","AGGR","Agg, Fine  - HMAC","FnSandHMAC DonnaFillBarberPlant",20220301]
["AGGR-PS00000860","PS00000860-1003M01000","PS00000860-Barber Brothers #6 - Port Allen","1003M01000-Agg, RAP for Asphaltic Mixtures","PS00000860","Barber Brothers #6 - Port Allen","1003M01000","AGGR","Agg, RAP for Asphaltic Mixtures"]
["AGGR-PS00000890","PS00000890-1003M01000","PS00000890-R. J. Daigle & Son - Geismar","1003M01000-Agg, RAP for Asphaltic Mixtures","PS00000890","R. J. Daigle & Son - Geismar","1003M01000","AGGR","Agg, RAP for Asphaltic Mixtures"]
["AGGR-PS00000940","PS00000940-1003M01000","PS00000940-Huey Stockstill #1 - Picayune","1003M01000-Agg, RAP for Asphaltic Mixtures","PS00000940","Huey Stockstill #1 - Picayune","1003M01000","AGGR","Agg, RAP for Asphaltic Mixtures"]
["AGGR-PS00000970","PS00000970-1003M01000","PS00000970-Gilchrist Construction #1 - Walker","1003M01000-Agg, RAP for Asphaltic Mixtures","PS00000970","Gilchrist Construction #1 - Walker","1003M01000","AGGR","Agg, RAP for Asphaltic Mixtures"]
["AGGR-PS00003940","PS00003940-1003M01000","PS00003940-Barber Brothers Corporation - New Orleans East","1003M01000-Agg, RAP for Asphaltic Mixtures","PS00003940","Barber Brothers Corporation - New Orleans East","1003M01000","AGGR","Agg, RAP for Asphaltic Mixtures"]
["AGGR-PS00003960","PS00003960-1003M01000","PS00003960-R. J. Daigle - Baton Rouge, LA","1003M01000-Agg, RAP for Asphaltic Mixtures","PS00003960","R. J. Daigle - Baton Rouge, LA","1003M01000","AGGR","Agg, RAP for Asphaltic Mixtures"]
["AGGR-PS00004140","PS00004140-1003M01000","PS00004140-Prairie Contractors, Inc. - Leesville","1003M01000-Agg, RAP for Asphaltic Mixtures","PS00004140","Prairie Contractors, Inc. - Leesville","1003M01000","AGGR","Agg, RAP for Asphaltic Mixtures"]
["AGGR-PS00004190","PS00004190-1003M01000","PS00004190-Boh Brothers H230 - New Orleans East","1003M01000-Agg, RAP for Asphaltic Mixtures","PS00004190","Boh Brothers H230 - New Orleans East","1003M01000","AGGR","Agg, RAP for Asphaltic Mixtures"]
["AGGR-PS00004260","PS00004260-1003M00110","PS00004260-Wood Materials, LLC - Harahan, LA (SAND)","1003M00110-Agg, Fine  - HMAC-FnSandHMAC Harahan Sand Wood Matls","PS00004260","Wood Materials, LLC - Harahan, LA (SAND)","1003M00110","AGGR","Agg, Fine  - HMAC","FnSandHMAC Harahan Sand Wood Matls",20180620]
["AGGR-PS00004380","PS00004380-1003M01000","PS00004380-D&J Construction, Inc. - Harrisonburg","1003M01000-Agg, RAP for Asphaltic Mixtures","PS00004380","D&J Construction, Inc. - Harrisonburg","1003M01000","AGGR","Agg, RAP for Asphaltic Mixtures"]
["AGGR-PS00004850","PS00004850-1003M00110","PS00004850-Benton & Brown, LLC","1003M00110-Agg, Fine  - HMAC- FnSandHMAC Benton & Brown","PS00004850","Benton & Brown, LLC","1003M00110","AGGR","Agg, Fine  - HMAC"," FnSandHMAC Benton & Brown",20231121]
["AGGR-PS00005710","PS00005710-1003M01000","PS00005710-Elliott Construction - Breaux Bridge, LA","1003M01000-Agg, RAP for Asphaltic Mixtures","PS00005710","Elliott Construction - Breaux Bridge, LA","1003M01000","AGGR","Agg, RAP for Asphaltic Mixtures"]
["AGGR-PS00005820","PS00005820-1003M00110","PS00005820-KanAgg Recycling - Harvey, TX","1003M00110-Agg, Fine  - HMAC","PS00005820","KanAgg Recycling - Harvey, TX","1003M00110","AGGR","Agg, Fine  - HMAC"]
["AGGR-PS00005840","PS00005840-1003M01000","PS00005840-Barriere Construction (CRH Company) - Franklinton","1003M01000-Agg, RAP for Asphaltic Mixtures","PS00005840","Barriere Construction (CRH Company) - Franklinton","1003M01000","AGGR","Agg, RAP for Asphaltic Mixtures"]
["AGGR-PS00005850","PS00005850-1003M01000","PS00005850-Madden Contracting - Port Allen, LA","1003M01000-Agg, RAP for Asphaltic Mixtures","PS00005850","Madden Contracting - Port Allen, LA","1003M01000","AGGR","Agg, RAP for Asphaltic Mixtures"]
[{"$f":"H579&\"-\"&E579","v":"AGGR-PS00005860"},{"$f":"E579&\"-\"&G579","v":"PS00005860-1003M01000"},{"$f":"E579&\"-\"&F579","v":"PS00005860-Barriere Construction a CRH Company - Baton Rouge"},{"$f":"G579&\"-\"&I579&IF(J579<>\"\", \"-\"&J579, \"\")","v":"1003M01000-Agg, RAP for Asphaltic Mixtures"},"PS00005860","Barriere Construction a CRH Company - Baton Rouge","1003M01000","AGGR","Agg, RAP for Asphaltic Mixtures"]
["AGGR-PS00005870","PS00005870-1003M01000","PS00005870-Madden Contracting Company, LLC - Amite","1003M01000-Agg, RAP for Asphaltic Mixtures","PS00005870","Madden Contracting Company, LLC - Amite","1003M01000","AGGR","Agg, RAP for Asphaltic Mixtures"]
["AGGR-PS00005880","PS00005880-1003M01000","PS00005880-Madden Contracting Company LLC - Westwego","1003M01000-Agg, RAP for Asphaltic Mixtures","PS00005880","Madden Contracting Company LLC - Westwego","1003M01000","AGGR","Agg, RAP for Asphaltic Mixtures"]
["AGGR-PS00005890","PS00005890-1003M01000","PS00005890-Barriere Construction a CRH Company - Boutte","1003M01000-Agg, RAP for Asphaltic Mixtures","PS00005890","Barriere Construction a CRH Company - Boutte","1003M01000","AGGR","Agg, RAP for Asphaltic Mixtures"]
["AGGR-PS00005970","PS00005970-1003M01000","PS00005970-Heritage Materials, LLC - Beaumont, TX","1003M01000-Agg, RAP for Asphaltic Mixtures","PS00005970","Heritage Materials, LLC - Beaumont, TX","1003M01000","AGGR","Agg, RAP for Asphaltic Mixtures"]
["AGGR-PS99999999","PS99999999-1003M01000","PS99999999-ZYX Test Plant - Baton Rouge, LA","1003M01000-Agg, RAP for Asphaltic Mixtures","PS99999999","ZYX Test Plant - Baton Rouge, LA","1003M01000","AGGR","Agg, RAP for Asphaltic Mixtures"]
["ASPH-PS00000520","PS00000520-0502M00020","PS00000520-Contractor Supplied","0502M00020-Base Course, Level 1, 1.0\"","PS00000520","Contractor Supplied","0502M00020","ASPH","Base Course, Level 1, 1.0\""]
["ASPH-PS00000560","PS00000560-0501M00010","PS00000560-Barriere Construction Company, LLC - Boutte","0501M00010-Thin Asphalt Concrete","PS00000560","Barriere Construction Company, LLC - Boutte","0501M00010","ASPH","Thin Asphalt Concrete"]
["ASPH-PS00000560","PS00000560-0502M00010","PS00000560-Barriere Construction Company, LLC - Boutte","0502M00010-Asphalt Concrete","PS00000560","Barriere Construction Company, LLC - Boutte","0502M00010","ASPH","Asphalt Concrete"]
["ASPH-PS00000570","PS00000570-0501M00010","PS00000570-Huey Stockstill Contractors, Inc. - Houma","0501M00010-Thin Asphalt Concrete","PS00000570","Huey Stockstill Contractors, Inc. - Houma","0501M00010","ASPH","Thin Asphalt Concrete"]
["ASPH-PS00000570","PS00000570-0502M00010","PS00000570-Huey Stockstill Contractors, Inc. - Houma","0502M00010-Asphalt Concrete","PS00000570","Huey Stockstill Contractors, Inc. - Houma","0502M00010","ASPH","Asphalt Concrete"]
["ASPH-PS00000590","PS00000590-0501M00010","PS00000590-Prairie Contractors, Inc. - Opelousas","0501M00010-Thin Asphalt Concrete","PS00000590","Prairie Contractors, Inc. - Opelousas","0501M00010","ASPH","Thin Asphalt Concrete"]
["ASPH-PS00000590","PS00000590-0502M00010","PS00000590-Prairie Contractors, Inc. - Opelousas","0502M00010-Asphalt Concrete","PS00000590","Prairie Contractors, Inc. - Opelousas","0502M00010","ASPH","Asphalt Concrete"]
["ASPH-PS00000600","PS00000600-0501M00010","PS00000600-Glen Lege Construction - Abbeville","0501M00010-Thin Asphalt Concrete","PS00000600","Glen Lege Construction - Abbeville","0501M00010","ASPH","Thin Asphalt Concrete"]
["ASPH-PS00000600","PS00000600-0502M00010","PS00000600-Glen Lege Construction - Abbeville","0502M00010-Asphalt Concrete","PS00000600","Glen Lege Construction - Abbeville","0502M00010","ASPH","Asphalt Concrete"]
["ASPH-PS00000610","PS00000610-0501M00010","PS00000610-Prairie Contractors, Inc. - New Iberia","0501M00010-Thin Asphalt Concrete","PS00000610","Prairie Contractors, Inc. - New Iberia","0501M00010","ASPH","Thin Asphalt Concrete"]
["ASPH-PS00000610","PS00000610-0502M00010","PS00000610-Prairie Contractors, Inc. - New Iberia","0502M00010-Asphalt Concrete","PS00000610","Prairie Contractors, Inc. - New Iberia","0502M00010","ASPH","Asphalt Concrete"]
["ASPH-PS00000630","PS00000630-0501M00010","PS00000630-Prairie Contractors, Inc. - Lafayette","0501M00010-Thin Asphalt Concrete","PS00000630","Prairie Contractors, Inc. - Lafayette","0501M00010","ASPH","Thin Asphalt Concrete"]
["ASPH-PS00000630","PS00000630-0502M00010","PS00000630-Prairie Contractors, Inc. - Lafayette","0502M00010-Asphalt Concrete","PS00000630","Prairie Contractors, Inc. - Lafayette","0502M00010","ASPH","Asphalt Concrete"]
["ASPH-PS00000640","PS00000640-0502M00010","PS00000640-Benton & Brown - Bossier City","0502M00010-Asphalt Concrete","PS00000640","Benton & Brown - Bossier City","0502M00010","ASPH","Asphalt Concrete"]
["ASPH-PS00000650","PS00000650-0501M00010","PS00000650-Madden Contracting Company - Sibley","0501M00010-Thin Asphalt Concrete","PS00000650","Madden Contracting Company - Sibley","0501M00010","ASPH","Thin Asphalt Concrete"]
["ASPH-PS00000650","PS00000650-0502M00010","PS00000650-Madden Contracting Company - Sibley","0502M00010-Asphalt Concrete","PS00000650","Madden Contracting Company - Sibley","0502M00010","ASPH","Asphalt Concrete"]
["ASPH-PS00000660","PS00000660-0501M00010","PS00000660-Madden Contracting Company - Shreveport","0501M00010-Thin Asphalt Concrete","PS00000660","Madden Contracting Company - Shreveport","0501M00010","ASPH","Thin Asphalt Concrete"]
["ASPH-PS00000660","PS00000660-0502M00010","PS00000660-Madden Contracting Company - Shreveport","0502M00010-Asphalt Concrete","PS00000660","Madden Contracting Company - Shreveport","0502M00010","ASPH","Asphalt Concrete"]
["ASPH-PS00000670","PS00000670-0501M00010","PS00000670-Madden Contracting Company - Mansfield","0501M00010-Thin Asphalt Concrete","PS00000670","Madden Contracting Company - Mansfield","0501M00010","ASPH","Thin Asphalt Concrete"]
["ASPH-PS00000670","PS00000670-0502M00010","PS00000670-Madden Contracting Company - Mansfield","0502M00010-Asphalt Concrete","PS00000670","Madden Contracting Company - Mansfield","0502M00010","ASPH","Asphalt Concrete"]
["ASPH-PS00000680","PS00000680-0501M00010","PS00000680-Amethyst Construction Company - Ruston","0501M00010-Thin Asphalt Concrete","PS00000680","Amethyst Construction Company - Ruston","0501M00010","ASPH","Thin Asphalt Concrete"]
["ASPH-PS00000680","PS00000680-0502M00010","PS00000680-Amethyst Construction Company - Ruston","0502M00010-Asphalt Concrete","PS00000680","Amethyst Construction Company - Ruston","0502M00010","ASPH","Asphalt Concrete"]
["ASPH-PS00000700","PS00000700-0501M00010","PS00000700-D & J Construction Company, Inc. - Tallulah","0501M00010-Thin Asphalt Concrete","PS00000700","D & J Construction Company, Inc. - Tallulah","0501M00010","ASPH","Thin Asphalt Concrete"]
["ASPH-PS00000700","PS00000700-0502M00010","PS00000700-D & J Construction Company, Inc. - Tallulah","0502M00010-Asphalt Concrete","PS00000700","D & J Construction Company, Inc. - Tallulah","0502M00010","ASPH","Asphalt Concrete"]
["ASPH-PS00000710","PS00000710-0501M00010","PS00000710-D & J Construction Company, Inc. - West Monroe","0501M00010-Thin Asphalt Concrete","PS00000710","D & J Construction Company, Inc. - West Monroe","0501M00010","ASPH","Thin Asphalt Concrete"]
["ASPH-PS00000710","PS00000710-0502M00010","PS00000710-D & J Construction Company, Inc. - West Monroe","0502M00010-Asphalt Concrete","PS00000710","D & J Construction Company, Inc. - West Monroe","0502M00010","ASPH","Asphalt Concrete"]
["ASPH-PS00000720","PS00000720-0501M00010","PS00000720-Diamond B Construction Company, LLC - Monroe","0501M00010-Thin Asphalt Concrete","PS00000720","Diamond B Construction Company, LLC - Monroe","0501M00010","ASPH","Thin Asphalt Concrete"]
["ASPH-PS00000720","PS00000720-0502M00010","PS00000720-Diamond B Construction Company, LLC - Monroe","0502M00010-Asphalt Concrete","PS00000720","Diamond B Construction Company, LLC - Monroe","0502M00010","ASPH","Asphalt Concrete"]
["ASPH-PS00000730","PS00000730-0501M00010","PS00000730-Dreher Contracting Company, - Bastrop","0501M00010-Thin Asphalt Concrete","PS00000730","Dreher Contracting Company, - Bastrop","0501M00010","ASPH","Thin Asphalt Concrete"]
["ASPH-PS00000730","PS00000730-0502M00010","PS00000730-Dreher Contracting Company, - Bastrop","0502M00010-Asphalt Concrete","PS00000730","Dreher Contracting Company, - Bastrop","0502M00010","ASPH","Asphalt Concrete"]
["ASPH-PS00000750","PS00000750-0501M00010","PS00000750-Prairie Contractors, Inc. - Westlake","0501M00010-Thin Asphalt Concrete","PS00000750","Prairie Contractors, Inc. - Westlake","0501M00010","ASPH","Thin Asphalt Concrete"]
["ASPH-PS00000750","PS00000750-0502M00010","PS00000750-Prairie Contractors, Inc. - Westlake","0502M00010-Asphalt Concrete","PS00000750","Prairie Contractors, Inc. - Westlake","0502M00010","ASPH","Asphalt Concrete"]
["ASPH-PS00000760","PS00000760-0501M00010","PS00000760-R. E. Heidt #2 - Westlake","0501M00010-Thin Asphalt Concrete","PS00000760","R. E. Heidt #2 - Westlake","0501M00010","ASPH","Thin Asphalt Concrete"]
["ASPH-PS00000760","PS00000760-0502M00010","PS00000760-R. E. Heidt #2 - Westlake","0502M00010-Asphalt Concrete","PS00000760","R. E. Heidt #2 - Westlake","0502M00010","ASPH","Asphalt Concrete"]
["ASPH-PS00000780","PS00000780-0501M00010","PS00000780-Diamond B Construction Company, LLC - Alexandria","0501M00010-Thin Asphalt Concrete","PS00000780","Diamond B Construction Company, LLC - Alexandria","0501M00010","ASPH","Thin Asphalt Concrete"]
["ASPH-PS00000780","PS00000780-0502M00010","PS00000780-Diamond B Construction Company, LLC - Alexandria","0502M00010-Asphalt Concrete","PS00000780","Diamond B Construction Company, LLC - Alexandria","0502M00010","ASPH","Asphalt Concrete"]
["ASPH-PS00000800","PS00000800-0501M00010","PS00000800-Gilchrist Construction #6293 - Alexandria","0501M00010-Thin Asphalt Concrete","PS00000800","Gilchrist Construction #6293 - Alexandria","0501M00010","ASPH","Thin Asphalt Concrete"]
["ASPH-PS00000800","PS00000800-0502M00010","PS00000800-Gilchrist Construction #6293 - Alexandria","0502M00010-Asphalt Concrete","PS00000800","Gilchrist Construction #6293 - Alexandria","0502M00010","ASPH","Asphalt Concrete"]
["ASPH-PS00000810","PS00000810-0501M00010","PS00000810-Madden Construction Company #AP16 - Campti","0501M00010-Thin Asphalt Concrete","PS00000810","Madden Construction Company #AP16 - Campti","0501M00010","ASPH","Thin Asphalt Concrete"]
["ASPH-PS00000810","PS00000810-0502M00010","PS00000810-Madden Construction Company #AP16 - Campti","0502M00010-Asphalt Concrete","PS00000810","Madden Construction Company #AP16 - Campti","0502M00010","ASPH","Asphalt Concrete"]
["ASPH-PS00000850","PS00000850-0501M00010","PS00000850-Barber Brothers #1 - Darrow","0501M00010-Thin Asphalt Concrete","PS00000850","Barber Brothers #1 - Darrow","0501M00010","ASPH","Thin Asphalt Concrete"]
["ASPH-PS00000850","PS00000850-0502M00010","PS00000850-Barber Brothers #1 - Darrow","0502M00010-Asphalt Concrete","PS00000850","Barber Brothers #1 - Darrow","0502M00010","ASPH","Asphalt Concrete"]
["ASPH-PS00000860","PS00000860-0501M00010","PS00000860-Barber Brothers #6 - Port Allen","0501M00010-Thin Asphalt Concrete","PS00000860","Barber Brothers #6 - Port Allen","0501M00010","ASPH","Thin Asphalt Concrete"]
["ASPH-PS00000860","PS00000860-0502M00010","PS00000860-Barber Brothers #6 - Port Allen","0502M00010-Asphalt Concrete","PS00000860","Barber Brothers #6 - Port Allen","0502M00010","ASPH","Asphalt Concrete"]
["ASPH-PS00000890","PS00000890-0501M00010","PS00000890-R. J. Daigle & Son - Geismar","0501M00010-Thin Asphalt Concrete","PS00000890","R. J. Daigle & Son - Geismar","0501M00010","ASPH","Thin Asphalt Concrete"]
["ASPH-PS00000890","PS00000890-0502M00010","PS00000890-R. J. Daigle & Son - Geismar","0502M00010-Asphalt Concrete","PS00000890","R. J. Daigle & Son - Geismar","0502M00010","ASPH","Asphalt Concrete"]
["ASPH-PS00000940","PS00000940-0501M00010","PS00000940-Huey Stockstill #1 - Picayune","0501M00010-Thin Asphalt Concrete","PS00000940","Huey Stockstill #1 - Picayune","0501M00010","ASPH","Thin Asphalt Concrete"]
["ASPH-PS00000940","PS00000940-0502M00010","PS00000940-Huey Stockstill #1 - Picayune","0502M00010-Asphalt Concrete","PS00000940","Huey Stockstill #1 - Picayune","0502M00010","ASPH","Asphalt Concrete"]
["ASPH-PS00000940","PS00000940-0502M00020","PS00000940-Huey Stockstill #1 - Picayune","0502M00020-Base Course, Level 1, 1.0\"","PS00000940","Huey Stockstill #1 - Picayune","0502M00020","ASPH","Base Course, Level 1, 1.0\""]
["ASPH-PS00003940","PS00003940-0502M00010","PS00003940-Barber Brothers Corporation - New Orleans East","0502M00010-Asphalt Concrete","PS00003940","Barber Brothers Corporation - New Orleans East","0502M00010","ASPH","Asphalt Concrete"]
["ASPH-PS00003960","PS00003960-0501M00010","PS00003960-R. J. Daigle - Baton Rouge, LA","0501M00010-Thin Asphalt Concrete","PS00003960","R. J. Daigle - Baton Rouge, LA","0501M00010","ASPH","Thin Asphalt Concrete"]
["ASPH-PS00003960","PS00003960-0502M00010","PS00003960-R. J. Daigle - Baton Rouge, LA","0502M00010-Asphalt Concrete","PS00003960","R. J. Daigle - Baton Rouge, LA","0502M00010","ASPH","Asphalt Concrete"]
["ASPH-PS00004140","PS00004140-0501M00010","PS00004140-Prairie Contractors, Inc. - Leesville","0501M00010-Thin Asphalt Concrete","PS00004140","Prairie Contractors, Inc. - Leesville","0501M00010","ASPH","Thin Asphalt Concrete"]
["ASPH-PS00004140","PS00004140-0502M00010","PS00004140-Prairie Contractors, Inc. - Leesville","0502M00010-Asphalt Concrete","PS00004140","Prairie Contractors, Inc. - Leesville","0502M00010","ASPH","Asphalt Concrete"]
["ASPH-PS00004190","PS00004190-0501M00010","PS00004190-Boh Brothers H230 - New Orleans East","0501M00010-Thin Asphalt Concrete","PS00004190","Boh Brothers H230 - New Orleans East","0501M00010","ASPH","Thin Asphalt Concrete"]
["ASPH-PS00004190","PS00004190-0502M00010","PS00004190-Boh Brothers H230 - New Orleans East","0502M00010-Asphalt Concrete","PS00004190","Boh Brothers H230 - New Orleans East","0502M00010","ASPH","Asphalt Concrete"]
["ASPH-PS00004380","PS00004380-0502M00010","PS00004380-D&J Construction, Inc. - Harrisonburg","0502M00010-Asphalt Concrete","PS00004380","D&J Construction, Inc. - Harrisonburg","0502M00010","ASPH","Asphalt Concrete"]
["ASPH-PS00005710","PS00005710-0502M00010","PS00005710-Elliott Construction - Breaux Bridge, LA","0502M00010-Asphalt Concrete","PS00005710","Elliott Construction - Breaux Bridge, LA","0502M00010","ASPH","Asphalt Concrete"]
[{"$f":"H643&\"-\"&E643","v":"ASPH-PS00005840"},{"$f":"E643&\"-\"&G643","v":"PS00005840-0501M00010"},{"$f":"E643&\"-\"&F643","v":"PS00005840-Barriere Construction (CRH Company) - Franklinton"},{"$f":"G643&\"-\"&I643&IF(J643<>\"\", \"-\"&J643, \"\")","v":"0501M00010-Thin Asphalt Concrete"},"PS00005840","Barriere Construction (CRH Company) - Franklinton","0501M00010","ASPH","Thin Asphalt Concrete"]
["ASPH-PS00005840","PS00005840-0502M00010","PS00005840-Barriere Construction (CRH Company) - Franklinton","0502M00010-Asphalt Concrete","PS00005840","Barriere Construction (CRH Company) - Franklinton","0502M00010","ASPH","Asphalt Concrete"]
["ASPH-PS00005850","PS00005850-0501M00010","PS00005850-Madden Contracting - Port Allen, LA","0501M00010-Thin Asphalt Concrete","PS00005850","Madden Contracting - Port Allen, LA","0501M00010","ASPH","Thin Asphalt Concrete"]
["ASPH-PS00005850","PS00005850-0502M00010","PS00005850-Madden Contracting - Port Allen, LA","0502M00010-Asphalt Concrete","PS00005850","Madden Contracting - Port Allen, LA","0502M00010","ASPH","Asphalt Concrete"]
["ASPH-PS00005860","PS00005860-0501M00010","PS00005860-Barriere Construction a CRH Company - Baton Rouge","0501M00010-Thin Asphalt Concrete","PS00005860","Barriere Construction a CRH Company - Baton Rouge","0501M00010","ASPH","Thin Asphalt Concrete"]
["ASPH-PS00005860","PS00005860-0502M00010","PS00005860-Barriere Construction a CRH Company - Baton Rouge","0502M00010-Asphalt Concrete","PS00005860","Barriere Construction a CRH Company - Baton Rouge","0502M00010","ASPH","Asphalt Concrete"]
["ASPH-PS00005870","PS00005870-0501M00010","PS00005870-Madden Contracting Company, LLC - Amite","0501M00010-Thin Asphalt Concrete","PS00005870","Madden Contracting Company, LLC - Amite","0501M00010","ASPH","Thin Asphalt Concrete"]
["ASPH-PS00005870","PS00005870-0502M00010","PS00005870-Madden Contracting Company, LLC - Amite","0502M00010-Asphalt Concrete","PS00005870","Madden Contracting Company, LLC - Amite","0502M00010","ASPH","Asphalt Concrete"]
["ASPH-PS00005880","PS00005880-0501M00010","PS00005880-Madden Contracting Company LLC - Westwego","0501M00010-Thin Asphalt Concrete","PS00005880","Madden Contracting Company LLC - Westwego","0501M00010","ASPH","Thin Asphalt Concrete"]
["ASPH-PS00005880","PS00005880-0502M00010","PS00005880-Madden Contracting Company LLC - Westwego","0502M00010-Asphalt Concrete","PS00005880","Madden Contracting Company LLC - Westwego","0502M00010","ASPH","Asphalt Concrete"]
["ASPH-PS00005890","PS00005890-0501M00010","PS00005890-Barriere Construction a CRH Company - Boutte","0501M00010-Thin Asphalt Concrete","PS00005890","Barriere Construction a CRH Company - Boutte","0501M00010","ASPH","Thin Asphalt Concrete"]
["ASPH-PS00005890","PS00005890-0502M00010","PS00005890-Barriere Construction a CRH Company - Boutte","0502M00010-Asphalt Concrete","PS00005890","Barriere Construction a CRH Company - Boutte","0502M00010","ASPH","Asphalt Concrete"]
["ASPH-PS00005970","PS00005970-0501M00010","PS00005970-Heritage Materials, LLC - Beaumont, TX","0501M00010-Thin Asphalt Concrete","PS00005970","Heritage Materials, LLC - Beaumont, TX","0501M00010","ASPH","Thin Asphalt Concrete"]
["ASPH-PS00005970","PS00005970-0502M00010","PS00005970-Heritage Materials, LLC - Beaumont, TX","0502M00010-Asphalt Concrete","PS00005970","Heritage Materials, LLC - Beaumont, TX","0502M00010","ASPH","Asphalt Concrete"]
["ASPH-PS00005970","PS00005970-0502M00020","PS00005970-Heritage Materials, LLC - Beaumont, TX","0502M00020-Base Course, Level 1, 1.0\"","PS00005970","Heritage Materials, LLC - Beaumont, TX","0502M00020","ASPH","Base Course, Level 1, 1.0\""]
["ASPH-PS99999999","PS99999999-0501M00010","PS99999999-ZYX Test Plant - Baton Rouge, LA","0501M00010-Thin Asphalt Concrete","PS99999999","ZYX Test Plant - Baton Rouge, LA","0501M00010","ASPH","Thin Asphalt Concrete"]
["ASPH-PS99999999","PS99999999-0502M00010","PS99999999-ZYX Test Plant - Baton Rouge, LA","0502M00010-Asphalt Concrete","PS99999999","ZYX Test Plant - Baton Rouge, LA","0502M00010","ASPH","Asphalt Concrete"]
["ASPH-PS9999LTRC","PS9999LTRC-0501M00010","PS9999LTRC-LTRC - Baton Rouge, LA","0501M00010-Thin Asphalt Concrete","PS9999LTRC","LTRC - Baton Rouge, LA","0501M00010","ASPH","Thin Asphalt Concrete"]
["ASPH-PS9999LTRC","PS9999LTRC-0502M00010","PS9999LTRC-LTRC - Baton Rouge, LA","0502M00010-Asphalt Concrete","PS9999LTRC","LTRC - Baton Rouge, LA","0502M00010","ASPH","Asphalt Concrete"]
["BIND-APS00000330","APS00000330-1002M00320","APS00000330-Asphalt Products Unlimited, Inc. - Port Allen, LA","1002M00320-Binder Non-TrackHotAppPol(NTHAP)TackCoat-NTHAP Underseal LA Asphalt Products","APS00000330","Asphalt Products Unlimited, Inc. - Port Allen, LA","1002M00320","BIND","Binder Non-TrackHotAppPol(NTHAP)TackCoat","NTHAP Underseal LA Asphalt Products",20490101]
["BIND-APS00000340","APS00000340-1002M00030","APS00000340-Blacklidge Emulsions, Inc. - Gulfport, MS","1002M00030-Binder PG 64-22-Binder PG 64-22 Blacklidge","APS00000340","Blacklidge Emulsions, Inc. - Gulfport, MS","1002M00030","BIND","Binder PG 64-22","Binder PG 64-22 Blacklidge",20200904]
["BIND-APS00000340","APS00000340-1002M00035","APS00000340-Blacklidge Emulsions, Inc. - Gulfport, MS","1002M00035-Binder PG 67-22-Binder PG 67-22 Blacklidge","APS00000340","Blacklidge Emulsions, Inc. - Gulfport, MS","1002M00035","BIND","Binder PG 67-22","Binder PG 67-22 Blacklidge",20490101]
["BIND-APS00000340","APS00000340-1002M00050","APS00000340-Blacklidge Emulsions, Inc. - Gulfport, MS","1002M00050-Binder PG 76-22m-Binder PG 76-22m Blacklide Emul-Gulfport","APS00000340","Blacklidge Emulsions, Inc. - Gulfport, MS","1002M00050","BIND","Binder PG 76-22m","Binder PG 76-22m Blacklide Emul-Gulfport",20490101]
["BIND-APS00000340","APS00000340-1002M00065","APS00000340-Blacklidge Emulsions, Inc. - Gulfport, MS","1002M00065-Binder PG 82-22rm-Binder PG 82-22RM Blacklidge","APS00000340","Blacklidge Emulsions, Inc. - Gulfport, MS","1002M00065","BIND","Binder PG 82-22rm","Binder PG 82-22RM Blacklidge",20490101]
["BIND-APS00000340","APS00000340-1002M00320","APS00000340-Blacklidge Emulsions, Inc. - Gulfport, MS","1002M00320-Binder Non-TrackHotAppPol(NTHAP)TackCoat-NTHAP UltraFuse - Blacklidge","APS00000340","Blacklidge Emulsions, Inc. - Gulfport, MS","1002M00320","BIND","Binder Non-TrackHotAppPol(NTHAP)TackCoat","NTHAP UltraFuse - Blacklidge",20490101]
["BIND-APS00000360","APS00000360-1002M00030","APS00000360-Ergon Refining, Inc. - Vicksburg, MS","1002M00030-Binder PG 64-22-Binder PG 64-22 Ergon Vicksburg","APS00000360","Ergon Refining, Inc. - Vicksburg, MS","1002M00030","BIND","Binder PG 64-22","Binder PG 64-22 Ergon Vicksburg",20200904]
["BIND-APS00000360","APS00000360-1002M00035","APS00000360-Ergon Refining, Inc. - Vicksburg, MS","1002M00035-Binder PG 67-22-Binder PG 67-22 Ergon Vicksburg","APS00000360","Ergon Refining, Inc. - Vicksburg, MS","1002M00035","BIND","Binder PG 67-22","Binder PG 67-22 Ergon Vicksburg",20490101]
["BIND-APS00000360","APS00000360-1002M00040","APS00000360-Ergon Refining, Inc. - Vicksburg, MS","1002M00040-Binder PG 70-22m-Binder PG 70-22m Ergon - Vicksburg","APS00000360","Ergon Refining, Inc. - Vicksburg, MS","1002M00040","BIND","Binder PG 70-22m","Binder PG 70-22m Ergon - Vicksburg",20491231]
["BIND-APS00000360","APS00000360-1002M00050","APS00000360-Ergon Refining, Inc. - Vicksburg, MS","1002M00050-Binder PG 76-22m-Binder PG 76-22m Ergon - Vicksburg","APS00000360","Ergon Refining, Inc. - Vicksburg, MS","1002M00050","BIND","Binder PG 76-22m","Binder PG 76-22m Ergon - Vicksburg",20490101]
["BIND-APS00000360","APS00000360-1002M00320","APS00000360-Ergon Refining, Inc. - Vicksburg, MS","1002M00320-Binder Non-TrackHotAppPol(NTHAP)TackCoat-NTHAP - eTac - HB Ergon, - Vicksburg ","APS00000360","Ergon Refining, Inc. - Vicksburg, MS","1002M00320","BIND","Binder Non-TrackHotAppPol(NTHAP)TackCoat","NTHAP - eTac - HB Ergon, - Vicksburg ",20490101]
["BIND-APS00000385","APS00000385-1002M00020","APS00000385-Hunt-Southland Refining Company - Heidelberg, MS","1002M00020-Binder PG 58-28-Binder PG 58-28 HuntSouthland Heidelberg","APS00000385","Hunt-Southland Refining Company - Heidelberg, MS","1002M00020","BIND","Binder PG 58-28","Binder PG 58-28 HuntSouthland Heidelberg",20490101]
["BIND-APS00000385","APS00000385-1002M00030","APS00000385-Hunt-Southland Refining Company - Heidelberg, MS","1002M00030-Binder PG 64-22-Binder PG 64-22 Hunt-Southland Heidelbg","APS00000385","Hunt-Southland Refining Company - Heidelberg, MS","1002M00030","BIND","Binder PG 64-22","Binder PG 64-22 Hunt-Southland Heidelbg",20200904]
["BIND-APS00000385","APS00000385-1002M00035","APS00000385-Hunt-Southland Refining Company - Heidelberg, MS","1002M00035-Binder PG 67-22-Binder PG 67-22 Hunt-Southland Heidelbg","APS00000385","Hunt-Southland Refining Company - Heidelberg, MS","1002M00035","BIND","Binder PG 67-22","Binder PG 67-22 Hunt-Southland Heidelbg",20490101]
["BIND-APS00000385","APS00000385-1002M00040","APS00000385-Hunt-Southland Refining Company - Heidelberg, MS","1002M00040-Binder PG 70-22m-Binder PG 70-22m Hunt-Southland Heidelbg","APS00000385","Hunt-Southland Refining Company - Heidelberg, MS","1002M00040","BIND","Binder PG 70-22m","Binder PG 70-22m Hunt-Southland Heidelbg",20490101]
["BIND-APS00000385","APS00000385-1002M00050","APS00000385-Hunt-Southland Refining Company - Heidelberg, MS","1002M00050-Binder PG 76-22m-Binder PG 76-22m Hunt Southland Ref MS","APS00000385","Hunt-Southland Refining Company - Heidelberg, MS","1002M00050","BIND","Binder PG 76-22m","Binder PG 76-22m Hunt Southland Ref MS",20490101]
["BIND-APS00000390","APS00000390-1002M00020","APS00000390-Delek US Asphalt-TrinityAsphFacility Henderson, TX","1002M00020-Binder PG 58-28-Binder PG 58-28 DK Asphalt  - Henderson","APS00000390","Delek US Asphalt-TrinityAsphFacility Henderson, TX","1002M00020","BIND","Binder PG 58-28","Binder PG 58-28 DK Asphalt  - Henderson",20210907]
["BIND-APS00000390","APS00000390-1002M00030","APS00000390-Delek US Asphalt-TrinityAsphFacility Henderson, TX","1002M00030-Binder PG 64-22-Binder PG 64-22 Lion Oil","APS00000390","Delek US Asphalt-TrinityAsphFacility Henderson, TX","1002M00030","BIND","Binder PG 64-22","Binder PG 64-22 Lion Oil",20150518]
["BIND-APS00000390","APS00000390-1002M00035","APS00000390-Delek US Asphalt-TrinityAsphFacility Henderson, TX","1002M00035-Binder PG 67-22-Binder PG 67-22 DK Asphalt - Henderson","APS00000390","Delek US Asphalt-TrinityAsphFacility Henderson, TX","1002M00035","BIND","Binder PG 67-22","Binder PG 67-22 DK Asphalt - Henderson",20490101]
["BIND-APS00000390","APS00000390-1002M00035","APS00000390-Delek US Asphalt-TrinityAsphFacility Henderson, TX","1002M00035-Binder PG 67-22-Binder PG 67-22 Lion Oil","APS00000390","Delek US Asphalt-TrinityAsphFacility Henderson, TX","1002M00035","BIND","Binder PG 67-22","Binder PG 67-22 Lion Oil",20150518]
["BIND-APS00000390","APS00000390-1002M00035","APS00000390-Delek US Asphalt-TrinityAsphFacility Henderson, TX","1002M00035-Binder PG 67-22-Binder PG 67-22 Lion Oil - Henderson","APS00000390","Delek US Asphalt-TrinityAsphFacility Henderson, TX","1002M00035","BIND","Binder PG 67-22","Binder PG 67-22 Lion Oil - Henderson",20190106]
["BIND-APS00000390","APS00000390-1002M00040","APS00000390-Delek US Asphalt-TrinityAsphFacility Henderson, TX","1002M00040-Binder PG 70-22m-Binder PG 70-22m DK Asphalt - Henderson","APS00000390","Delek US Asphalt-TrinityAsphFacility Henderson, TX","1002M00040","BIND","Binder PG 70-22m","Binder PG 70-22m DK Asphalt - Henderson",20490101]
["BIND-APS00000390","APS00000390-1002M00040","APS00000390-Delek US Asphalt-TrinityAsphFacility Henderson, TX","1002M00040-Binder PG 70-22m-Binder PG 70-22m Lion Oil ","APS00000390","Delek US Asphalt-TrinityAsphFacility Henderson, TX","1002M00040","BIND","Binder PG 70-22m","Binder PG 70-22m Lion Oil ",20150518]
["BIND-APS00000390","APS00000390-1002M00040","APS00000390-Delek US Asphalt-TrinityAsphFacility Henderson, TX","1002M00040-Binder PG 70-22m-Binder PG 70-22m Lion Oil - Henderson","APS00000390","Delek US Asphalt-TrinityAsphFacility Henderson, TX","1002M00040","BIND","Binder PG 70-22m","Binder PG 70-22m Lion Oil - Henderson",20190106]
["BIND-APS00000390","APS00000390-1002M00050","APS00000390-Delek US Asphalt-TrinityAsphFacility Henderson, TX","1002M00050-Binder PG 76-22m-Binder PG 76-22m DK Asphalt - Henderson","APS00000390","Delek US Asphalt-TrinityAsphFacility Henderson, TX","1002M00050","BIND","Binder PG 76-22m","Binder PG 76-22m DK Asphalt - Henderson",20490101]
["BIND-APS00000390","APS00000390-1002M00050","APS00000390-Delek US Asphalt-TrinityAsphFacility Henderson, TX","1002M00050-Binder PG 76-22m-Binder PG 76-22m Lion Oil","APS00000390","Delek US Asphalt-TrinityAsphFacility Henderson, TX","1002M00050","BIND","Binder PG 76-22m","Binder PG 76-22m Lion Oil",20150518]
["BIND-APS00000390","APS00000390-1002M00050","APS00000390-Delek US Asphalt-TrinityAsphFacility Henderson, TX","1002M00050-Binder PG 76-22m-Binder PG 76-22m Lion Oil - Henderson","APS00000390","Delek US Asphalt-TrinityAsphFacility Henderson, TX","1002M00050","BIND","Binder PG 76-22m","Binder PG 76-22m Lion Oil - Henderson",20190106]
["BIND-APS00000400","APS00000400-1002M00020","APS00000400-Marathon Petroleum Company - Garyville, LA","1002M00020-Binder PG 58-28-Binder PG 58-28 Marathon - Garyville","APS00000400","Marathon Petroleum Company - Garyville, LA","1002M00020","BIND","Binder PG 58-28","Binder PG 58-28 Marathon - Garyville",20490101]
["BIND-APS00000400","APS00000400-1002M00030","APS00000400-Marathon Petroleum Company - Garyville, LA","1002M00030-Binder PG 64-22-Binder PG 64-22 Marathon - Garyville","APS00000400","Marathon Petroleum Company - Garyville, LA","1002M00030","BIND","Binder PG 64-22","Binder PG 64-22 Marathon - Garyville",20200904]
["BIND-APS00000400","APS00000400-1002M00035","APS00000400-Marathon Petroleum Company - Garyville, LA","1002M00035-Binder PG 67-22-Binder PG 67-22 Marathon - Garyville","APS00000400","Marathon Petroleum Company - Garyville, LA","1002M00035","BIND","Binder PG 67-22","Binder PG 67-22 Marathon - Garyville",20490101]
["BIND-APS00000400","APS00000400-1002M00035","APS00000400-Marathon Petroleum Company - Garyville, LA","1002M00035-Binder PG 67-22-Binder PG 67-22x Marathon - Garyville","APS00000400","Marathon Petroleum Company - Garyville, LA","1002M00035","BIND","Binder PG 67-22","Binder PG 67-22x Marathon - Garyville",20490101]
["BIND-APS00000400","APS00000400-1002M00040","APS00000400-Marathon Petroleum Company - Garyville, LA","1002M00040-Binder PG 70-22m-Binder PG 70-22m Marathon - Garyville","APS00000400","Marathon Petroleum Company - Garyville, LA","1002M00040","BIND","Binder PG 70-22m","Binder PG 70-22m Marathon - Garyville",20490101]
["BIND-APS00000400","APS00000400-1002M00050","APS00000400-Marathon Petroleum Company - Garyville, LA","1002M00050-Binder PG 76-22m-Binder PG 76-22m Marathon - Garyville","APS00000400","Marathon Petroleum Company - Garyville, LA","1002M00050","BIND","Binder PG 76-22m","Binder PG 76-22m Marathon - Garyville",20490101]
["BIND-APS00000510","APS00000510-1002M00020","APS00000510-Valero Marketing and Supply - St. James, LA","1002M00020-Binder PG 58-28-Binder PG 58-28 Valero Mktg - St. James","APS00000510","Valero Marketing and Supply - St. James, LA","1002M00020","BIND","Binder PG 58-28","Binder PG 58-28 Valero Mktg - St. James",20490101]
["BIND-APS00000510","APS00000510-1002M00030","APS00000510-Valero Marketing and Supply - St. James, LA","1002M00030-Binder PG 64-22-Binder PG 64-22 Valero Mktg - St. James","APS00000510","Valero Marketing and Supply - St. James, LA","1002M00030","BIND","Binder PG 64-22","Binder PG 64-22 Valero Mktg - St. James",20200904]
["BIND-APS00000510","APS00000510-1002M00035","APS00000510-Valero Marketing and Supply - St. James, LA","1002M00035-Binder PG 67-22-Binder PG 67-22 Valero Mktg - St. James","APS00000510","Valero Marketing and Supply - St. James, LA","1002M00035","BIND","Binder PG 67-22","Binder PG 67-22 Valero Mktg - St. James",20490101]
["BIND-APS00000510","APS00000510-1002M00040","APS00000510-Valero Marketing and Supply - St. James, LA","1002M00040-Binder PG 70-22m-Binder PG 70-22m Valero Marketing","APS00000510","Valero Marketing and Supply - St. James, LA","1002M00040","BIND","Binder PG 70-22m","Binder PG 70-22m Valero Marketing",20490101]
["BIND-APS00000510","APS00000510-1002M00050","APS00000510-Valero Marketing and Supply - St. James, LA","1002M00050-Binder PG 76-22m-Binder PG 76-22m Valero Marketing","APS00000510","Valero Marketing and Supply - St. James, LA","1002M00050","BIND","Binder PG 76-22m","Binder PG 76-22m Valero Marketing",20490101]
["BIND-APS00002480","APS00002480-1002M00030","APS00002480-Calumet Laboratories/Lubricants - Shreveport, LA","1002M00030-Binder PG 64-22-Binder PG 64-22 Calumet","APS00002480","Calumet Laboratories/Lubricants - Shreveport, LA","1002M00030","BIND","Binder PG 64-22","Binder PG 64-22 Calumet",20200904]
["BIND-APS00002480","APS00002480-1002M00035","APS00002480-Calumet Laboratories/Lubricants - Shreveport, LA","1002M00035-Binder PG 67-22-Binder PG 67-22 Calumet","APS00002480","Calumet Laboratories/Lubricants - Shreveport, LA","1002M00035","BIND","Binder PG 67-22","Binder PG 67-22 Calumet",20490101]
["BIND-APS00010280","APS00010280-1002M00035","APS00010280-Ergon Asphalt & Emulsions - Memphis, TN","1002M00035-Binder PG 67-22-Binder PG 67-22 Ergon - Memphis","APS00010280","Ergon Asphalt & Emulsions - Memphis, TN","1002M00035","BIND","Binder PG 67-22","Binder PG 67-22 Ergon - Memphis",20490101]
["BIND-APS00010280","APS00010280-1002M00040","APS00010280-Ergon Asphalt & Emulsions - Memphis, TN","1002M00040-Binder PG 70-22m-Binder PG 70-22m Ergon - Memphis","APS00010280","Ergon Asphalt & Emulsions - Memphis, TN","1002M00040","BIND","Binder PG 70-22m","Binder PG 70-22m Ergon - Memphis",20490101]
["BIND-APS00010280","APS00010280-1002M00050","APS00010280-Ergon Asphalt & Emulsions - Memphis, TN","1002M00050-Binder PG 76-22m-Binder PG 76-22m Ergon - Memphis","APS00010280","Ergon Asphalt & Emulsions - Memphis, TN","1002M00050","BIND","Binder PG 76-22m","Binder PG 76-22m Ergon - Memphis",20490101]
["BIND-APS00010660","APS00010660-1002M00030","APS00010660-Martin Asphalt Company - South Houston, TX","1002M00030-Binder PG 64-22-Binder PG 64-22 MartinAsphaltSHouston","APS00010660","Martin Asphalt Company - South Houston, TX","1002M00030","BIND","Binder PG 64-22","Binder PG 64-22 MartinAsphaltSHouston",20200904]
["BIND-APS00010660","APS00010660-1002M00035","APS00010660-Martin Asphalt Company - South Houston, TX","1002M00035-Binder PG 67-22-Binder PG 67-22 MartinAsphaltSHouston","APS00010660","Martin Asphalt Company - South Houston, TX","1002M00035","BIND","Binder PG 67-22","Binder PG 67-22 MartinAsphaltSHouston",20490101]
[{"$f":"H707&\"-\"&E707","v":"BIND-APS00010660"},{"$f":"E707&\"-\"&G707","v":"APS00010660-1002M00040"},{"$f":"E707&\"-\"&F707","v":"APS00010660-Martin Asphalt Company - South Houston, TX"},{"$f":"G707&\"-\"&I707&IF(J707<>\"\", \"-\"&J707, \"\")","v":"1002M00040-Binder PG 70-22m-Binder PG 70-22m MartinAsphaltSHouston"},"APS00010660","Martin Asphalt Company - South Houston, TX","1002M00040","BIND","Binder PG 70-22m","Binder PG 70-22m MartinAsphaltSHouston",20490101]
["BIND-APS00010660","APS00010660-1002M00050","APS00010660-Martin Asphalt Company - South Houston, TX","1002M00050-Binder PG 76-22m-Binder PG 76-22m MartinAsphaltSHouston","APS00010660","Martin Asphalt Company - South Houston, TX","1002M00050","BIND","Binder PG 76-22m","Binder PG 76-22m MartinAsphaltSHouston",20490101]
["BIND-APS00010660","APS00010660-1002M00055","APS00010660-Martin Asphalt Company - South Houston, TX","1002M00055-Binder PG 76-22rm-Binder 76-22rm - MartinAsphaltSHouston","APS00010660","Martin Asphalt Company - South Houston, TX","1002M00055","BIND","Binder PG 76-22rm","Binder 76-22rm - MartinAsphaltSHouston",20181024]
["BIND-APS00010660","APS00010660-1002M00065","APS00010660-Martin Asphalt Company - South Houston, TX","1002M00065-Binder PG 82-22rm-Binder PG 82-22rm Martin Asph-S Houston","APS00010660","Martin Asphalt Company - South Houston, TX","1002M00065","BIND","Binder PG 82-22rm","Binder PG 82-22rm Martin Asph-S Houston",20490101]
["BIND-APS00010870","APS00010870-1002M00030","APS00010870-Martin Asphalt Company Stanolind - Beaumont, TX","1002M00030-Binder PG 64-22-Binder PG 64-22 MartinAsphaltStanolind","APS00010870","Martin Asphalt Company Stanolind - Beaumont, TX","1002M00030","BIND","Binder PG 64-22","Binder PG 64-22 MartinAsphaltStanolind",20200904]
["BIND-APS00010870","APS00010870-1002M00035","APS00010870-Martin Asphalt Company Stanolind - Beaumont, TX","1002M00035-Binder PG 67-22-Binder PG 67-22 MartinAsphaltStanolind","APS00010870","Martin Asphalt Company Stanolind - Beaumont, TX","1002M00035","BIND","Binder PG 67-22","Binder PG 67-22 MartinAsphaltStanolind",20490101]
["BIND-APS00010880","APS00010880-1002M00030","APS00010880-Martin Asphalt Company Neches - Beaumont, TX","1002M00030-Binder PG 64-22-Binder PG 64-22 MartinAsphaltNeches","APS00010880","Martin Asphalt Company Neches - Beaumont, TX","1002M00030","BIND","Binder PG 64-22","Binder PG 64-22 MartinAsphaltNeches",20200904]
["BIND-APS00010880","APS00010880-1002M00035","APS00010880-Martin Asphalt Company Neches - Beaumont, TX","1002M00035-Binder PG 67-22-Binder PG 67-22 Martin AsphaltNeches","APS00010880","Martin Asphalt Company Neches - Beaumont, TX","1002M00035","BIND","Binder PG 67-22","Binder PG 67-22 Martin AsphaltNeches",20490101]
["BIND-APS00011110","APS00011110-1002M00050","APS00011110-Ergon Asphalt & Emulsion - Mulga, AL","1002M00050-Binder PG 76-22m-Binder PG 76-22m ErgonAsph&EmulAL","APS00011110","Ergon Asphalt & Emulsion - Mulga, AL","1002M00050","BIND","Binder PG 76-22m","Binder PG 76-22m ErgonAsph&EmulAL",20490101]
["BIND-APS00011610","APS00011610-1002M00030","APS00011610-Valero Marketing and Supply Co., - Houston, TX","1002M00030-Binder PG 64-22-Binder PG 64-22 Valero Mktg - Houston","APS00011610","Valero Marketing and Supply Co., - Houston, TX","1002M00030","BIND","Binder PG 64-22","Binder PG 64-22 Valero Mktg - Houston",20200904]
["BIND-APS00011610","APS00011610-1002M00035","APS00011610-Valero Marketing and Supply Co., - Houston, TX","1002M00035-Binder PG 67-22-Binder PG 67-22 Valero Mktg - Houston","APS00011610","Valero Marketing and Supply Co., - Houston, TX","1002M00035","BIND","Binder PG 67-22","Binder PG 67-22 Valero Mktg - Houston",20490101]
["BIND-APS00012550","APS00012550-1002M00035","APS00012550-PBF Energy - Parsippany, NJ","1002M00035-Binder PG 67-22-Binder 67-22 PBF Energy - Parsippany","APS00012550","PBF Energy - Parsippany, NJ","1002M00035","BIND","Binder PG 67-22","Binder 67-22 PBF Energy - Parsippany",20490101]
["BIND-APS00013110","APS00013110-1002M00055","APS00013110-Asphalt & Wax Innovations, LLC - Gulfport, MS","1002M00055-Binder PG 76-22rm-Binder 76-22rm - Asphalt & Wax","APS00013110","Asphalt & Wax Innovations, LLC - Gulfport, MS","1002M00055","BIND","Binder PG 76-22rm","Binder 76-22rm - Asphalt & Wax",20181010]
["BIND-APS00013110","APS00013110-1002M00285","APS00013110-Asphalt & Wax Innovations, LLC - Gulfport, MS","1002M00285-Binder PG 76-22rm Plant-Blended-Binder PG76-22rm Plant-Blend-Asphalt&Wax","APS00013110","Asphalt & Wax Innovations, LLC - Gulfport, MS","1002M00285","BIND","Binder PG 76-22rm Plant-Blended","Binder PG76-22rm Plant-Blend-Asphalt&Wax",20181010]
["BIND-APS00013110","APS00013110-1002M00320","APS00013110-Asphalt & Wax Innovations, LLC - Gulfport, MS","1002M00320-Binder Non-TrackHotAppPol(NTHAP)TackCoat-Asphalt&Wax Drive-on-Tack (DOT-C-LT)","APS00013110","Asphalt & Wax Innovations, LLC - Gulfport, MS","1002M00320","BIND","Binder Non-TrackHotAppPol(NTHAP)TackCoat","Asphalt&Wax Drive-on-Tack (DOT-C-LT)",20490101]
["BIND-APS00013120","APS00013120-1002M00035","APS00013120-Hunt Refining Company - Dallas, TX","1002M00035-Binder PG 67-22-Binder 67-22 Hunt Refining - Dallas","APS00013120","Hunt Refining Company - Dallas, TX","1002M00035","BIND","Binder PG 67-22","Binder 67-22 Hunt Refining - Dallas",20490101]
["BIND-APS00013150","APS00013150-1002M00035","APS00013150-Hunt Refining Company - Tuscaloosa, AL","1002M00035-Binder PG 67-22-Binder PG 67-22 Hunt Refining Tuscaloosa","APS00013150","Hunt Refining Company - Tuscaloosa, AL","1002M00035","BIND","Binder PG 67-22","Binder PG 67-22 Hunt Refining Tuscaloosa",20490101]
["BIND-APS00014390","APS00014390-1002M00035","APS00014390-Hunt Refining Co. - Zenith Terminal - Mobile, AL","1002M00035-Binder PG 67-22-Binder PG 67-22 - Hunt Refining Mobile","APS00014390","Hunt Refining Co. - Zenith Terminal - Mobile, AL","1002M00035","BIND","Binder PG 67-22","Binder PG 67-22 - Hunt Refining Mobile",20490101]
["BIND-APS00014390","APS00014390-1002M00050","APS00014390-Hunt Refining Co. - Zenith Terminal - Mobile, AL","1002M00050-Binder PG 76-22m-Binder PG 76-22m - Hunt Refining Mobile","APS00014390","Hunt Refining Co. - Zenith Terminal - Mobile, AL","1002M00050","BIND","Binder PG 76-22m","Binder PG 76-22m - Hunt Refining Mobile",20490101]
["BIND-APS00014430","APS00014430-1002M00035","APS00014430-Martin Asphalt Company - St. Rose, LA","1002M00035-Binder PG 67-22-Binder PG 67-22 Martin Asphalt -St. Rose","APS00014430","Martin Asphalt Company - St. Rose, LA","1002M00035","BIND","Binder PG 67-22","Binder PG 67-22 Martin Asphalt -St. Rose",20490101]
["BIND-APS00015040","APS00015040-1002M00320","APS00015040-Blacklidge Emulsions, Inc. - Fairfield, TX","1002M00320-Binder Non-TrackHotAppPol(NTHAP)TackCoat-NTHAP Ultrafuse Blacklidge - Fairfield","APS00015040","Blacklidge Emulsions, Inc. - Fairfield, TX","1002M00320","BIND","Binder Non-TrackHotAppPol(NTHAP)TackCoat","NTHAP Ultrafuse Blacklidge - Fairfield",20490101]
["BIND-PS00000560","PS00000560-1002M00250","PS00000560-Barriere Construction Company, LLC - Boutte","1002M00250-Binder PG 70-22m Plant-Blended","PS00000560","Barriere Construction Company, LLC - Boutte","1002M00250","BIND","Binder PG 70-22m Plant-Blended"]
["BIND-PS00000560","PS00000560-1002M00260","PS00000560-Barriere Construction Company, LLC - Boutte","1002M00260-Binder PG 82-22rm Plant-Blended","PS00000560","Barriere Construction Company, LLC - Boutte","1002M00260","BIND","Binder PG 82-22rm Plant-Blended"]
["BIND-PS00000590","PS00000590-1002M00250","PS00000590-Prairie Contractors, Inc. - Opelousas","1002M00250-Binder PG 70-22m Plant-Blended","PS00000590","Prairie Contractors, Inc. - Opelousas","1002M00250","BIND","Binder PG 70-22m Plant-Blended"]
["BIND-PS00000590","PS00000590-1002M00260","PS00000590-Prairie Contractors, Inc. - Opelousas","1002M00260-Binder PG 82-22rm Plant-Blended","PS00000590","Prairie Contractors, Inc. - Opelousas","1002M00260","BIND","Binder PG 82-22rm Plant-Blended"]
["BIND-PS00000600","PS00000600-1002M00250","PS00000600-Glen Lege Construction - Abbeville","1002M00250-Binder PG 70-22m Plant-Blended","PS00000600","Glen Lege Construction - Abbeville","1002M00250","BIND","Binder PG 70-22m Plant-Blended"]
["BIND-PS00000600","PS00000600-1002M00260","PS00000600-Glen Lege Construction - Abbeville","1002M00260-Binder PG 82-22rm Plant-Blended","PS00000600","Glen Lege Construction - Abbeville","1002M00260","BIND","Binder PG 82-22rm Plant-Blended"]
["BIND-PS00000610","PS00000610-1002M00250","PS00000610-Prairie Contractors, Inc. - New Iberia","1002M00250-Binder PG 70-22m Plant-Blended","PS00000610","Prairie Contractors, Inc. - New Iberia","1002M00250","BIND","Binder PG 70-22m Plant-Blended"]
["BIND-PS00000610","PS00000610-1002M00260","PS00000610-Prairie Contractors, Inc. - New Iberia","1002M00260-Binder PG 82-22rm Plant-Blended","PS00000610","Prairie Contractors, Inc. - New Iberia","1002M00260","BIND","Binder PG 82-22rm Plant-Blended"]
["BIND-PS00000630","PS00000630-1002M00250","PS00000630-Prairie Contractors, Inc. - Lafayette","1002M00250-Binder PG 70-22m Plant-Blended","PS00000630","Prairie Contractors, Inc. - Lafayette","1002M00250","BIND","Binder PG 70-22m Plant-Blended"]
["BIND-PS00000630","PS00000630-1002M00260","PS00000630-Prairie Contractors, Inc. - Lafayette","1002M00260-Binder PG 82-22rm Plant-Blended","PS00000630","Prairie Contractors, Inc. - Lafayette","1002M00260","BIND","Binder PG 82-22rm Plant-Blended"]
["BIND-PS00000720","PS00000720-1002M00250","PS00000720-Diamond B Construction Company, LLC - Monroe","1002M00250-Binder PG 70-22m Plant-Blended","PS00000720","Diamond B Construction Company, LLC - Monroe","1002M00250","BIND","Binder PG 70-22m Plant-Blended"]
["BIND-PS00000720","PS00000720-1002M00260","PS00000720-Diamond B Construction Company, LLC - Monroe","1002M00260-Binder PG 82-22rm Plant-Blended","PS00000720","Diamond B Construction Company, LLC - Monroe","1002M00260","BIND","Binder PG 82-22rm Plant-Blended"]
["BIND-PS00000750","PS00000750-1002M00250","PS00000750-Prairie Contractors, Inc. - Westlake","1002M00250-Binder PG 70-22m Plant-Blended","PS00000750","Prairie Contractors, Inc. - Westlake","1002M00250","BIND","Binder PG 70-22m Plant-Blended"]
["BIND-PS00000750","PS00000750-1002M00260","PS00000750-Prairie Contractors, Inc. - Westlake","1002M00260-Binder PG 82-22rm Plant-Blended","PS00000750","Prairie Contractors, Inc. - Westlake","1002M00260","BIND","Binder PG 82-22rm Plant-Blended"]
["BIND-PS00000780","PS00000780-1002M00250","PS00000780-Diamond B Construction Company, LLC - Alexandria","1002M00250-Binder PG 70-22m Plant-Blended","PS00000780","Diamond B Construction Company, LLC - Alexandria","1002M00250","BIND","Binder PG 70-22m Plant-Blended"]
["BIND-PS00000780","PS00000780-1002M00260","PS00000780-Diamond B Construction Company, LLC - Alexandria","1002M00260-Binder PG 82-22rm Plant-Blended","PS00000780","Diamond B Construction Company, LLC - Alexandria","1002M00260","BIND","Binder PG 82-22rm Plant-Blended"]
["BIND-PS00000800","PS00000800-1002M00250","PS00000800-Gilchrist Construction #6293 - Alexandria","1002M00250-Binder PG 70-22m Plant-Blended","PS00000800","Gilchrist Construction #6293 - Alexandria","1002M00250","BIND","Binder PG 70-22m Plant-Blended"]
["BIND-PS00000800","PS00000800-1002M00260","PS00000800-Gilchrist Construction #6293 - Alexandria","1002M00260-Binder PG 82-22rm Plant-Blended","PS00000800","Gilchrist Construction #6293 - Alexandria","1002M00260","BIND","Binder PG 82-22rm Plant-Blended"]
["BIND-PS00000850","PS00000850-1002M00250","PS00000850-Barber Brothers #1 - Darrow","1002M00250-Binder PG 70-22m Plant-Blended","PS00000850","Barber Brothers #1 - Darrow","1002M00250","BIND","Binder PG 70-22m Plant-Blended"]
["BIND-PS00000850","PS00000850-1002M00260","PS00000850-Barber Brothers #1 - Darrow","1002M00260-Binder PG 82-22rm Plant-Blended","PS00000850","Barber Brothers #1 - Darrow","1002M00260","BIND","Binder PG 82-22rm Plant-Blended"]
["BIND-PS00000860","PS00000860-1002M00250","PS00000860-Barber Brothers #6 - Port Allen","1002M00250-Binder PG 70-22m Plant-Blended","PS00000860","Barber Brothers #6 - Port Allen","1002M00250","BIND","Binder PG 70-22m Plant-Blended"]
["BIND-PS00000860","PS00000860-1002M00260","PS00000860-Barber Brothers #6 - Port Allen","1002M00260-Binder PG 82-22rm Plant-Blended","PS00000860","Barber Brothers #6 - Port Allen","1002M00260","BIND","Binder PG 82-22rm Plant-Blended"]
["BIND-PS00003960","PS00003960-1002M00250","PS00003960-R. J. Daigle - Baton Rouge, LA","1002M00250-Binder PG 70-22m Plant-Blended","PS00003960","R. J. Daigle - Baton Rouge, LA","1002M00250","BIND","Binder PG 70-22m Plant-Blended"]
["BIND-PS00003960","PS00003960-1002M00260","PS00003960-R. J. Daigle - Baton Rouge, LA","1002M00260-Binder PG 82-22rm Plant-Blended","PS00003960","R. J. Daigle - Baton Rouge, LA","1002M00260","BIND","Binder PG 82-22rm Plant-Blended"]
["BIND-PS00004140","PS00004140-1002M00250","PS00004140-Prairie Contractors, Inc. - Leesville","1002M00250-Binder PG 70-22m Plant-Blended","PS00004140","Prairie Contractors, Inc. - Leesville","1002M00250","BIND","Binder PG 70-22m Plant-Blended"]
["BIND-PS00004140","PS00004140-1002M00260","PS00004140-Prairie Contractors, Inc. - Leesville","1002M00260-Binder PG 82-22rm Plant-Blended","PS00004140","Prairie Contractors, Inc. - Leesville","1002M00260","BIND","Binder PG 82-22rm Plant-Blended"]
["BIND-PS00005840","PS00005840-1002M00250","PS00005840-Barriere Construction (CRH Company) - Franklinton","1002M00250-Binder PG 70-22m Plant-Blended","PS00005840","Barriere Construction (CRH Company) - Franklinton","1002M00250","BIND","Binder PG 70-22m Plant-Blended"]
["BIND-PS00005840","PS00005840-1002M00260","PS00005840-Barriere Construction (CRH Company) - Franklinton","1002M00260-Binder PG 82-22rm Plant-Blended","PS00005840","Barriere Construction (CRH Company) - Franklinton","1002M00260","BIND","Binder PG 82-22rm Plant-Blended"]
["BIND-PS00005850","PS00005850-1002M00250","PS00005850-Madden Contracting - Port Allen, LA","1002M00250-Binder PG 70-22m Plant-Blended","PS00005850","Madden Contracting - Port Allen, LA","1002M00250","BIND","Binder PG 70-22m Plant-Blended"]
["BIND-PS00005850","PS00005850-1002M00260","PS00005850-Madden Contracting - Port Allen, LA","1002M00260-Binder PG 82-22rm Plant-Blended","PS00005850","Madden Contracting - Port Allen, LA","1002M00260","BIND","Binder PG 82-22rm Plant-Blended"]
["BIND-PS00005850","PS00005850-1002M00280","PS00005850-Madden Contracting - Port Allen, LA","1002M00280-Binder PG 76-22m Plant-Blended","PS00005850","Madden Contracting - Port Allen, LA","1002M00280","BIND","Binder PG 76-22m Plant-Blended"]
["BIND-PS00005860","PS00005860-1002M00250","PS00005860-Barriere Construction a CRH Company - Baton Rouge","1002M00250-Binder PG 70-22m Plant-Blended","PS00005860","Barriere Construction a CRH Company - Baton Rouge","1002M00250","BIND","Binder PG 70-22m Plant-Blended"]
["BIND-PS00005860","PS00005860-1002M00260","PS00005860-Barriere Construction a CRH Company - Baton Rouge","1002M00260-Binder PG 82-22rm Plant-Blended","PS00005860","Barriere Construction a CRH Company - Baton Rouge","1002M00260","BIND","Binder PG 82-22rm Plant-Blended"]
["BIND-PS00005860","PS00005860-1002M00280","PS00005860-Barriere Construction a CRH Company - Baton Rouge","1002M00280-Binder PG 76-22m Plant-Blended","PS00005860","Barriere Construction a CRH Company - Baton Rouge","1002M00280","BIND","Binder PG 76-22m Plant-Blended"]
["BIND-PS00005870","PS00005870-1002M00250","PS00005870-Madden Contracting Company, LLC - Amite","1002M00250-Binder PG 70-22m Plant-Blended","PS00005870","Madden Contracting Company, LLC - Amite","1002M00250","BIND","Binder PG 70-22m Plant-Blended"]
["BIND-PS00005870","PS00005870-1002M00260","PS00005870-Madden Contracting Company, LLC - Amite","1002M00260-Binder PG 82-22rm Plant-Blended","PS00005870","Madden Contracting Company, LLC - Amite","1002M00260","BIND","Binder PG 82-22rm Plant-Blended"]
["BIND-PS00005870","PS00005870-1002M00280","PS00005870-Madden Contracting Company, LLC - Amite","1002M00280-Binder PG 76-22m Plant-Blended","PS00005870","Madden Contracting Company, LLC - Amite","1002M00280","BIND","Binder PG 76-22m Plant-Blended"]
["BIND-PS00005880","PS00005880-1002M00250","PS00005880-Madden Contracting Company LLC - Westwego","1002M00250-Binder PG 70-22m Plant-Blended","PS00005880","Madden Contracting Company LLC - Westwego","1002M00250","BIND","Binder PG 70-22m Plant-Blended"]
["BIND-PS00005880","PS00005880-1002M00280","PS00005880-Madden Contracting Company LLC - Westwego","1002M00280-Binder PG 76-22m Plant-Blended","PS00005880","Madden Contracting Company LLC - Westwego","1002M00280","BIND","Binder PG 76-22m Plant-Blended"]
["BIND-PS00005890","PS00005890-1002M00250","PS00005890-Barriere Construction a CRH Company - Boutte","1002M00250-Binder PG 70-22m Plant-Blended","PS00005890","Barriere Construction a CRH Company - Boutte","1002M00250","BIND","Binder PG 70-22m Plant-Blended"]
["BIND-PS00005890","PS00005890-1002M00260","PS00005890-Barriere Construction a CRH Company - Boutte","1002M00260-Binder PG 82-22rm Plant-Blended","PS00005890","Barriere Construction a CRH Company - Boutte","1002M00260","BIND","Binder PG 82-22rm Plant-Blended"]
["BIND-PS99999999","PS99999999-1002M00250","PS99999999-ZYX Test Plant - Baton Rouge, LA","1002M00250-Binder PG 70-22m Plant-Blended","PS99999999","ZYX Test Plant - Baton Rouge, LA","1002M00250","BIND","Binder PG 70-22m Plant-Blended"]
["BIND-PS99999999","PS99999999-1002M00260","PS99999999-ZYX Test Plant - Baton Rouge, LA","1002M00260-Binder PG 82-22rm Plant-Blended","PS99999999","ZYX Test Plant - Baton Rouge, LA","1002M00260","BIND","Binder PG 82-22rm Plant-Blended"]